Workbook
Name _1_3_0Crite: #REF!
Name _2_3_0Criteria: #REF!
Name _3_G_0Extr: #REF!
Name _4_G_0Extract: #REF!
Name _5_3_0Crite: #REF!
Name _6_3_0Criteria: #REF!
Name _7G_0Extr: #REF!
Name _8G_0Extract: #REF!
Name \a: #REF!
Name \c: #REF!
Name \l: #REF!
Name \m: #REF!
Name \p: #REF!
Name \q: #REF!
Name \x: #REF!
Name \z: #REF!
Name A: [1]형질변경!#REF!
Name aa: #REF!
Name aaa: #REF!
Name ans: #REF!
Name b: #REF!
Name Bust: #REF!
Name CCC: #REF!
Name CCTV적재차량경비: [2]기계경비!$J$51
Name CCTV적재차량노무비: [2]기계경비!$H$51
Name CCTV적재차량재료비: [2]기계경비!$F$51
Name CCTV카메라경비: [2]기계경비!$J$69
Name Continue: #REF!
Name d: #REF!
Name Document_array: {"Book1"}
Name Documents_array: #REF!
Name FEEL: #REF!
Name Hello: #REF!
Name K: #REF!
Name L.P.G: #REF!
Name MakeIt: #REF!
Name Morning: #REF!
Name OOO: #REF!
Name Poppy: #REF!
Name PPP: #REF!
Name PRINT_AREA_MI: #REF!
Name qq: #REF!
Name RRR: #REF!
Name sheet2: #REF!
Name ss: #REF!
Name SW: #REF!
Name SW기사: '[2]인건비(환율)'!$C$10
Name SW시험기사: #REF!
Name TKSRMS: '[3]산근1,2'!$B$2
Name TTT: #REF!
Name VVV: #REF!
Name w: #REF!
Name WER: #REF!
Name WW: #REF!
Name xxx: #REF!
Name Z: #REF!
Name 가: [4]재정비직인!$J$11
Name 간접노무비율: [5]요율!$F$5
Name 간지2: [6]간지!#REF!
Name 건축목공: #REF!

Sheet 갑지
A4: 2027년 사방사업(서부권역) 사전실시설계 용역
C8: ○ 위 치 : | D8: 장흥읍 금산리 산185 일원
C9: ○ 사업규모 : | D9: 실시설계 각 1식
C10: ○ 사업내용 : | D10: 11개소(사방댐 2, 계류보전 2, 준설 8)
C13: ○ 용 역 비 : | D13: 금 | E13: =내역서!G15 -> 58675000 | F13: 원 | G13: ( | H13: ="금"&NUMBERSTRING(E13,1)&"원" -> 금오천팔백육십칠만오천원 | J13: )
E16: 장 흥 군

Sheet 내역서
A1: 공 종 | B1: 수 량 | C1: 단위 | D1: 합 계 | F1: 노 무 비 | H1: 재 료 비 | J1: 경 비 | L1: 비 고
D2: 단 가 | E2: 금 액 | F2: 단 가 | G2: 금 액 | H2: 단 가 | I2: 금 액 | J2: 단 가 | K2: 금 액
A3: 1. 실시설계 | E3: =SUM(E4:E4) -> 52805423 | G3: =SUM(G4:G4) -> 52805423 | I3: =SUM(I4:I4) -> 0 | K3: =SUM(K4:K4) -> 0
A4: 1.1 실시설계 | B4: 1 | C4: 식 | E4: =G4+I4+K4 -> 52805423 | F4: ='실시설계 산출근거 양식'!B32 -> 52805423 | G4: =B4*F4 -> 52805423 | I4: =B4*H4 -> 0 | K4: =B4*J4 -> 0
F5: .
A11: 소 계 | E11: =E5+E3+E9 -> 52805423 | F11: =F6+F3+F9 -> 0 | G11: =G5+G3+G9 -> 52805423 | H11: =H6+H3+H9 -> 0 | I11: =I6+I3+I9 -> 0 | J11: =J6+J3+J9 -> 0 | K11: =K6+K3+K9 -> 0 | M11: =SUM(M3:M10) -> 0
A12: 용역손해배상보험 | B12: =공제요율!E9 -> 1.015 | C12: % | D12: =공제요율!B9 -> 댐축조공사 | E12: =E11*B12% -> 535975.04
A13: 소 계 | E13: =E11+E12 -> 53341398 | M13: =SUM(M11:M12) -> 0
A14: 부 가 가 치 세 | B14: 10 | C14: % | E14: =E13*0.1 -> 5334139.8 | M14: =M13/10 -> 0
A15: 합 계 | B15: 1 | C15: 식 | E15: =E13+E14 -> 58675538 | F15: ≒ | G15: =ROUNDDOWN(E15,-3) -> 58675000 | M15: =SUM(M13:M14) -> 0
M18: =SUM(M16:M17) -> 0

Sheet 실시설계 산출근거 양식
A1: 실시설계 산출근거
A3: □ 공사비 비율에 의한 방식
A4: ○ 총공사비(개략공사비) × 요율
A5: 공사비 | B5: 요율(%) | C5: 비고
B6: 실시설계
A8: 10억원 미만 | B8: =(실시설계용율변경!C6/100) -> 0.0616
A10: ○ 적용요율
A11: ◦ 직선보간법
A12: 산식 | B12: 범례 | D12: 적용치
B13: Y : 당해공사비 요율 | D13: =D15 -> 0.0616
A14: (X-X2)(Y1-Y2) | B14: Y1 : 작은금액 요율 | D14: =B7 -> 0
A15: Y = Y1 - ------------- | B15: Y2 : 큰 금액 요율 | D15: =B8 -> 0.0616 | G15: =D14-(((D16-D18)*(D14-D15))/(D17-D18)) -> 0.058085966
A16: X1-X2 | B16: X : 당해금액 | D16: =G26/100000000 -> 9.42954
B17: X1 : 큰 금액 | D17: 10
B18: X2 : 작은금액 | D18: 0
A20: ○ 산출액 계산 | G20: 사방댐 | H20: 500000000
A21: 개략공사비 산출 | B21: 개략공사비(부가세 제외) | C21: 총공사비 | D21: 부가세 적용 | G21: 계류보전 | H21: 386954000
B22: =TRUNC(C22/D22) -> 857230909 | C22: =G26 -> 942954000 | D22: 1.1 | G22: 준설 | H22: 56000000
G23: 0
A24: 공사비요율에 의한 실시설계용역비 | B24: 부가세 별도(원) | C24: 적용요율
B25: =TRUNC((B22*(C25))) -> 52805423 | C25: =D13 -> 0.0616
G26: =H20+H21+H22 -> 942954000 | I26: 278000000
I27: =I26*6 -> 1668000000 | J27: =I27*70% -> 1167600000
I28: 374000000 | J28: =I28*70% -> 2.618e+08
I29: 511000000
A30: 계 | B30: =B25 -> 52805423 | I30: =SUM(I27:I29) -> 2553000000
B31: 0 | G31: =C22+내역서!G15 -> 1001629000
A32: 총 계 | B32: =B31+B30 -> 52805423

Sheet 실시설계용율변경
B1: 엔지니어링사업대가의기준
B2: 【별표 1】건설부문의 요율
B4: 요율 | C4: 업 무 별 요 율(%)
B5: 공사비 | C5: 도로 | D5: 철도 | E5: 항만 | F5: 상수도 | G5: 하천
B6: 10억원 이하 | C6: 6.16 | D6: 4.1 | E6: 7.65 | F6: 8.27 | G6: 5.37
B7: 20억원 이하 | C7: 5.47 | D7: 3.88 | E7: 6.74 | F7: 7.28 | G7: 4.71
B8: 30억원 이하 | C8: 5.1 | D8: 3.76 | E8: 6.25 | F8: 6.75 | G8: 4.36
B9: 50억원 이하 | C9: 4.67 | D9: 3.62 | E9: 5.69 | F9: 6.15 | G9: 3.96
B10: 100억원 이하 | C10: 4.15 | D10: 3.43 | E10: 5.01 | F10: 5.41 | G10: 3.47
B11: 200억원 이하 | C11: 3.68 | D11: 3.25 | E11: 4.41 | F11: 4.76 | G11: 3.04
B12: 300억원 이하 | C12: 3.43 | D12: 3.15 | E12: 4.09 | F12: 4.42 | G12: 2.81
B13: 500억원 이하 | C13: 3.15 | D13: 3.03 | E13: 3.73 | F13: 4.03 | G13: 2.55
B14: 1,000억원 이하 | C14: 2.79 | D14: 2.87 | E14: 3.28 | F14: 3.54 | G14: 2.24
B15: 2,000억원 이하 | C15: 2.48 | D15: 2.72 | E15: 2.89 | F15: 3.12 | G15: 1.96
B16: 3,000억원 이하 | C16: 2.31 | D16: 2.64 | E16: 2.68 | F16: 2.89 | G16: 1.82
B17: 5,000억원 이하 | C17: 2.12 | D17: 2.54 | E17: 2.44 | F17: 2.64 | G17: 1.65
B19: 비고 1. "건설부문"이란 엔지니어링기술진흥법 별표1 기술부문 및 전문분야 구분표의 건설 부문(농어업토목분야를 제외한다)과 산업관리부문 중 소방설비분야를 말한다.
B20: 2. “공사감리”란 비상주 감리를 말한다.
B21: 3. 5,000억원 초과의 경우 공식에 의해 산출된 요율은 소수점 셋째자리에서 반올림한다.
B22: 4. 기본설계, 실시설계 및 공사감리의 업무범위는 제14조와 같다.
B23: 5. 요율표가 작성되지 않은 다른 분야는 도로분야의 요율을 적용한다.

Sheet 공제요율
B1: 실시설계 공제요율
B3: 공사종류 | C3: 용역금액(계약금액) | M3: 표준 공사 기간
C4: 5억원이하 | E4: 5억원초과 | G4: 10억원초과 | I4: 20억원초과 | K4: 30억원초과
E5: 10억이하 | G5: 20억원이하 | I5: 30억원이하 | K5: 50억원이하
C6: 기본요율 | D6: 가산요율 | E6: 기본요율 | F6: 가산요율 | G6: 기본요율 | H6: 가산요율 | I6: 기본요율 | J6: 가산요율 | K6: 기본요율 | L6: 가산요율
B7: 교량공사 | C7: 0.837 | D7: 0.133 | E7: 0.812 | F7: 0.13 | G7: 0.786 | H7: 0.125 | I7: 0.761 | J7: 0.122 | K7: 0.736 | L7: 0.117 | M7: 3
B8: 공항건설공사 | C8: 0.947 | D8: 0.151 | E8: 0.92 | F8: 0.147 | G8: 0.891 | H8: 0.143 | I8: 0.862 | J8: 0.137 | K8: 0.834 | L8: 0.133 | M8: 5
B9: 댐축조공사 | C9: 1.047 | D9: 0.167 | E9: 1.015 | F9: 0.162 | G9: 0.983 | H9: 0.157 | I9: 0.952 | J9: 0.152 | K9: 0.921 | L9: 0.147 | M9: 5
B10: 도로공사 | C10: 0.753 | D10: 0.12 | E10: 0.73 | F10: 0.117 | G10: 0.707 | H10: 0.113 | I10: 0.686 | J10: 0.109 | K10: 0.662 | L10: 0.106 | M10: 3
B11: 에너지저장시설공사 | C11: 0.753 | D11: 0.12 | E11: 0.73 | F11: 0.117 | G11: 0.707 | H11: 0.113 | I11: 0.686 | J11: 0.109 | K11: 0.662 | L11: 0.106 | M11: 3
B12: 간척공사 | C12: 0.853 | D12: 0.136 | E12: 0.827 | F12: 0.132 | G12: 0.801 | H12: 0.128 | I12: 0.776 | J12: 0.124 | K12: 0.751 | L12: 0.119 | M12: 5
B13: 항만공사 | C13: 0.853 | D13: 0.136 | E13: 0.827 | F13: 0.132 | G13: 0.801 | H13: 0.128 | I13: 0.776 | J13: 0.124 | K13: 0.751 | L13: 0.119 | M13: 5
B14: 철도공사 | C14: 0.669 | D14: 0.106 | E14: 0.649 | F14: 0.104 | G14: 0.629 | H14: 0.101 | I14: 0.609 | J14: 0.097 | K14: 0.589 | L14: 0.094 | M14: 3
B15: 지하철공사 | C15: 1.047 | D15: 0.167 | E15: 1.015 | F15: 0.162 | G15: 0.983 | H15: 0.157 | I15: 0.952 | J15: 0.152 | K15: 0.921 | L15: 0.147 | M15: 4
B16: 터널공사 | C16: 1.047 | D16: 0.167 | E16: 1.015 | F16: 0.162 | G16: 0.983 | H16: 0.157 | I16: 0.952 | J16: 0.152 | K16: 0.921 | L16: 0.147 | M16: 4
B17: 발전소건설공사 | C17: 0.892 | D17: 0.143 | E17: 0.866 | F17: 0.137 | G17: 0.839 | H17: 0.134 | I17: 0.812 | J17: 0.13 | K17: 0.785 | L17: 0.125 | M17: 3
B18: 쓰레기소각로건설공사 | C18: 1.16 | D18: 0.184 | E18: 1.125 | F18: 0.179 | G18: 1.09 | H18: 0.174 | I18: 1.055 | J18: 0.169 | K18: 1.02 | L18: 0.163 | M18: 2
... B28: 공동주택건설공사 | C28: 0.647 | D28: 0.104 | E28: 0.628 | F28: 0.1 | G28: 0.608 | H28: 0.097 | I28: 0.589 | J28: 0.094 | K28: 0.57 | L28: 0.09 | M28: 3
B29: ※ 용역손해배상 보험료 : 순용역금액 × 적용요율 (건설기술관리법 제37조제3항 설계·감리등 용역손해배상 보험 및 공제에 관한사항에 의함) - 엔지니어링 공제조합 고시 실시설계 보험요율 평균값 활용, - 적용요율 = 기본요율 + 적용가산요율, - 적용가산요율 = 가산요율 × 표준공사기간초과일수 / 365일
