Workbook

Sheet 원가계산서
B1: 공 사 원 가 계 산 서
B2: 공사명 : 2026학년도 전주효문중 식생활관 리모델링 기계설비공사
B3: 공사금액 : | D3: ="금:"&TEXT(E34,"#,###원 (금"&NUMBERSTRING(E34,1)&"원)") -> 금:원 (금영원)
B4: 비 목 | E4: 금 액 | F4: 구 성 비 | G4: 비 고
A5: A1 | B5: 내 역 서 | C5: 재 료 비 | D5: 직 접 재 료 비
A6: A2 | D6: 간 접 재 료 비
A7: A3 | D7: 작업설, 부산물(△)
A8: AS | D8: [ 소 계 ]
A9: B1 | C9: 노 무 비 | D9: 직 접 노 무 비
A10: B2 | D10: 간 접 노 무 비 | F10: 직접노무비 * 17.5%
A11: BS | D11: [ 소 계 ]
A12: C2 | C12: 경 비 | D12: 기 계 경 비
A13: C4 | D13: 산 재 보 험 료 | F13: 노무비 * 3.56%
A14: C5 | D14: 고 용 보 험 료 | F14: 노무비 * 1.01%
A15: C6 | D15: 국민 건강 보험료 | F15: 직접노무비 * 3.595%
A16: C7 | D16: 국민 연금 보험료 | F16: 직접노무비 * 4.75%
A17: CB | D17: 노인장기요양보험료 | F17: 건강보험료 * 13.14%
A18: C8 | D18: 퇴직 공제 부금비 | F18: 직접노무비 * 2.3% | G18: 50억원이상 공사
A19: CA | D19: 산업안전보건관리비 | F19: (재료비+직노) * 3.11% | G19: 2천만원이상 공사
A20: CH | D20: 환 경 보 전 비 | F20: (재료비+직노+기계경비) * 0.3%
A21: CG | D21: 기 타 경 비 | F21: (재료비+노무비) * 5% | G21: 수도광열비 0.14%포함
D22: 폐 기 물 처 리 비
D23: 품 질 관 리 비 | F23: 산출단가 적용 | G23: 2억원이상 공사
D24: 석 면 분 담 금 | F24: 노무비 * 0.006%
D25: 임금채권 부담금 | F25: 노무비 * 0.09%
A26: CS | D26: [ 소 계 ]
A27: S1 | B27: 계
A28: D1 | B28: 일 반 관 리 비 | F28: 계 * 8%
A29: D2 | B29: 이 윤 | F29: (노무비+경비+일반관리비) * 15%
A30: D9 | B30: 공 급 가 액
A31: DB | B31: 부 가 가 치 세 | F31: 공급가액 * 10%
B32: 도 급 공 사
B33: 관 급 자 재 | F33: 배기후드,급,배기휀,바닥난방,공기순환기
A34: S2 | B34: 총 공 사 비

Sheet 공종별집계표
A1: 공 종 별 집 계 표
A2: [ 2026학년도 전주효문중 식생활관 리모델링 기계설비공사 ]
A3: 품 명 | B3: 규 격 | C3: 단위 | D3: 수량 | E3: 재 료 비 | G3: 노 무 비 | I3: 경 비 | K3: 합 계 | M3: 비 고 | N3: 공종코드 | O3: 변수 | P3: 상위공종 | Q3: 공종구분 | R3: 공종레벨 | S3: 공종소계 | T3: 원가계산서 연결금액
E4: 단 가 | F4: 금 액 | G4: 단 가 | H4: 금 액 | I4: 단 가 | J4: 금 액 | K4: 단 가 | L4: 금 액
A5: 2026학년도 전주효문중 식생활관 리모델링 기계설비공사 | D5: 1 | E5: =F6+F7+F8+F9+F10+F11+F12+F13 -> 0 | F5: =E5*D5 -> 0 | G5: =H6+H7+H8+H9+H10+H11+H12+H13 -> 0 | H5: =G5*D5 -> 0 | I5: =J6+J7+J8+J9+J10+J11+J12+J13 -> 0 | J5: =I5*D5 -> 0 | K5: =E5+G5+I5 -> 0 | L5: =F5+H5+J5 -> 0 | N5: 01 | R5: 1
A6: 1. 장비 및 위생기구 설치공사 | D6: 1 | E6: =공종별내역서!F51 -> 0 | F6: =E6*D6 -> 0 | G6: =공종별내역서!H51 -> 0 | H6: =G6*D6 -> 0 | I6: =공종별내역서!J51 -> 0 | J6: =I6*D6 -> 0 | K6: =E6+G6+I6 -> 0 | L6: =F6+H6+J6 -> 0 | N6: 0101 | P6: 01 | R6: 2
A7: 2. 급수, 급탕 배관공사 | D7: 1 | E7: =공종별내역서!F123 -> 0 | F7: =E7*D7 -> 0 | G7: =공종별내역서!H123 -> 0 | H7: =G7*D7 -> 0 | I7: =공종별내역서!J123 -> 0 | J7: =I7*D7 -> 0 | K7: =E7+G7+I7 -> 0 | L7: =F7+H7+J7 -> 0 | N7: 0102 | P7: 01 | R7: 2
A8: 3. 오수, 배수, 통기 배관공사 | D8: 1 | E8: =공종별내역서!F171 -> 0 | F8: =E8*D8 -> 0 | G8: =공종별내역서!H171 -> 0 | H8: =G8*D8 -> 0 | I8: =공종별내역서!J171 -> 0 | J8: =I8*D8 -> 0 | K8: =E8+G8+I8 -> 0 | L8: =F8+H8+J8 -> 0 | N8: 0103 | P8: 01 | R8: 2
A9: 4. 환기 배관공사 | D9: 1 | E9: =공종별내역서!F195 -> 0 | F9: =E9*D9 -> 0 | G9: =공종별내역서!H195 -> 0 | H9: =G9*D9 -> 0 | I9: =공종별내역서!J195 -> 0 | J9: =I9*D9 -> 0 | K9: =E9+G9+I9 -> 0 | L9: =F9+H9+J9 -> 0 | N9: 0104 | P9: 01 | R9: 2
A10: 5. 배기덕트 설치공사 | D10: 1 | E10: =공종별내역서!F243 -> 0 | F10: =E10*D10 -> 0 | G10: =공종별내역서!H243 -> 0 | H10: =G10*D10 -> 0 | I10: =공종별내역서!J243 -> 0 | J10: =I10*D10 -> 0 | K10: =E10+G10+I10 -> 0 | L10: =F10+H10+J10 -> 0 | N10: 0105 | P10: 01 | R10: 2
A11: 6. 급기덕트 설치공사 | D11: 1 | E11: =공종별내역서!F267 -> 0 | F11: =E11*D11 -> 0 | G11: =공종별내역서!H267 -> 0 | H11: =G11*D11 -> 0 | I11: =공종별내역서!J267 -> 0 | J11: =I11*D11 -> 0 | K11: =E11+G11+I11 -> 0 | L11: =F11+H11+J11 -> 0 | N11: 0106 | P11: 01 | R11: 2
A12: 7. 가스 배관공사 | D12: 1 | E12: =공종별내역서!F339 -> 0 | F12: =E12*D12 -> 0 | G12: =공종별내역서!H339 -> 0 | H12: =G12*D12 -> 0 | I12: =공종별내역서!J339 -> 0 | J12: =I12*D12 -> 0 | K12: =E12+G12+I12 -> 0 | L12: =F12+H12+J12 -> 0 | N12: 0107 | P12: 01 | R12: 2
A13: 8. 철거공사 | D13: 1 | E13: =공종별내역서!F363 -> 0 | F13: =E13*D13 -> 0 | G13: =공종별내역서!H363 -> 0 | H13: =G13*D13 -> 0 | I13: =공종별내역서!J363 -> 0 | J13: =I13*D13 -> 0 | K13: =E13+G13+I13 -> 0 | L13: =F13+H13+J13 -> 0 | N13: 0108 | P13: 01 | R13: 2
A14: 관급자재 | D14: 1 | E14: =F15+F16+F17+F18 -> 0 | F14: =E14*D14 -> 0 | G14: =H15+H16+H17+H18 -> 0 | H14: =G14*D14 -> 0 | I14: =J15+J16+J17+J18 -> 0 | J14: =I14*D14 -> 0 | K14: =E14+G14+I14 -> 0 | L14: =F14+H14+J14 -> 0 | N14: 0109 | Q14: 3 | R14: 2 | T14: =L14*1 -> 0
A15: 1. 배기후드 설치공사 | D15: 1 | E15: =공종별내역서!F387 -> 0 | F15: =E15*D15 -> 0 | G15: =공종별내역서!H387 -> 0 | H15: =G15*D15 -> 0 | I15: =공종별내역서!J387 -> 0 | J15: =I15*D15 -> 0 | K15: =E15+G15+I15 -> 0 | L15: =F15+H15+J15 -> 0 | N15: 010901 | P15: 0109 | R15: 3
A16: 2. 주방 급,배기휀 설치공사 | D16: 1 | H16: =G16*D16 -> 0 | J16: =I16*D16 -> 0 | K16: =E16+G16+I16 -> 0 | L16: =F16+H16+J16 -> 0 | N16: 010902 | P16: 0109 | R16: 3
A17: 3. 바닥난방 설치공사 | D17: 1 | H17: =G17*D17 -> 0 | J17: =I17*D17 -> 0 | K17: =E17+G17+I17 -> 0 | L17: =F17+H17+J17 -> 0 | N17: 010903 | P17: 0109 | R17: 3
A18: 4. 공기순환기 설치공사 | D18: 1 | H18: =G18*D18 -> 0 | J18: =I18*D18 -> 0 | K18: =E18+G18+I18 -> 0 | L18: =F18+H18+J18 -> 0 | N18: 010904 | P18: 0109 | R18: 3
A19: 5. 주방자동소화장치 설치공사(추후공사) | D19: 1 | E19: =공종별내역서!F411 -> 0 | F19: =E19*D19 -> 0 | G19: =공종별내역서!H411 -> 0 | H19: =G19*D19 -> 0 | I19: =공종별내역서!J411 -> 0 | J19: =I19*D19 -> 0 | K19: =E19+G19+I19 -> 0 | L19: =F19+H19+J19 -> 0 | N19: 010905 | Q19: 4 | R19: 3 | T19: =L19*1 -> 0
A27: [ 합 계 ] | F27: =F5 -> 0 | H27: =H5 -> 0 | J27: =J5 -> 0 | L27: =L5 -> 0

Sheet 공종별내역서
A1: [ 2026학년도 전주효문중 식생활관 리모델링 기계설비공사 ]
A2: 품 명 | B2: 규 격 | C2: 단위 | D2: 수량 | E2: 재 료 비 | G2: 노 무 비 | I2: 경 비 | K2: 합 계 | M2: 비 고 | N2: 품목코드 | O2: 변수 | P2: 설정 | Q2: 공종코드 | R2: 일위 | S2: 단산 | T2: 자재 | U2: 손료적용 | V2: 손료저장 | W2: 적용율 | X2: JUK1 | Y2: JUK2 | Z2: JUK3 | AA2: JUK4 | AB2: JUK5 | AC2: JUK6 | AD2: JUK7 | AE2: JUK8 | AF2: JUK9 | AG2: JUK10 | AH2: JUK11 | AI2: JUK12 | AJ2: JUK13 | AK2: JUK14 | AL2: JUK15 | AM2: JUK16 | AN2: JUK17 | AO2: JUK18 | AP2: JUK19 | AQ2: JUK20 | AR2: 자재구분 | AS2: 공종구분 | AT2: 공종레벨 | AU2: 공종+자재 | AV2: 고유번호
E3: 단 가 | F3: 금 액 | G3: 단 가 | H3: 금 액 | I3: 단 가 | J3: 금 액 | K3: 단 가 | L3: 금 액
A4: 1. 장비 및 위생기구 설치공사 | Q4: 0101
A5: 에어커튼 | B5: L-900(리미트센서포함) | C5: 대 | D5: 7 | K5: =TRUNC(E5+G5+I5, 0) -> 0 | L5: =TRUNC(F5+H5+J5, 0) -> 0 | M5: 호표 75 | N5: 44532229010A3B4097F3A583B2287 | Q5: 0101 | R5: T | S5: F | T5: F | AU5: 010144532229010A3B4097F3A583B2287 | AV5: 16
A6: 가스온수기(콘덴싱,연도포함),1등급 | B6: 48,000kcal/hr | C6: 대 | D6: 2 | K6: =TRUNC(E6+G6+I6, 0) -> 0 | L6: =TRUNC(F6+H6+J6, 0) -> 0 | M6: 호표 109 | N6: 44532E2E015628408E96051223550 | Q6: 0101 | R6: T | S6: F | T6: F | AU6: 010144532E2E015628408E96051223550 | AV6: 18
A7: 가스온수기(이설) | B7: 48,000kcal/hr | C7: 대 | D7: 1 | K7: =TRUNC(E7+G7+I7, 0) -> 0 | L7: =TRUNC(F7+H7+J7, 0) -> 0 | M7: 호표 110 | N7: 44532E2E015628408E96051223551 | Q7: 0101 | R7: T | S7: F | T7: F | AU7: 010144532E2E015628408E96051223551 | AV7: 19
A8: 배기 덕트인라인휀,(휀+모터), 저소음형 | B8: 30CMM,D300*1HP | C8: 대 | D8: 2 | K8: =TRUNC(E8+G8+I8, 0) -> 0 | L8: =TRUNC(F8+H8+J8, 0) -> 0 | M8: 호표 70 | N8: 44532229010A5638FA574086D5085 | Q8: 0101 | R8: T | S8: F | T8: F | AU8: 010144532229010A5638FA574086D5085 | AV8: 20
A9: 배기 소형인라인휀(원형, 무덕트형) | B9: D150, 10CMM, 34mmaq, 140W | C9: 대 | D9: 1 | K9: =TRUNC(E9+G9+I9, 0) -> 0 | L9: =TRUNC(F9+H9+J9, 0) -> 0 | M9: 호표 71 | N9: 44532229010A5638FA574086C4993 | Q9: 0101 | R9: T | S9: F | T9: F | AU9: 010144532229010A5638FA574086C4993 | AV9: 21
A10: 환풍기(천장형) | B10: D150x3.5CMMx30W | C10: 대 | D10: 3 | K10: =TRUNC(E10+G10+I10, 0) -> 0 | L10: =TRUNC(F10+H10+J10, 0) -> 0 | M10: 호표 6 | N10: 44DE2C2B019CBC4DD341516187002 | Q10: 0101 | R10: T | S10: F | T10: F | AU10: 010144DE2C2B019CBC4DD341516187002 | AV10: 22
A11: 양변기(L/T),친환경 | B11: KSC 1210CR(초절수, 절수1등급) | C11: 조 | D11: 1 | K11: =TRUNC(E11+G11+I11, 0) -> 0 | L11: =TRUNC(F11+H11+J11, 0) -> 0 | M11: 호표 86 | N11: 44532F2C01B9439C32E1D121689D3 | Q11: 0101 | R11: T | S11: F | T11: F | AU11: 010144532F2C01B9439C32E1D121689D3 | AV11: 23
A12: 각형세면기,친환경 | B12: KSL 610(싱글레버식)(앵글밸브, 트랩, 폽업 포함, 수전제외) | C12: 조 | D12: 1 | K12: =TRUNC(E12+G12+I12, 0) -> 0 | L12: =TRUNC(F12+H12+J12, 0) -> 0 | M12: 호표 87 | N12: 44532F2C01B91645CD6F0828B3162 | Q12: 0101 | R12: T | S12: F | T12: F | AU12: 010144532F2C01B91645CD6F0828B3162 | AV12: 24
A13: 세면기수전 | B13: KLE670C,FL930C동등이상(절수 1등급) | C13: 개 | D13: 4 | K13: =TRUNC(E13+G13+I13, 0) -> 0 | L13: =TRUNC(F13+H13+J13, 0) -> 0 | M13: 호표 107 | N13: 44532F2D019758BB8F413BCC976B5 | Q13: 0101 | R13: T | S13: F | T13: F | AU13: 010144532F2D019758BB8F413BCC976B5 | AV13: 25
A14: 씽크수전 | B14: 싱글레버식(절수 1등급) | C14: 개 | D14: 12 | K14: =TRUNC(E14+G14+I14, 0) -> 0 | L14: =TRUNC(F14+H14+J14, 0) -> 0 | M14: 호표 102 | N14: 44532F2C01E6B692959E1F81C20E0 | Q14: 0101 | R14: T | S14: F | T14: F | AU14: 010144532F2C01E6B692959E1F81C20E0 | AV14: 26
A15: 샤워기(선반형 레인샤워) | B15: KRS-3000(동등이상)(절수 1등급) | C15: 개 | D15: 2 | K15: =TRUNC(E15+G15+I15, 0) -> 0 | L15: =TRUNC(F15+H15+J15, 0) -> 0 | M15: 호표 101 | N15: 44532F2C01E6B692959E1F81C218F | Q15: 0101 | R15: T | S15: F | T15: F | AU15: 010144532F2C01E6B692959E1F81C218F | AV15: 27
A16: 세탁수전(커프링) | B16: 15mm | C16: 개 | D16: 4 | K16: =TRUNC(E16+G16+I16, 0) -> 0 | L16: =TRUNC(F16+H16+J16, 0) -> 0 | M16: 호표 98 | N16: 44532F2C01E689652B2903CFC73FA | Q16: 0101 | R16: T | S16: F | T16: F | AU16: 010144532F2C01E689652B2903CFC73FA | AV16: 28
... A25: 냉온수비데(친환경) | B25: 건조기능포함 | C25: 개 | D25: 1 | K25: =TRUNC(E25+G25+I25, 0) -> 0 | L25: =TRUNC(F25+H25+J25, 0) -> 0 | M25: 호표 90 | N25: 44532F2C018C205C8A3639BA6C105 | Q25: 0101 | R25: T | S25: F | T25: F | AU25: 010144532F2C018C205C8A3639BA6C105 | AV25: 36
A26: 그리스트랩 (스텐 3칸) | B26: 900*600*600 | C26: 조 | D26: 2 | K26: =TRUNC(E26+G26+I26, 0) -> 0 | L26: =TRUNC(F26+H26+J26, 0) -> 0 | N26: 43D7272C0113CD2E88F5B81364CDF91B54996 | Q26: 0101 | R26: F | S26: F | T26: T | AU26: 010143D7272C0113CD2E88F5B81364CDF91B54996 | AV26: 38
A27: 호스릴 | B27: D15, 15M | C27: 개 | D27: 8 | K27: =TRUNC(E27+G27+I27, 0) -> 0 | L27: =TRUNC(F27+H27+J27, 0) -> 0 | M27: 호표 91 | N27: 44532F2C018C5DA0F8647D2C77A14 | Q27: 0101 | R27: T | S27: F | T27: F | AU27: 010144532F2C018C5DA0F8647D2C77A14 | AV27: 37
Q28: 0101
Q29: 0101
Q30: 0101
Q31: 0101
Q32: 0101
Q33: 0101
Q34: 0101
Q35: 0101
Q36: 0101
Q37: 0101
Q38: 0101
Q39: 0101
... Q50: 0101
A51: [ 합 계 ] | L51: =SUMIF(Q5:Q50,"0101",L5:L50) -> 0 | N51: TOTAL
A52: 2. 급수, 급탕 배관공사 | Q52: 0102
A53: 스테인리스강관옥내배관(K-TYPE) | B53: D40 | C53: M | D53: 31 | K53: =TRUNC(E53+G53+I53, 0) -> 0 | L53: =TRUNC(F53+H53+J53, 0) -> 0 | M53: 호표 28 | N53: 4453252C012DF942AEB7AC37C9F5D | Q53: 0102 | R53: T | S53: F | T53: F | AU53: 01024453252C012DF942AEB7AC37C9F5D | AV53: 40
A54: 스테인리스강관옥내배관(K-TYPE) | B54: D13 | C54: M | D54: 34 | K54: =TRUNC(E54+G54+I54, 0) -> 0 | L54: =TRUNC(F54+H54+J54, 0) -> 0 | M54: 호표 27 | N54: 4453252C012DF90B14F1E9961FAE8 | Q54: 0102 | R54: T | S54: F | T54: F | AU54: 01024453252C012DF90B14F1E9961FAE8 | AV54: 41
A55: 스테인리스강관옥내배관(용접) | B55: D40*3.0t | C55: M | D55: 28 | K55: =TRUNC(E55+G55+I55, 0) -> 0 | L55: =TRUNC(F55+H55+J55, 0) -> 0 | M55: 호표 34 | N55: 4453252C012DE8FE64EF32D991FF1 | Q55: 0102 | R55: T | S55: F | T55: F | AU55: 01024453252C012DE8FE64EF32D991FF1 | AV55: 42
A56: 스테인리스강관옥내배관(용접) | B56: D32*3.0t | C56: M | D56: 78 | K56: =TRUNC(E56+G56+I56, 0) -> 0 | L56: =TRUNC(F56+H56+J56, 0) -> 0 | M56: 호표 33 | N56: 4453252C012DE8EC15209E813358F | Q56: 0102 | R56: T | S56: F | T56: F | AU56: 01024453252C012DE8EC15209E813358F | AV56: 43
A57: 스테인리스강관옥내배관(용접) | B57: D25*3.0t | C57: M | D57: 32 | K57: =TRUNC(E57+G57+I57, 0) -> 0 | L57: =TRUNC(F57+H57+J57, 0) -> 0 | M57: 호표 32 | N57: 4453252C012DE895F7089BF2B153E | Q57: 0102 | R57: T | S57: F | T57: F | AU57: 01024453252C012DE895F7089BF2B153E | AV57: 44
A58: 스테인리스강관옥내배관(용접) | B58: D20*3.0t | C58: M | D58: 25 | K58: =TRUNC(E58+G58+I58, 0) -> 0 | L58: =TRUNC(F58+H58+J58, 0) -> 0 | M58: 호표 31 | N58: 4453252C012DE88B9AD265111F510 | Q58: 0102 | R58: T | S58: F | T58: F | AU58: 01024453252C012DE88B9AD265111F510 | AV58: 45
A59: 스테인리스강관옥내배관(용접) | B59: D15*3.0t | C59: M | D59: 110 | K59: =TRUNC(E59+G59+I59, 0) -> 0 | L59: =TRUNC(F59+H59+J59, 0) -> 0 | M59: 호표 29 | N59: 4453252C012DE8B0DEC09A25F3821 | Q59: 0102 | R59: T | S59: F | T59: F | AU59: 01024453252C012DE8B0DEC09A25F3821 | AV59: 46
A60: 일반배관용스테인리스강관관이음쇠 | B60: ∮40mm, 엘보90°, SP | C60: 개 | D60: 2 | K60: =TRUNC(E60+G60+I60, 0) -> 0 | L60: =TRUNC(F60+H60+J60, 0) -> 0 | N60: 43C62A24017048E2E2EC519C5632BC4A72C4C | Q60: 0102 | R60: F | S60: F | T60: T | AU60: 010243C62A24017048E2E2EC519C5632BC4A72C4C | AV60: 47
A61: 일반배관용스테인리스강관관이음쇠 | B61: ∮13mm, 엘보90°, SP | C61: 개 | D61: 9 | K61: =TRUNC(E61+G61+I61, 0) -> 0 | L61: =TRUNC(F61+H61+J61, 0) -> 0 | N61: 43C62A24017048E2E2EC519C5632BC4A72C48 | Q61: 0102 | R61: F | S61: F | T61: T | AU61: 010243C62A24017048E2E2EC519C5632BC4A72C48 | AV61: 48
A62: 일반배관용스테인리스강관관이음쇠 | B62: ∮13*12.7mm, 수전엘보, SP | C62: 개 | D62: 2 | K62: =TRUNC(E62+G62+I62, 0) -> 0 | L62: =TRUNC(F62+H62+J62, 0) -> 0 | N62: 43C62A24017048E2E2EC519C5617C46BED969 | Q62: 0102 | R62: F | S62: F | T62: T | AU62: 010243C62A24017048E2E2EC519C5617C46BED969 | AV62: 49
A63: 일반배관용스테인리스강관관이음쇠 | B63: ∮40*40mm, 티, SP | C63: 개 | D63: 1 | K63: =TRUNC(E63+G63+I63, 0) -> 0 | L63: =TRUNC(F63+H63+J63, 0) -> 0 | N63: 43C62A24017048E2E2EC519C5632BC7620B68 | Q63: 0102 | R63: F | S63: F | T63: T | AU63: 010243C62A24017048E2E2EC519C5632BC7620B68 | AV63: 104
A64: 일반배관용스테인리스강관관이음쇠 | B64: ∮13*13mm, 티, SP | C64: 개 | D64: 1 | K64: =TRUNC(E64+G64+I64, 0) -> 0 | L64: =TRUNC(F64+H64+J64, 0) -> 0 | N64: 43C62A24017048E2E2EC519C5632BC7620A46 | Q64: 0102 | R64: F | S64: F | T64: T | AU64: 010243C62A24017048E2E2EC519C5632BC7620A46 | AV64: 105
A65: 일반배관용스테인리스강관관이음쇠 | B65: ∮40mm, 소켓, SP | C65: 개 | D65: 1 | K65: =TRUNC(E65+G65+I65, 0) -> 0 | L65: =TRUNC(F65+H65+J65, 0) -> 0 | N65: 43C62A24017048E2E2EC519C5632BC764CD85 | Q65: 0102 | R65: F | S65: F | T65: T | AU65: 010243C62A24017048E2E2EC519C5632BC764CD85 | AV65: 106
A66: 일반배관용스테인리스강관관이음쇠 | B66: ∮13mm, 소켓, SP | C66: 개 | D66: 3 | K66: =TRUNC(E66+G66+I66, 0) -> 0 | L66: =TRUNC(F66+H66+J66, 0) -> 0 | N66: 43C62A24017048E2E2EC519C5632BC764CD89 | Q66: 0102 | R66: F | S66: F | T66: T | AU66: 010243C62A24017048E2E2EC519C5632BC764CD89 | AV66: 107
A67: 일반배관용스테인리스강관관이음쇠 | B67: ∮13*12.7mm, K-유니언, SP | C67: 개 | D67: 2 | K67: =TRUNC(E67+G67+I67, 0) -> 0 | L67: =TRUNC(F67+H67+J67, 0) -> 0 | N67: 43C62A24017048E2E2EC519C5632BC7678635 | Q67: 0102 | R67: F | S67: F | T67: T | AU67: 010243C62A24017048E2E2EC519C5632BC7678635 | AV67: 50
A68: 일반배관용스테인리스강관관이음쇠 | B68: ∮13*12.7mm, 어댑터소켓, SP | C68: 개 | D68: 2 | K68: =TRUNC(E68+G68+I68, 0) -> 0 | L68: =TRUNC(F68+H68+J68, 0) -> 0 | N68: 43C62A24017048E2E2EC519C5617C46BFE6E4 | Q68: 0102 | R68: F | S68: F | T68: T | AU68: 010243C62A24017048E2E2EC519C5617C46BFE6E4 | AV68: 51
A69: 일반배관용스테인리스강관관이음쇠 | B69: ∮40mm, 플러그, 나사식 | C69: 개 | D69: 1 | K69: =TRUNC(E69+G69+I69, 0) -> 0 | L69: =TRUNC(F69+H69+J69, 0) -> 0 | N69: 43C62A24017048E2E2EC519C5632BC76781B2 | Q69: 0102 | R69: F | S69: F | T69: T | AU69: 010243C62A24017048E2E2EC519C5632BC76781B2 | AV69: 52
A70: 일반배관용스테인리스강관관이음쇠 | B70: ∮25mm, 나사식, 엘보 | C70: 개 | D70: 3 | K70: =TRUNC(E70+G70+I70, 0) -> 0 | L70: =TRUNC(F70+H70+J70, 0) -> 0 | N70: 43C62A24017048E2E2EC519C5632BC4A9D18A | Q70: 0102 | R70: F | S70: F | T70: T | AU70: 010243C62A24017048E2E2EC519C5632BC4A9D18A | AV70: 53
A71: 일반배관용스테인리스강관관이음쇠 | B71: ∮15mm, 나사식, 엘보 | C71: 개 | D71: 74 | K71: =TRUNC(E71+G71+I71, 0) -> 0 | L71: =TRUNC(F71+H71+J71, 0) -> 0 | N71: 43C62A24017048E2E2EC519C5632BC4A9D188 | Q71: 0102 | R71: F | S71: F | T71: T | AU71: 010243C62A24017048E2E2EC519C5632BC4A9D188 | AV71: 54
... A90: 일반배관용스테인리스강관관이음쇠 | B90: ∮25mm, 소켓, 나사식 | C90: 개 | D90: 2 | K90: =TRUNC(E90+G90+I90, 0) -> 0 | L90: =TRUNC(F90+H90+J90, 0) -> 0 | N90: 43C62A24017048E2E2EC519C5632BC76780AA | Q90: 0102 | R90: F | S90: F | T90: T | AU90: 010243C62A24017048E2E2EC519C5632BC76780AA | AV90: 73
A91: 스테인리스용접 | B91: D40 | C91: 개소 | D91: 76 | K91: =TRUNC(E91+G91+I91, 0) -> 0 | L91: =TRUNC(F91+H91+J91, 0) -> 0 | M91: 호표 26 | N91: 4453252C012DF915711DDC854D76E | Q91: 0102 | R91: T | S91: F | T91: F | AU91: 01024453252C012DF915711DDC854D76E | AV91: 74
A92: 스테인리스용접 | B92: D32 | C92: 개소 | D92: 161 | K92: =TRUNC(E92+G92+I92, 0) -> 0 | L92: =TRUNC(F92+H92+J92, 0) -> 0 | M92: 호표 25 | N92: 4453252C012DF915711DDC97BE138 | Q92: 0102 | R92: T | S92: F | T92: F | AU92: 01024453252C012DF915711DDC97BE138 | AV92: 75
A93: 스테인리스용접 | B93: D25 | C93: 개소 | D93: 97 | K93: =TRUNC(E93+G93+I93, 0) -> 0 | L93: =TRUNC(F93+H93+J93, 0) -> 0 | M93: 호표 24 | N93: 4453252C012DF915711DDCEFDFA5B | Q93: 0102 | R93: T | S93: F | T93: F | AU93: 01024453252C012DF915711DDCEFDFA5B | AV93: 76
A94: 스테인리스용접 | B94: D20 | C94: 개소 | D94: 57 | K94: =TRUNC(E94+G94+I94, 0) -> 0 | L94: =TRUNC(F94+H94+J94, 0) -> 0 | M94: 호표 23 | N94: 4453252C012DF915711DDCF844DA1 | Q94: 0102 | R94: T | S94: F | T94: F | AU94: 01024453252C012DF915711DDCF844DA1 | AV94: 77
A95: 스테인리스용접 | B95: D15 | C95: 개소 | D95: 326 | K95: =TRUNC(E95+G95+I95, 0) -> 0 | L95: =TRUNC(F95+H95+J95, 0) -> 0 | M95: 호표 22 | N95: 4453252C012DF915711DDCCCFFFC1 | Q95: 0102 | R95: T | S95: F | T95: F | AU95: 01024453252C012DF915711DDCCCFFFC1 | AV95: 78
A96: 일반배관용스테인리스강관관이음쇠 | B96: ∮40mm, 유니언, 나사식 | C96: 개 | D96: 1 | K96: =TRUNC(E96+G96+I96, 0) -> 0 | L96: =TRUNC(F96+H96+J96, 0) -> 0 | N96: 43C62A24017048E2E2EC519C5632BC766F579 | Q96: 0102 | R96: F | S96: F | T96: T | AU96: 010243C62A24017048E2E2EC519C5632BC766F579 | AV96: 79
A97: 일반배관용스테인리스강관관이음쇠 | B97: ∮25mm, 유니언, 나사식 | C97: 개 | D97: 9 | K97: =TRUNC(E97+G97+I97, 0) -> 0 | L97: =TRUNC(F97+H97+J97, 0) -> 0 | N97: 43C62A24017048E2E2EC519C5632BC766F57B | Q97: 0102 | R97: F | S97: F | T97: T | AU97: 010243C62A24017048E2E2EC519C5632BC766F57B | AV97: 80
A98: 일반배관용스테인리스강관관이음쇠 | B98: ∮20mm, 유니언, 나사식 | C98: 개 | D98: 1 | K98: =TRUNC(E98+G98+I98, 0) -> 0 | L98: =TRUNC(F98+H98+J98, 0) -> 0 | N98: 43C62A24017048E2E2EC519C5632BC766F57C | Q98: 0102 | R98: F | S98: F | T98: T | AU98: 010243C62A24017048E2E2EC519C5632BC766F57C | AV98: 81
A99: 일반배관용스테인리스강관관이음쇠 | B99: ∮15mm, 유니언, 나사식 | C99: 개 | D99: 39 | K99: =TRUNC(E99+G99+I99, 0) -> 0 | L99: =TRUNC(F99+H99+J99, 0) -> 0 | N99: 43C62A24017048E2E2EC519C5632BC766F57D | Q99: 0102 | R99: F | S99: F | T99: T | AU99: 010243C62A24017048E2E2EC519C5632BC766F57D | AV99: 82
A100: 일반배관용스테인리스강관관이음쇠 | B100: ∮40mm, 니플, 나사식 | C100: 개 | D100: 1 | K100: =TRUNC(E100+G100+I100, 0) -> 0 | L100: =TRUNC(F100+H100+J100, 0) -> 0 | N100: 43C62A24017048E2E2EC519C5632BC76780AC | Q100: 0102 | R100: F | S100: F | T100: T | AU100: 010243C62A24017048E2E2EC519C5632BC76780AC | AV100: 83
A101: 일반배관용스테인리스강관관이음쇠 | B101: ∮25mm, 니플, 나사식 | C101: 개 | D101: 9 | K101: =TRUNC(E101+G101+I101, 0) -> 0 | L101: =TRUNC(F101+H101+J101, 0) -> 0 | N101: 43C62A24017048E2E2EC519C5632BC76787D5 | Q101: 0102 | R101: F | S101: F | T101: T | AU101: 010243C62A24017048E2E2EC519C5632BC76787D5 | AV101: 84
A102: 일반배관용스테인리스강관관이음쇠 | B102: ∮20mm, 니플, 나사식 | C102: 개 | D102: 1 | K102: =TRUNC(E102+G102+I102, 0) -> 0 | L102: =TRUNC(F102+H102+J102, 0) -> 0 | N102: 43C62A24017048E2E2EC519C5632BC76787D4 | Q102: 0102 | R102: F | S102: F | T102: T | AU102: 010243C62A24017048E2E2EC519C5632BC76787D4 | AV102: 85
A103: 일반배관용스테인리스강관관이음쇠 | B103: ∮15mm, 니플, 나사식 | C103: 개 | D103: 39 | K103: =TRUNC(E103+G103+I103, 0) -> 0 | L103: =TRUNC(F103+H103+J103, 0) -> 0 | N103: 43C62A24017048E2E2EC519C5632BC76787DB | Q103: 0102 | R103: F | S103: F | T103: T | AU103: 010243C62A24017048E2E2EC519C5632BC76787DB | AV103: 86
A104: 체크밸브(나사, STS제) | B104: D15 | C104: 개 | D104: 16 | K104: =TRUNC(E104+G104+I104, 0) -> 0 | L104: =TRUNC(F104+H104+J104, 0) -> 0 | M104: 호표 84 | N104: 4453212A01DCD535A89EB949A1EFC | Q104: 0102 | R104: T | S104: F | T104: F | AU104: 01024453212A01DCD535A89EB949A1EFC | AV104: 87
A105: 볼밸브(스텐, 10kg) | B105: D40 | C105: 개 | D105: 1 | K105: =TRUNC(E105+G105+I105, 0) -> 0 | L105: =TRUNC(F105+H105+J105, 0) -> 0 | M105: 호표 82 | N105: 4453212A01DCBA07FA1662B9F20F0 | Q105: 0102 | R105: T | S105: F | T105: F | AU105: 01024453212A01DCBA07FA1662B9F20F0 | AV105: 88
A106: 볼밸브(스텐, 10kg) | B106: D25 | C106: 개 | D106: 6 | K106: =TRUNC(E106+G106+I106, 0) -> 0 | L106: =TRUNC(F106+H106+J106, 0) -> 0 | M106: 호표 81 | N106: 4453212A01DCBA687666511C56EDA | Q106: 0102 | R106: T | S106: F | T106: F | AU106: 01024453212A01DCBA687666511C56EDA | AV106: 89
A107: 볼밸브(스텐, 10kg) | B107: D20 | C107: 개 | D107: 1 | K107: =TRUNC(E107+G107+I107, 0) -> 0 | L107: =TRUNC(F107+H107+J107, 0) -> 0 | M107: 호표 79 | N107: 4453212A01DCBA7AE70CEF9D8AF3C | Q107: 0102 | R107: T | S107: F | T107: F | AU107: 01024453212A01DCBA7AE70CEF9D8AF3C | AV107: 90
A108: 볼밸브(스텐, 10kg) | B108: D15 | C108: 개 | D108: 25 | K108: =TRUNC(E108+G108+I108, 0) -> 0 | L108: =TRUNC(F108+H108+J108, 0) -> 0 | M108: 호표 78 | N108: 4453212A01DCBA4DA912E3EBD9950 | Q108: 0102 | R108: T | S108: F | T108: F | AU108: 01024453212A01DCBA4DA912E3EBD9950 | AV108: 91
A109: 감압밸브 | B109: 냉온수, 나사, 10kg, D25 | C109: EA | D109: 3 | K109: =TRUNC(E109+G109+I109, 0) -> 0 | L109: =TRUNC(F109+H109+J109, 0) -> 0 | M109: 호표 85 | N109: 4453212A01FF43D703AF5B56D78F4 | Q109: 0102 | R109: T | S109: F | T109: F | AU109: 01024453212A01FF43D703AF5B56D78F4 | AV109: 92
A110: 폴리에틸렌보온(난연,AL피막) | B110: 25t*D40 | C110: M | D110: 31 | K110: =TRUNC(E110+G110+I110, 0) -> 0 | L110: =TRUNC(F110+H110+J110, 0) -> 0 | M110: 호표 67 | N110: 4453232F01822705D113D55D9B5A7 | Q110: 0102 | R110: T | S110: F | T110: F | AU110: 01024453232F01822705D113D55D9B5A7 | AV110: 93
A111: 폴리에틸렌보온(난연,AL피막) | B111: 25t*D15 | C111: M | D111: 34 | K111: =TRUNC(E111+G111+I111, 0) -> 0 | L111: =TRUNC(F111+H111+J111, 0) -> 0 | M111: 호표 66 | N111: 4453232F018227432596808FFA6CA | Q111: 0102 | R111: T | S111: F | T111: F | AU111: 01024453232F018227432596808FFA6CA | AV111: 94
A112: 폴리에틸렌보온(난연,AL피막) | B112: 10t*D40 | C112: M | D112: 28 | K112: =TRUNC(E112+G112+I112, 0) -> 0 | L112: =TRUNC(F112+H112+J112, 0) -> 0 | M112: 호표 65 | N112: 4453232F01822743259680AAD03F1 | Q112: 0102 | R112: T | S112: F | T112: F | AU112: 01024453232F01822743259680AAD03F1 | AV112: 95
A113: 폴리에틸렌보온(난연,AL피막) | B113: 10t*D32 | C113: M | D113: 78 | K113: =TRUNC(E113+G113+I113, 0) -> 0 | L113: =TRUNC(F113+H113+J113, 0) -> 0 | M113: 호표 64 | N113: 4453232F01822743259680AAD03FF | Q113: 0102 | R113: T | S113: F | T113: F | AU113: 01024453232F01822743259680AAD03FF | AV113: 96
A114: 폴리에틸렌보온(난연,AL피막) | B114: 10t*D25 | C114: M | D114: 32 | K114: =TRUNC(E114+G114+I114, 0) -> 0 | L114: =TRUNC(F114+H114+J114, 0) -> 0 | M114: 호표 63 | N114: 4453232F01822743259680AAD03FD | Q114: 0102 | R114: T | S114: F | T114: F | AU114: 01024453232F01822743259680AAD03FD | AV114: 97
A115: 폴리에틸렌보온(난연,AL피막) | B115: 10t*D20 | C115: M | D115: 25 | K115: =TRUNC(E115+G115+I115, 0) -> 0 | L115: =TRUNC(F115+H115+J115, 0) -> 0 | M115: 호표 62 | N115: 4453232F01822743259680AAD03FB | Q115: 0102 | R115: T | S115: F | T115: F | AU115: 01024453232F01822743259680AAD03FB | AV115: 98
... A119: 슬리브 설치(벽체) | B119: D50*200L | C119: 개소 | D119: 5 | K119: =TRUNC(E119+G119+I119, 0) -> 0 | L119: =TRUNC(F119+H119+J119, 0) -> 0 | M119: 호표 115 | N119: 44532D2F01881201A69BA31C7171F | Q119: 0102 | R119: T | S119: F | T119: F | AU119: 010244532D2F01881201A69BA31C7171F | AV119: 102
A120: 표찰 제작 설치 | B120: 포맥스 50*150*5T(배관, 관경 등 표시) | C120: 개소 | D120: 3 | K120: =TRUNC(E120+G120+I120, 0) -> 0 | L120: =TRUNC(F120+H120+J120, 0) -> 0 | N120: 4527262B01FE5E7D915215C232984319FFCC9 | Q120: 0102 | R120: F | S120: F | T120: T | AU120: 01024527262B01FE5E7D915215C232984319FFCC9 | AV120: 103
Q121: 0102
Q122: 0102
A123: [ 합 계 ] | L123: =SUMIF(Q53:Q122,"0102",L53:L122) -> 0 | N123: TOTAL
A124: 3. 오수, 배수, 통기 배관공사 | Q124: 0103
A125: 경질염화비닐관(접착제) | B125: PVC관(VG1), D150(VN SDR9, 13.6, 17) | C125: M | D125: 9 | K125: =TRUNC(E125+G125+I125, 0) -> 0 | L125: =TRUNC(F125+H125+J125, 0) -> 0 | M125: 호표 41 | N125: 4453252C01DEBFD3D5CB0CED794CD | Q125: 0103 | R125: T | S125: F | T125: F | AU125: 01034453252C01DEBFD3D5CB0CED794CD | AV125: 108
A126: 경질염화비닐관(접착제) | B126: PVC관(VG1), D100(VN SDR9, 13.6, 17) | C126: M | D126: 10 | K126: =TRUNC(E126+G126+I126, 0) -> 0 | L126: =TRUNC(F126+H126+J126, 0) -> 0 | M126: 호표 39 | N126: 4453252C01DEBFFEBF7411269A6D0 | Q126: 0103 | R126: T | S126: F | T126: F | AU126: 01034453252C01DEBFFEBF7411269A6D0 | AV126: 109
A127: 경질염화비닐관(접착제) | B127: PVC관(VG1), D75(VN SDR9, 13.6, 17) | C127: M | D127: 33 | K127: =TRUNC(E127+G127+I127, 0) -> 0 | L127: =TRUNC(F127+H127+J127, 0) -> 0 | M127: 호표 38 | N127: 4453252C01EF1C1BA6F2AEE053FDD | Q127: 0103 | R127: T | S127: F | T127: F | AU127: 01034453252C01EF1C1BA6F2AEE053FDD | AV127: 110
A128: 경질염화비닐관(접착제) | B128: PVC관(VG1), D50(VN SDR9, 13.6, 17) | C128: M | D128: 124 | K128: =TRUNC(E128+G128+I128, 0) -> 0 | L128: =TRUNC(F128+H128+J128, 0) -> 0 | M128: 호표 36 | N128: 4453252C01EF1CF18CDCAA9E14BCA | Q128: 0103 | R128: T | S128: F | T128: F | AU128: 01034453252C01EF1CF18CDCAA9E14BCA | AV128: 111
A129: 경질염화비닐관(접착제) | B129: PVC관(VG1), D25(VN SDR9, 13.6, 17) | C129: M | D129: 14 | K129: =TRUNC(E129+G129+I129, 0) -> 0 | L129: =TRUNC(F129+H129+J129, 0) -> 0 | M129: 호표 35 | N129: 4453252C01EF1CD6D2630F621F9DD | Q129: 0103 | R129: T | S129: F | T129: F | AU129: 01034453252C01EF1CD6D2630F621F9DD | AV129: 112
A130: 경질염화비닐관(접착제,통기) | B130: PVC관(VG1), D100(VN SDR9, 13.6, 17) | C130: M | D130: 5 | K130: =TRUNC(E130+G130+I130, 0) -> 0 | L130: =TRUNC(F130+H130+J130, 0) -> 0 | M130: 호표 40 | N130: 4453252C01DEBFFEBF7411269A6D1 | Q130: 0103 | R130: T | S130: F | T130: F | AU130: 01034453252C01DEBFFEBF7411269A6D1 | AV130: 113
A131: 경질염화비닐관(접착제,통기) | B131: PVC관(VG1), D50(VN SDR9, 13.6, 17) | C131: M | D131: 14 | K131: =TRUNC(E131+G131+I131, 0) -> 0 | L131: =TRUNC(F131+H131+J131, 0) -> 0 | M131: 호표 37 | N131: 4453252C01EF1CF18CDCAA9E14BCB | Q131: 0103 | R131: T | S131: F | T131: F | AU131: 01034453252C01EF1CF18CDCAA9E14BCB | AV131: 114
A132: PVC T관(접착제) | B132: ∮50*∮50mm | C132: 개 | D132: 5 | K132: =TRUNC(E132+G132+I132, 0) -> 0 | L132: =TRUNC(F132+H132+J132, 0) -> 0 | N132: 43C62A24017048E2E2FEC270AE3B6A397E964 | Q132: 0103 | R132: F | S132: F | T132: T | AU132: 010343C62A24017048E2E2FEC270AE3B6A397E964 | AV132: 115
A133: PVC Y관(접착제) | B133: ∮50*∮50mm | C133: 개 | D133: 1 | K133: =TRUNC(E133+G133+I133, 0) -> 0 | L133: =TRUNC(F133+H133+J133, 0) -> 0 | N133: 43C62A24017048E2E2FEC270AE3B6A397E965 | Q133: 0103 | R133: F | S133: F | T133: T | AU133: 010343C62A24017048E2E2FEC270AE3B6A397E965 | AV133: 116
A134: PVC Y관(접착제) | B134: ∮75*∮50mm | C134: 개 | D134: 9 | K134: =TRUNC(E134+G134+I134, 0) -> 0 | L134: =TRUNC(F134+H134+J134, 0) -> 0 | N134: 43C62A24017048E2E2FEC270AE3B6A397E96C | Q134: 0103 | R134: F | S134: F | T134: T | AU134: 010343C62A24017048E2E2FEC270AE3B6A397E96C | AV134: 117
A135: PVC Y관(접착제) | B135: ∮75*∮75mm | C135: 개 | D135: 3 | K135: =TRUNC(E135+G135+I135, 0) -> 0 | L135: =TRUNC(F135+H135+J135, 0) -> 0 | N135: 43C62A24017048E2E2FEC270AE3B6A397E963 | Q135: 0103 | R135: F | S135: F | T135: T | AU135: 010343C62A24017048E2E2FEC270AE3B6A397E963 | AV135: 286
A136: PVC Y관(접착제) | B136: ∮100*∮50mm | C136: 개 | D136: 1 | K136: =TRUNC(E136+G136+I136, 0) -> 0 | L136: =TRUNC(F136+H136+J136, 0) -> 0 | N136: 43C62A24017048E2E2FEC270AE3B6A397E85D | Q136: 0103 | R136: F | S136: F | T136: T | AU136: 010343C62A24017048E2E2FEC270AE3B6A397E85D | AV136: 118
A137: PVC YT관(접착제) | B137: ∮75*∮50mm | C137: 개 | D137: 5 | K137: =TRUNC(E137+G137+I137, 0) -> 0 | L137: =TRUNC(F137+H137+J137, 0) -> 0 | N137: 43C62A24017048E2E2FEC270AE3B6A2F95F5B | Q137: 0103 | R137: F | S137: F | T137: T | AU137: 010343C62A24017048E2E2FEC270AE3B6A2F95F5B | AV137: 119
A138: PVC YT관(접착제) | B138: ∮75*∮75mm | C138: 개 | D138: 1 | K138: =TRUNC(E138+G138+I138, 0) -> 0 | L138: =TRUNC(F138+H138+J138, 0) -> 0 | N138: 43C62A24017048E2E2FEC270AE3B6A2F95F56 | Q138: 0103 | R138: F | S138: F | T138: T | AU138: 010343C62A24017048E2E2FEC270AE3B6A2F95F56 | AV138: 120
A139: PVC 90˚곡관(접착제) | B139: ∮25mm | C139: 개 | D139: 6 | K139: =TRUNC(E139+G139+I139, 0) -> 0 | L139: =TRUNC(F139+H139+J139, 0) -> 0 | N139: 43C62A24017048E2E2FEC270AE3B6A399998C | Q139: 0103 | R139: F | S139: F | T139: T | AU139: 010343C62A24017048E2E2FEC270AE3B6A399998C | AV139: 121
...

Sheet 일위대가목록
B1: 일 위 대 가 목 록
B2: [ 2026학년도 전주효문중 식생활관 리모델링 기계설비공사 ]
A3: 코 드 | B3: 품 명 | C3: 규 격 | D3: 단위 | E3: 재 료 비 | F3: 노 무 비 | G3: 경 비 | H3: 합 계 | I3: 번 호 | J3: 비 고 | K3: 노임계수 | L3: 할증 | M3: 품셈개요 | N3: 장비일위
A4: 43882F2F01522B6F23D9A919BD6C255157417AF | B4: 코아드릴 | C4: 15.24cm | D4: HR | E4: =일위대가!F6 -> 0 | F4: =일위대가!H6 -> 0 | G4: =일위대가!J6 -> 456 | H4: =E4+F4+G4 -> 456 | I4: 호표 1 | K4: A | N4: T
A5: 43D7272C019760F788B1309AEED0B | B5: 가스경보기 | C5: 공업용 | D5: 개소 | E5: =일위대가!F12 -> 350418 | F5: =일위대가!H12 -> 41813 | G5: =일위대가!J12 -> 0 | H5: =E5+F5+G5 -> 392231 | I5: 호표 2
A6: 43D7272C019760F788B1309ADDD3F | B6: 가스경보기 제어부 | C6: 6회로 | D6: 개소 | E6: =일위대가!F18 -> 133055 | F6: =일위대가!H18 -> 305562 | G6: =일위대가!J18 -> 0 | H6: =E6+F6+G6 -> 438617 | I6: 호표 3
A7: 43D7272C019760B81FAC418EC7FFF | B7: 가스누설차단밸브 | C7: D65 | D7: 개 | E7: =일위대가!F25 -> 652548 | F7: =일위대가!H25 -> 84958 | G7: =일위대가!J25 -> 0 | H7: =E7+F7+G7 -> 737506 | I7: 호표 4
A8: 44952C2F01A2D47DC409577975103 | B8: 조합페인트칠 | C8: 철재면, 2회, 1급 | D8: ㎡ | E8: =일위대가!F33 -> 1850 | F8: =일위대가!H33 -> 12110 | G8: =일위대가!J33 -> 0 | H8: =E8+F8+G8 -> 13960 | I8: 호표 5
A9: 44DE2C2B019CBC4DD341516187002 | B9: 환풍기(천장형) | C9: D150x3.5CMMx30W | D9: 대 | E9: =일위대가!F40 -> 47298 | F9: =일위대가!H40 -> 36604 | G9: =일위대가!J40 -> 0 | H9: =E9+F9+G9 -> 83902 | I9: 호표 6
A10: 44DE2C2B019CBC4DD341516187003 | B10: 환풍기(천장형) 철거 | D10: 대 | E10: =일위대가!F45 -> 0 | F10: =일위대가!H45 -> 14641 | G10: =일위대가!J45 -> 0 | H10: =E10+F10+G10 -> 14641 | I10: 호표 7
A11: 44DE2C2B019CBC4DD341516187005 | B11: 환풍기(벽부형) 철거 | D11: 대 | E11: =일위대가!F49 -> 0 | F11: =일위대가!H49 -> 38823 | G11: =일위대가!J49 -> 0 | H11: =E11+F11+G11 -> 38823 | I11: 호표 8
A12: 44DE2C2B019CBC4DD3415161872C7 | B12: 강제 급,배기형 연도(연장형) | C12: D75 | D12: EA | E12: =일위대가!F55 -> 76455 | F12: =일위대가!H55 -> 48529 | G12: =일위대가!J55 -> 0 | H12: =E12+F12+G12 -> 124984 | I12: 호표 9
A13: 4453252C016BC2D8C5D90B1CC6DFF | B13: 가스용백강관(옥내일반) | C13: 백관(SPPG), D20 | D13: M | E13: =일위대가!F63 -> 4029 | F13: =일위대가!H63 -> 12207 | G13: =일위대가!J63 -> 0 | H13: =E13+F13+G13 -> 16236 | I13: 호표 10
A14: 4453252C016BC2BC19E46B81CB412 | B14: 가스용백강관(옥내일반) | C14: 백관(SPPG), D32 | D14: M | E14: =일위대가!F71 -> 7461 | F14: =일위대가!H71 -> 18397 | G14: =일위대가!J71 -> 0 | H14: =E14+F14+G14 -> 25858 | I14: 호표 11
A15: 4453252C016BC2A385FA2BC62EB80 | B15: 가스용백강관(옥내일반) | C15: 백관(SPPG), D40 | D15: M | E15: =일위대가!F79 -> 8552 | F15: =일위대가!H79 -> 20486 | G15: =일위대가!J79 -> 0 | H15: =E15+F15+G15 -> 29038 | I15: 호표 12
A16: 4453252C016BC2913633899C36BFF | B16: 가스용백강관(옥내일반) | C16: 백관(SPPG), D50 | D16: M | E16: =일위대가!F87 -> 11959 | F16: =일위대가!H87 -> 24836 | G16: =일위대가!J87 -> 0 | H16: =E16+F16+G16 -> 36795 | I16: 호표 13
A17: 4453252C016BC280D18EFF1A09BC5 | B17: 가스용백강관(옥내일반) | C17: 백관(SPPG), D65 | D17: M | E17: =일위대가!F95 -> 15265 | F17: =일위대가!H95 -> 30606 | G17: =일위대가!J95 -> 0 | H17: =E17+F17+G17 -> 45871 | I17: 호표 14
A18: 4453252C0159625952009DE08CB92 | B18: 강관철거(나사) | C18: D20 | D18: M | E18: =일위대가!F101 -> 95 | F18: =일위대가!H101 -> 4791 | G18: =일위대가!J101 -> 0 | H18: =E18+F18+G18 -> 4886 | I18: 호표 15
A19: 4453252C0159625952009DE08CB94 | B19: 강관철거(나사) | C19: D25 | D19: M | E19: =일위대가!F107 -> 122 | F19: =일위대가!H107 -> 6133 | G19: =일위대가!J107 -> 0 | H19: =E19+F19+G19 -> 6255 | I19: 호표 16
A20: 4453252C0159625952009DE08CB96 | B20: 강관철거(나사) | C20: D32 | D20: M | E20: =일위대가!F113 -> 139 | F20: =일위대가!H113 -> 6977 | G20: =일위대가!J113 -> 0 | H20: =E20+F20+G20 -> 7116 | I20: 호표 17
A21: 4453252C0159625952009DE08CB98 | B21: 강관철거(나사) | C21: D40 | D21: M | E21: =일위대가!F119 -> 152 | F21: =일위대가!H119 -> 7647 | G21: =일위대가!J119 -> 0 | H21: =E21+F21+G21 -> 7799 | I21: 호표 18
A22: 4453252C0159625952009DE08CA8A | B22: 강관철거(나사) | C22: D50 | D22: M | E22: =일위대가!F125 -> 196 | F22: =일위대가!H125 -> 9832 | G22: =일위대가!J125 -> 0 | H22: =E22+F22+G22 -> 10028 | I22: 호표 19
A23: 4453252C0159625952009DE08C9E7 | B23: 강관철거(용접) | C23: D65 | D23: M | E23: =일위대가!F131 -> 226 | F23: =일위대가!H131 -> 11347 | G23: =일위대가!J131 -> 0 | H23: =E23+F23+G23 -> 11573 | I23: 호표 20
A24: 4453252C0159625952009DE08CD56 | B24: 스텐관철거(나사) | C24: D40 | D24: M | E24: =일위대가!F137 -> 152 | F24: =일위대가!H137 -> 7647 | G24: =일위대가!J137 -> 0 | H24: =E24+F24+G24 -> 7799 | I24: 호표 21
A25: 4453252C012DF915711DDCCCFFFC1 | B25: 스테인리스용접 | C25: D15 | D25: 개소 | E25: =일위대가!F144 -> 1007 | F25: =일위대가!H144 -> 14316 | G25: =일위대가!J144 -> 0 | H25: =E25+F25+G25 -> 15323 | I25: 호표 22
A26: 4453252C012DF915711DDCF844DA1 | B26: 스테인리스용접 | C26: D20 | D26: 개소 | E26: =일위대가!F151 -> 1333 | F26: =일위대가!H151 -> 16320 | G26: =일위대가!J151 -> 0 | H26: =E26+F26+G26 -> 17653 | I26: 호표 23
A27: 4453252C012DF915711DDCEFDFA5B | B27: 스테인리스용접 | C27: D25 | D27: 개소 | E27: =일위대가!F158 -> 1711 | F27: =일위대가!H158 -> 18897 | G27: =일위대가!J158 -> 0 | H27: =E27+F27+G27 -> 20608 | I27: 호표 24
A28: 4453252C012DF915711DDC97BE138 | B28: 스테인리스용접 | C28: D32 | D28: 개소 | E28: =일위대가!F165 -> 2043 | F28: =일위대가!H165 -> 22047 | G28: =일위대가!J165 -> 0 | H28: =E28+F28+G28 -> 24090 | I28: 호표 25
A29: 4453252C012DF915711DDC854D76E | B29: 스테인리스용접 | C29: D40 | D29: 개소 | E29: =일위대가!F172 -> 2516 | F29: =일위대가!H172 -> 24051 | G29: =일위대가!J172 -> 0 | H29: =E29+F29+G29 -> 26567 | I29: 호표 26
A30: 4453252C012DF90B14F1E9961FAE8 | B30: 스테인리스강관옥내배관(K-TYPE) | C30: D13 | D30: M | E30: =일위대가!F180 -> 2418 | F30: =일위대가!H180 -> 11709 | G30: =일위대가!J180 -> 0 | H30: =E30+F30+G30 -> 14127 | I30: 호표 27
A31: 4453252C012DF942AEB7AC37C9F5D | B31: 스테인리스강관옥내배관(K-TYPE) | C31: D40 | D31: M | E31: =일위대가!F188 -> 8389 | F31: =일위대가!H188 -> 26428 | G31: =일위대가!J188 -> 0 | H31: =E31+F31+G31 -> 34817 | I31: 호표 28
A32: 4453252C012DE8B0DEC09A25F3821 | B32: 스테인리스강관옥내배관(용접) | C32: D15*3.0t | D32: M | E32: =일위대가!F196 -> 9317 | F32: =일위대가!H196 -> 9869 | G32: =일위대가!J196 -> 0 | H32: =E32+F32+G32 -> 19186 | I32: 호표 29
A33: 4453252C012DE8B0DEC09A25F3822 | B33: 스테인리스강관옥내배관(나사) | C33: D15*3.0t | D33: M | E33: =일위대가!F204 -> 9461 | F33: =일위대가!H204 -> 17056 | G33: =일위대가!J204 -> 0 | H33: =E33+F33+G33 -> 26517 | I33: 호표 30
A34: 4453252C012DE88B9AD265111F510 | B34: 스테인리스강관옥내배관(용접) | C34: D20*3.0t | D34: M | E34: =일위대가!F212 -> 12008 | F34: =일위대가!H212 -> 11287 | G34: =일위대가!J212 -> 0 | H34: =E34+F34+G34 -> 23295 | I34: 호표 31
A35: 4453252C012DE895F7089BF2B153E | B35: 스테인리스강관옥내배관(용접) | C35: D25*3.0t | D35: M | E35: =일위대가!F220 -> 14751 | F35: =일위대가!H220 -> 15886 | G35: =일위대가!J220 -> 0 | H35: =E35+F35+G35 -> 30637 | I35: 호표 32
A36: 4453252C012DE8EC15209E813358F | B36: 스테인리스강관옥내배관(용접) | C36: D32*3.0t | D36: M | E36: =일위대가!F228 -> 18865 | F36: =일위대가!H228 -> 19317 | G36: =일위대가!J228 -> 0 | H36: =E36+F36+G36 -> 38182 | I36: 호표 33
A37: 4453252C012DE8FE64EF32D991FF1 | B37: 스테인리스강관옥내배관(용접) | C37: D40*3.0t | D37: M | E37: =일위대가!F236 -> 21630 | F37: =일위대가!H236 -> 20486 | G37: =일위대가!J236 -> 0 | H37: =E37+F37+G37 -> 42116 | I37: 호표 34
A38: 4453252C01EF1CD6D2630F621F9DD | B38: 경질염화비닐관(접착제) | C38: PVC관(VG1), D25(VN SDR9, 13.6, 17) | D38: M | E38: =일위대가!F244 -> 1966 | F38: =일위대가!H244 -> 18095 | G38: =일위대가!J244 -> 0 | H38: =E38+F38+G38 -> 20061 | I38: 호표 35
A39: 4453252C01EF1CF18CDCAA9E14BCA | B39: 경질염화비닐관(접착제) | C39: PVC관(VG1), D50(VN SDR9, 13.6, 17) | D39: M | E39: =일위대가!F252 -> 6023 | F39: =일위대가!H252 -> 29686 | G39: =일위대가!J252 -> 0 | H39: =E39+F39+G39 -> 35709 | I39: 호표 36
A40: 4453252C01EF1CF18CDCAA9E14BCB | B40: 경질염화비닐관(접착제,통기) | C40: PVC관(VG1), D50(VN SDR9, 13.6, 17) | D40: M | E40: =일위대가!F260 -> 6023 | F40: =일위대가!H260 -> 29686 | G40: =일위대가!J260 -> 0 | H40: =E40+F40+G40 -> 35709 | I40: 호표 37
A41: 4453252C01EF1C1BA6F2AEE053FDD | B41: 경질염화비닐관(접착제) | C41: PVC관(VG1), D75(VN SDR9, 13.6, 17) | D41: M | E41: =일위대가!F268 -> 10457 | F41: =일위대가!H268 -> 39805 | G41: =일위대가!J268 -> 0 | H41: =E41+F41+G41 -> 50262 | I41: 호표 38
A42: 4453252C01DEBFFEBF7411269A6D0 | B42: 경질염화비닐관(접착제) | C42: PVC관(VG1), D100(VN SDR9, 13.6, 17) | D42: M | E42: =일위대가!F276 -> 16838 | F42: =일위대가!H276 -> 51266 | G42: =일위대가!J276 -> 0 | H42: =E42+F42+G42 -> 68104 | I42: 호표 39
A43: 4453252C01DEBFFEBF7411269A6D1 | B43: 경질염화비닐관(접착제,통기) | C43: PVC관(VG1), D100(VN SDR9, 13.6, 17) | D43: M | E43: =일위대가!F284 -> 16838 | F43: =일위대가!H284 -> 51266 | G43: =일위대가!J284 -> 0 | H43: =E43+F43+G43 -> 68104 | I43: 호표 40
A44: 4453252C01DEBFD3D5CB0CED794CD | B44: 경질염화비닐관(접착제) | C44: PVC관(VG1), D150(VN SDR9, 13.6, 17) | D44: M | E44: =일위대가!F292 -> 36040 | F44: =일위대가!H292 -> 70832 | G44: =일위대가!J292 -> 0 | H44: =E44+F44+G44 -> 106872 | I44: 호표 41
A45: 4453252C01DE82B4D0D98696D9159 | B45: 경질염화비닐관(죠임식) | C45: PVC관(VG2), D125(VN SDR 33) | D45: M | E45: =일위대가!F300 -> 13920 | F45: =일위대가!H300 -> 26428 | G45: =일위대가!J300 -> 0 | H45: =E45+F45+G45 -> 40348 | I45: 호표 42
A46: 4453252C01DE82B4D0D98696D9158 | B46: 경질염화비닐관(죠임식) | C46: PVC관(VG2), D150(VN SDR 33) | D46: M | E46: =일위대가!F308 -> 17190 | F46: =일위대가!H308 -> 32867 | G46: =일위대가!J308 -> 0 | H46: =E46+F46+G46 -> 50057 | I46: 호표 43
A47: 4453252D017ED047CF1D53E913EBC | B47: 철합후렌지 | C47: D65 | D47: 개소 | E47: =일위대가!F314 -> 13511 | F47: =일위대가!H314 -> 0 | G47: =일위대가!J314 -> 0 | H47: =E47+F47+G47 -> 13511 | I47: 호표 44
A48: 4453242E0112E92A192BAF5327AC5 | B48: 스테인레스닥트(크로스비딩) 설치 | C48: 0.6t(크로스비딩) | D48: ㎡ | E48: =일위대가!F321 -> 115639 | F48: =일위대가!H321 -> 53198 | G48: =일위대가!J321 -> 0 | H48: =E48+F48+G48 -> 168837 | I48: 호표 45
A49: 4453242E0112E93481CA3830776DD | B49: 스테인레스닥트(크로스비딩) 설치 | C49: 0.8t(크로스비딩) | D49: ㎡ | E49: =일위대가!F328 -> 130612 | F49: =일위대가!H328 -> 61377 | G49: =일위대가!J328 -> 0 | H49: =E49+F49+G49 -> 191989 | I49: 호표 46
A50: 4453242E0112FB6F3DA2BBA7116CE | B50: 각형덕트 해체 | C50: 0.5T | D50: ㎡ | E50: =일위대가!F334 -> 414 | F50: =일위대가!H334 -> 20746 | G50: =일위대가!J334 -> 0 | H50: =E50+F50+G50 -> 21160 | I50: 호표 47
A51: 4453242E011292E93C56DB76E4A19 | B51: 플렉시블덕트호스 | C51: AL, D100 | D51: M | E51: =일위대가!F340 -> 3304 | F51: =일위대가!H340 -> 3469 | G51: =일위대가!J340 -> 0 | H51: =E51+F51+G51 -> 6773 | I51: 호표 48
A52: 4453242E011292CE5698525E13E3C | B52: 플렉시블덕트호스 | C52: AL, D150 | D52: M | E52: =일위대가!F346 -> 4912 | F52: =일위대가!H346 -> 5619 | G52: =일위대가!J346 -> 0 | H52: =E52+F52+G52 -> 10531 | I52: 호표 49
A53: 4453242E014E4C5ED07BB19432E02 | B53: 스파이럴댐퍼(V.D) | C53: D150(핸들포함) | D53: 개 | E53: =일위대가!F351 -> 75720 | F53: =일위대가!H351 -> 65147 | G53: =일위대가!J351 -> 0 | H53: =E53+F53+G53 -> 140867 | I53: 호표 50
A54: 4453242E014E4C5ED07BB19432F29 | B54: 캔버스제작설치 | C54: 1.2T | D54: ㎡ | E54: =일위대가!F360 -> 23121 | F54: =일위대가!H360 -> 48288 | G54: =일위대가!J360 -> 0 | H54: =E54+F54+G54 -> 71409 | I54: 호표 51
A55: 4453242E014E4C5ED07BB1D3FBE30 | B55: 배기그릴(STS) | C55: 600*300 | D55: 개 | E55: =일위대가!F366 -> 102278 | F55: =일위대가!H366 -> 109273 | G55: =일위대가!J366 -> 0 | H55: =E55+F55+G55 -> 211551 | I55: 호표 52
A56: 4453242E014E4C5ED07BB1D3CE6FA | B56: V.D(STS,웜기어핸들부착형) | C56: 800*400 | D56: 개 | E56: =일위대가!F373 -> 296715 | F56: =일위대가!H373 -> 123843 | G56: =일위대가!J373 -> 0 | H56: =E56+F56+G56 -> 420558 | I56: 호표 53
A57: 4453242E014E4C5ED07BB1D3CE6F9 | B57: V.D(STS,웜기어핸들부착형) | C57: 700*350 | D57: 개 | E57: =일위대가!F380 -> 247278 | F57: =일위대가!H380 -> 100947 | G57: =일위대가!J380 -> 0 | H57: =E57+F57+G57 -> 348225 | I57: 호표 54
A58: 4453242E014E4C5ED07BB1D3CE6F3 | B58: V.D(STS,웜기어핸들부착형) | C58: 700*300 | D58: 개 | E58: =일위대가!F387 -> 224528 | F58: =일위대가!H387 -> 100947 | G58: =일위대가!J387 -> 0 | H58: =E58+F58+G58 -> 325475 | I58: 호표 55
A59: 4453242E014E4C5ED07BB1D3CE326 | B59: 아네모디퓨져(AL) | C59: Φ150 | D59: 개 | E59: =일위대가!F393 -> 27685 | F59: =일위대가!H393 -> 89500 | G59: =일위대가!J393 -> 0 | H59: =E59+F59+G59 -> 117185 | I59: 호표 56
A60: 4453242E014E4C5ED07BB1D3D8D61 | B60: 터닝베인(STS) | C60: T.V, 800*450 | D60: 개소 | E60: =일위대가!F399 -> 57715 | F60: =일위대가!H399 -> 123843 | G60: =일위대가!J399 -> 0 | H60: =E60+F60+G60 -> 181558 | I60: 호표 57
A61: 4453242E014E4C5ED07BB1D3D8D60 | B61: 터닝베인(STS) | C61: T.V, 700*450 | D61: 개소 | E61: =일위대가!F405 -> 50965 | F61: =일위대가!H405 -> 123843 | G61: =일위대가!J405 -> 0 | H61: =E61+F61+G61 -> 174808 | I61: 호표 58
A62: 4453242E014E4C5ED07BB1D3D8D63 | B62: 터닝베인(STS) | C62: T.V, 550*450 | D62: 개소 | E62: =일위대가!F411 -> 36028 | F62: =일위대가!H411 -> 100947 | G62: =일위대가!J411 -> 0 | H62: =E62+F62+G62 -> 136975 | I62: 호표 59
A63: 4453242E014E4C5ED07BB1D3D8D62 | B63: 터닝베인(STS) | C63: T.V, 500*400 | D63: 개소 | E63: =일위대가!F417 -> 33028 | F63: =일위대가!H417 -> 100947 | G63: =일위대가!J417 -> 0 | H63: =E63+F63+G63 -> 133975 | I63: 호표 60
A64: 4453232F01822743259680AAD03F9 | B64: 폴리에틸렌보온(난연,AL피막) | C64: 10t*D15 | D64: M | E64: =일위대가!F425 -> 980 | F64: =일위대가!H425 -> 5552 | G64: =일위대가!J425 -> 0 | H64: =E64+F64+G64 -> 6532 | I64: 호표 61
A65: 4453232F01822743259680AAD03FB | B65: 폴리에틸렌보온(난연,AL피막) | C65: 10t*D20 | D65: M | E65: =일위대가!F433 -> 1123 | F65: =일위대가!H433 -> 6564 | G65: =일위대가!J433 -> 0 | H65: =E65+F65+G65 -> 7687 | I65: 호표 62
A66: 4453232F01822743259680AAD03FD | B66: 폴리에틸렌보온(난연,AL피막) | C66: 10t*D25 | D66: M | E66: =일위대가!F441 -> 1255 | F66: =일위대가!H441 -> 7181 | G66: =일위대가!J441 -> 0 | H66: =E66+F66+G66 -> 8436 | I66: 호표 63
A67: 4453232F01822743259680AAD03FF | B67: 폴리에틸렌보온(난연,AL피막) | C67: 10t*D32 | D67: M | E67: =일위대가!F449 -> 1460 | F67: =일위대가!H449 -> 8415 | G67: =일위대가!J449 -> 0 | H67: =E67+F67+G67 -> 9875 | I67: 호표 64
A68: 4453232F01822743259680AAD03F1 | B68: 폴리에틸렌보온(난연,AL피막) | C68: 10t*D40 | D68: M | E68: =일위대가!F457 -> 1630 | F68: =일위대가!H457 -> 9871 | G68: =일위대가!J457 -> 0 | H68: =E68+F68+G68 -> 11501 | I68: 호표 65
A69: 4453232F018227432596808FFA6CA | B69: 폴리에틸렌보온(난연,AL피막) | C69: 25t*D15 | D69: M | E69: =일위대가!F467 -> 3249 | F69: =일위대가!H467 -> 5552 | G69: =일위대가!J467 -> 0 | H69: =E69+F69+G69 -> 8801 | I69: 호표 66
A70: 4453232F01822705D113D55D9B5A7 | B70: 폴리에틸렌보온(난연,AL피막) | C70: 25t*D40 | D70: M | E70: =일위대가!F477 -> 4461 | F70: =일위대가!H477 -> 9871 | G70: =일위대가!J477 -> 0 | H70: =E70+F70+G70 -> 14332 | I70: 호표 67
A71: 4453232F01C838F2FD819D156DA3C | B71: 각형닥트보온(고무발포) | C71: 13t | D71: ㎡ | E71: =일위대가!F487 -> 18550 | F71: =일위대가!H487 -> 65006 | G71: =일위대가!J487 -> 0 | H71: =E71+F71+G71 -> 83556 | I71: 호표 68
A72: 44532229010A561DD6C16C02FA7F3 | B72: 시로코휀 철거 | C72: #5.5x7.5HP | D72: 대 | E72: =일위대가!F493 -> 8909 | F72: =일위대가!H493 -> 296979 | G72: =일위대가!J493 -> 0 | H72: =E72+F72+G72 -> 305888 | I72: 호표 69
A73: 44532229010A5638FA574086D5085 | B73: 배기 덕트인라인휀,(휀+모터), 저소음형 | C73: 30CMM,D300*1HP | D73: 대 | E73: =일위대가!F500 -> 809186 | F73: =일위대가!H500 -> 306201 | G73: =일위대가!J500 -> 0 | H73: =E73+F73+G73 -> 1115387 | I73: 호표 70
A74: 44532229010A5638FA574086C4993 | B74: 배기 소형인라인휀(원형, 무덕트형) | C74: D150, 10CMM, 34mmaq, 140W | D74: 대 | E74: =일위대가!F507 -> 145186 | F74: =일위대가!H507 -> 306201 | G74: =일위대가!J507 -> 0 | H74: =E74+F74+G74 -> 451387 | I74: 호표 71
A75: 44532229010A3B4097F3A583B2C8D | B75: 배기후드 철거 | C75: 5200x1600x600 | D75: 개 | E75: =일위대가!F511 -> 0 | F75: =일위대가!H511 -> 66604 | G75: =일위대가!J511 -> 0 | H75: =E75+F75+G75 -> 66604 | I75: 호표 72
A76: 44532229010A3B4097F3A583B2DAB | B76: 배기후드 철거 | C76: 2800x1500x600 | D76: 개 | E76: =일위대가!F515 -> 0 | F76: =일위대가!H515 -> 66604 | G76: =일위대가!J515 -> 0 | H76: =E76+F76+G76 -> 66604 | I76: 호표 73
A77: 44532229010A3B4097F3A583B2DAA | B77: 배기후드 철거 | C77: 2500x1700x600 | D77: 개 | E77: =일위대가!F519 -> 0 | F77: =일위대가!H519 -> 66604 | G77: =일위대가!J519 -> 0 | H77: =E77+F77+G77 -> 66604 | I77: 호표 74
A78: 44532229010A3B4097F3A583B2287 | B78: 에어커튼 | C78: L-900(리미트센서포함) | D78: 대 | E78: =일위대가!F526 -> 324675 | F78: =일위대가!H526 -> 155862 | G78: =일위대가!J526 -> 0 | H78: =E78+F78+G78 -> 480537 | I78: 호표 75
A79: 44532229010A3B4097F3A583B23A9 | B79: 에어커튼 철거 | C79: L-900 | D79: 대 | E79: =일위대가!F532 -> 1870 | F79: =일위대가!H532 -> 62344 | G79: =일위대가!J532 -> 0 | H79: =E79+F79+G79 -> 64214 | I79: 호표 76
A80: 44532229010A3B4097F3A583F87F4 | B80: 화강암 경계석 설치 | C80: 150*150*1000 | D80: 개소 | E80: =일위대가!F539 -> 16482 | F80: =일위대가!H539 -> 8961 | G80: =일위대가!J539 -> 590 | H80: =E80+F80+G80 -> 26033 | I80: 호표 77
A81: 4453212A01DCBA4DA912E3EBD9950 | B81: 볼밸브(스텐, 10kg) | C81: D15 | D81: 개 | E81: =일위대가!F545 -> 20249 | F81: =일위대가!H545 -> 12453 | G81: =일위대가!J545 -> 0 | H81: =E81+F81+G81 -> 32702 | I81: 호표 78
A82: 4453212A01DCBA7AE70CEF9D8AF3C | B82: 볼밸브(스텐, 10kg) | C82: D20 | D82: 개 | E82: =일위대가!F551 -> 23249 | F82: =일위대가!H551 -> 12453 | G82: =일위대가!J551 -> 0 | H82: =E82+F82+G82 -> 35702 | I82: 호표 79
A83: 4453212A01DCBA7AE72FCF2A5932C | B83: 볼밸브설치(황동, 10kg) | C83: D20 | D83: 개 | E83: =일위대가!F557 -> 7939 | F83: =일위대가!H557 -> 12453 | G83: =일위대가!J557 -> 0 | H83: =E83+F83+G83 -> 20392 | I83: 호표 80
A84: 4453212A01DCBA687666511C56EDA | B84: 볼밸브(스텐, 10kg) | C84: D25 | D84: 개 | E84: =일위대가!F563 -> 28249 | F84: =일위대가!H563 -> 12453 | G84: =일위대가!J563 -> 0 | H84: =E84+F84+G84 -> 40702 | I84: 호표 81
A85: 4453212A01DCBA07FA1662B9F20F0 | B85: 볼밸브(스텐, 10kg) | C85: D40 | D85: 개 | E85: =일위대가!F569 -> 48368 | F85: =일위대가!H569 -> 18431 | G85: =일위대가!J569 -> 0 | H85: =E85+F85+G85 -> 66799 | I85: 호표 82
A86: 4453212A01DCC4C6AE53CFC2413EC | B86: 스트레이너(플랜지, 10kg) | C86: D65 | D86: 개 | E86: =일위대가!F576 -> 580790 | F86: =일위대가!H576 -> 39505 | G86: =일위대가!J576 -> 0 | H86: =E86+F86+G86 -> 620295 | I86: 호표 83
A87: 4453212A01DCD535A89EB949A1EFC | B87: 체크밸브(나사, STS제) | C87: D15 | D87: 개 | E87: =일위대가!F582 -> 60079 | F87: =일위대가!H582 -> 12453 | G87: =일위대가!J582 -> 0 | H87: =E87+F87+G87 -> 72532 | I87: 호표 84
A88: 4453212A01FF43D703AF5B56D78F4 | B88: 감압밸브 | C88: 냉온수, 나사, 10kg, D25 | D88: EA | E88: =일위대가!F588 -> 274249 | F88: =일위대가!H588 -> 12453 | G88: =일위대가!J588 -> 0 | H88: =E88+F88+G88 -> 286702 | I88: 호표 85
A89: 44532F2C01B9439C32E1D121689D3 | B89: 양변기(L/T),친환경 | C89: KSC 1210CR(초절수, 절수1등급) | D89: 조 | E89: =일위대가!F595 -> 290764 | F89: =일위대가!H595 -> 188214 | G89: =일위대가!J595 -> 0 | H89: =E89+F89+G89 -> 478978 | I89: 호표 86
A90: 44532F2C01B91645CD6F0828B3162 | B90: 각형세면기,친환경 | C90: KSL 610(싱글레버식)(앵글밸브, 트랩, 폽업 포함, 수전제외) | D90: 조 | E90: =일위대가!F602 -> 191442 | F90: =일위대가!H602 -> 72119 | G90: =일위대가!J602 -> 0 | H90: =E90+F90+G90 -> 263561 | I90: 호표 87 | J90: 수전제외
A91: 44532F2C018C206D1428FBA18BD60 | B91: 화장경(방습형) | C91: 450*600*5T | D91: 개 | E91: =일위대가!F609 -> 8561 | F91: =일위대가!H609 -> 44693 | G91: =일위대가!J609 -> 0 | H91: =E91+F91+G91 -> 53254 | I91: 호표 88
A92: 44532F2C018C206D1428FB972D833 | B92: 화장경(방습형) | C92: 600*900*5T | D92: 개 | E92: =일위대가!F616 -> 16418 | F92: =일위대가!H616 -> 54143 | G92: =일위대가!J616 -> 0 | H92: =E92+F92+G92 -> 70561 | I92: 호표 89
A93: 44532F2C018C205C8A3639BA6C105 | B93: 냉온수비데(친환경) | C93: 건조기능포함 | D93: 개 | E93: =일위대가!F622 -> 270442 | F93: =일위대가!H622 -> 22143 | G93: =일위대가!J622 -> 0 | H93: =E93+F93+G93 -> 292585 | I93: 호표 90
A94: 44532F2C018C5DA0F8647D2C77A14 | B94: 호스릴 | C94: D15, 15M | D94: 개 | E94: =일위대가!F629 -> 476723 | F94: =일위대가!H629 -> 186183 | G94: =일위대가!J629 -> 0 | H94: =E94+F94+G94 -> 662906 | I94: 호표 91
A95: 44532F2C018C5D967742617EF5FDB | B95: 휴지걸이 | C95: 휴대폰거치대 일체형 | D95: 개 | E95: =일위대가!F635 -> 18314 | F95: =일위대가!H635 -> 15721 | G95: =일위대가!J635 -> 0 | H95: =E95+F95+G95 -> 34035 | I95: 호표 92
A96: 44532F2C018C5D3DEC93485688CA5 | B96: 수건걸이 | C96: 사각 BAR형 | D96: 개 | E96: =일위대가!F641 -> 20438 | F96: =일위대가!H641 -> 21922 | G96: =일위대가!J641 -> 0 | H96: =E96+F96+G96 -> 42360 | I96: 호표 93
A97: 44532F2C018C5D3DEC934856F3B10 | B97: 비누갑 | C97: STS제 | D97: 개 | E97: =일위대가!F647 -> 25314 | F97: =일위대가!H647 -> 15721 | G97: =일위대가!J647 -> 0 | H97: =E97+F97+G97 -> 41035 | I97: 호표 94
A98: 44532F2C019EA36BC5BFBF48E6393 | B98: 바닥배수구(봉수트랩형) | C98: ∮50mm | D98: 개 | E98: =일위대가!F654 -> 21928 | F98: =일위대가!H654 -> 46417 | G98: =일위대가!J654 -> 0 | H98: =E98+F98+G98 -> 68345 | I98: 호표 95
A99: 44532F2C019EA36BC5BFBF48E6390 | B99: 바닥배수구(봉수트랩형) | C99: ∮75mm | D99: 개 | E99: =일위대가!F661 -> 21928 | F99: =일위대가!H661 -> 46417 | G99: =일위대가!J661 -> 0 | H99: =E99+F99+G99 -> 68345 | I99: 호표 96
A100: 44532F2C01E689652B2903D83C5FA | B100: 목돌림수전 | C100: R-107A | D100: 개 | E100: =일위대가!F668 -> 27310 | F100: =일위대가!H668 -> 15540 | G100: =일위대가!J668 -> 0 | H100: =E100+F100+G100 -> 42850 | I100: 호표 97
...

Sheet 일위대가
A1: [ 2026학년도 전주효문중 식생활관 리모델링 기계설비공사 ]
A2: 품 명 | B2: 규 격 | C2: 단위 | D2: 수량 | E2: 재 료 비 | G2: 노 무 비 | I2: 경 비 | K2: 합 계 | M2: 비 고 | N2: 일위대가 | O2: 품목코드 | P2: 일위 | Q2: 단산 | R2: 자재 | S2: 손료적용 | T2: 손료저장 | U2: 적용율 | V2: JUK1 | W2: JUK2 | X2: JUK3 | Y2: JUK4 | Z2: JUK5 | AA2: JUK6 | AB2: JUK7 | AC2: JUK8 | AD2: JUK9 | AE2: JUK10 | AF2: JUK11 | AG2: JUK12 | AH2: JUK13 | AI2: JUK14 | AJ2: JUK15 | AK2: JUK16 | AL2: JUK17 | AM2: JUK18 | AN2: JUK19 | AO2: JUK20 | AP2: 할증적용 | AQ2: 할증저장 | AR2: 할증율 | AS2: HAL1 | AT2: HAL2 | AU2: HAL3 | AV2: 자재구분 | AW2: 일위대가+자재 | AX2: 장비일위 | AY2: 설정 | AZ2: 할증체크
E3: 단 가 | F3: 금 액 | G3: 단 가 | H3: 금 액 | I3: 단 가 | J3: 금 액 | K3: 단 가 | L3: 금 액
A4: 코아드릴 15.24cm HR ( 호표 1 ) | N4: 43882F2F01522B6F23D9A919BD6C255157417AF
A5: 코어드릴 | B5: 15.24cm | C5: 대 | D5: 0.5268 | E5: =단가대비표!O5 -> 0 | F5: =TRUNC(E5*D5,0) -> 0 | G5: =단가대비표!P5 -> 0 | H5: =TRUNC(G5*D5,0) -> 0 | I5: =단가대비표!V5 -> 866 | J5: =TRUNC(I5*D5,0) -> 456 | K5: =TRUNC(E5+G5+I5,0) -> 866 | L5: =TRUNC(F5+H5+J5,0) -> 456 | M5: 천원 | N5: 43882F2F01522B6F23D9A919BD6C255157417AF | O5: 43882F2F01522B6F23D9A919BD6C255157417 | P5: F | Q5: F | R5: T | AW5: 43882F2F01522B6F23D9A919BD6C255157417AF43882F2F01522B6F23D9A919BD6C255157417
A6: [ 합 계 ] | F6: =TRUNC(SUMIF(N5:N5, N4, F5:F5),0) -> 0 | H6: =TRUNC(SUMIF(N5:N5, N4, H5:H5),0) -> 0 | J6: =TRUNC(SUMIF(N5:N5, N4, J5:J5),0) -> 456 | L6: =F6+H6+J6 -> 456 | N6: TOTAL | O6: TOTAL
A8: 가스경보기 공업용 개소 ( 호표 2 ) | N8: 43D7272C019760F788B1309AEED0B
A9: 가스누설경보기 | B9: 공업용(다회로) | C9: SET | D9: 1 | E9: =단가대비표!O198 -> 350000 | F9: =TRUNC(E9*D9,0) -> 350000 | G9: =단가대비표!P198 -> 0 | H9: =TRUNC(G9*D9,0) -> 0 | I9: =단가대비표!V198 -> 0 | J9: =TRUNC(I9*D9,0) -> 0 | K9: =TRUNC(E9+G9+I9,0) -> 350000 | L9: =TRUNC(F9+H9+J9,0) -> 350000 | N9: 43D7272C019760F788B1309AEED0B | O9: 43E1212F014BC2661F4CDFCA8951EBF842AAA | P9: F | Q9: F | R9: T | AW9: 43D7272C019760F788B1309AEED0B43E1212F014BC2661F4CDFCA8951EBF842AAA
A10: 계장공 | B10: 일반공사 직종 | C10: 인 | D10: 0.13 | E10: =단가대비표!O223 -> 0 | F10: =TRUNC(E10*D10,0) -> 0 | G10: =단가대비표!P223 -> 321645 | H10: =TRUNC(G10*D10,0) -> 41813 | I10: =단가대비표!V223 -> 0 | J10: =TRUNC(I10*D10,0) -> 0 | K10: =TRUNC(E10+G10+I10,0) -> 321645 | L10: =TRUNC(F10+H10+J10,0) -> 41813 | N10: 43D7272C019760F788B1309AEED0B | O10: 444A2020016F2DCF92B1A764C7863246FAA7A | P10: F | Q10: F | R10: T | V10: 1 | AW10: 43D7272C019760F788B1309AEED0B444A2020016F2DCF92B1A764C7863246FAA7A
A11: 공구손료 | B11: 인력품의 1% | C11: 식 | D11: 1 | E11: =TRUNC(SUMIF(V9:V11, RIGHTB(O11, 1), H9:H11)*U11, 2) -> 418.13 | F11: =TRUNC(E11*D11,0) -> 418 | G11: 0 | H11: =TRUNC(G11*D11,0) -> 0 | I11: 0 | J11: =TRUNC(I11*D11,0) -> 0 | K11: =TRUNC(E11+G11+I11,0) -> 418 | L11: =TRUNC(F11+H11+J11,0) -> 418 | N11: 43D7272C019760F788B1309AEED0B | O11: 458C272D01CAD6CAA6198C71F93001 | P11: F | Q11: F | R11: F | S11: 1 | T11: 0 | U11: 0.01 | AW11: 43D7272C019760F788B1309AEED0B458C272D01CAD6CAA6198C71F90002
A12: [ 합 계 ] | F12: =TRUNC(SUMIF(N9:N11, N8, F9:F11),0) -> 350418 | H12: =TRUNC(SUMIF(N9:N11, N8, H9:H11),0) -> 41813 | J12: =TRUNC(SUMIF(N9:N11, N8, J9:J11),0) -> 0 | L12: =F12+H12+J12 -> 392231 | N12: TOTAL | O12: TOTAL
A14: 가스경보기 제어부 6회로 개소 ( 호표 3 ) | N14: 43D7272C019760F788B1309ADDD3F
A15: 경보기 제어부 | B15: 6회로이하 | C15: 개 | D15: 1 | E15: =단가대비표!O199 -> 130000 | F15: =TRUNC(E15*D15,0) -> 130000 | G15: =단가대비표!P199 -> 0 | H15: =TRUNC(G15*D15,0) -> 0 | I15: =단가대비표!V199 -> 0 | J15: =TRUNC(I15*D15,0) -> 0 | K15: =TRUNC(E15+G15+I15,0) -> 130000 | L15: =TRUNC(F15+H15+J15,0) -> 130000 | N15: 43D7272C019760F788B1309ADDD3F | O15: 43E1212F014BC2661F4CDFCA89E7A62DD2D2F | P15: F | Q15: F | R15: T | AW15: 43D7272C019760F788B1309ADDD3F43E1212F014BC2661F4CDFCA89E7A62DD2D2F
A16: 계장공 | B16: 일반공사 직종 | C16: 인 | D16: 0.95 | E16: =단가대비표!O223 -> 0 | F16: =TRUNC(E16*D16,0) -> 0 | G16: =단가대비표!P223 -> 321645 | H16: =TRUNC(G16*D16,0) -> 305562 | I16: =단가대비표!V223 -> 0 | J16: =TRUNC(I16*D16,0) -> 0 | K16: =TRUNC(E16+G16+I16,0) -> 321645 | L16: =TRUNC(F16+H16+J16,0) -> 305562 | N16: 43D7272C019760F788B1309ADDD3F | O16: 444A2020016F2DCF92B1A764C7863246FAA7A | P16: F | Q16: F | R16: T | V16: 1 | AW16: 43D7272C019760F788B1309ADDD3F444A2020016F2DCF92B1A764C7863246FAA7A
A17: 공구손료 | B17: 인력품의 1% | C17: 식 | D17: 1 | E17: =TRUNC(SUMIF(V15:V17, RIGHTB(O17, 1), H15:H17)*U17, 2) -> 3055.62 | F17: =TRUNC(E17*D17,0) -> 3055 | G17: 0 | H17: =TRUNC(G17*D17,0) -> 0 | I17: 0 | J17: =TRUNC(I17*D17,0) -> 0 | K17: =TRUNC(E17+G17+I17,0) -> 3055 | L17: =TRUNC(F17+H17+J17,0) -> 3055 | N17: 43D7272C019760F788B1309ADDD3F | O17: 458C272D01CAD6CAA6198C71F93001 | P17: F | Q17: F | R17: F | S17: 1 | T17: 0 | U17: 0.01 | AW17: 43D7272C019760F788B1309ADDD3F458C272D01CAD6CAA6198C71F90002
A18: [ 합 계 ] | F18: =TRUNC(SUMIF(N15:N17, N14, F15:F17),0) -> 133055 | H18: =TRUNC(SUMIF(N15:N17, N14, H15:H17),0) -> 305562 | J18: =TRUNC(SUMIF(N15:N17, N14, J15:J17),0) -> 0 | L18: =F18+H18+J18 -> 438617 | N18: TOTAL | O18: TOTAL
A20: 가스누설차단밸브 D65 개 ( 호표 4 ) | N20: 43D7272C019760B81FAC418EC7FFF
A21: 가스누설차단밸브 | B21: D65 | C21: 개 | D21: 1 | E21: =단가대비표!O188 -> 650000 | F21: =TRUNC(E21*D21,0) -> 650000 | G21: =단가대비표!P188 -> 0 | H21: =TRUNC(G21*D21,0) -> 0 | I21: =단가대비표!V188 -> 0 | J21: =TRUNC(I21*D21,0) -> 0 | K21: =TRUNC(E21+G21+I21,0) -> 650000 | L21: =TRUNC(F21+H21+J21,0) -> 650000 | N21: 43D7272C019760B81FAC418EC7FFF | O21: 43C62227012EE0048BEDFF98665F085CE3523 | P21: F | Q21: F | R21: T | AW21: 43D7272C019760B81FAC418EC7FFF43C62227012EE0048BEDFF98665F085CE3523
A22: 배관공 | B22: 일반공사 직종 | C22: 인 | D22: 0.057 | E22: =단가대비표!O215 -> 0 | F22: =TRUNC(E22*D22,0) -> 0 | G22: =단가대비표!P215 -> 249073 | H22: =TRUNC(G22*D22,0) -> 14197 | I22: =단가대비표!V215 -> 0 | J22: =TRUNC(I22*D22,0) -> 0 | K22: =TRUNC(E22+G22+I22,0) -> 249073 | L22: =TRUNC(F22+H22+J22,0) -> 14197 | N22: 43D7272C019760B81FAC418EC7FFF | O22: 444A2020016F2DCF92B1A764C7863246FA108 | P22: F | Q22: F | R22: T | V22: 1 | AW22: 43D7272C019760B81FAC418EC7FFF444A2020016F2DCF92B1A764C7863246FA108
A23: 계장공 | B23: 일반공사 직종 | C23: 인 | D23: 0.22 | E23: =단가대비표!O223 -> 0 | F23: =TRUNC(E23*D23,0) -> 0 | G23: =단가대비표!P223 -> 321645 | H23: =TRUNC(G23*D23,0) -> 70761 | I23: =단가대비표!V223 -> 0 | J23: =TRUNC(I23*D23,0) -> 0 | K23: =TRUNC(E23+G23+I23,0) -> 321645 | L23: =TRUNC(F23+H23+J23,0) -> 70761 | N23: 43D7272C019760B81FAC418EC7FFF | O23: 444A2020016F2DCF92B1A764C7863246FAA7A | P23: F | Q23: F | R23: T | V23: 1 | AW23: 43D7272C019760B81FAC418EC7FFF444A2020016F2DCF92B1A764C7863246FAA7A
A24: 공구손료 | B24: 인력품의 3% | C24: 식 | D24: 1 | E24: =TRUNC(SUMIF(V21:V24, RIGHTB(O24, 1), H21:H24)*U24, 2) -> 2548.74 | F24: =TRUNC(E24*D24,0) -> 2548 | G24: 0 | H24: =TRUNC(G24*D24,0) -> 0 | I24: 0 | J24: =TRUNC(I24*D24,0) -> 0 | K24: =TRUNC(E24+G24+I24,0) -> 2548 | L24: =TRUNC(F24+H24+J24,0) -> 2548 | N24: 43D7272C019760B81FAC418EC7FFF | O24: 458C272D01CAD6CAA6198C71F93001 | P24: F | Q24: F | R24: F | S24: 1 | T24: 0 | U24: 0.03 | AW24: 43D7272C019760B81FAC418EC7FFF458C272D01CAD6CAA6198C71F90002
A25: [ 합 계 ] | F25: =TRUNC(SUMIF(N21:N24, N20, F21:F24),0) -> 652548 | H25: =TRUNC(SUMIF(N21:N24, N20, H21:H24),0) -> 84958 | J25: =TRUNC(SUMIF(N21:N24, N20, J21:J24),0) -> 0 | L25: =F25+H25+J25 -> 737506 | N25: TOTAL | O25: TOTAL
A27: 조합페인트칠 철재면, 2회, 1급 ㎡ ( 호표 5 ) | N27: 44952C2F01A2D47DC409577975103
A28: 조합페인트 | B28: KSM6020-1종1급, 백색 | C28: L | D28: 0.166 | E28: =단가대비표!O46 -> 10555 | F28: =TRUNC(E28*D28,0) -> 1752 | G28: =단가대비표!P46 -> 0 | H28: =TRUNC(G28*D28,0) -> 0 | I28: =단가대비표!V46 -> 0 | J28: =TRUNC(I28*D28,0) -> 0 | K28: =TRUNC(E28+G28+I28,0) -> 10555 | L28: =TRUNC(F28+H28+J28,0) -> 1752 | N28: 44952C2F01A2D47DC409577975103 | O28: 43B42229017D2F25B7737DE3BF60AB9F6EFAE | P28: F | Q28: F | R28: T | V28: 1 | AW28: 44952C2F01A2D47DC40957797510343B42229017D2F25B7737DE3BF60AB9F6EFAE
A29: 시너 | B29: 시너, KSM6060, 1종 | C29: L | D29: 0.008 | E29: =단가대비표!O47 -> 3495 | F29: =TRUNC(E29*D29,0) -> 27 | G29: =단가대비표!P47 -> 0 | H29: =TRUNC(G29*D29,0) -> 0 | I29: =단가대비표!V47 -> 0 | J29: =TRUNC(I29*D29,0) -> 0 | K29: =TRUNC(E29+G29+I29,0) -> 3495 | L29: =TRUNC(F29+H29+J29,0) -> 27 | N29: 44952C2F01A2D47DC409577975103 | O29: 43B42229017D2F256FC26A37D20A69C73378B | P29: F | Q29: F | R29: T | V29: 1 | AW29: 44952C2F01A2D47DC40957797510343B42229017D2F256FC26A37D20A69C73378B
A30: 잡재료 | B30: 주재료비의 4% | C30: 식 | D30: 1 | E30: =TRUNC(SUMIF(V28:V32, RIGHTB(O30, 1), F28:F32)*U30, 2) -> 71.16 | F30: =TRUNC(E30*D30,0) -> 71 | G30: 0 | H30: =TRUNC(G30*D30,0) -> 0 | I30: 0 | J30: =TRUNC(I30*D30,0) -> 0 | K30: =TRUNC(E30+G30+I30,0) -> 71 | L30: =TRUNC(F30+H30+J30,0) -> 71 | N30: 44952C2F01A2D47DC409577975103 | O30: 458C272D01CAD6CAA6198C71F93001 | P30: F | Q30: F | R30: F | S30: 0 | T30: 0 | U30: 0.04 | AW30: 44952C2F01A2D47DC409577975103458C272D01CAD6CAA6198C71F93001
A31: 도장공 | B31: 일반공사 직종 | C31: 인 | D31: 0.04 | E31: =단가대비표!O214 -> 0 | F31: =TRUNC(E31*D31,0) -> 0 | G31: =단가대비표!P214 -> 268225 | H31: =TRUNC(G31*D31,0) -> 10729 | I31: =단가대비표!V214 -> 0 | J31: =TRUNC(I31*D31,0) -> 0 | K31: =TRUNC(E31+G31+I31,0) -> 268225 | L31: =TRUNC(F31+H31+J31,0) -> 10729 | N31: 44952C2F01A2D47DC409577975103 | O31: 444A2020016F2DCF92B1A764C7863246FA073 | P31: F | Q31: F | R31: T | AW31: 44952C2F01A2D47DC409577975103444A2020016F2DCF92B1A764C7863246FA073
A32: 보통인부 | B32: 일반공사 직종 | C32: 인 | D32: 0.008 | E32: =단가대비표!O209 -> 0 | F32: =TRUNC(E32*D32,0) -> 0 | G32: =단가대비표!P209 -> 172698 | H32: =TRUNC(G32*D32,0) -> 1381 | I32: =단가대비표!V209 -> 0 | J32: =TRUNC(I32*D32,0) -> 0 | K32: =TRUNC(E32+G32+I32,0) -> 172698 | L32: =TRUNC(F32+H32+J32,0) -> 1381 | N32: 44952C2F01A2D47DC409577975103 | O32: 444A2020016F2DCF92B1A764C7863246FA22A | P32: F | Q32: F | R32: T | AW32: 44952C2F01A2D47DC409577975103444A2020016F2DCF92B1A764C7863246FA22A
A33: [ 합 계 ] | F33: =TRUNC(SUMIF(N28:N32, N27, F28:F32),0) -> 1850 | H33: =TRUNC(SUMIF(N28:N32, N27, H28:H32),0) -> 12110 | J33: =TRUNC(SUMIF(N28:N32, N27, J28:J32),0) -> 0 | L33: =F33+H33+J33 -> 13960 | N33: TOTAL | O33: TOTAL
A35: 환풍기(천장형) D150x3.5CMMx30W 대 ( 호표 6 ) | N35: 44DE2C2B019CBC4DD341516187002
A36: 천장형 환풍기 | B36: 3.5 M3/MIN | C36: 대 | D36: 1 | E36: =단가대비표!O55 -> 46200 | F36: =TRUNC(E36*D36,0) -> 46200 | G36: =단가대비표!P55 -> 0 | H36: =TRUNC(G36*D36,0) -> 0 | I36: =단가대비표!V55 -> 0 | J36: =TRUNC(I36*D36,0) -> 0 | K36: =TRUNC(E36+G36+I36,0) -> 46200 | L36: =TRUNC(F36+H36+J36,0) -> 46200 | N36: 44DE2C2B019CBC4DD341516187002 | O36: 43C62A240170010B7F615774BDC184E209316 | P36: F | Q36: F | R36: T | AW36: 44DE2C2B019CBC4DD34151618700243C62A240170010B7F615774BDC184E209316
A37: 기계설비공 | B37: 일반공사 직종 | C37: 인 | D37: 0.111 | E37: =단가대비표!O220 -> 0 | F37: =TRUNC(E37*D37,0) -> 0 | G37: =단가대비표!P220 -> 242647 | H37: =TRUNC(G37*D37,0) -> 26933 | I37: =단가대비표!V220 -> 0 | J37: =TRUNC(I37*D37,0) -> 0 | K37: =TRUNC(E37+G37+I37,0) -> 242647 | L37: =TRUNC(F37+H37+J37,0) -> 26933 | M37: 2010년-통합 | N37: 44DE2C2B019CBC4DD341516187002 | O37: 444A2020016F2DCF92B1A764C7863246FA7AB | P37: F | Q37: F | R37: T | V37: 1 | AW37: 44DE2C2B019CBC4DD341516187002444A2020016F2DCF92B1A764C7863246FA7AB
A38: 보통인부 | B38: 일반공사 직종 | C38: 인 | D38: 0.056 | E38: =단가대비표!O209 -> 0 | F38: =TRUNC(E38*D38,0) -> 0 | G38: =단가대비표!P209 -> 172698 | H38: =TRUNC(G38*D38,0) -> 9671 | I38: =단가대비표!V209 -> 0 | J38: =TRUNC(I38*D38,0) -> 0 | K38: =TRUNC(E38+G38+I38,0) -> 172698 | L38: =TRUNC(F38+H38+J38,0) -> 9671 | N38: 44DE2C2B019CBC4DD341516187002 | O38: 444A2020016F2DCF92B1A764C7863246FA22A | P38: F | Q38: F | R38: T | V38: 1 | AW38: 44DE2C2B019CBC4DD341516187002444A2020016F2DCF92B1A764C7863246FA22A
A39: 공구손료 | B39: 인력품의 3% | C39: 식 | D39: 1 | E39: =TRUNC(SUMIF(V36:V39, RIGHTB(O39, 1), H36:H39)*U39, 2) -> 1098.12 | F39: =TRUNC(E39*D39,0) -> 1098 | G39: 0 | H39: =TRUNC(G39*D39,0) -> 0 | I39: 0 | J39: =TRUNC(I39*D39,0) -> 0 | K39: =TRUNC(E39+G39+I39,0) -> 1098 | L39: =TRUNC(F39+H39+J39,0) -> 1098 | N39: 44DE2C2B019CBC4DD341516187002 | O39: 458C272D01CAD6CAA6198C71F93001 | P39: F | Q39: F | R39: F | S39: 1 | T39: 0 | U39: 0.03 | AW39: 44DE2C2B019CBC4DD341516187002458C272D01CAD6CAA6198C71F93001
A40: [ 합 계 ] | F40: =TRUNC(SUMIF(N36:N39, N35, F36:F39),0) -> 47298 | H40: =TRUNC(SUMIF(N36:N39, N35, H36:H39),0) -> 36604 | J40: =TRUNC(SUMIF(N36:N39, N35, J36:J39),0) -> 0 | L40: =F40+H40+J40 -> 83902 | N40: TOTAL | O40: TOTAL
A42: 환풍기(천장형) 철거 대 ( 호표 7 ) | N42: 44DE2C2B019CBC4DD341516187003
A43: 기계설비공 | B43: 일반공사 직종 | C43: 인 | D43: 0.0444 | E43: =단가대비표!O220 -> 0 | F43: =TRUNC(E43*D43,0) -> 0 | G43: =단가대비표!P220 -> 242647 | H43: =TRUNC(G43*D43,0) -> 10773 | I43: =단가대비표!V220 -> 0 | J43: =TRUNC(I43*D43,0) -> 0 | K43: =TRUNC(E43+G43+I43,0) -> 242647 | L43: =TRUNC(F43+H43+J43,0) -> 10773 | M43: 2010년-통합 | N43: 44DE2C2B019CBC4DD341516187003 | O43: 444A2020016F2DCF92B1A764C7863246FA7AB | P43: F | Q43: F | R43: T | AW43: 44DE2C2B019CBC4DD341516187003444A2020016F2DCF92B1A764C7863246FA7AB
A44: 보통인부 | B44: 일반공사 직종 | C44: 인 | D44: 0.0224 | E44: =단가대비표!O209 -> 0 | F44: =TRUNC(E44*D44,0) -> 0 | G44: =단가대비표!P209 -> 172698 | H44: =TRUNC(G44*D44,0) -> 3868 | I44: =단가대비표!V209 -> 0 | J44: =TRUNC(I44*D44,0) -> 0 | K44: =TRUNC(E44+G44+I44,0) -> 172698 | L44: =TRUNC(F44+H44+J44,0) -> 3868 | N44: 44DE2C2B019CBC4DD341516187003 | O44: 444A2020016F2DCF92B1A764C7863246FA22A | P44: F | Q44: F | R44: T | AW44: 44DE2C2B019CBC4DD341516187003444A2020016F2DCF92B1A764C7863246FA22A
A45: [ 합 계 ] | F45: =TRUNC(SUMIF(N43:N44, N42, F43:F44),0) -> 0 | H45: =TRUNC(SUMIF(N43:N44, N42, H43:H44),0) -> 14641 | J45: =TRUNC(SUMIF(N43:N44, N42, J43:J44),0) -> 0 | L45: =F45+H45+J45 -> 14641 | N45: TOTAL | O45: TOTAL
A47: 환풍기(벽부형) 철거 대 ( 호표 8 ) | N47: 44DE2C2B019CBC4DD341516187005
A48: 기계설비공 | B48: 일반공사 직종 | C48: 인 | D48: 0.16 | E48: =단가대비표!O220 -> 0 | F48: =TRUNC(E48*D48,0) -> 0 | G48: =단가대비표!P220 -> 242647 | H48: =TRUNC(G48*D48,0) -> 38823 | I48: =단가대비표!V220 -> 0 | J48: =TRUNC(I48*D48,0) -> 0 | K48: =TRUNC(E48+G48+I48,0) -> 242647 | L48: =TRUNC(F48+H48+J48,0) -> 38823 | M48: 2010년-통합 | N48: 44DE2C2B019CBC4DD341516187005 | O48: 444A2020016F2DCF92B1A764C7863246FA7AB | P48: F | Q48: F | R48: T | AW48: 44DE2C2B019CBC4DD341516187005444A2020016F2DCF92B1A764C7863246FA7AB
A49: [ 합 계 ] | F49: =TRUNC(SUMIF(N48:N48, N47, F48:F48),0) -> 0 | H49: =TRUNC(SUMIF(N48:N48, N47, H48:H48),0) -> 38823 | J49: =TRUNC(SUMIF(N48:N48, N47, J48:J48),0) -> 0 | L49: =F49+H49+J49 -> 38823 | N49: TOTAL | O49: TOTAL
A51: 강제 급,배기형 연도(연장형) D75 EA ( 호표 9 ) | N51: 44DE2C2B019CBC4DD3415161872C7
A52: 강제급,배기형 연도(연장형) | B52: D75 | C52: 개 | D52: 1 | E52: =단가대비표!O145 -> 75000 | F52: =TRUNC(E52*D52,0) -> 75000 | G52: =단가대비표!P145 -> 0 | H52: =TRUNC(G52*D52,0) -> 0 | I52: =단가대비표!V145 -> 0 | J52: =TRUNC(I52*D52,0) -> 0 | K52: =TRUNC(E52+G52+I52,0) -> 75000 | L52: =TRUNC(F52+H52+J52,0) -> 75000 | N52: 44DE2C2B019CBC4DD3415161872C7 | O52: 43C62A24017048E2E2FEC270AE3B6A39998E3 | P52: F | Q52: F | R52: T | V52: 1 | AW52: 44DE2C2B019CBC4DD3415161872C743C62A24017048E2E2FEC270AE3B6A39998E3
A53: 기계설비공 | B53: 일반공사 직종 | C53: 인 | D53: 0.2 | E53: =단가대비표!O220 -> 0 | F53: =TRUNC(E53*D53,0) -> 0 | G53: =단가대비표!P220 -> 242647 | H53: =TRUNC(G53*D53,0) -> 48529 | I53: =단가대비표!V220 -> 0 | J53: =TRUNC(I53*D53,0) -> 0 | K53: =TRUNC(E53+G53+I53,0) -> 242647 | L53: =TRUNC(F53+H53+J53,0) -> 48529 | M53: 2010년-통합 | N53: 44DE2C2B019CBC4DD3415161872C7 | O53: 444A2020016F2DCF92B1A764C7863246FA7AB | P53: F | Q53: F | R53: T | V53: 1 | AW53: 44DE2C2B019CBC4DD3415161872C7444A2020016F2DCF92B1A764C7863246FA7AB
A54: 공구손료 | B54: 인력품의 3% | C54: 식 | D54: 1 | E54: =TRUNC(SUMIF(V52:V54, RIGHTB(O54, 1), H52:H54)*U54, 2) -> 1455.87 | F54: =TRUNC(E54*D54,0) -> 1455 | G54: 0 | H54: =TRUNC(G54*D54,0) -> 0 | I54: 0 | J54: =TRUNC(I54*D54,0) -> 0 | K54: =TRUNC(E54+G54+I54,0) -> 1455 | L54: =TRUNC(F54+H54+J54,0) -> 1455 | N54: 44DE2C2B019CBC4DD3415161872C7 | O54: 458C272D01CAD6CAA6198C71F93001 | P54: F | Q54: F | R54: F | S54: 1 | T54: 0 | U54: 0.03 | AW54: 44DE2C2B019CBC4DD3415161872C7458C272D01CAD6CAA6198C71F93001
A55: [ 합 계 ] | F55: =TRUNC(SUMIF(N52:N54, N51, F52:F54),0) -> 76455 | H55: =TRUNC(SUMIF(N52:N54, N51, H52:H54),0) -> 48529 | J55: =TRUNC(SUMIF(N52:N54, N51, J52:J54),0) -> 0 | L55: =F55+H55+J55 -> 124984 | N55: TOTAL | O55: TOTAL
A57: 가스용백강관(옥내일반) 백관(SPPG), D20 M ( 호표 10 ) | N57: 4453252C016BC2D8C5D90B1CC6DFF
A58: 배관용탄소강관 | B58: SPPG(백관), ∮20mm, 반제품 | C58: M | D58: 1.05 | E58: =단가대비표!O80 -> 3500 | F58: =TRUNC(E58*D58,0) -> 3675 | G58: =단가대비표!P80 -> 0 | H58: =TRUNC(G58*D58,0) -> 0 | I58: =단가대비표!V80 -> 0 | J58: =TRUNC(I58*D58,0) -> 0 | K58: =TRUNC(E58+G58+I58,0) -> 3500 | L58: =TRUNC(F58+H58+J58,0) -> 3675 | N58: 4453252C016BC2D8C5D90B1CC6DFF | O58: 43C62A24017048E2C7939DC3F6DD71DEF65A0 | P58: F | Q58: F | R58: T | V58: 1 | AW58: 4453252C016BC2D8C5D90B1CC6DFF43C62A24017048E2C7939DC3F6DD71DEF65A0
A59: 잡재료비 | B59: 주재료비의 3% | C59: 식 | D59: 1 | E59: =TRUNC(SUMIF(V58:V62, RIGHTB(O59, 1), F58:F62)*U59, 2) -> 110.25 | F59: =TRUNC(E59*D59,0) -> 110 | G59: 0 | H59: =TRUNC(G59*D59,0) -> 0 | I59: 0 | J59: =TRUNC(I59*D59,0) -> 0 | K59: =TRUNC(E59+G59+I59,0) -> 110 | L59: =TRUNC(F59+H59+J59,0) -> 110 | N59: 4453252C016BC2D8C5D90B1CC6DFF | O59: 458C272D01CAD6CAA6198C71F93001 | P59: F | Q59: F | R59: F | S59: 0 | T59: 0 | U59: 0.03 | AW59: 4453252C016BC2D8C5D90B1CC6DFF458C272D01CAD6CAA6198C71F93001
A60: 배관공 | B60: 일반공사 직종 | C60: 인 | D60: 0.04 | E60: =단가대비표!O215 -> 0 | F60: =TRUNC(E60*D60,0) -> 0 | G60: =단가대비표!P215 -> 249073 | H60: =TRUNC(G60*D60,0) -> 9962 | I60: =단가대비표!V215 -> 0 | J60: =TRUNC(I60*D60,0) -> 0 | K60: =TRUNC(E60+G60+I60,0) -> 249073 | L60: =TRUNC(F60+H60+J60,0) -> 9962 | N60: 4453252C016BC2D8C5D90B1CC6DFF | O60: 444A2020016F2DCF92B1A764C7863246FA108 | P60: F | Q60: F | R60: T | W60: 2 | AW60: 4453252C016BC2D8C5D90B1CC6DFF444A2020016F2DCF92B1A764C7863246FA108
A61: 보통인부 | B61: 일반공사 직종 | C61: 인 | D61: 0.013 | E61: =단가대비표!O209 -> 0 | F61: =TRUNC(E61*D61,0) -> 0 | G61: =단가대비표!P209 -> 172698 | H61: =TRUNC(G61*D61,0) -> 2245 | I61: =단가대비표!V209 -> 0 | J61: =TRUNC(I61*D61,0) -> 0 | K61: =TRUNC(E61+G61+I61,0) -> 172698 | L61: =TRUNC(F61+H61+J61,0) -> 2245 | N61: 4453252C016BC2D8C5D90B1CC6DFF | O61: 444A2020016F2DCF92B1A764C7863246FA22A | P61: F | Q61: F | R61: T | W61: 2 | AW61: 4453252C016BC2D8C5D90B1CC6DFF444A2020016F2DCF92B1A764C7863246FA22A
A62: 공구손료 | B62: 인력품의 2% | C62: 식 | D62: 1 | E62: =TRUNC(SUMIF(W58:W62, RIGHTB(O62, 1), H58:H62)*U62, 2) -> 244.14 | F62: =TRUNC(E62*D62,0) -> 244 | G62: 0 | H62: =TRUNC(G62*D62,0) -> 0 | I62: 0 | J62: =TRUNC(I62*D62,0) -> 0 | K62: =TRUNC(E62+G62+I62,0) -> 244 | L62: =TRUNC(F62+H62+J62,0) -> 244 | N62: 4453252C016BC2D8C5D90B1CC6DFF | O62: 458C272D01CAD6CAA6198C71F90002 | P62: F | Q62: F | R62: F | S62: 1 | T62: 0 | U62: 0.02 | AW62: 4453252C016BC2D8C5D90B1CC6DFF458C272D01CAD6CAA6198C71F90002
A63: [ 합 계 ] | F63: =TRUNC(SUMIF(N58:N62, N57, F58:F62),0) -> 4029 | H63: =TRUNC(SUMIF(N58:N62, N57, H58:H62),0) -> 12207 | J63: =TRUNC(SUMIF(N58:N62, N57, J58:J62),0) -> 0 | L63: =F63+H63+J63 -> 16236 | N63: TOTAL | O63: TOTAL
A65: 가스용백강관(옥내일반) 백관(SPPG), D32 M ( 호표 11 ) | N65: 4453252C016BC2BC19E46B81CB412
A66: 배관용탄소강관 | B66: SPPG(백관), ∮32mm, 반제품 | C66: M | D66: 1.05 | E66: =단가대비표!O81 -> 6560 | F66: =TRUNC(E66*D66,0) -> 6888 | G66: =단가대비표!P81 -> 0 | H66: =TRUNC(G66*D66,0) -> 0 | I66: =단가대비표!V81 -> 0 | J66: =TRUNC(I66*D66,0) -> 0 | K66: =TRUNC(E66+G66+I66,0) -> 6560 | L66: =TRUNC(F66+H66+J66,0) -> 6888 | N66: 4453252C016BC2BC19E46B81CB412 | O66: 43C62A24017048E2C7939DC3F6DD71DEF65A2 | P66: F | Q66: F | R66: T | V66: 1 | AW66: 4453252C016BC2BC19E46B81CB41243C62A24017048E2C7939DC3F6DD71DEF65A2
A67: 잡재료비 | B67: 주재료비의 3% | C67: 식 | D67: 1 | E67: =TRUNC(SUMIF(V66:V70, RIGHTB(O67, 1), F66:F70)*U67, 2) -> 206.64 | F67: =TRUNC(E67*D67,0) -> 206 | G67: 0 | H67: =TRUNC(G67*D67,0) -> 0 | I67: 0 | J67: =TRUNC(I67*D67,0) -> 0 | K67: =TRUNC(E67+G67+I67,0) -> 206 | L67: =TRUNC(F67+H67+J67,0) -> 206 | N67: 4453252C016BC2BC19E46B81CB412 | O67: 458C272D01CAD6CAA6198C71F93001 | P67: F | Q67: F | R67: F | S67: 0 | T67: 0 | U67: 0.03 | AW67: 4453252C016BC2BC19E46B81CB412458C272D01CAD6CAA6198C71F93001
A68: 배관공 | B68: 일반공사 직종 | C68: 인 | D68: 0.06 | E68: =단가대비표!O215 -> 0 | F68: =TRUNC(E68*D68,0) -> 0 | G68: =단가대비표!P215 -> 249073 | H68: =TRUNC(G68*D68,0) -> 14944 | I68: =단가대비표!V215 -> 0 | J68: =TRUNC(I68*D68,0) -> 0 | K68: =TRUNC(E68+G68+I68,0) -> 249073 | L68: =TRUNC(F68+H68+J68,0) -> 14944 | N68: 4453252C016BC2BC19E46B81CB412 | O68: 444A2020016F2DCF92B1A764C7863246FA108 | P68: F | Q68: F | R68: T | W68: 2 | AW68: 4453252C016BC2BC19E46B81CB412444A2020016F2DCF92B1A764C7863246FA108
A69: 보통인부 | B69: 일반공사 직종 | C69: 인 | D69: 0.02 | E69: =단가대비표!O209 -> 0 | F69: =TRUNC(E69*D69,0) -> 0 | G69: =단가대비표!P209 -> 172698 | H69: =TRUNC(G69*D69,0) -> 3453 | I69: =단가대비표!V209 -> 0 | J69: =TRUNC(I69*D69,0) -> 0 | K69: =TRUNC(E69+G69+I69,0) -> 172698 | L69: =TRUNC(F69+H69+J69,0) -> 3453 | N69: 4453252C016BC2BC19E46B81CB412 | O69: 444A2020016F2DCF92B1A764C7863246FA22A | P69: F | Q69: F | R69: T | W69: 2 | AW69: 4453252C016BC2BC19E46B81CB412444A2020016F2DCF92B1A764C7863246FA22A
A70: 공구손료 | B70: 인력품의 2% | C70: 식 | D70: 1 | E70: =TRUNC(SUMIF(W66:W70, RIGHTB(O70, 1), H66:H70)*U70, 2) -> 367.94 | F70: =TRUNC(E70*D70,0) -> 367 | G70: 0 | H70: =TRUNC(G70*D70,0) -> 0 | I70: 0 | J70: =TRUNC(I70*D70,0) -> 0 | K70: =TRUNC(E70+G70+I70,0) -> 367 | L70: =TRUNC(F70+H70+J70,0) -> 367 | N70: 4453252C016BC2BC19E46B81CB412 | O70: 458C272D01CAD6CAA6198C71F90002 | P70: F | Q70: F | R70: F | S70: 1 | T70: 0 | U70: 0.02 | AW70: 4453252C016BC2BC19E46B81CB412458C272D01CAD6CAA6198C71F90002
A71: [ 합 계 ] | F71: =TRUNC(SUMIF(N66:N70, N65, F66:F70),0) -> 7461 | H71: =TRUNC(SUMIF(N66:N70, N65, H66:H70),0) -> 18397 | J71: =TRUNC(SUMIF(N66:N70, N65, J66:J70),0) -> 0 | L71: =F71+H71+J71 -> 25858 | N71: TOTAL | O71: TOTAL
A73: 가스용백강관(옥내일반) 백관(SPPG), D40 M ( 호표 12 ) | N73: 4453252C016BC2A385FA2BC62EB80
A74: 배관용탄소강관 | B74: SPPG(백관), ∮40mm, 반제품 | C74: M | D74: 1.05 | E74: =단가대비표!O82 -> 7530 | F74: =TRUNC(E74*D74,0) -> 7906 | G74: =단가대비표!P82 -> 0 | H74: =TRUNC(G74*D74,0) -> 0 | I74: =단가대비표!V82 -> 0 | J74: =TRUNC(I74*D74,0) -> 0 | K74: =TRUNC(E74+G74+I74,0) -> 7530 | L74: =TRUNC(F74+H74+J74,0) -> 7906 | N74: 4453252C016BC2A385FA2BC62EB80 | O74: 43C62A24017048E2C7939DC3F6DD71DEF65A5 | P74: F | Q74: F | R74: T | V74: 1 | AW74: 4453252C016BC2A385FA2BC62EB8043C62A24017048E2C7939DC3F6DD71DEF65A5
A75: 잡재료비 | B75: 주재료비의 3% | C75: 식 | D75: 1 | E75: =TRUNC(SUMIF(V74:V78, RIGHTB(O75, 1), F74:F78)*U75, 2) -> 237.18 | F75: =TRUNC(E75*D75,0) -> 237 | G75: 0 | H75: =TRUNC(G75*D75,0) -> 0 | I75: 0 | J75: =TRUNC(I75*D75,0) -> 0 | K75: =TRUNC(E75+G75+I75,0) -> 237 | L75: =TRUNC(F75+H75+J75,0) -> 237 | N75: 4453252C016BC2A385FA2BC62EB80 | O75: 458C272D01CAD6CAA6198C71F93001 | P75: F | Q75: F | R75: F | S75: 0 | T75: 0 | U75: 0.03 | AW75: 4453252C016BC2A385FA2BC62EB80458C272D01CAD6CAA6198C71F93001
A76: 배관공 | B76: 일반공사 직종 | C76: 인 | D76: 0.067 | E76: =단가대비표!O215 -> 0 | F76: =TRUNC(E76*D76,0) -> 0 | G76: =단가대비표!P215 -> 249073 | H76: =TRUNC(G76*D76,0) -> 16687 | I76: =단가대비표!V215 -> 0 | J76: =TRUNC(I76*D76,0) -> 0 | K76: =TRUNC(E76+G76+I76,0) -> 249073 | L76: =TRUNC(F76+H76+J76,0) -> 16687 | N76: 4453252C016BC2A385FA2BC62EB80 | O76: 444A2020016F2DCF92B1A764C7863246FA108 | P76: F | Q76: F | R76: T | W76: 2 | AW76: 4453252C016BC2A385FA2BC62EB80444A2020016F2DCF92B1A764C7863246FA108
A77: 보통인부 | B77: 일반공사 직종 | C77: 인 | D77: 0.022 | E77: =단가대비표!O209 -> 0 | F77: =TRUNC(E77*D77,0) -> 0 | G77: =단가대비표!P209 -> 172698 | H77: =TRUNC(G77*D77,0) -> 3799 | I77: =단가대비표!V209 -> 0 | J77: =TRUNC(I77*D77,0) -> 0 | K77: =TRUNC(E77+G77+I77,0) -> 172698 | L77: =TRUNC(F77+H77+J77,0) -> 3799 | N77: 4453252C016BC2A385FA2BC62EB80 | O77: 444A2020016F2DCF92B1A764C7863246FA22A | P77: F | Q77: F | R77: T | W77: 2 | AW77: 4453252C016BC2A385FA2BC62EB80444A2020016F2DCF92B1A764C7863246FA22A
A78: 공구손료 | B78: 인력품의 2% | C78: 식 | D78: 1 | E78: =TRUNC(SUMIF(W74:W78, RIGHTB(O78, 1), H74:H78)*U78, 2) -> 409.72 | F78: =TRUNC(E78*D78,0) -> 409 | G78: 0 | H78: =TRUNC(G78*D78,0) -> 0 | I78: 0 | J78: =TRUNC(I78*D78,0) -> 0 | K78: =TRUNC(E78+G78+I78,0) -> 409 | L78: =TRUNC(F78+H78+J78,0) -> 409 | N78: 4453252C016BC2A385FA2BC62EB80 | O78: 458C272D01CAD6CAA6198C71F90002 | P78: F | Q78: F | R78: F | S78: 1 | T78: 0 | U78: 0.02 | AW78: 4453252C016BC2A385FA2BC62EB80458C272D01CAD6CAA6198C71F90002
A79: [ 합 계 ] | F79: =TRUNC(SUMIF(N74:N78, N73, F74:F78),0) -> 8552 | H79: =TRUNC(SUMIF(N74:N78, N73, H74:H78),0) -> 20486 | J79: =TRUNC(SUMIF(N74:N78, N73, J74:J78),0) -> 0 | L79: =F79+H79+J79 -> 29038 | N79: TOTAL | O79: TOTAL
A81: 가스용백강관(옥내일반) 백관(SPPG), D50 M ( 호표 13 ) | N81: 4453252C016BC2913633899C36BFF
A82: 배관용탄소강관 | B82: SPPG(백관), ∮50mm, 반제품 | C82: M | D82: 1.05 | E82: =단가대비표!O83 -> 10600 | F82: =TRUNC(E82*D82,0) -> 11130 | G82: =단가대비표!P83 -> 0 | H82: =TRUNC(G82*D82,0) -> 0 | I82: =단가대비표!V83 -> 0 | J82: =TRUNC(I82*D82,0) -> 0 | K82: =TRUNC(E82+G82+I82,0) -> 10600 | L82: =TRUNC(F82+H82+J82,0) -> 11130 | N82: 4453252C016BC2913633899C36BFF | O82: 43C62A24017048E2C7939DC3F6DD71DEF65A4 | P82: F | Q82: F | R82: T | V82: 1 | AW82: 4453252C016BC2913633899C36BFF43C62A24017048E2C7939DC3F6DD71DEF65A4
A83: 잡재료비 | B83: 주재료비의 3% | C83: 식 | D83: 1 | E83: =TRUNC(SUMIF(V82:V86, RIGHTB(O83, 1), F82:F86)*U83, 2) -> 333.9 | F83: =TRUNC(E83*D83,0) -> 333 | G83: 0 | H83: =TRUNC(G83*D83,0) -> 0 | I83: 0 | J83: =TRUNC(I83*D83,0) -> 0 | K83: =TRUNC(E83+G83+I83,0) -> 333 | L83: =TRUNC(F83+H83+J83,0) -> 333 | N83: 4453252C016BC2913633899C36BFF | O83: 458C272D01CAD6CAA6198C71F93001 | P83: F | Q83: F | R83: F | S83: 0 | T83: 0 | U83: 0.03 | AW83: 4453252C016BC2913633899C36BFF458C272D01CAD6CAA6198C71F93001
A84: 배관공 | B84: 일반공사 직종 | C84: 인 | D84: 0.081 | E84: =단가대비표!O215 -> 0 | F84: =TRUNC(E84*D84,0) -> 0 | G84: =단가대비표!P215 -> 249073 | H84: =TRUNC(G84*D84,0) -> 20174 | I84: =단가대비표!V215 -> 0 | J84: =TRUNC(I84*D84,0) -> 0 | K84: =TRUNC(E84+G84+I84,0) -> 249073 | L84: =TRUNC(F84+H84+J84,0) -> 20174 | N84: 4453252C016BC2913633899C36BFF | O84: 444A2020016F2DCF92B1A764C7863246FA108 | P84: F | Q84: F | R84: T | W84: 2 | AW84: 4453252C016BC2913633899C36BFF444A2020016F2DCF92B1A764C7863246FA108
A85: 보통인부 | B85: 일반공사 직종 | C85: 인 | D85: 0.027 | E85: =단가대비표!O209 -> 0 | F85: =TRUNC(E85*D85,0) -> 0 | G85: =단가대비표!P209 -> 172698 | H85: =TRUNC(G85*D85,0) -> 4662 | I85: =단가대비표!V209 -> 0 | J85: =TRUNC(I85*D85,0) -> 0 | K85: =TRUNC(E85+G85+I85,0) -> 172698 | L85: =TRUNC(F85+H85+J85,0) -> 4662 | N85: 4453252C016BC2913633899C36BFF | O85: 444A2020016F2DCF92B1A764C7863246FA22A | P85: F | Q85: F | R85: T | W85: 2 | AW85: 4453252C016BC2913633899C36BFF444A2020016F2DCF92B1A764C7863246FA22A
A86: 공구손료 | B86: 인력품의 2% | C86: 식 | D86: 1 | E86: =TRUNC(SUMIF(W82:W86, RIGHTB(O86, 1), H82:H86)*U86, 2) -> 496.72 | F86: =TRUNC(E86*D86,0) -> 496 | G86: 0 | H86: =TRUNC(G86*D86,0) -> 0 | I86: 0 | J86: =TRUNC(I86*D86,0) -> 0 | K86: =TRUNC(E86+G86+I86,0) -> 496 | L86: =TRUNC(F86+H86+J86,0) -> 496 | N86: 4453252C016BC2913633899C36BFF | O86: 458C272D01CAD6CAA6198C71F90002 | P86: F | Q86: F | R86: F | S86: 1 | T86: 0 | U86: 0.02 | AW86: 4453252C016BC2913633899C36BFF458C272D01CAD6CAA6198C71F90002
A87: [ 합 계 ] | F87: =TRUNC(SUMIF(N82:N86, N81, F82:F86),0) -> 11959 | H87: =TRUNC(SUMIF(N82:N86, N81, H82:H86),0) -> 24836 | J87: =TRUNC(SUMIF(N82:N86, N81, J82:J86),0) -> 0 | L87: =F87+H87+J87 -> 36795 | N87: TOTAL | O87: TOTAL
A89: 가스용백강관(옥내일반) 백관(SPPG), D65 M ( 호표 14 ) | N89: 4453252C016BC280D18EFF1A09BC5
A90: 배관용탄소강관 | B90: SPPG(백관), ∮65mm, 반제품 | C90: M | D90: 1.05 | E90: =단가대비표!O84 -> 13550 | F90: =TRUNC(E90*D90,0) -> 14227 | G90: =단가대비표!P84 -> 0 | H90: =TRUNC(G90*D90,0) -> 0 | I90: =단가대비표!V84 -> 0 | J90: =TRUNC(I90*D90,0) -> 0 | K90: =TRUNC(E90+G90+I90,0) -> 13550 | L90: =TRUNC(F90+H90+J90,0) -> 14227 | N90: 4453252C016BC280D18EFF1A09BC5 | O90: 43C62A24017048E2C7939DC3F6DD71DEF65A7 | P90: F | Q90: F | R90: T | V90: 1 | AW90: 4453252C016BC280D18EFF1A09BC543C62A24017048E2C7939DC3F6DD71DEF65A7
A91: 잡재료비 | B91: 주재료비의 3% | C91: 식 | D91: 1 | E91: =TRUNC(SUMIF(V90:V94, RIGHTB(O91, 1), F90:F94)*U91, 2) -> 426.81 | F91: =TRUNC(E91*D91,0) -> 426 | G91: 0 | H91: =TRUNC(G91*D91,0) -> 0 | I91: 0 | J91: =TRUNC(I91*D91,0) -> 0 | K91: =TRUNC(E91+G91+I91,0) -> 426 | L91: =TRUNC(F91+H91+J91,0) -> 426 | N91: 4453252C016BC280D18EFF1A09BC5 | O91: 458C272D01CAD6CAA6198C71F93001 | P91: F | Q91: F | R91: F | S91: 0 | T91: 0 | U91: 0.03 | AW91: 4453252C016BC280D18EFF1A09BC5458C272D01CAD6CAA6198C71F93001
A92: 배관공 | B92: 일반공사 직종 | C92: 인 | D92: 0.1 | E92: =단가대비표!O215 -> 0 | F92: =TRUNC(E92*D92,0) -> 0 | G92: =단가대비표!P215 -> 249073 | H92: =TRUNC(G92*D92,0) -> 24907 | I92: =단가대비표!V215 -> 0 | J92: =TRUNC(I92*D92,0) -> 0 | K92: =TRUNC(E92+G92+I92,0) -> 249073 | L92: =TRUNC(F92+H92+J92,0) -> 24907 | N92: 4453252C016BC280D18EFF1A09BC5 | O92: 444A2020016F2DCF92B1A764C7863246FA108 | P92: F | Q92: F | R92: T | W92: 2 | AW92: 4453252C016BC280D18EFF1A09BC5444A2020016F2DCF92B1A764C7863246FA108
A93: 보통인부 | B93: 일반공사 직종 | C93: 인 | D93: 0.033 | E93: =단가대비표!O209 -> 0 | F93: =TRUNC(E93*D93,0) -> 0 | G93: =단가대비표!P209 -> 172698 | H93: =TRUNC(G93*D93,0) -> 5699 | I93: =단가대비표!V209 -> 0 | J93: =TRUNC(I93*D93,0) -> 0 | K93: =TRUNC(E93+G93+I93,0) -> 172698 | L93: =TRUNC(F93+H93+J93,0) -> 5699 | N93: 4453252C016BC280D18EFF1A09BC5 | O93: 444A2020016F2DCF92B1A764C7863246FA22A | P93: F | Q93: F | R93: T | W93: 2 | AW93: 4453252C016BC280D18EFF1A09BC5444A2020016F2DCF92B1A764C7863246FA22A
A94: 공구손료 | B94: 인력품의 2% | C94: 식 | D94: 1 | E94: =TRUNC(SUMIF(W90:W94, RIGHTB(O94, 1), H90:H94)*U94, 2) -> 612.12 | F94: =TRUNC(E94*D94,0) -> 612 | G94: 0 | H94: =TRUNC(G94*D94,0) -> 0 | I94: 0 | J94: =TRUNC(I94*D94,0) -> 0 | K94: =TRUNC(E94+G94+I94,0) -> 612 | L94: =TRUNC(F94+H94+J94,0) -> 612 | N94: 4453252C016BC280D18EFF1A09BC5 | O94: 458C272D01CAD6CAA6198C71F90002 | P94: F | Q94: F | R94: F | S94: 1 | T94: 0 | U94: 0.02 | AW94: 4453252C016BC280D18EFF1A09BC5458C272D01CAD6CAA6198C71F90002
A95: [ 합 계 ] | F95: =TRUNC(SUMIF(N90:N94, N89, F90:F94),0) -> 15265 | H95: =TRUNC(SUMIF(N90:N94, N89, H90:H94),0) -> 30606 | J95: =TRUNC(SUMIF(N90:N94, N89, J90:J94),0) -> 0 | L95: =F95+H95+J95 -> 45871 | N95: TOTAL | O95: TOTAL
A97: 강관철거(나사) D20 M ( 호표 15 ) | N97: 4453252C0159625952009DE08CB92
A98: 배관공 | B98: 일반공사 직종 | C98: 인 | D98: 0.013 | E98: =단가대비표!O215 -> 0 | F98: =TRUNC(E98*D98,0) -> 0 | G98: =단가대비표!P215 -> 249073 | H98: =TRUNC(G98*D98,0) -> 3237 | I98: =단가대비표!V215 -> 0 | J98: =TRUNC(I98*D98,0) -> 0 | K98: =TRUNC(E98+G98+I98,0) -> 249073 | L98: =TRUNC(F98+H98+J98,0) -> 3237 | N98: 4453252C0159625952009DE08CB92 | O98: 444A2020016F2DCF92B1A764C7863246FA108 | P98: F | Q98: F | R98: T | V98: 1 | AW98: 4453252C0159625952009DE08CB92444A2020016F2DCF92B1A764C7863246FA108
A99: 보통인부 | B99: 일반공사 직종 | C99: 인 | D99: 0.009 | E99: =단가대비표!O209 -> 0 | F99: =TRUNC(E99*D99,0) -> 0 | G99: =단가대비표!P209 -> 172698 | H99: =TRUNC(G99*D99,0) -> 1554 | I99: =단가대비표!V209 -> 0 | J99: =TRUNC(I99*D99,0) -> 0 | K99: =TRUNC(E99+G99+I99,0) -> 172698 | L99: =TRUNC(F99+H99+J99,0) -> 1554 | N99: 4453252C0159625952009DE08CB92 | O99: 444A2020016F2DCF92B1A764C7863246FA22A | P99: F | Q99: F | R99: T | V99: 1 | AW99: 4453252C0159625952009DE08CB92444A2020016F2DCF92B1A764C7863246FA22A
A100: 공구손료 | B100: 인력품의 2% | C100: 식 | D100: 1 | E100: =TRUNC(SUMIF(V98:V100, RIGHTB(O100, 1), H98:H100)*U100, 2) -> 95.82 | F100: =TRUNC(E100*D100,0) -> 95 | G100: 0 | H100: =TRUNC(G100*D100,0) -> 0 | I100: 0 | J100: =TRUNC(I100*D100,0) -> 0 | K100: =TRUNC(E100+G100+I100,0) -> 95 | L100: =TRUNC(F100+H100+J100,0) -> 95 | N100: 4453252C0159625952009DE08CB92 | O100: 458C272D01CAD6CAA6198C71F93001 | P100: F | Q100: F | R100: F | S100: 1 | T100: 0 | U100: 0.02 | AW100: 4453252C0159625952009DE08CB92458C272D01CAD6CAA6198C71F93001
A101: [ 합 계 ] | F101: =TRUNC(SUMIF(N98:N100, N97, F98:F100),0) -> 95 | H101: =TRUNC(SUMIF(N98:N100, N97, H98:H100),0) -> 4791 | J101: =TRUNC(SUMIF(N98:N100, N97, J98:J100),0) -> 0 | L101: =F101+H101+J101 -> 4886 | N101: TOTAL | O101: TOTAL
A103: 강관철거(나사) D25 M ( 호표 16 ) | N103: 4453252C0159625952009DE08CB94
A104: 배관공 | B104: 일반공사 직종 | C104: 인 | D104: 0.017 | E104: =단가대비표!O215 -> 0 | F104: =TRUNC(E104*D104,0) -> 0 | G104: =단가대비표!P215 -> 249073 | H104: =TRUNC(G104*D104,0) -> 4234 | I104: =단가대비표!V215 -> 0 | J104: =TRUNC(I104*D104,0) -> 0 | K104: =TRUNC(E104+G104+I104,0) -> 249073 | L104: =TRUNC(F104+H104+J104,0) -> 4234 | N104: 4453252C0159625952009DE08CB94 | O104: 444A2020016F2DCF92B1A764C7863246FA108 | P104: F | Q104: F | R104: T | V104: 1 | AW104: 4453252C0159625952009DE08CB94444A2020016F2DCF92B1A764C7863246FA108
A105: 보통인부 | B105: 일반공사 직종 | C105: 인 | D105: 0.011 | E105: =단가대비표!O209 -> 0 | F105: =TRUNC(E105*D105,0) -> 0 | G105: =단가대비표!P209 -> 172698 | H105: =TRUNC(G105*D105,0) -> 1899 | I105: =단가대비표!V209 -> 0 | J105: =TRUNC(I105*D105,0) -> 0 | K105: =TRUNC(E105+G105+I105,0) -> 172698 | L105: =TRUNC(F105+H105+J105,0) -> 1899 | N105: 4453252C0159625952009DE08CB94 | O105: 444A2020016F2DCF92B1A764C7863246FA22A | P105: F | Q105: F | R105: T | V105: 1 | AW105: 4453252C0159625952009DE08CB94444A2020016F2DCF92B1A764C7863246FA22A
A106: 공구손료 | B106: 인력품의 2% | C106: 식 | D106: 1 | E106: =TRUNC(SUMIF(V104:V106, RIGHTB(O106, 1), H104:H106)*U106, 2) -> 122.66 | F106: =TRUNC(E106*D106,0) -> 122 | G106: 0 | H106: =TRUNC(G106*D106,0) -> 0 | I106: 0 | J106: =TRUNC(I106*D106,0) -> 0 | K106: =TRUNC(E106+G106+I106,0) -> 122 | L106: =TRUNC(F106+H106+J106,0) -> 122 | N106: 4453252C0159625952009DE08CB94 | O106: 458C272D01CAD6CAA6198C71F93001 | P106: F | Q106: F | R106: F | S106: 1 | T106: 0 | U106: 0.02 | AW106: 4453252C0159625952009DE08CB94458C272D01CAD6CAA6198C71F93001
A107: [ 합 계 ] | F107: =TRUNC(SUMIF(N104:N106, N103, F104:F106),0) -> 122 | H107: =TRUNC(SUMIF(N104:N106, N103, H104:H106),0) -> 6133 | J107: =TRUNC(SUMIF(N104:N106, N103, J104:J106),0) -> 0 | L107: =F107+H107+J107 -> 6255 | N107: TOTAL | O107: TOTAL
A109: 강관철거(나사) D32 M ( 호표 17 ) | N109: 4453252C0159625952009DE08CB96
A110: 배관공 | B110: 일반공사 직종 | C110: 인 | D110: 0.019 | E110: =단가대비표!O215 -> 0 | F110: =TRUNC(E110*D110,0) -> 0 | G110: =단가대비표!P215 -> 249073 | H110: =TRUNC(G110*D110,0) -> 4732 | I110: =단가대비표!V215 -> 0 | J110: =TRUNC(I110*D110,0) -> 0 | K110: =TRUNC(E110+G110+I110,0) -> 249073 | L110: =TRUNC(F110+H110+J110,0) -> 4732 | N110: 4453252C0159625952009DE08CB96 | O110: 444A2020016F2DCF92B1A764C7863246FA108 | P110: F | Q110: F | R110: T | V110: 1 | AW110: 4453252C0159625952009DE08CB96444A2020016F2DCF92B1A764C7863246FA108
A111: 보통인부 | B111: 일반공사 직종 | C111: 인 | D111: 0.013 | E111: =단가대비표!O209 -> 0 | F111: =TRUNC(E111*D111,0) -> 0 | G111: =단가대비표!P209 -> 172698 | H111: =TRUNC(G111*D111,0) -> 2245 | I111: =단가대비표!V209 -> 0 | J111: =TRUNC(I111*D111,0) -> 0 | K111: =TRUNC(E111+G111+I111,0) -> 172698 | L111: =TRUNC(F111+H111+J111,0) -> 2245 | N111: 4453252C0159625952009DE08CB96 | O111: 444A2020016F2DCF92B1A764C7863246FA22A | P111: F | Q111: F | R111: T | V111: 1 | AW111: 4453252C0159625952009DE08CB96444A2020016F2DCF92B1A764C7863246FA22A
A112: 공구손료 | B112: 인력품의 2% | C112: 식 | D112: 1 | E112: =TRUNC(SUMIF(V110:V112, RIGHTB(O112, 1), H110:H112)*U112, 2) -> 139.54 | F112: =TRUNC(E112*D112,0) -> 139 | G112: 0 | H112: =TRUNC(G112*D112,0) -> 0 | I112: 0 | J112: =TRUNC(I112*D112,0) -> 0 | K112: =TRUNC(E112+G112+I112,0) -> 139 | L112: =TRUNC(F112+H112+J112,0) -> 139 | N112: 4453252C0159625952009DE08CB96 | O112: 458C272D01CAD6CAA6198C71F93001 | P112: F | Q112: F | R112: F | S112: 1 | T112: 0 | U112: 0.02 | AW112: 4453252C0159625952009DE08CB96458C272D01CAD6CAA6198C71F93001
A113: [ 합 계 ] | F113: =TRUNC(SUMIF(N110:N112, N109, F110:F112),0) -> 139 | H113: =TRUNC(SUMIF(N110:N112, N109, H110:H112),0) -> 6977 | J113: =TRUNC(SUMIF(N110:N112, N109, J110:J112),0) -> 0 | L113: =F113+H113+J113 -> 7116 | N113: TOTAL | O113: TOTAL
A115: 강관철거(나사) D40 M ( 호표 18 ) | N115: 4453252C0159625952009DE08CB98
A116: 배관공 | B116: 일반공사 직종 | C116: 인 | D116: 0.021 | E116: =단가대비표!O215 -> 0 | F116: =TRUNC(E116*D116,0) -> 0 | G116: =단가대비표!P215 -> 249073 | H116: =TRUNC(G116*D116,0) -> 5230 | I116: =단가대비표!V215 -> 0 | J116: =TRUNC(I116*D116,0) -> 0 | K116: =TRUNC(E116+G116+I116,0) -> 249073 | L116: =TRUNC(F116+H116+J116,0) -> 5230 | N116: 4453252C0159625952009DE08CB98 | O116: 444A2020016F2DCF92B1A764C7863246FA108 | P116: F | Q116: F | R116: T | V116: 1 | AW116: 4453252C0159625952009DE08CB98444A2020016F2DCF92B1A764C7863246FA108
A117: 보통인부 | B117: 일반공사 직종 | C117: 인 | D117: 0.014 | E117: =단가대비표!O209 -> 0 | F117: =TRUNC(E117*D117,0) -> 0 | G117: =단가대비표!P209 -> 172698 | H117: =TRUNC(G117*D117,0) -> 2417 | I117: =단가대비표!V209 -> 0 | J117: =TRUNC(I117*D117,0) -> 0 | K117: =TRUNC(E117+G117+I117,0) -> 172698 | L117: =TRUNC(F117+H117+J117,0) -> 2417 | N117: 4453252C0159625952009DE08CB98 | O117: 444A2020016F2DCF92B1A764C7863246FA22A | P117: F | Q117: F | R117: T | V117: 1 | AW117: 4453252C0159625952009DE08CB98444A2020016F2DCF92B1A764C7863246FA22A
...

Sheet 단가대비표
A1: 단 가 대 비 표
A2: [ 2026학년도 전주효문중 식생활관 리모델링 기계설비공사 ]
A3: 코 드 | B3: 품 명 | C3: 규격 | D3: 단위 | E3: 재 료 비 | P3: 노 무 비 | Q3: 경 비 | W3: 번 호 | X3: 비 고 | Y3: 품목구분 | Z3: 노임구분 | AA3: 소수점처리 | AB3: 자재구분
E4: 물가자료 | F4: PAGE | G4: 거래가격 | H4: PAGE | I4: 물가정보 | J4: PAGE | K4: 조사가격1 | L4: PAGE | M4: 조사가격2 | N4: PAGE | O4: 적용단가 | Q4: 물가자료 | R4: 거래가격 | S4: 물가정보 | T4: 조사가격1 | U4: 조사가격2 | V4: 적용단가
A5: 43882F2F01522B6F23D9A919BD6C255157417 | B5: 코어드릴 | C5: 15.24cm | D5: 대 | E5: 0 | G5: 0 | I5: 0 | K5: 0 | M5: 0 | O5: 0 | P5: 0 | Q5: 0 | R5: 0 | S5: 0 | T5: 866 | U5: 0 | V5: =SMALL(Q5:U5,COUNTIF(Q5:U5,0)+1) -> 866 | W5: 자재 1 | X5: 천원 | Y5: C
A6: 43992423018B344FE97A1119DEE26AA517A55 | B6: 아르곤가스 | C6: 아르곤가스, 건설용알곤가스 | D6: L | E6: 5.36 | F6: 33(하) | G6: 14.57 | H6: 1451 | I6: 0 | K6: 0 | M6: 0 | O6: =SMALL(E6:M6,COUNTIF(E6:M6,0)+1) -> 5.36 | P6: 0 | Q6: 0 | R6: 0 | S6: 0 | T6: 0 | U6: 0 | V6: 0 | W6: 자재 2 | X6: 47L용기 120Kg/Cm2(병당 7000L)
A7: 43AB2E290157F86BFF8C45983BAFE21CBE762 | B7: 스테인리스강용알곤용접봉 | C7: 스테인리스강용알곤용접봉, ∮3.2mm, T-308 | D7: kg | E7: 15903 | F7: 1388 | G7: 13280 | H7: 1326 | I7: 0 | K7: 0 | M7: 0 | O7: =SMALL(E7:M7,COUNTIF(E7:M7,0)+1) -> 13280 | P7: 0 | Q7: 0 | R7: 0 | S7: 0 | T7: 0 | U7: 0 | V7: 0 | W7: 자재 3
A8: 43B4232B01DD670849EF026EA4BAC76B56135 | B8: ㄱ형강 | C8: ㄱ형강, 등변, 30*30*3mm | D8: kg | E8: 1040 | F8: 7 | G8: 1020 | H8: 55 | I8: 1125 | J8: 5 | K8: 0 | M8: 0 | O8: =SMALL(E8:M8,COUNTIF(E8:M8,0)+1) -> 1020 | P8: 0 | Q8: 0 | R8: 0 | S8: 0 | T8: 0 | U8: 0 | V8: 0 | W8: 자재 4
A9: 43B4232B01DD0E872B7CE1D2DA7B2EF80BFB1 | B9: 웜기어 핸들 부착형 | D9: 개 | E9: 0 | G9: 0 | I9: 0 | K9: 85000 | L9: 견적 | M9: 0 | O9: =SMALL(E9:M9,COUNTIF(E9:M9,0)+1) -> 85000 | P9: 0 | Q9: 0 | R9: 0 | S9: 0 | T9: 0 | U9: 0 | V9: 0 | W9: 자재 5
A10: 43B4232B01DDE46DFDD1225BDC0965CE09221 | B10: 각형세면기 | C10: KSL 610, S/L(앵글밸브, 트랩, 폽업 포함, 수전제외) | D10: 대 | E10: 0 | G10: 0 | I10: 0 | K10: 190000 | L10: 산출단가 | M10: 0 | O10: =SMALL(E10:M10,COUNTIF(E10:M10,0)+1) -> 190000 | P10: 0 | Q10: 0 | R10: 0 | S10: 0 | T10: 0 | U10: 0 | V10: 0 | W10: 자재 6 | X10: 수전제외
A11: 43B4232B01DDE46DFDD13CFBA5A363DD43FF0 | B11: 양변기 | C11: KSC1210CR(초절수, 절수1등급) | D11: 조 | E11: 302000 | F11: 875 | G11: 287000 | H11: 866 | I11: 287000 | J11: 864 | K11: 0 | M11: 0 | O11: =SMALL(E11:M11,COUNTIF(E11:M11,0)+1) -> 287000 | P11: 0 | Q11: 0 | R11: 0 | S11: 0 | T11: 0 | U11: 0 | V11: 0 | W11: 자재 7
A12: 43B4232B01DDE46DFDC0F92B126646EFA3708 | B12: 수건걸이 | C12: 사각 BAR형 | D12: 개 | E12: 20000 | F12: 877 | G12: 20000 | H12: 867 | I12: 20000 | J12: 866 | K12: 0 | M12: 0 | O12: =SMALL(E12:M12,COUNTIF(E12:M12,0)+1) -> 20000 | P12: 0 | Q12: 0 | R12: 0 | S12: 0 | T12: 0 | U12: 0 | V12: 0 | W12: 자재 8
A13: 43B4232B01DDE46DFDC06B1AB2F4C52C97358 | B13: 세면대 수전 | C13: KLE670C,FL930C동등이상 (절수1등급) | D13: 개 | E13: 143000 | F13: 876 | G13: 143000 | H13: 867 | I13: 143000 | J13: 867 | K13: 0 | M13: 0 | O13: =SMALL(E13:M13,COUNTIF(E13:M13,0)+1) -> 143000 | P13: 0 | Q13: 0 | R13: 0 | S13: 0 | T13: 0 | U13: 0 | V13: 0 | W13: 자재 9
A14: 43B4232B01DDE46DFDC06B1AB2F4C52C9746D | B14: 목돌림수전 | C14: R-107A | D14: 개 | E14: 27000 | F14: 876 | G14: 27000 | H14: 867 | I14: 27000 | J14: 867 | K14: 0 | M14: 0 | O14: =SMALL(E14:M14,COUNTIF(E14:M14,0)+1) -> 27000 | P14: 0 | Q14: 0 | R14: 0 | S14: 0 | T14: 0 | U14: 0 | V14: 0 | W14: 자재 10
A15: 43B4232B01DDE46DFDC06B1AB2F4C52C9750B | B15: 커프링수전 | C15: 15mm | D15: 개 | E15: 19000 | F15: 876 | G15: 19000 | H15: 867 | I15: 19000 | J15: 867 | K15: 0 | M15: 0 | O15: =SMALL(E15:M15,COUNTIF(E15:M15,0)+1) -> 19000 | P15: 0 | Q15: 0 | R15: 0 | S15: 0 | T15: 0 | U15: 0 | V15: 0 | W15: 자재 11
A16: 43B4232B01DDE46DFDC06B1AB2F4C52C97739 | B16: 씽크수전 | C16: 싱글레버식 (절수1등급) | D16: 개 | E16: 159000 | F16: 876 | G16: 0 | I16: 159000 | J16: 867 | K16: 0 | M16: 0 | O16: =SMALL(E16:M16,COUNTIF(E16:M16,0)+1) -> 159000 | P16: 0 | Q16: 0 | R16: 0 | S16: 0 | T16: 0 | U16: 0 | V16: 0 | W16: 자재 12
A17: 43B4232B01DDE46DFDC06B1AB2F4C52C9773C | B17: 샤워기(선반형 레인샤워) | C17: KRS-3000동등이상 (절수1등급) | D17: 개 | E17: 302000 | F17: 876 | G17: 302000 | H17: 867 | I17: 302000 | J17: 867 | K17: 0 | M17: 0 | O17: =SMALL(E17:M17,COUNTIF(E17:M17,0)+1) -> 302000 | P17: 0 | Q17: 0 | R17: 0 | S17: 0 | T17: 0 | U17: 0 | V17: 0 | W17: 자재 13
A18: 43B4232B01DDE46DFDC06B1AB2F4C52C9773F | B18: 동파방지부동수전(STS) | C18: D15x1250 | D18: 개 | E18: 0 | G18: 0 | I18: 0 | K18: 34000 | M18: 0 | O18: =SMALL(E18:M18,COUNTIF(E18:M18,0)+1) -> 34000 | P18: 0 | Q18: 0 | R18: 0 | S18: 0 | T18: 0 | U18: 0 | V18: 0 | W18: 자재 14
A19: 43B4232B01DDE46DFDE3C86D969618A51E53A | B19: 휴지걸이 | C19: 휴대폰거치대 일체형 | D19: 개 | E19: 18000 | F19: 877 | G19: 0 | I19: 0 | K19: 0 | M19: 0 | O19: =SMALL(E19:M19,COUNTIF(E19:M19,0)+1) -> 18000 | P19: 0 | Q19: 0 | R19: 0 | S19: 0 | T19: 0 | U19: 0 | V19: 0 | W19: 자재 15
A20: 43B4232B01DDE46DFD43EDACACD1C50C04AA5 | B20: 비누갑 | C20: STS제 | D20: 개 | E20: 25000 | F20: 877 | G20: 0 | I20: 25000 | J20: 866 | K20: 0 | M20: 0 | O20: =SMALL(E20:M20,COUNTIF(E20:M20,0)+1) -> 25000 | P20: 0 | Q20: 0 | R20: 0 | S20: 0 | T20: 0 | U20: 0 | V20: 0 | W20: 자재 16
A21: 43B42229014198A22B944A7C2FBDED8EB640D | B21: 절연 U볼트/NUT | C21: 절연, ∮20mm | D21: 개 | E21: 0 | G21: 1300 | H21: 95 | I21: 900 | J21: 44 | K21: 0 | M21: 0 | O21: =SMALL(E21:M21,COUNTIF(E21:M21,0)+1) -> 900 | P21: 0 | Q21: 0 | R21: 0 | S21: 0 | T21: 0 | U21: 0 | V21: 0 | W21: 자재 17
A22: 43B42229014198A22B944A7C2FBDED8EB6403 | B22: 절연 U볼트/NUT | C22: 절연, ∮32mm | D22: 개 | E22: 0 | G22: 1730 | H22: 95 | I22: 1128 | J22: 44 | K22: 0 | M22: 0 | O22: =SMALL(E22:M22,COUNTIF(E22:M22,0)+1) -> 1128 | P22: 0 | Q22: 0 | R22: 0 | S22: 0 | T22: 0 | U22: 0 | V22: 0 | W22: 자재 18
A23: 43B42229014198A22B944A7C2FBDED8EB6511 | B23: 절연 U볼트/NUT | C23: 절연, ∮40mm | D23: 개 | E23: 0 | G23: 1880 | H23: 95 | I23: 1236 | J23: 44 | K23: 0 | M23: 0 | O23: =SMALL(E23:M23,COUNTIF(E23:M23,0)+1) -> 1236 | P23: 0 | Q23: 0 | R23: 0 | S23: 0 | T23: 0 | U23: 0 | V23: 0 | W23: 자재 19
A24: 43B42229014198A22B944A7C2FBDED8EB6510 | B24: 절연 U볼트/NUT | C24: 절연, ∮50mm | D24: 개 | E24: 0 | G24: 2250 | H24: 95 | I24: 1404 | J24: 44 | K24: 0 | M24: 0 | O24: =SMALL(E24:M24,COUNTIF(E24:M24,0)+1) -> 1404 | P24: 0 | Q24: 0 | R24: 0 | S24: 0 | T24: 0 | U24: 0 | V24: 0 | W24: 자재 20
A25: 43B42229014198A22B944A7C2FBDED8EB6513 | B25: 절연 U볼트/NUT | C25: 절연, ∮65mm | D25: 개 | E25: 0 | G25: 2500 | H25: 95 | I25: 1680 | J25: 44 | K25: 0 | M25: 0 | O25: =SMALL(E25:M25,COUNTIF(E25:M25,0)+1) -> 1680 | P25: 0 | Q25: 0 | R25: 0 | S25: 0 | T25: 0 | U25: 0 | V25: 0 | W25: 자재 21
A26: 43B42229014198A22BA6980DCCA0BA6E0C374 | B26: 육각볼트 | C26: 육각볼트, M10*20 | D26: 개 | E26: 98 | F26: 47 | G26: 76 | H26: 92 | I26: 76.1 | J26: 41 | K26: 0 | M26: 0 | O26: =SMALL(E26:M26,COUNTIF(E26:M26,0)+1) -> 76 | P26: 0 | Q26: 0 | R26: 0 | S26: 0 | T26: 0 | U26: 0 | V26: 0 | W26: 자재 22
A27: 43B42229014198A22B104E375F001A2ED8150 | B27: 행어볼트 | C27: 아연도금, M9*1000 | D27: 개 | E27: 1220 | F27: 46 | G27: 0 | I27: 0 | K27: 0 | M27: 0 | O27: =SMALL(E27:M27,COUNTIF(E27:M27,0)+1) -> 1220 | P27: 0 | Q27: 0 | R27: 0 | S27: 0 | T27: 0 | U27: 0 | V27: 0 | W27: 자재 23
A28: 43B42229014198A22B104E375F001A2ED8156 | B28: 행어볼트 | C28: 아연도금, M13*1000 | D28: 개 | E28: 0 | G28: 0 | I28: 0 | K28: 1580 | M28: 0 | O28: =SMALL(E28:M28,COUNTIF(E28:M28,0)+1) -> 1580 | P28: 0 | Q28: 0 | R28: 0 | S28: 0 | T28: 0 | U28: 0 | V28: 0 | W28: 자재 24
A29: 43B42229014198A2CBC88621A0121F2737329 | B29: 동리벳 | C29: D4 | D29: 개 | E29: 0 | G29: 0 | I29: 0 | K29: 13.58 | M29: 0 | O29: =SMALL(E29:M29,COUNTIF(E29:M29,0)+1) -> 13.58 | P29: 0 | Q29: 0 | R29: 0 | S29: 0 | T29: 0 | U29: 0 | V29: 0 | W29: 자재 25
A30: 43B42229014198A2CBC88621A0121F27252AF | B30: 볼트,너트,와샤(SET) | C30: M12*100L | D30: SET | E30: 0 | G30: 0 | I30: 0 | K30: 382 | M30: 0 | O30: =SMALL(E30:M30,COUNTIF(E30:M30,0)+1) -> 382 | P30: 0 | Q30: 0 | R30: 0 | S30: 0 | T30: 0 | U30: 0 | V30: 0 | W30: 자재 26
A31: 43B42229014198A2CBC88621A0121F2714D61 | B31: 스테인리스망, STS304 | C31: 해충방지용 | D31: M2 | E31: 35040 | F31: 105 | G31: 29340 | H31: 58 | I31: 0 | K31: 0 | M31: 0 | O31: =SMALL(E31:M31,COUNTIF(E31:M31,0)+1) -> 29340 | P31: 0 | Q31: 0 | R31: 0 | S31: 0 | T31: 0 | U31: 0 | V31: 0 | W31: 자재 27
A32: 43B4222901419891C6D6C34DC84A90452D2F6 | B32: 스트롱앵커 | C32: 스트롱앵커, M10, 9.5mm | D32: 개 | E32: 120 | F32: 52 | G32: 0 | I32: 0 | K32: 0 | M32: 0 | O32: =SMALL(E32:M32,COUNTIF(E32:M32,0)+1) -> 120 | P32: 0 | Q32: 0 | R32: 0 | S32: 0 | T32: 0 | U32: 0 | V32: 0 | W32: 자재 28
A33: 43B4222901419891C6D6C34DC84A90452D2F7 | B33: 스트롱앵커 | C33: 스트롱앵커, M13, 12.7mm | D33: 개 | E33: 280 | F33: 52 | G33: 0 | I33: 0 | K33: 0 | M33: 0 | O33: =SMALL(E33:M33,COUNTIF(E33:M33,0)+1) -> 280 | P33: 0 | Q33: 0 | R33: 0 | S33: 0 | T33: 0 | U33: 0 | V33: 0 | W33: 자재 29
A34: 43B4222901419891E1BCC7B39CD6FB7045B25 | B34: 지지행어 | C34: 파이프행어(일반), ∮100mm | D34: 개 | E34: 1350 | F34: 711 | G34: 1150 | H34: 827 | I34: 1560 | J34: 665 | K34: 0 | M34: 0 | O34: =SMALL(E34:M34,COUNTIF(E34:M34,0)+1) -> 1150 | P34: 0 | Q34: 0 | R34: 0 | S34: 0 | T34: 0 | U34: 0 | V34: 0 | W34: 자재 30
A35: 43B4222901419891E1BCC7B39CD6FB7045B23 | B35: 지지행어 | C35: 파이프행어(일반), ∮150mm | D35: 개 | E35: 3360 | F35: 711 | G35: 3110 | H35: 827 | I35: 3900 | J35: 665 | K35: 0 | M35: 0 | O35: =SMALL(E35:M35,COUNTIF(E35:M35,0)+1) -> 3110 | P35: 0 | Q35: 0 | R35: 0 | S35: 0 | T35: 0 | U35: 0 | V35: 0 | W35: 자재 31
A36: 43B4222901419891E1BCC7B39CD6FB7045A00 | B36: 지지행어 | C36: 절연행어, ∮15mm | D36: 개 | E36: 690 | F36: 711 | G36: 510 | H36: 827 | I36: 710 | J36: 665 | K36: 0 | M36: 0 | O36: =SMALL(E36:M36,COUNTIF(E36:M36,0)+1) -> 510 | P36: 0 | Q36: 0 | R36: 0 | S36: 0 | T36: 0 | U36: 0 | V36: 0 | W36: 자재 32
A37: 43B4222901419891E1BCC7B39CD6FB7045A04 | B37: 지지행어 | C37: 절연행어, ∮40mm | D37: 개 | E37: 1040 | F37: 711 | G37: 780 | H37: 827 | I37: 1060 | J37: 665 | K37: 0 | M37: 0 | O37: =SMALL(E37:M37,COUNTIF(E37:M37,0)+1) -> 780 | P37: 0 | Q37: 0 | R37: 0 | S37: 0 | T37: 0 | U37: 0 | V37: 0 | W37: 자재 33
A38: 43B4222901419891E1BCC7A1222A6F25C5F5C | B38: 콤파운드 | C38: 비초산계 | D38: g | E38: 0 | G38: 0 | I38: 0 | K38: 0 | M38: 26 | O38: =SMALL(E38:M38,COUNTIF(E38:M38,0)+1) -> 26 | P38: 0 | Q38: 0 | R38: 0 | S38: 0 | T38: 0 | U38: 0 | V38: 0 | W38: 자재 34
A39: 43B4222901419891E1BCC7A1222A6F25C5EB7 | B39: 고철 | D39: Kg | E39: 0 | G39: 261 | H39: 1472 | I39: 0 | K39: 0 | M39: 0 | O39: =SMALL(E39:M39,COUNTIF(E39:M39,0)+1) -> 261 | P39: 0 | Q39: 0 | R39: 0 | S39: 0 | T39: 0 | U39: 0 | V39: 0 | W39: 자재 35
A40: 43B4222901419891E1BCC7A1222A6F25C5EB6 | B40: 고스텐 | D40: Kg | E40: 0 | G40: 1377 | H40: 1472 | I40: 0 | K40: 0 | M40: 0 | O40: =SMALL(E40:M40,COUNTIF(E40:M40,0)+1) -> 1377 | P40: 0 | Q40: 0 | R40: 0 | S40: 0 | T40: 0 | U40: 0 | V40: 0 | W40: 자재 36
A41: 43B4222901417DF1BF6CA0F767B19462027B5 | B41: 패킹 | C41: 플랜지용, ∮65mm | D41: 개 | E41: 0 | G41: 0 | I41: 5520 | J41: 753 | K41: 0 | M41: 0 | O41: =SMALL(E41:M41,COUNTIF(E41:M41,0)+1) -> 5520 | P41: 0 | Q41: 0 | R41: 0 | S41: 0 | T41: 0 | U41: 0 | V41: 0 | W41: 자재 37
A42: 43B4222901417DF1BF6CA0E6F081FA0A23B6F | B42: 슈퍼매직 303 | C42: 0.2t, 100mm*15m | D42: ㎡ | E42: 0 | G42: 0 | I42: 1950 | J42: 903 | K42: 0 | M42: 0 | O42: =SMALL(E42:M42,COUNTIF(E42:M42,0)+1) -> 1950 | P42: 0 | Q42: 0 | R42: 0 | S42: 0 | T42: 0 | U42: 0 | V42: 0 | W42: 자재 38
A43: 43B4222901417DF1BF6CA0E6F081FA0A23B61 | B43: 은박지(양면) | C43: 1m*300m | D43: ㎡ | E43: 0 | G43: 700 | H43: 991 | I43: 700 | J43: 903 | K43: 0 | M43: 0 | O43: =SMALL(E43:M43,COUNTIF(E43:M43,0)+1) -> 700 | P43: 0 | Q43: 0 | R43: 0 | S43: 0 | T43: 0 | U43: 0 | V43: 0 | W43: 자재 39
A44: 43B4222901417DF1BF6CA0E6F081FA0A23A42 | B44: AL 밴드 | C44: 0.3*30w | D44: M | E44: 0 | G44: 360 | H44: 991 | I44: 360 | J44: 903 | K44: 0 | M44: 0 | O44: =SMALL(E44:M44,COUNTIF(E44:M44,0)+1) -> 360 | P44: 0 | Q44: 0 | R44: 0 | S44: 0 | T44: 0 | U44: 0 | V44: 0 | W44: 자재 40
A45: 43B4222901417DF1BF6CA0E6F081FA0A23A4A | B45: 접착제 | C45: 815K | D45: kg | E45: 0 | G45: 0 | I45: 0 | K45: 0 | M45: 12000 | O45: =SMALL(E45:M45,COUNTIF(E45:M45,0)+1) -> 12000 | P45: 0 | Q45: 0 | R45: 0 | S45: 0 | T45: 0 | U45: 0 | V45: 0 | W45: 자재 41
A46: 43B42229017D2F25B7737DE3BF60AB9F6EFAE | B46: 조합페인트 | C46: KSM6020-1종1급, 백색 | D46: L | E46: 10555 | F46: 590 | G46: 0 | I46: 11250 | J46: 496 | K46: 0 | M46: 0 | O46: =SMALL(E46:M46,COUNTIF(E46:M46,0)+1) -> 10555 | P46: 0 | Q46: 0 | R46: 0 | S46: 0 | T46: 0 | U46: 0 | V46: 0 | W46: 자재 42
A47: 43B42229017D2F256FC26A37D20A69C73378B | B47: 시너 | C47: 시너, KSM6060, 1종 | D47: L | E47: 3722 | F47: 593 | G47: 3495 | H47: 614 | I47: 3500 | J47: 496 | K47: 0 | M47: 0 | O47: =SMALL(E47:M47,COUNTIF(E47:M47,0)+1) -> 3495 | P47: 0 | Q47: 0 | R47: 0 | S47: 0 | T47: 0 | U47: 0 | V47: 0 | W47: 자재 43
A48: 43B4252601F28019D896AAF8C5A5A23D3AEAC | B48: 저압 조정기 | C48: 4kg/h | D48: 개 | E48: 0 | G48: 0 | I48: 0 | K48: 0 | M48: 10000 | O48: =SMALL(E48:M48,COUNTIF(E48:M48,0)+1) -> 10000 | P48: 0 | Q48: 0 | R48: 0 | S48: 0 | T48: 0 | U48: 0 | V48: 0 | W48: 자재 44
A49: 43B4252601F28019D896AAF8C5A5A23D3AEA6 | B49: 저압 조정기 | C49: 12kg/h | D49: 개 | E49: 0 | G49: 0 | I49: 0 | K49: 0 | M49: 93000 | O49: =SMALL(E49:M49,COUNTIF(E49:M49,0)+1) -> 93000 | P49: 0 | Q49: 0 | R49: 0 | S49: 0 | T49: 0 | U49: 0 | V49: 0 | W49: 자재 45
A50: 43B4252601F28019D896AAF8D60A5701484C7 | B50: 가스온압보정기 | C50: 설치및시운전포함 | D50: 개 | E50: 0 | G50: 0 | I50: 0 | K50: 900000 | L50: 견적 | M50: 0 | O50: =SMALL(E50:M50,COUNTIF(E50:M50,0)+1) -> 900000 | P50: 0 | Q50: 0 | R50: 0 | S50: 0 | T50: 0 | U50: 0 | V50: 0 | W50: 자재 46
A51: 43C62A240170010B422F30DF92F49A9553F8C | B51: 댐퍼 | C51: 댐퍼, V.D, 각형, STS | D51: ㎠ | E51: 70 | F51: 970 | G51: 65 | H51: 978 | I51: 0 | K51: 0 | M51: 0 | O51: =SMALL(E51:M51,COUNTIF(E51:M51,0)+1) -> 65 | P51: 0 | Q51: 0 | R51: 0 | S51: 0 | T51: 0 | U51: 0 | V51: 0 | W51: 자재 47 | X51: STS
A52: 43C62A240170010B422F30DF92F49A9553F8D | B52: 터닝베인(STS) | C52: T.V | D52: ㎠ | E52: 15 | F52: 946 | G52: 15 | H52: 978 | I52: 0 | K52: 0 | M52: 0 | O52: =SMALL(E52:M52,COUNTIF(E52:M52,0)+1) -> 15 | P52: 0 | Q52: 0 | R52: 0 | S52: 0 | T52: 0 | U52: 0 | V52: 0 | W52: 자재 48 | X52: STS
A53: 43C62A240170010B422F30DF92F49A9553F88 | B53: 그릴 | C53: 그릴, STS | D53: ㎠ | E53: 0 | G53: 0 | I53: 55 | J53: 1000 | K53: 0 | M53: 0 | O53: =SMALL(E53:M53,COUNTIF(E53:M53,0)+1) -> 55 | P53: 0 | Q53: 0 | R53: 0 | S53: 0 | T53: 0 | U53: 0 | V53: 0 | W53: 자재 49 | X53: STS
A54: 43C62A240170010B422F30DF92F49A9553A0B | B54: 아네모디퓨져 | C54: 원형, AL, D150 | D54: 개 | E54: 37000 | F54: 946 | G54: 25000 | H54: 978 | I54: 28000 | J54: 995 | K54: 0 | M54: 0 | O54: =SMALL(E54:M54,COUNTIF(E54:M54,0)+1) -> 25000 | P54: 0 | Q54: 0 | R54: 0 | S54: 0 | T54: 0 | U54: 0 | V54: 0 | W54: 자재 50
A55: 43C62A240170010B7F615774BDC184E209316 | B55: 천장형 환풍기 | C55: 3.5 M3/MIN | D55: 대 | E55: 46200 | F55: 940 | G55: 0 | I55: 64000 | J55: 963 | K55: 0 | M55: 0 | O55: =SMALL(E55:M55,COUNTIF(E55:M55,0)+1) -> 46200 | P55: 0 | Q55: 0 | R55: 0 | S55: 0 | T55: 0 | U55: 0 | V55: 0 | W55: 자재 51
A56: 43C62A240170010B7F615774BDC196E8302C3 | B56: 덕트인라인휀,(휀+모터), 저소음형 | C56: D300*1/3HP(2,050CMH) | D56: 대 | E56: 0 | G56: 0 | I56: 0 | K56: 800000 | L56: 견적 | M56: 0 | O56: =SMALL(E56:M56,COUNTIF(E56:M56,0)+1) -> 800000 | P56: 0 | Q56: 0 | R56: 0 | S56: 0 | T56: 0 | U56: 0 | V56: 0 | W56: 자재 52
A57: 43C62A240170010B7F615774BDC169A24C6EC | B57: 소형인라인휀(원형, 무덕트형) | C57: D150, 630CMH, 34mmaq,140W | D57: 대 | E57: 136000 | F57: 943 | G57: 0 | I57: 0 | K57: 0 | M57: 0 | O57: =SMALL(E57:M57,COUNTIF(E57:M57,0)+1) -> 136000 | P57: 0 | Q57: 0 | R57: 0 | S57: 0 | T57: 0 | U57: 0 | V57: 0 | W57: 자재 53 | X57: FIL15ASA
A58: 43C62A240170010B9A3E85F639E505083C287 | B58: 폴리에틸렌보온(난연,AL피막) | C58: ∮15*25mm | D58: M | E58: 2203 | F58: 950 | G58: 2288 | H58: 990 | I58: 2288 | J58: 901 | K58: 0 | M58: 0 | O58: =SMALL(E58:M58,COUNTIF(E58:M58,0)+1) -> 2203 | P58: 0 | Q58: 0 | R58: 0 | S58: 0 | T58: 0 | U58: 0 | V58: 0 | W58: 자재 54
A59: 43C62A240170010B9A3E85F639E505083C283 | B59: 폴리에틸렌보온(난연,AL피막) | C59: ∮40*25mm | D59: M | E59: 2954 | F59: 950 | G59: 3328 | H59: 990 | I59: 3328 | J59: 901 | K59: 0 | M59: 0 | O59: =SMALL(E59:M59,COUNTIF(E59:M59,0)+1) -> 2954 | P59: 0 | Q59: 0 | R59: 0 | S59: 0 | T59: 0 | U59: 0 | V59: 0 | W59: 자재 55
A60: 43C62A240170010B9A3E85F639E505082321E | B60: 폴리에틸렌 보온통(난연,AL피막) | C60: ∮15*10mm | D60: M | E60: 0 | G60: 754 | H60: 990 | I60: 0 | K60: 0 | M60: 0 | O60: =SMALL(E60:M60,COUNTIF(E60:M60,0)+1) -> 754 | P60: 0 | Q60: 0 | R60: 0 | S60: 0 | T60: 0 | U60: 0 | V60: 0 | W60: 자재 56
A61: 43C62A240170010B9A3E85F639E5050823211 | B61: 폴리에틸렌 보온통(난연,AL피막) | C61: ∮20*10mm | D61: M | E61: 0 | G61: 858 | H61: 990 | I61: 0 | K61: 0 | M61: 0 | O61: =SMALL(E61:M61,COUNTIF(E61:M61,0)+1) -> 858 | P61: 0 | Q61: 0 | R61: 0 | S61: 0 | T61: 0 | U61: 0 | V61: 0 | W61: 자재 57
A62: 43C62A240170010B9A3E85F639E5050823210 | B62: 폴리에틸렌 보온통(난연,AL피막) | C62: ∮25*10mm | D62: M | E62: 0 | G62: 962 | H62: 990 | I62: 0 | K62: 0 | M62: 0 | O62: =SMALL(E62:M62,COUNTIF(E62:M62,0)+1) -> 962 | P62: 0 | Q62: 0 | R62: 0 | S62: 0 | T62: 0 | U62: 0 | V62: 0 | W62: 자재 58
A63: 43C62A240170010B9A3E85F639E5050823320 | B63: 폴리에틸렌 보온통(난연,AL피막) | C63: ∮32*10mm | D63: M | E63: 0 | G63: 1118 | H63: 990 | I63: 0 | K63: 0 | M63: 0 | O63: =SMALL(E63:M63,COUNTIF(E63:M63,0)+1) -> 1118 | P63: 0 | Q63: 0 | R63: 0 | S63: 0 | T63: 0 | U63: 0 | V63: 0 | W63: 자재 59
A64: 43C62A240170010B9A3E85F639E5050823321 | B64: 폴리에틸렌 보온통(난연,AL피막) | C64: ∮40*10mm | D64: M | E64: 0 | G64: 1235 | H64: 990 | I64: 0 | K64: 0 | M64: 0 | O64: =SMALL(E64:M64,COUNTIF(E64:M64,0)+1) -> 1235 | P64: 0 | Q64: 0 | R64: 0 | S64: 0 | T64: 0 | U64: 0 | V64: 0 | W64: 자재 60
A65: 43C62A240170010B9A3EB1204ABC2E315E6F6 | B65: 고무발포 덕트용 단열재 | C65: 고무발포, 13t(폭1.43m) | D65: ㎡ | E65: 11500 | F65: 954 | G65: 0 | I65: 11500 | J65: 905 | K65: 0 | M65: 0 | O65: =SMALL(E65:M65,COUNTIF(E65:M65,0)+1) -> 11500 | P65: 0 | Q65: 0 | R65: 0 | S65: 0 | T65: 0 | U65: 0 | V65: 0 | W65: 자재 61
A66: 43C62A24017001306B3668C777DD2DC43DDFB | B66: 가스온수기(콘덴싱,연도포함),1등급 | C66: 48,000kcal/hr | D66: 대 | E66: 0 | G66: 0 | I66: 0 | K66: 2100000 | L66: 견적 | M66: 0 | O66: =SMALL(E66:M66,COUNTIF(E66:M66,0)+1) -> 2100000 | P66: 0 | Q66: 0 | R66: 0 | S66: 0 | T66: 0 | U66: 0 | V66: 0 | W66: 자재 62
A67: 43C62A24017048D01F4015FD9C00865AF31AE | B67: 볼밸브 | C67: ∮20mm*0.98MPa, 수동식, 황동 | D67: 개 | E67: 9860 | F67: 823 | G67: 7690 | H67: 828 | I67: 7910 | J67: 765 | K67: 0 | M67: 0 | O67: =SMALL(E67:M67,COUNTIF(E67:M67,0)+1) -> 7690 | P67: 0 | Q67: 0 | R67: 0 | S67: 0 | T67: 0 | U67: 0 | V67: 0 | W67: 자재 63
A68: 43C62A24017048D01F4015FD9C00865A88B54 | B68: 볼밸브 | C68: ∮15mm*0.98MPa, 수동식, STS | D68: 개 | E68: 20000 | F68: 834 | G68: 20000 | H68: 829 | I68: 20000 | J68: 772 | K68: 0 | M68: 0 | O68: =SMALL(E68:M68,COUNTIF(E68:M68,0)+1) -> 20000 | P68: 0 | Q68: 0 | R68: 0 | S68: 0 | T68: 0 | U68: 0 | V68: 0 | W68: 자재 64
A69: 43C62A24017048D01F4015FD9C00865A88B55 | B69: 볼밸브 | C69: ∮20mm*0.98MPa, 수동식, STS | D69: 개 | E69: 23000 | F69: 834 | G69: 23000 | H69: 829 | I69: 23000 | J69: 772 | K69: 0 | M69: 0 | O69: =SMALL(E69:M69,COUNTIF(E69:M69,0)+1) -> 23000 | P69: 0 | Q69: 0 | R69: 0 | S69: 0 | T69: 0 | U69: 0 | V69: 0 | W69: 자재 65
A70: 43C62A24017048D01F4015FD9C00865A88B56 | B70: 볼밸브 | C70: ∮25mm*0.98MPa, 수동식, STS | D70: 개 | E70: 28000 | F70: 834 | G70: 28000 | H70: 829 | I70: 28000 | J70: 772 | K70: 0 | M70: 0 | O70: =SMALL(E70:M70,COUNTIF(E70:M70,0)+1) -> 28000 | P70: 0 | Q70: 0 | R70: 0 | S70: 0 | T70: 0 | U70: 0 | V70: 0 | W70: 자재 66
A71: 43C62A24017048D01F4015FD9C00865A88B50 | B71: 볼밸브 | C71: ∮40mm*0.98MPa, 수동식, STS | D71: 개 | E71: 48000 | F71: 834 | G71: 48000 | H71: 829 | I71: 48000 | J71: 772 | K71: 0 | M71: 0 | O71: =SMALL(E71:M71,COUNTIF(E71:M71,0)+1) -> 48000 | P71: 0 | Q71: 0 | R71: 0 | S71: 0 | T71: 0 | U71: 0 | V71: 0 | W71: 자재 67
A72: 43C62A24017048D01FC546385FC4F349DB95F | B72: 체크밸브 | C72: ∮15mm, 나사식, 스테인리스 | D72: 개 | E72: 60000 | F72: 834 | G72: 59830 | H72: 830 | I72: 60000 | J72: 773 | K72: 0 | M72: 0 | O72: =SMALL(E72:M72,COUNTIF(E72:M72,0)+1) -> 59830 | P72: 0 | Q72: 0 | R72: 0 | S72: 0 | T72: 0 | U72: 0 | V72: 0 | W72: 자재 68
A73: 43C62A24017048D01FD6280B0A9483EA02E21 | B73: 감압밸브 | C73: ∮25mm*0.98MPa, 냉온수, 나사 | D73: 개 | E73: 520000 | F73: 837 | G73: 274000 | H73: 845 | I73: 0 | K73: 0 | M73: 0 | O73: =SMALL(E73:M73,COUNTIF(E73:M73,0)+1) -> 274000 | P73: 0 | Q73: 0 | R73: 0 | S73: 0 | T73: 0 | U73: 0 | V73: 0 | W73: 자재 69
A74: 43C62A24017048D0E45633132D2733DCF22CA | B74: 공조덕트 | C74: 플렉시블, 알루미늄, ∮100mm | D74: M | E74: 0 | G74: 0 | I74: 3200 | J74: 975 | K74: 0 | M74: 0 | O74: =SMALL(E74:M74,COUNTIF(E74:M74,0)+1) -> 3200 | P74: 0 | Q74: 0 | R74: 0 | S74: 0 | T74: 0 | U74: 0 | V74: 0 | W74: 자재 70
A75: 43C62A24017048D0E45633132D2733DCF22C4 | B75: 공조덕트 | C75: 공조덕트, 플렉시블, 알루미늄, ∮150mm | D75: M | E75: 0 | G75: 4800 | H75: 984 | I75: 0 | K75: 0 | M75: 0 | O75: =SMALL(E75:M75,COUNTIF(E75:M75,0)+1) -> 4800 | P75: 0 | Q75: 0 | R75: 0 | S75: 0 | T75: 0 | U75: 0 | V75: 0 | W75: 자재 71
A76: 43C62A24017048D0E45633132D2733EEA14D6 | B76: 스파이럴덕트이음쇠 | C76: 볼륨댐퍼, ∮150mm(핸들포함) | D76: EA | E76: 0 | G76: 0 | I76: 75720 | J76: 1006 | K76: 0 | M76: 0 | O76: =SMALL(E76:M76,COUNTIF(E76:M76,0)+1) -> 75720 | P76: 0 | Q76: 0 | R76: 0 | S76: 0 | T76: 0 | U76: 0 | V76: 0 | W76: 자재 72
A77: 43C62A24017048D0E45633133F1CA34083D7A | B77: 캔버스 | C77: t1.2mm | D77: ㎡ | E77: 0 | G77: 0 | I77: 0 | K77: 0 | M77: 5780 | O77: =SMALL(E77:M77,COUNTIF(E77:M77,0)+1) -> 5780 | P77: 0 | Q77: 0 | R77: 0 | S77: 0 | T77: 0 | U77: 0 | V77: 0 | W77: 자재 73
A78: 43C62A24017048D0E4563302AD206D36484D4 | B78: 스테인레스닥트 크로스비딩 가공 | C78: 0.6T(크로스비딩 가공) | D78: ㎡ | E78: 0 | G78: 0 | I78: 0 | K78: 90343 | L78: 조달청 | M78: 0 | O78: =SMALL(E78:M78,COUNTIF(E78:M78,0)+1) -> 90343 | P78: 0 | Q78: 0 | R78: 0 | S78: 0 | T78: 0 | U78: 0 | V78: 0 | W78: 자재 74 | X78: 조달청
A79: 43C62A24017048D0E4563302AD206D36484D5 | B79: 스테인레스닥트 크로스비딩 가공 | C79: 0.8T(크로스비딩 가공) | D79: ㎡ | E79: 0 | G79: 0 | I79: 0 | K79: 102041 | L79: 조달청 | M79: 0 | O79: =SMALL(E79:M79,COUNTIF(E79:M79,0)+1) -> 102041 | P79: 0 | Q79: 0 | R79: 0 | S79: 0 | T79: 0 | U79: 0 | V79: 0 | W79: 자재 75 | X79: 조달청
A80: 43C62A24017048E2C7939DC3F6DD71DEF65A0 | B80: 배관용탄소강관 | C80: SPPG(백관), ∮20mm, 반제품 | D80: M | E80: 3500 | F80: 708 | G80: 3777 | H80: 755 | I80: 3712 | J80: 664 | K80: 0 | M80: 0 | O80: =SMALL(E80:M80,COUNTIF(E80:M80,0)+1) -> 3500 | P80: 0 | Q80: 0 | R80: 0 | S80: 0 | T80: 0 | U80: 0 | V80: 0 | W80: 자재 76
A81: 43C62A24017048E2C7939DC3F6DD71DEF65A2 | B81: 배관용탄소강관 | C81: SPPG(백관), ∮32mm, 반제품 | D81: M | E81: 6560 | F81: 708 | G81: 7088 | H81: 755 | I81: 6976 | J81: 664 | K81: 0 | M81: 0 | O81: =SMALL(E81:M81,COUNTIF(E81:M81,0)+1) -> 6560 | P81: 0 | Q81: 0 | R81: 0 | S81: 0 | T81: 0 | U81: 0 | V81: 0 | W81: 자재 77
A82: 43C62A24017048E2C7939DC3F6DD71DEF65A5 | B82: 배관용탄소강관 | C82: SPPG(백관), ∮40mm, 반제품 | D82: M | E82: 7530 | F82: 708 | G82: 8139 | H82: 755 | I82: 8013 | J82: 664 | K82: 0 | M82: 0 | O82: =SMALL(E82:M82,COUNTIF(E82:M82,0)+1) -> 7530 | P82: 0 | Q82: 0 | R82: 0 | S82: 0 | T82: 0 | U82: 0 | V82: 0 | W82: 자재 78
A83: 43C62A24017048E2C7939DC3F6DD71DEF65A4 | B83: 배관용탄소강관 | C83: SPPG(백관), ∮50mm, 반제품 | D83: M | E83: 10600 | F83: 708 | G83: 11464 | H83: 755 | I83: 11283 | J83: 664 | K83: 0 | M83: 0 | O83: =SMALL(E83:M83,COUNTIF(E83:M83,0)+1) -> 10600 | P83: 0 | Q83: 0 | R83: 0 | S83: 0 | T83: 0 | U83: 0 | V83: 0 | W83: 자재 79
A84: 43C62A24017048E2C7939DC3F6DD71DEF65A7 | B84: 배관용탄소강관 | C84: SPPG(백관), ∮65mm, 반제품 | D84: M | E84: 13550 | F84: 708 | G84: 14643 | H84: 755 | I84: 14427 | J84: 664 | K84: 0 | M84: 0 | O84: =SMALL(E84:M84,COUNTIF(E84:M84,0)+1) -> 13550 | P84: 0 | Q84: 0 | R84: 0 | S84: 0 | T84: 0 | U84: 0 | V84: 0 | W84: 자재 80
A85: 43C62A24017048E2C7816AD268D11B4EF38BF | B85: 일반배관용스테인리스강관 | C85: 일반배관용스테인리스강관, K형, ∮13mm | D85: M | E85: 2020 | F85: 744 | G85: 2040 | H85: 781 | I85: 2190 | J85: 701 | K85: 0 | M85: 0 | O85: =SMALL(E85:M85,COUNTIF(E85:M85,0)+1) -> 2020 | P85: 0 | Q85: 0 | R85: 0 | S85: 0 | T85: 0 | U85: 0 | V85: 0 | W85: 자재 81
A86: 43C62A24017048E2C7816AD268D11B4EF3B0D | B86: 일반배관용스테인리스강관 | C86: 일반배관용스테인리스강관, K형, ∮40mm | D86: M | E86: 7270 | F86: 744 | G86: 7360 | H86: 781 | I86: 7920 | J86: 701 | K86: 0 | M86: 0 | O86: =SMALL(E86:M86,COUNTIF(E86:M86,0)+1) -> 7270 | P86: 0 | Q86: 0 | R86: 0 | S86: 0 | T86: 0 | U86: 0 | V86: 0 | W86: 자재 82
A87: 43C62A24017048E2C7816AD268D11B4E997A2 | B87: 배관용스테인리스강관 | C87: ∮15*3mm | D87: M | E87: 8050 | F87: 744 | G87: 8608 | H87: 782 | I87: 9058 | J87: 701 | K87: 0 | M87: 0 | O87: =SMALL(E87:M87,COUNTIF(E87:M87,0)+1) -> 8050 | P87: 0 | Q87: 0 | R87: 0 | S87: 0 | T87: 0 | U87: 0 | V87: 0 | W87: 자재 83
A88: 43C62A24017048E2C7816AD268D11B4E99684 | B88: 배관용스테인리스강관 | C88: ∮20*3mm | D88: M | E88: 10400 | F88: 744 | G88: 11140 | H88: 782 | I88: 11722 | J88: 701 | K88: 0 | M88: 0 | O88: =SMALL(E88:M88,COUNTIF(E88:M88,0)+1) -> 10400 | P88: 0 | Q88: 0 | R88: 0 | S88: 0 | T88: 0 | U88: 0 | V88: 0 | W88: 자재 84
A89: 43C62A24017048E2C7816AD268D11B4E99685 | B89: 배관용스테인리스강관 | C89: ∮25*3mm | D89: M | E89: 12740 | F89: 744 | G89: 13622 | H89: 782 | I89: 14334 | J89: 701 | K89: 0 | M89: 0 | O89: =SMALL(E89:M89,COUNTIF(E89:M89,0)+1) -> 12740 | P89: 0 | Q89: 0 | R89: 0 | S89: 0 | T89: 0 | U89: 0 | V89: 0 | W89: 자재 85
A90: 43C62A24017048E2C7816AD268D11B4E99686 | B90: 배관용스테인리스강관 | C90: ∮32*3mm | D90: M | E90: 16310 | F90: 744 | G90: 17445 | H90: 782 | I90: 18357 | J90: 701 | K90: 0 | M90: 0 | O90: =SMALL(E90:M90,COUNTIF(E90:M90,0)+1) -> 16310 | P90: 0 | Q90: 0 | R90: 0 | S90: 0 | T90: 0 | U90: 0 | V90: 0 | W90: 자재 86
A91: 43C62A24017048E2C7816AD268D11B4E99687 | B91: 배관용스테인리스강관 | C91: ∮40*3mm | D91: M | E91: 18730 | F91: 744 | G91: 20037 | H91: 782 | I91: 21085 | J91: 701 | K91: 0 | M91: 0 | O91: =SMALL(E91:M91,COUNTIF(E91:M91,0)+1) -> 18730 | P91: 0 | Q91: 0 | R91: 0 | S91: 0 | T91: 0 | U91: 0 | V91: 0 | W91: 자재 87
... A124: 43C62A24017048E2E2EC519C5632BC766F579 | B124: 일반배관용스테인리스강관관이음쇠 | C124: ∮40mm, 유니언, 나사식 | D124: 개 | E124: 24853 | F124: 749 | G124: 24853 | H124: 778 | I124: 24853 | J124: 705 | K124: 0 | M124: 0 | O124: =SMALL(E124:M124,COUNTIF(E124:M124,0)+1) -> 24853 | P124: 0 | Q124: 0 | R124: 0 | S124: 0 | T124: 0 | U124: 0 | V124: 0 | W124: 자재 120
A125: 43C62A24017048E2E2EC519C5632BC7678635 | B125: 일반배관용스테인리스강관관이음쇠 | C125: ∮13*12.7mm, K-유니언, SP | D125: 개 | E125: 16000 | F125: 751 | G125: 0 | I125: 16008 | J125: 701 | K125: 0 | M125: 0 | O125: =SMALL(E125:M125,COUNTIF(E125:M125,0)+1) -> 16000 | P125: 0 | Q125: 0 | R125: 0 | S125: 0 | T125: 0 | U125: 0 | V125: 0 | W125: 자재 121
A126: 43C62A24017048E2E2EC519C5632BC76787DB | B126: 일반배관용스테인리스강관관이음쇠 | C126: ∮15mm, 니플, 나사식 | D126: 개 | E126: 3452 | F126: 749 | G126: 3452 | H126: 778 | I126: 3452 | J126: 705 | K126: 0 | M126: 0 | O126: =SMALL(E126:M126,COUNTIF(E126:M126,0)+1) -> 3452 | P126: 0 | Q126: 0 | R126: 0 | S126: 0 | T126: 0 | U126: 0 | V126: 0 | W126: 자재 122
A127: 43C62A24017048E2E2EC519C5632BC76787D4 | B127: 일반배관용스테인리스강관관이음쇠 | C127: ∮20mm, 니플, 나사식 | D127: 개 | E127: 4418 | F127: 749 | G127: 4418 | H127: 778 | I127: 4418 | J127: 705 | K127: 0 | M127: 0 | O127: =SMALL(E127:M127,COUNTIF(E127:M127,0)+1) -> 4418 | P127: 0 | Q127: 0 | R127: 0 | S127: 0 | T127: 0 | U127: 0 | V127: 0 | W127: 자재 123
A128: 43C62A24017048E2E2EC519C5632BC76787D5 | B128: 일반배관용스테인리스강관관이음쇠 | C128: ∮25mm, 니플, 나사식 | D128: 개 | E128: 6371 | F128: 749 | G128: 6371 | H128: 778 | I128: 6371 | J128: 705 | K128: 0 | M128: 0 | O128: =SMALL(E128:M128,COUNTIF(E128:M128,0)+1) -> 6371 | P128: 0 | Q128: 0 | R128: 0 | S128: 0 | T128: 0 | U128: 0 | V128: 0 | W128: 자재 124
A129: 43C62A24017048E2E2EC519C5632BC76780AC | B129: 일반배관용스테인리스강관관이음쇠 | C129: ∮40mm, 니플, 나사식 | D129: 개 | E129: 12641 | F129: 749 | G129: 12641 | H129: 778 | I129: 12641 | J129: 705 | K129: 0 | M129: 0 | O129: =SMALL(E129:M129,COUNTIF(E129:M129,0)+1) -> 12641 | P129: 0 | Q129: 0 | R129: 0 | S129: 0 | T129: 0 | U129: 0 | V129: 0 | W129: 자재 125
A130: 43C62A24017048E2E2EC519C5632BC76780AA | B130: 일반배관용스테인리스강관관이음쇠 | C130: ∮25mm, 소켓, 나사식 | D130: 개 | E130: 5799 | F130: 749 | G130: 5799 | H130: 778 | I130: 5799 | J130: 705 | K130: 0 | M130: 0 | O130: =SMALL(E130:M130,COUNTIF(E130:M130,0)+1) -> 5799 | P130: 0 | Q130: 0 | R130: 0 | S130: 0 | T130: 0 | U130: 0 | V130: 0 | W130: 자재 126
A131: 43C62A24017048E2E2EC519C5632BC76780A5 | B131: 일반배관용스테인리스강관관이음쇠 | C131: ∮32mm, 소켓, 나사식 | D131: 개 | E131: 8796 | F131: 749 | G131: 8796 | H131: 778 | I131: 8796 | J131: 705 | K131: 0 | M131: 0 | O131: =SMALL(E131:M131,COUNTIF(E131:M131,0)+1) -> 8796 | P131: 0 | Q131: 0 | R131: 0 | S131: 0 | T131: 0 | U131: 0 | V131: 0 | W131: 자재 127
A132: 43C62A24017048E2E2EC519C5632BC76780A4 | B132: 일반배관용스테인리스강관관이음쇠 | C132: ∮40mm, 소켓, 나사식 | D132: 개 | E132: 11486 | F132: 749 | G132: 11486 | H132: 778 | I132: 11486 | J132: 705 | K132: 0 | M132: 0 | O132: =SMALL(E132:M132,COUNTIF(E132:M132,0)+1) -> 11486 | P132: 0 | Q132: 0 | R132: 0 | S132: 0 | T132: 0 | U132: 0 | V132: 0 | W132: 자재 128
...

Sheet 품질관리비
E1: 초급기술자인건비 | G1: 일수(월당) | H1: 공사개월수 | I1: 품질관리기술인 인건비
E2: 159901 | G2: 22 | H2: 3 | I2: =E2*G2*H2 -> 10553466
A3: 공사명 : 전주효문중 식생활관 리모델링 기계설비공사
A4: 품 명 | B4: 규 격 | C4: 단위 | D4: 수량 | E4: 재 료 비 | G4: 노 무 비 | I4: 경 비 | K4: 합 계 | M4: 비 고 | N4: 품목코드 | O4: 변수 | P4: 설정 | Q4: 공종코드 | R4: 일위 | S4: 단산 | T4: 자재 | U4: 손료적용 | V4: 손료저장 | W4: 적용율 | X4: JUK1 | Y4: JUK2 | Z4: JUK3 | AA4: JUK4 | AB4: JUK5 | AC4: JUK6 | AD4: JUK7 | AE4: JUK8 | AF4: JUK9 | AG4: JUK10 | AH4: JUK11 | AI4: JUK12 | AJ4: JUK13 | AK4: JUK14 | AL4: JUK15 | AM4: JUK16 | AN4: JUK17 | AO4: JUK18 | AP4: JUK19 | AQ4: JUK20 | AR4: 자재구분 | AS4: 공종구분 | AT4: 공종레벨 | AU4: 공종+자재 | AV4: 고유번호
E5: 단 가 | F5: 금 액 | G5: 단 가 | H5: 금 액 | I5: 단 가 | J5: 금 액 | K5: 단 가 | L5: 금 액
A6: 1. 품질시험비 | Q6: 0101
A7: 품질시험비 | B7: 재료비*0.5% | C7: 식 | D7: 1 | K7: =TRUNC(E7+G7+I7, 0) -> 0 | L7: =TRUNC(F7+H7+J7, 0) -> 0 | N7: 56CA228228BFA849A101FAC624E8 | R7: T | S7: F | T7: F | AU7: 010156CA228228BFA849A101FAC624E8 | AV7: 3 | AW7: 갑지의 재료비*0.5%
A8: [ 합 계 ] | L8: =SUM(L7:L7) -> 0 | N8: TOTAL
A10: 2. 품질활동비 | K10: =TRUNC(E10+G10+I10, 0) -> 0 | L10: =TRUNC(F10+H10+J10, 0) -> 0 | N10: 5140F26268105768710C05B6181A | R10: F | S10: F | T10: T | AU10: 01015140F26268105768710C05B6181A | AV10: 26
A11: 품질관련 문서작성 및 관리 관련 비용 | B11: 품질관련기술인 인건비의 1% | C11: 식 | D11: 1 | K11: =TRUNC(E11+G11+I11, 0) -> 0 | L11: =TRUNC(F11+H11+J11, 0) -> 0 | N11: 5140F26268105768710C05B6181B | R11: F | S11: F | T11: T | AU11: 01015140F26268105768710C05B6181B | AV11: 27
A12: 품질관련 교육.훈련비 | B12: 품질관리 건설기술인 인건비의 1% | C12: 식 | D12: 1 | K12: =TRUNC(E12+G12+I12, 0) -> 0 | L12: =TRUNC(F12+H12+J12, 0) -> 0 | N12: 56CA228228BFA849A101FAC6258F | R12: T | S12: F | T12: F | AU12: 010156CA228228BFA849A101FAC6258F | AV12: 28
A13: 품질검사비 | B13: 품질시험비의 1% | C13: 식 | D13: 1 | K13: =TRUNC(E13+G13+I13, 0) -> 0 | L13: =TRUNC(F13+H13+J13, 0) -> 0
A14: 그 밖의 비용 | B14: 품질관리활동비 총액의 1% 이내 | C14: 식 | D14: 1 | K14: =TRUNC(E14+G14+I14, 0) -> 0 | L14: =TRUNC(F14+H14+J14, 0) -> 0
K15: =TRUNC(E15+G15+I15, 0) -> 0 | L15: =TRUNC(F15+H15+J15, 0) -> 0
A16: 3. 품질관리시험실 | K16: =TRUNC(E16+G16+I16, 0) -> 0 | L16: =TRUNC(F16+H16+J16, 0) -> 0
A17: 컨테이너형 가설창고 설치 및 해체(품질관리시험실) | B17: 3.0*6.0m, 3개월 | C17: 개소 | D17: 1 | K17: =TRUNC(E17+G17+I17, 0) -> 0 | L17: =TRUNC(F17+H17+J17, 0) -> 0 | AW17: 컨테이너 단가 3개월짜리로 수정함
F18: =TRUNC(E18*D18, 0) -> 0 | H18: =TRUNC(G18*D18, 0) -> 0 | J18: =TRUNC(I18*D18, 0) -> 0 | K18: =TRUNC(E18+G18+I18, 0) -> 0 | L18: =TRUNC(F18+H18+J18, 0) -> 0
F20: =TRUNC(E20*D20, 0) -> 0 | H20: =TRUNC(G20*D20, 0) -> 0 | J20: =TRUNC(I20*D20, 0) -> 0 | K20: =TRUNC(E20+G20+I20, 0) -> 0 | L20: =TRUNC(F20+H20+J20, 0) -> 0
F21: =TRUNC(E21*D21, 0) -> 0 | H21: =TRUNC(G21*D21, 0) -> 0 | J21: =TRUNC(I21*D21, 0) -> 0 | K21: =TRUNC(E21+G21+I21, 0) -> 0 | L21: =TRUNC(F21+H21+J21, 0) -> 0
F22: =TRUNC(E22*D22, 0) -> 0 | H22: =TRUNC(G22*D22, 0) -> 0 | J22: =TRUNC(I22*D22, 0) -> 0 | K22: =TRUNC(E22+G22+I22, 0) -> 0 | L22: =TRUNC(F22+H22+J22, 0) -> 0
F23: =TRUNC(E23*D23, 0) -> 0 | H23: =TRUNC(G23*D23, 0) -> 0 | J23: =TRUNC(I23*D23, 0) -> 0 | K23: =TRUNC(E23+G23+I23, 0) -> 0 | L23: =TRUNC(F23+H23+J23, 0) -> 0
F24: =TRUNC(E24*D24, 0) -> 0 | H24: =TRUNC(G24*D24, 0) -> 0 | J24: =TRUNC(I24*D24, 0) -> 0 | K24: =TRUNC(E24+G24+I24, 0) -> 0 | L24: =TRUNC(F24+H24+J24, 0) -> 0
F25: =TRUNC(E25*D25, 0) -> 0 | H25: =TRUNC(G25*D25, 0) -> 0 | J25: =TRUNC(I25*D25, 0) -> 0 | K25: =TRUNC(E25+G25+I25, 0) -> 0 | L25: =TRUNC(F25+H25+J25, 0) -> 0
F26: =TRUNC(E26*D26, 0) -> 0 | H26: =TRUNC(G26*D26, 0) -> 0 | J26: =TRUNC(I26*D26, 0) -> 0 | K26: =TRUNC(E26+G26+I26, 0) -> 0 | L26: =TRUNC(F26+H26+J26, 0) -> 0
F27: =TRUNC(E27*D27, 0) -> 0 | H27: =TRUNC(G27*D27, 0) -> 0 | J27: =TRUNC(I27*D27, 0) -> 0 | K27: =TRUNC(E27+G27+I27, 0) -> 0 | L27: =TRUNC(F27+H27+J27, 0) -> 0
F28: =TRUNC(E28*D28, 0) -> 0 | H28: =TRUNC(G28*D28, 0) -> 0 | J28: =TRUNC(I28*D28, 0) -> 0 | K28: =TRUNC(E28+G28+I28, 0) -> 0 | L28: =TRUNC(F28+H28+J28, 0) -> 0
A29: [ 합 계 ] | F29: =SUM(F7:F28) -> 0 | H29: =SUM(H7:H28) -> 0 | J29: =SUM(J8+J11+J12+J13+J14+J17) -> 0 | L29: =SUM(L8+L11+L12+L13+L14+L17) -> 0 | N29: TOTAL

Sheet  공사설정 
A1: 이 Sheet는 수정하지 마십시요
A2: 공사구분 | B2: C | C2: 타이틀
A3: 확정내역 | B3: 원내역
A4: 자재단가적용 | B4: 5
A5: 경비단가적용 | B5: 5
A6: 품목코드형식 | B6: XXXX-XXXX-XXXXXXXXX
A7: 내역금액소수점처리 | B7: C | C7: 1
A8: 일위대가내역소수점처리 | B8: C | C8: 1
A9: 단가명 | B9: 물가자료 | C9: 거래가격 | D9: 물가정보 | E9: 조사가격1 | F9: 조사가격2 | G9: TTTTT
A10: 환율 | B10: 1088 | C10: 0 | D10: 0
A11: 시간당작업량 | B11: R | C11: 4
A12: 1회 사이클시간 | B12: R | C12: 4
A13: 시간당 작업사이클 | B13: R | C13: 3
A14: 일반변수 | B14: C | C14: 5
A15: 시간당 노임산출 계수 | B15: A | C15: 1/8*16/12*25/20 | D15: 1/8*16/12*25/20 | E15: 1/8*16/12*25/20 | F15: 1
A16: 재료비 할증 계수 | B16: 1.11 | C16: 1.12
A17: 노무비 할증 계수 | B17: 1 | C17: 1.5 | D17: 1.16 | E17: 1.6 | F17: 1.6 | G17: 1.6 | H17: 1.94 | I17: 1.94 | J17: 1.94 | K17: 1 | L17: 1 | M17: 1
A18: 경비 할증 계수 | B18: 1.25 | C18: 1.071
A19: 내역,일위대가 품명,규격,단위 따로적용
A20: 내역단가 소수점처리 | B20: C | C20: 1
A21: 코드 | B21: 공종구분명 | C21: 원가비목코드
A22: 1 | B22: 작 업 부 산 물 | C22: A3
A23: 2 | B23: 운 반 비 | C23: C1
A24: 3 | B24: 관 급 자 재 비 | C24: DJ
A25: 4 | B25: 사 급 자 재 비 | C25: D3
A26: 5 | B26: 외 자 재
A27: 6 | B27: 폐기물처리비
A28: 7 | B28: ...
A29: 8 | B29: ...
A30: 9 | B30: ...
A31: A | B31: ....
A32: B | B32: .....
A33: C | B33: ....
A34: D | B34: ....
A35: E | B35: ....
A36: F | B36: ....
A37: G | B37: ....
A38: H | B38: ....
A39: I | B39: ....
A40: J | B40: ....
A43: 단가 순서 | B43: 1234

Sheet Sheet1
