Workbook

Sheet 원가계산서
B1: 공 사 원 가 계 산 서
B2: 공사명 : 2026학년도 전주효문중 식생활관 리모델링 기계설비공사
B3: 공사금액 : | D3: ="금:"&TEXT(E34,"#,###원 (금"&NUMBERSTRING(E34,1)&"원)") -> 금:원 (금영원)
B4: 비 목 | E4: 금 액 | F4: 구 성 비 | G4: 비 고
A5: A1 | B5: 내 역 서 | C5: 재 료 비 | D5: 직 접 재 료 비
A6: A2 | D6: 간 접 재 료 비
A7: A3 | D7: 작업설, 부산물(△)
A8: AS | D8: [ 소 계 ]
A9: B1 | C9: 노 무 비 | D9: 직 접 노 무 비
A10: B2 | D10: 간 접 노 무 비 | F10: 직접노무비 * 17.5%
A11: BS | D11: [ 소 계 ]
A12: C2 | C12: 경 비 | D12: 기 계 경 비
A13: C4 | D13: 산 재 보 험 료 | F13: 노무비 * 3.56%
A14: C5 | D14: 고 용 보 험 료 | F14: 노무비 * 1.01%
A15: C6 | D15: 국민 건강 보험료 | F15: 직접노무비 * 3.595%
A16: C7 | D16: 국민 연금 보험료 | F16: 직접노무비 * 4.75%
A17: CB | D17: 노인장기요양보험료 | F17: 건강보험료 * 13.14%
A18: C8 | D18: 퇴직 공제 부금비 | F18: 직접노무비 * 2.3% | G18: 50억원이상 공사
A19: CA | D19: 산업안전보건관리비 | F19: (재료비+직노) * 3.11% | G19: 2천만원이상 공사
A20: CH | D20: 환 경 보 전 비 | F20: (재료비+직노+기계경비) * 0.3%
A21: CG | D21: 기 타 경 비 | F21: (재료비+노무비) * 5% | G21: 수도광열비 0.14%포함
D22: 폐 기 물 처 리 비
D23: 품 질 관 리 비 | F23: 산출단가 적용 | G23: 2억원이상 공사
D24: 석 면 분 담 금 | F24: 노무비 * 0.006%
D25: 임금채권 부담금 | F25: 노무비 * 0.09%
A26: CS | D26: [ 소 계 ]
A27: S1 | B27: 계
A28: D1 | B28: 일 반 관 리 비 | F28: 계 * 8%
A29: D2 | B29: 이 윤 | F29: (노무비+경비+일반관리비) * 15%
A30: D9 | B30: 공 급 가 액
A31: DB | B31: 부 가 가 치 세 | F31: 공급가액 * 10%
B32: 도 급 공 사
B33: 관 급 자 재 | F33: 배기후드,급,배기휀,바닥난방,공기순환기
A34: S2 | B34: 총 공 사 비

Sheet 공종별집계표
A1: 공 종 별 집 계 표
A2: [ 2026학년도 전주효문중 식생활관 리모델링 기계설비공사 ]
A3: 품 명 | B3: 규 격 | C3: 단위 | D3: 수량 | E3: 재 료 비 | G3: 노 무 비 | I3: 경 비 | K3: 합 계 | M3: 비 고 | N3: 공종코드 | O3: 변수 | P3: 상위공종 | Q3: 공종구분 | R3: 공종레벨 | S3: 공종소계 | T3: 원가계산서 연결금액
E4: 단 가 | F4: 금 액 | G4: 단 가 | H4: 금 액 | I4: 단 가 | J4: 금 액 | K4: 단 가 | L4: 금 액
A5: 2026학년도 전주효문중 식생활관 리모델링 기계설비공사 | D5: 1 | E5: =F6+F7+F8+F9+F10+F11+F12+F13 -> 0 | F5: =E5*D5 -> 0 | G5: =H6+H7+H8+H9+H10+H11+H12+H13 -> 0 | H5: =G5*D5 -> 0 | I5: =J6+J7+J8+J9+J10+J11+J12+J13 -> 0 | J5: =I5*D5 -> 0 | K5: =E5+G5+I5 -> 0 | L5: =F5+H5+J5 -> 0 | N5: 01 | R5: 1
A6: 1. 장비 및 위생기구 설치공사 | D6: 1 | E6: =공종별내역서!F51 -> 0 | F6: =E6*D6 -> 0 | G6: =공종별내역서!H51 -> 0 | H6: =G6*D6 -> 0 | I6: =공종별내역서!J51 -> 0 | J6: =I6*D6 -> 0 | K6: =E6+G6+I6 -> 0 | L6: =F6+H6+J6 -> 0 | N6: 0101 | P6: 01 | R6: 2
A7: 2. 급수, 급탕 배관공사 | D7: 1 | E7: =공종별내역서!F123 -> 0 | F7: =E7*D7 -> 0 | G7: =공종별내역서!H123 -> 0 | H7: =G7*D7 -> 0 | I7: =공종별내역서!J123 -> 0 | J7: =I7*D7 -> 0 | K7: =E7+G7+I7 -> 0 | L7: =F7+H7+J7 -> 0 | N7: 0102 | P7: 01 | R7: 2
A8: 3. 오수, 배수, 통기 배관공사 | D8: 1 | E8: =공종별내역서!F171 -> 0 | F8: =E8*D8 -> 0 | G8: =공종별내역서!H171 -> 0 | H8: =G8*D8 -> 0 | I8: =공종별내역서!J171 -> 0 | J8: =I8*D8 -> 0 | K8: =E8+G8+I8 -> 0 | L8: =F8+H8+J8 -> 0 | N8: 0103 | P8: 01 | R8: 2
A9: 4. 환기 배관공사 | D9: 1 | E9: =공종별내역서!F195 -> 0 | F9: =E9*D9 -> 0 | G9: =공종별내역서!H195 -> 0 | H9: =G9*D9 -> 0 | I9: =공종별내역서!J195 -> 0 | J9: =I9*D9 -> 0 | K9: =E9+G9+I9 -> 0 | L9: =F9+H9+J9 -> 0 | N9: 0104 | P9: 01 | R9: 2
A10: 5. 배기덕트 설치공사 | D10: 1 | E10: =공종별내역서!F243 -> 0 | F10: =E10*D10 -> 0 | G10: =공종별내역서!H243 -> 0 | H10: =G10*D10 -> 0 | I10: =공종별내역서!J243 -> 0 | J10: =I10*D10 -> 0 | K10: =E10+G10+I10 -> 0 | L10: =F10+H10+J10 -> 0 | N10: 0105 | P10: 01 | R10: 2
A11: 6. 급기덕트 설치공사 | D11: 1 | E11: =공종별내역서!F267 -> 0 | F11: =E11*D11 -> 0 | G11: =공종별내역서!H267 -> 0 | H11: =G11*D11 -> 0 | I11: =공종별내역서!J267 -> 0 | J11: =I11*D11 -> 0 | K11: =E11+G11+I11 -> 0 | L11: =F11+H11+J11 -> 0 | N11: 0106 | P11: 01 | R11: 2
A12: 7. 가스 배관공사 | D12: 1 | E12: =공종별내역서!F339 -> 0 | F12: =E12*D12 -> 0 | G12: =공종별내역서!H339 -> 0 | H12: =G12*D12 -> 0 | I12: =공종별내역서!J339 -> 0 | J12: =I12*D12 -> 0 | K12: =E12+G12+I12 -> 0 | L12: =F12+H12+J12 -> 0 | N12: 0107 | P12: 01 | R12: 2
A13: 8. 철거공사 | D13: 1 | E13: =공종별내역서!F363 -> 0 | F13: =E13*D13 -> 0 | G13: =공종별내역서!H363 -> 0 | H13: =G13*D13 -> 0 | I13: =공종별내역서!J363 -> 0 | J13: =I13*D13 -> 0 | K13: =E13+G13+I13 -> 0 | L13: =F13+H13+J13 -> 0 | N13: 0108 | P13: 01 | R13: 2
A14: 관급자재 | D14: 1 | E14: =F15+F16+F17+F18 -> 0 | F14: =E14*D14 -> 0 | G14: =H15+H16+H17+H18 -> 0 | H14: =G14*D14 -> 0 | I14: =J15+J16+J17+J18 -> 0 | J14: =I14*D14 -> 0 | K14: =E14+G14+I14 -> 0 | L14: =F14+H14+J14 -> 0 | N14: 0109 | Q14: 3 | R14: 2 | T14: =L14*1 -> 0
A15: 1. 배기후드 설치공사 | D15: 1 | E15: =공종별내역서!F387 -> 0 | F15: =E15*D15 -> 0 | G15: =공종별내역서!H387 -> 0 | H15: =G15*D15 -> 0 | I15: =공종별내역서!J387 -> 0 | J15: =I15*D15 -> 0 | K15: =E15+G15+I15 -> 0 | L15: =F15+H15+J15 -> 0 | N15: 010901 | P15: 0109 | R15: 3
A16: 2. 주방 급,배기휀 설치공사 | D16: 1 | H16: =G16*D16 -> 0 | J16: =I16*D16 -> 0 | K16: =E16+G16+I16 -> 0 | L16: =F16+H16+J16 -> 0 | N16: 010902 | P16: 0109 | R16: 3
A17: 3. 바닥난방 설치공사 | D17: 1 | H17: =G17*D17 -> 0 | J17: =I17*D17 -> 0 | K17: =E17+G17+I17 -> 0 | L17: =F17+H17+J17 -> 0 | N17: 010903 | P17: 0109 | R17: 3
A18: 4. 공기순환기 설치공사 | D18: 1 | H18: =G18*D18 -> 0 | J18: =I18*D18 -> 0 | K18: =E18+G18+I18 -> 0 | L18: =F18+H18+J18 -> 0 | N18: 010904 | P18: 0109 | R18: 3
A19: 5. 주방자동소화장치 설치공사(추후공사) | D19: 1 | E19: =공종별내역서!F411 -> 0 | F19: =E19*D19 -> 0 | G19: =공종별내역서!H411 -> 0 | H19: =G19*D19 -> 0 | I19: =공종별내역서!J411 -> 0 | J19: =I19*D19 -> 0 | K19: =E19+G19+I19 -> 0 | L19: =F19+H19+J19 -> 0 | N19: 010905 | Q19: 4 | R19: 3 | T19: =L19*1 -> 0
A27: [ 합 계 ] | F27: =F5 -> 0 | H27: =H5 -> 0 | J27: =J5 -> 0 | L27: =L5 -> 0

Sheet 공종별내역서
A1: [ 2026학년도 전주효문중 식생활관 리모델링 기계설비공사 ]
A2: 품 명 | B2: 규 격 | C2: 단위 | D2: 수량 | E2: 재 료 비 | G2: 노 무 비 | I2: 경 비 | K2: 합 계 | M2: 비 고 | N2: 품목코드 | O2: 변수 | P2: 설정 | Q2: 공종코드 | R2: 일위 | S2: 단산 | T2: 자재 | U2: 손료적용 | V2: 손료저장 | W2: 적용율 | X2: JUK1 | Y2: JUK2 | Z2: JUK3 | AA2: JUK4 | AB2: JUK5 | AC2: JUK6 | AD2: JUK7 | AE2: JUK8 | AF2: JUK9 | AG2: JUK10 | AH2: JUK11 | AI2: JUK12 | AJ2: JUK13 | AK2: JUK14 | AL2: JUK15 | AM2: JUK16 | AN2: JUK17 | AO2: JUK18 | AP2: JUK19 | AQ2: JUK20 | AR2: 자재구분 | AS2: 공종구분 | AT2: 공종레벨 | AU2: 공종+자재 | AV2: 고유번호
E3: 단 가 | F3: 금 액 | G3: 단 가 | H3: 금 액 | I3: 단 가 | J3: 금 액 | K3: 단 가 | L3: 금 액
A4: 1. 장비 및 위생기구 설치공사 | Q4: 0101
A5: 에어커튼 | B5: L-900(리미트센서포함) | C5: 대 | D5: 7 | K5: =TRUNC(E5+G5+I5, 0) -> 0 | L5: =TRUNC(F5+H5+J5, 0) -> 0 | M5: 호표 75 | N5: 44532229010A3B4097F3A583B2287 | Q5: 0101 | R5: T | S5: F | T5: F | AU5: 010144532229010A3B4097F3A583B2287 | AV5: 16
A6: 가스온수기(콘덴싱,연도포함),1등급 | B6: 48,000kcal/hr | C6: 대 | D6: 2 | K6: =TRUNC(E6+G6+I6, 0) -> 0 | L6: =TRUNC(F6+H6+J6, 0) -> 0 | M6: 호표 109 | N6: 44532E2E015628408E96051223550 | Q6: 0101 | R6: T | S6: F | T6: F | AU6: 010144532E2E015628408E96051223550 | AV6: 18
A7: 가스온수기(이설) | B7: 48,000kcal/hr | C7: 대 | D7: 1 | K7: =TRUNC(E7+G7+I7, 0) -> 0 | L7: =TRUNC(F7+H7+J7, 0) -> 0 | M7: 호표 110 | N7: 44532E2E015628408E96051223551 | Q7: 0101 | R7: T | S7: F | T7: F | AU7: 010144532E2E015628408E96051223551 | AV7: 19
A8: 배기 덕트인라인휀,(휀+모터), 저소음형 | B8: 30CMM,D300*1HP | C8: 대 | D8: 2 | K8: =TRUNC(E8+G8+I8, 0) -> 0 | L8: =TRUNC(F8+H8+J8, 0) -> 0 | M8: 호표 70 | N8: 44532229010A5638FA574086D5085 | Q8: 0101 | R8: T | S8: F | T8: F | AU8: 010144532229010A5638FA574086D5085 | AV8: 20
A9: 배기 소형인라인휀(원형, 무덕트형) | B9: D150, 10CMM, 34mmaq, 140W | C9: 대 | D9: 1 | K9: =TRUNC(E9+G9+I9, 0) -> 0 | L9: =TRUNC(F9+H9+J9, 0) -> 0 | M9: 호표 71 | N9: 44532229010A5638FA574086C4993 | Q9: 0101 | R9: T | S9: F | T9: F | AU9: 010144532229010A5638FA574086C4993 | AV9: 21
A10: 환풍기(천장형) | B10: D150x3.5CMMx30W | C10: 대 | D10: 3 | K10: =TRUNC(E10+G10+I10, 0) -> 0 | L10: =TRUNC(F10+H10+J10, 0) -> 0 | M10: 호표 6 | N10: 44DE2C2B019CBC4DD341516187002 | Q10: 0101 | R10: T | S10: F | T10: F | AU10: 010144DE2C2B019CBC4DD341516187002 | AV10: 22
A11: 양변기(L/T),친환경 | B11: KSC 1210CR(초절수, 절수1등급) | C11: 조 | D11: 1 | K11: =TRUNC(E11+G11+I11, 0) -> 0 | L11: =TRUNC(F11+H11+J11, 0) -> 0 | M11: 호표 86 | N11: 44532F2C01B9439C32E1D121689D3 | Q11: 0101 | R11: T | S11: F | T11: F | AU11: 010144532F2C01B9439C32E1D121689D3 | AV11: 23
A12: 각형세면기,친환경 | B12: KSL 610(싱글레버식)(앵글밸브, 트랩, 폽업 포함, 수전제외) | C12: 조 | D12: 1 | K12: =TRUNC(E12+G12+I12, 0) -> 0 | L12: =TRUNC(F12+H12+J12, 0) -> 0 | M12: 호표 87 | N12: 44532F2C01B91645CD6F0828B3162 | Q12: 0101 | R12: T | S12: F | T12: F | AU12: 010144532F2C01B91645CD6F0828B3162 | AV12: 24
A13: 세면기수전 | B13: KLE670C,FL930C동등이상(절수 1등급) | C13: 개 | D13: 4 | K13: =TRUNC(E13+G13+I13, 0) -> 0 | L13: =TRUNC(F13+H13+J13, 0) -> 0 | M13: 호표 107 | N13: 44532F2D019758BB8F413BCC976B5 | Q13: 0101 | R13: T | S13: F | T13: F | AU13: 010144532F2D019758BB8F413BCC976B5 | AV13: 25
A14: 씽크수전 | B14: 싱글레버식(절수 1등급) | C14: 개 | D14: 12 | K14: =TRUNC(E14+G14+I14, 0) -> 0 | L14: =TRUNC(F14+H14+J14, 0) -> 0 | M14: 호표 102 | N14: 44532F2C01E6B692959E1F81C20E0 | Q14: 0101 | R14: T | S14: F | T14: F | AU14: 010144532F2C01E6B692959E1F81C20E0 | AV14: 26
A15: 샤워기(선반형 레인샤워) | B15: KRS-3000(동등이상)(절수 1등급) | C15: 개 | D15: 2 | K15: =TRUNC(E15+G15+I15, 0) -> 0 | L15: =TRUNC(F15+H15+J15, 0) -> 0 | M15: 호표 101 | N15: 44532F2C01E6B692959E1F81C218F | Q15: 0101 | R15: T | S15: F | T15: F | AU15: 010144532F2C01E6B692959E1F81C218F | AV15: 27
A16: 세탁수전(커프링) | B16: 15mm | C16: 개 | D16: 4 | K16: =TRUNC(E16+G16+I16, 0) -> 0 | L16: =TRUNC(F16+H16+J16, 0) -> 0 | M16: 호표 98 | N16: 44532F2C01E689652B2903CFC73FA | Q16: 0101 | R16: T | S16: F | T16: F | AU16: 010144532F2C01E689652B2903CFC73FA | AV16: 28
... A25: 냉온수비데(친환경) | B25: 건조기능포함 | C25: 개 | D25: 1 | K25: =TRUNC(E25+G25+I25, 0) -> 0 | L25: =TRUNC(F25+H25+J25, 0) -> 0 | M25: 호표 90 | N25: 44532F2C018C205C8A3639BA6C105 | Q25: 0101 | R25: T | S25: F | T25: F | AU25: 010144532F2C018C205C8A3639BA6C105 | AV25: 36
A26: 그리스트랩 (스텐 3칸) | B26: 900*600*600 | C26: 조 | D26: 2 | K26: =TRUNC(E26+G26+I26, 0) -> 0 | L26: =TRUNC(F26+H26+J26, 0) -> 0 | N26: 43D7272C0113CD2E88F5B81364CDF91B54996 | Q26: 0101 | R26: F | S26: F | T26: T | AU26: 010143D7272C0113CD2E88F5B81364CDF91B54996 | AV26: 38
A27: 호스릴 | B27: D15, 15M | C27: 개 | D27: 8 | K27: =TRUNC(E27+G27+I27, 0) -> 0 | L27: =TRUNC(F27+H27+J27, 0) -> 0 | M27: 호표 91 | N27: 44532F2C018C5DA0F8647D2C77A14 | Q27: 0101 | R27: T | S27: F | T27: F | AU27: 010144532F2C018C5DA0F8647D2C77A14 | AV27: 37
Q28: 0101
Q29: 0101
Q30: 0101
Q31: 0101
Q32: 0101
Q33: 0101
Q34: 0101
Q35: 0101
Q36: 0101
Q37: 0101
Q38: 0101
Q39: 0101
... Q50: 0101
A51: [ 합 계 ] | L51: =SUMIF(Q5:Q50,"0101",L5:L50) -> 0 | N51: TOTAL
A52: 2. 급수, 급탕 배관공사 | Q52: 0102
A53: 스테인리스강관옥내배관(K-TYPE) | B53: D40 | C53: M | D53: 31 | K53: =TRUNC(E53+G53+I53, 0) -> 0 | L53: =TRUNC(F53+H53+J53, 0) -> 0 | M53: 호표 28 | N53: 4453252C012DF942AEB7AC37C9F5D | Q53: 0102 | R53: T | S53: F | T53: F | AU53: 01024453252C012DF942AEB7AC37C9F5D | AV53: 40
A54: 스테인리스강관옥내배관(K-TYPE) | B54: D13 | C54: M | D54: 34 | K54: =TRUNC(E54+G54+I54, 0) -> 0 | L54: =TRUNC(F54+H54+J54, 0) -> 0 | M54: 호표 27 | N54: 4453252C012DF90B14F1E9961FAE8 | Q54: 0102 | R54: T | S54: F | T54: F | AU54: 01024453252C012DF90B14F1E9961FAE8 | AV54: 41
A55: 스테인리스강관옥내배관(용접) | B55: D40*3.0t | C55: M | D55: 28 | K55: =TRUNC(E55+G55+I55, 0) -> 0 | L55: =TRUNC(F55+H55+J55, 0) -> 0 | M55: 호표 34 | N55: 4453252C012DE8FE64EF32D991FF1 | Q55: 0102 | R55: T | S55: F | T55: F | AU55: 01024453252C012DE8FE64EF32D991FF1 | AV55: 42
A56: 스테인리스강관옥내배관(용접) | B56: D32*3.0t | C56: M | D56: 78 | K56: =TRUNC(E56+G56+I56, 0) -> 0 | L56: =TRUNC(F56+H56+J56, 0) -> 0 | M56: 호표 33 | N56: 4453252C012DE8EC15209E813358F | Q56: 0102 | R56: T | S56: F | T56: F | AU56: 01024453252C012DE8EC15209E813358F | AV56: 43
A57: 스테인리스강관옥내배관(용접) | B57: D25*3.0t | C57: M | D57: 32 | K57: =TRUNC(E57+G57+I57, 0) -> 0 | L57: =TRUNC(F57+H57+J57, 0) -> 0 | M57: 호표 32 | N57: 4453252C012DE895F7089BF2B153E | Q57: 0102 | R57: T | S57: F | T57: F | AU57: 01024453252C012DE895F7089BF2B153E | AV57: 44
A58: 스테인리스강관옥내배관(용접) | B58: D20*3.0t | C58: M | D58: 25 | K58: =TRUNC(E58+G58+I58, 0) -> 0 | L58: =TRUNC(F58+H58+J58, 0) -> 0 | M58: 호표 31 | N58: 4453252C012DE88B9AD265111F510 | Q58: 0102 | R58: T | S58: F | T58: F | AU58: 01024453252C012DE88B9AD265111F510 | AV58: 45
...

Sheet 일위대가목록
B1: 일 위 대 가 목 록
B2: [ 2026학년도 전주효문중 식생활관 리모델링 기계설비공사 ]
A3: 코 드 | B3: 품 명 | C3: 규 격 | D3: 단위 | E3: 재 료 비 | F3: 노 무 비 | G3: 경 비 | H3: 합 계 | I3: 번 호 | J3: 비 고 | K3: 노임계수 | L3: 할증 | M3: 품셈개요 | N3: 장비일위
A4: 43882F2F01522B6F23D9A919BD6C255157417AF | B4: 코아드릴 | C4: 15.24cm | D4: HR | E4: =일위대가!F6 -> 0 | F4: =일위대가!H6 -> 0 | G4: =일위대가!J6 -> 456 | H4: =E4+F4+G4 -> 456 | I4: 호표 1 | K4: A | N4: T
A5: 43D7272C019760F788B1309AEED0B | B5: 가스경보기 | C5: 공업용 | D5: 개소 | E5: =일위대가!F12 -> 350418 | F5: =일위대가!H12 -> 41813 | G5: =일위대가!J12 -> 0 | H5: =E5+F5+G5 -> 392231 | I5: 호표 2
A6: 43D7272C019760F788B1309ADDD3F | B6: 가스경보기 제어부 | C6: 6회로 | D6: 개소 | E6: =일위대가!F18 -> 133055 | F6: =일위대가!H18 -> 305562 | G6: =일위대가!J18 -> 0 | H6: =E6+F6+G6 -> 438617 | I6: 호표 3
A7: 43D7272C019760B81FAC418EC7FFF | B7: 가스누설차단밸브 | C7: D65 | D7: 개 | E7: =일위대가!F25 -> 652548 | F7: =일위대가!H25 -> 84958 | G7: =일위대가!J25 -> 0 | H7: =E7+F7+G7 -> 737506 | I7: 호표 4
A8: 44952C2F01A2D47DC409577975103 | B8: 조합페인트칠 | C8: 철재면, 2회, 1급 | D8: ㎡ | E8: =일위대가!F33 -> 1850 | F8: =일위대가!H33 -> 12110 | G8: =일위대가!J33 -> 0 | H8: =E8+F8+G8 -> 13960 | I8: 호표 5
A9: 44DE2C2B019CBC4DD341516187002 | B9: 환풍기(천장형) | C9: D150x3.5CMMx30W | D9: 대 | E9: =일위대가!F40 -> 47298 | F9: =일위대가!H40 -> 36604 | G9: =일위대가!J40 -> 0 | H9: =E9+F9+G9 -> 83902 | I9: 호표 6
A10: 44DE2C2B019CBC4DD341516187003 | B10: 환풍기(천장형) 철거 | D10: 대 | E10: =일위대가!F45 -> 0 | F10: =일위대가!H45 -> 14641 | G10: =일위대가!J45 -> 0 | H10: =E10+F10+G10 -> 14641 | I10: 호표 7
A11: 44DE2C2B019CBC4DD341516187005 | B11: 환풍기(벽부형) 철거 | D11: 대 | E11: =일위대가!F49 -> 0 | F11: =일위대가!H49 -> 38823 | G11: =일위대가!J49 -> 0 | H11: =E11+F11+G11 -> 38823 | I11: 호표 8
A12: 44DE2C2B019CBC4DD3415161872C7 | B12: 강제 급,배기형 연도(연장형) | C12: D75 | D12: EA | E12: =일위대가!F55 -> 76455 | F12: =일위대가!H55 -> 48529 | G12: =일위대가!J55 -> 0 | H12: =E12+F12+G12 -> 124984 | I12: 호표 9
A13: 4453252C016BC2D8C5D90B1CC6DFF | B13: 가스용백강관(옥내일반) | C13: 백관(SPPG), D20 | D13: M | E13: =일위대가!F63 -> 4029 | F13: =일위대가!H63 -> 12207 | G13: =일위대가!J63 -> 0 | H13: =E13+F13+G13 -> 16236 | I13: 호표 10
A14: 4453252C016BC2BC19E46B81CB412 | B14: 가스용백강관(옥내일반) | C14: 백관(SPPG), D32 | D14: M | E14: =일위대가!F71 -> 7461 | F14: =일위대가!H71 -> 18397 | G14: =일위대가!J71 -> 0 | H14: =E14+F14+G14 -> 25858 | I14: 호표 11
A15: 4453252C016BC2A385FA2BC62EB80 | B15: 가스용백강관(옥내일반) | C15: 백관(SPPG), D40 | D15: M | E15: =일위대가!F79 -> 8552 | F15: =일위대가!H79 -> 20486 | G15: =일위대가!J79 -> 0 | H15: =E15+F15+G15 -> 29038 | I15: 호표 12
A16: 4453252C016BC2913633899C36BFF | B16: 가스용백강관(옥내일반) | C16: 백관(SPPG), D50 | D16: M | E16: =일위대가!F87 -> 11959 | F16: =일위대가!H87 -> 24836 | G16: =일위대가!J87 -> 0 | H16: =E16+F16+G16 -> 36795 | I16: 호표 13
A17: 4453252C016BC280D18EFF1A09BC5 | B17: 가스용백강관(옥내일반) | C17: 백관(SPPG), D65 | D17: M | E17: =일위대가!F95 -> 15265 | F17: =일위대가!H95 -> 30606 | G17: =일위대가!J95 -> 0 | H17: =E17+F17+G17 -> 45871 | I17: 호표 14
A18: 4453252C0159625952009DE08CB92 | B18: 강관철거(나사) | C18: D20 | D18: M | E18: =일위대가!F101 -> 95 | F18: =일위대가!H101 -> 4791 | G18: =일위대가!J101 -> 0 | H18: =E18+F18+G18 -> 4886 | I18: 호표 15
A19: 4453252C0159625952009DE08CB94 | B19: 강관철거(나사) | C19: D25 | D19: M | E19: =일위대가!F107 -> 122 | F19: =일위대가!H107 -> 6133 | G19: =일위대가!J107 -> 0 | H19: =E19+F19+G19 -> 6255 | I19: 호표 16
A20: 4453252C0159625952009DE08CB96 | B20: 강관철거(나사) | C20: D32 | D20: M | E20: =일위대가!F113 -> 139 | F20: =일위대가!H113 -> 6977 | G20: =일위대가!J113 -> 0 | H20: =E20+F20+G20 -> 7116 | I20: 호표 17
A21: 4453252C0159625952009DE08CB98 | B21: 강관철거(나사) | C21: D40 | D21: M | E21: =일위대가!F119 -> 152 | F21: =일위대가!H119 -> 7647 | G21: =일위대가!J119 -> 0 | H21: =E21+F21+G21 -> 7799 | I21: 호표 18
A22: 4453252C0159625952009DE08CA8A | B22: 강관철거(나사) | C22: D50 | D22: M | E22: =일위대가!F125 -> 196 | F22: =일위대가!H125 -> 9832 | G22: =일위대가!J125 -> 0 | H22: =E22+F22+G22 -> 10028 | I22: 호표 19
A23: 4453252C0159625952009DE08C9E7 | B23: 강관철거(용접) | C23: D65 | D23: M | E23: =일위대가!F131 -> 226 | F23: =일위대가!H131 -> 11347 | G23: =일위대가!J131 -> 0 | H23: =E23+F23+G23 -> 11573 | I23: 호표 20
A24: 4453252C0159625952009DE08CD56 | B24: 스텐관철거(나사) | C24: D40 | D24: M | E24: =일위대가!F137 -> 152 | F24: =일위대가!H137 -> 7647 | G24: =일위대가!J137 -> 0 | H24: =E24+F24+G24 -> 7799 | I24: 호표 21
A25: 4453252C012DF915711DDCCCFFFC1 | B25: 스테인리스용접 | C25: D15 | D25: 개소 | E25: =일위대가!F144 -> 1007 | F25: =일위대가!H144 -> 14316 | G25: =일위대가!J144 -> 0 | H25: =E25+F25+G25 -> 15323 | I25: 호표 22
A26: 4453252C012DF915711DDCF844DA1 | B26: 스테인리스용접 | C26: D20 | D26: 개소 | E26: =일위대가!F151 -> 1333 | F26: =일위대가!H151 -> 16320 | G26: =일위대가!J151 -> 0 | H26: =E26+F26+G26 -> 17653 | I26: 호표 23
A27: 4453252C012DF915711DDCEFDFA5B | B27: 스테인리스용접 | C27: D25 | D27: 개소 | E27: =일위대가!F158 -> 1711 | F27: =일위대가!H158 -> 18897 | G27: =일위대가!J158 -> 0 | H27: =E27+F27+G27 -> 20608 | I27: 호표 24
A28: 4453252C012DF915711DDC97BE138 | B28: 스테인리스용접 | C28: D32 | D28: 개소 | E28: =일위대가!F165 -> 2043 | F28: =일위대가!H165 -> 22047 | G28: =일위대가!J165 -> 0 | H28: =E28+F28+G28 -> 24090 | I28: 호표 25
A29: 4453252C012DF915711DDC854D76E | B29: 스테인리스용접 | C29: D40 | D29: 개소 | E29: =일위대가!F172 -> 2516 | F29: =일위대가!H172 -> 24051 | G29: =일위대가!J172 -> 0 | H29: =E29+F29+G29 -> 26567 | I29: 호표 26
A30: 4453252C012DF90B14F1E9961FAE8 | B30: 스테인리스강관옥내배관(K-TYPE) | C30: D13 | D30: M | E30: =일위대가!F180 -> 2418 | F30: =일위대가!H180 -> 11709 | G30: =일위대가!J180 -> 0 | H30: =E30+F30+G30 -> 14127 | I30: 호표 27
A31: 4453252C012DF942AEB7AC37C9F5D | B31: 스테인리스강관옥내배관(K-TYPE) | C31: D40 | D31: M | E31: =일위대가!F188 -> 8389 | F31: =일위대가!H188 -> 26428 | G31: =일위대가!J188 -> 0 | H31: =E31+F31+G31 -> 34817 | I31: 호표 28
A32: 4453252C012DE8B0DEC09A25F3821 | B32: 스테인리스강관옥내배관(용접) | C32: D15*3.0t | D32: M | E32: =일위대가!F196 -> 9317 | F32: =일위대가!H196 -> 9869 | G32: =일위대가!J196 -> 0 | H32: =E32+F32+G32 -> 19186 | I32: 호표 29
A33: 4453252C012DE8B0DEC09A25F3822 | B33: 스테인리스강관옥내배관(나사) | C33: D15*3.0t | D33: M | E33: =일위대가!F204 -> 9461 | F33: =일위대가!H204 -> 17056 | G33: =일위대가!J204 -> 0 | H33: =E33+F33+G33 -> 26517 | I33: 호표 30
A34: 4453252C012DE88B9AD265111F510 | B34: 스테인리스강관옥내배관(용접) | C34: D20*3.0t | D34: M | E34: =일위대가!F212 -> 12008 | F34: =일위대가!H212 -> 11287 | G34: =일위대가!J212 -> 0 | H34: =E34+F34+G34 -> 23295 | I34: 호표 31
A35: 4453252C012DE895F7089BF2B153E | B35: 스테인리스강관옥내배관(용접) | C35: D25*3.0t | D35: M | E35: =일위대가!F220 -> 14751 | F35: =일위대가!H220 -> 15886 | G35: =일위대가!J220 -> 0 | H35: =E35+F35+G35 -> 30637 | I35: 호표 32
A36: 4453252C012DE8EC15209E813358F | B36: 스테인리스강관옥내배관(용접) | C36: D32*3.0t | D36: M | E36: =일위대가!F228 -> 18865 | F36: =일위대가!H228 -> 19317 | G36: =일위대가!J228 -> 0 | H36: =E36+F36+G36 -> 38182 | I36: 호표 33
A37: 4453252C012DE8FE64EF32D991FF1 | B37: 스테인리스강관옥내배관(용접) | C37: D40*3.0t | D37: M | E37: =일위대가!F236 -> 21630 | F37: =일위대가!H236 -> 20486 | G37: =일위대가!J236 -> 0 | H37: =E37+F37+G37 -> 42116 | I37: 호표 34
A38: 4453252C01EF1CD6D2630F621F9DD | B38: 경질염화비닐관(접착제) | C38: PVC관(VG1), D25(VN SDR9, 13.6, 17) | D38: M | E38: =일위대가!F244 -> 1966 | F38: =일위대가!H244 -> 18095 | G38: =일위대가!J244 -> 0 | H38: =E38+F38+G38 -> 20061 | I38: 호표 35
A39: 4453252C01EF1CF18CDCAA9E14BCA | B39: 경질염화비닐관(접착제) | C39: PVC관(VG1), D50(VN SDR9, 13.6, 17) | D39: M | E39: =일위대가!F252 -> 6023 | F39: =일위대가!H252 -> 29686 | G39: =일위대가!J252 -> 0 | H39: =E39+F39+G39 -> 35709 | I39: 호표 36
A40: 4453252C01EF1CF18CDCAA9E14BCB | B40: 경질염화비닐관(접착제,통기) | C40: PVC관(VG1), D50(VN SDR9, 13.6, 17) | D40: M | E40: =일위대가!F260 -> 6023 | F40: =일위대가!H260 -> 29686 | G40: =일위대가!J260 -> 0 | H40: =E40+F40+G40 -> 35709 | I40: 호표 37
...

Sheet 일위대가
A1: [ 2026학년도 전주효문중 식생활관 리모델링 기계설비공사 ]
A2: 품 명 | B2: 규 격 | C2: 단위 | D2: 수량 | E2: 재 료 비 | G2: 노 무 비 | I2: 경 비 | K2: 합 계 | M2: 비 고 | N2: 일위대가 | O2: 품목코드 | P2: 일위 | Q2: 단산 | R2: 자재 | S2: 손료적용 | T2: 손료저장 | U2: 적용율 | V2: JUK1 | W2: JUK2 | X2: JUK3 | Y2: JUK4 | Z2: JUK5 | AA2: JUK6 | AB2: JUK7 | AC2: JUK8 | AD2: JUK9 | AE2: JUK10 | AF2: JUK11 | AG2: JUK12 | AH2: JUK13 | AI2: JUK14 | AJ2: JUK15 | AK2: JUK16 | AL2: JUK17 | AM2: JUK18 | AN2: JUK19 | AO2: JUK20 | AP2: 할증적용 | AQ2: 할증저장 | AR2: 할증율 | AS2: HAL1 | AT2: HAL2 | AU2: HAL3 | AV2: 자재구분 | AW2: 일위대가+자재 | AX2: 장비일위 | AY2: 설정 | AZ2: 할증체크
E3: 단 가 | F3: 금 액 | G3: 단 가 | H3: 금 액 | I3: 단 가 | J3: 금 액 | K3: 단 가 | L3: 금 액
A4: 코아드릴 15.24cm HR ( 호표 1 ) | N4: 43882F2F01522B6F23D9A919BD6C255157417AF
A5: 코어드릴 | B5: 15.24cm | C5: 대 | D5: 0.5268 | E5: =단가대비표!O5 -> 0 | F5: =TRUNC(E5*D5,0) -> 0 | G5: =단가대비표!P5 -> 0 | H5: =TRUNC(G5*D5,0) -> 0 | I5: =단가대비표!V5 -> 866 | J5: =TRUNC(I5*D5,0) -> 456 | K5: =TRUNC(E5+G5+I5,0) -> 866 | L5: =TRUNC(F5+H5+J5,0) -> 456 | M5: 천원 | N5: 43882F2F01522B6F23D9A919BD6C255157417AF | O5: 43882F2F01522B6F23D9A919BD6C255157417 | P5: F | Q5: F | R5: T | AW5: 43882F2F01522B6F23D9A919BD6C255157417AF43882F2F01522B6F23D9A919BD6C255157417
A6: [ 합 계 ] | F6: =TRUNC(SUMIF(N5:N5, N4, F5:F5),0) -> 0 | H6: =TRUNC(SUMIF(N5:N5, N4, H5:H5),0) -> 0 | J6: =TRUNC(SUMIF(N5:N5, N4, J5:J5),0) -> 456 | L6: =F6+H6+J6 -> 456 | N6: TOTAL | O6: TOTAL
A8: 가스경보기 공업용 개소 ( 호표 2 ) | N8: 43D7272C019760F788B1309AEED0B
A9: 가스누설경보기 | B9: 공업용(다회로) | C9: SET | D9: 1 | E9: =단가대비표!O198 -> 350000 | F9: =TRUNC(E9*D9,0) -> 350000 | G9: =단가대비표!P198 -> 0 | H9: =TRUNC(G9*D9,0) -> 0 | I9: =단가대비표!V198 -> 0 | J9: =TRUNC(I9*D9,0) -> 0 | K9: =TRUNC(E9+G9+I9,0) -> 350000 | L9: =TRUNC(F9+H9+J9,0) -> 350000 | N9: 43D7272C019760F788B1309AEED0B | O9: 43E1212F014BC2661F4CDFCA8951EBF842AAA | P9: F | Q9: F | R9: T | AW9: 43D7272C019760F788B1309AEED0B43E1212F014BC2661F4CDFCA8951EBF842AAA
A10: 계장공 | B10: 일반공사 직종 | C10: 인 | D10: 0.13 | E10: =단가대비표!O223 -> 0 | F10: =TRUNC(E10*D10,0) -> 0 | G10: =단가대비표!P223 -> 321645 | H10: =TRUNC(G10*D10,0) -> 41813 | I10: =단가대비표!V223 -> 0 | J10: =TRUNC(I10*D10,0) -> 0 | K10: =TRUNC(E10+G10+I10,0) -> 321645 | L10: =TRUNC(F10+H10+J10,0) -> 41813 | N10: 43D7272C019760F788B1309AEED0B | O10: 444A2020016F2DCF92B1A764C7863246FAA7A | P10: F | Q10: F | R10: T | V10: 1 | AW10: 43D7272C019760F788B1309AEED0B444A2020016F2DCF92B1A764C7863246FAA7A
A11: 공구손료 | B11: 인력품의 1% | C11: 식 | D11: 1 | E11: =TRUNC(SUMIF(V9:V11, RIGHTB(O11, 1), H9:H11)*U11, 2) -> 418.13 | F11: =TRUNC(E11*D11,0) -> 418 | G11: 0 | H11: =TRUNC(G11*D11,0) -> 0 | I11: 0 | J11: =TRUNC(I11*D11,0) -> 0 | K11: =TRUNC(E11+G11+I11,0) -> 418 | L11: =TRUNC(F11+H11+J11,0) -> 418 | N11: 43D7272C019760F788B1309AEED0B | O11: 458C272D01CAD6CAA6198C71F93001 | P11: F | Q11: F | R11: F | S11: 1 | T11: 0 | U11: 0.01 | AW11: 43D7272C019760F788B1309AEED0B458C272D01CAD6CAA6198C71F90002
A12: [ 합 계 ] | F12: =TRUNC(SUMIF(N9:N11, N8, F9:F11),0) -> 350418 | H12: =TRUNC(SUMIF(N9:N11, N8, H9:H11),0) -> 41813 | J12: =TRUNC(SUMIF(N9:N11, N8, J9:J11),0) -> 0 | L12: =F12+H12+J12 -> 392231 | N12: TOTAL | O12: TOTAL
A14: 가스경보기 제어부 6회로 개소 ( 호표 3 ) | N14: 43D7272C019760F788B1309ADDD3F
A15: 경보기 제어부 | B15: 6회로이하 | C15: 개 | D15: 1 | E15: =단가대비표!O199 -> 130000 | F15: =TRUNC(E15*D15,0) -> 130000 | G15: =단가대비표!P199 -> 0 | H15: =TRUNC(G15*D15,0) -> 0 | I15: =단가대비표!V199 -> 0 | J15: =TRUNC(I15*D15,0) -> 0 | K15: =TRUNC(E15+G15+I15,0) -> 130000 | L15: =TRUNC(F15+H15+J15,0) -> 130000 | N15: 43D7272C019760F788B1309ADDD3F | O15: 43E1212F014BC2661F4CDFCA89E7A62DD2D2F | P15: F | Q15: F | R15: T | AW15: 43D7272C019760F788B1309ADDD3F43E1212F014BC2661F4CDFCA89E7A62DD2D2F
A16: 계장공 | B16: 일반공사 직종 | C16: 인 | D16: 0.95 | E16: =단가대비표!O223 -> 0 | F16: =TRUNC(E16*D16,0) -> 0 | G16: =단가대비표!P223 -> 321645 | H16: =TRUNC(G16*D16,0) -> 305562 | I16: =단가대비표!V223 -> 0 | J16: =TRUNC(I16*D16,0) -> 0 | K16: =TRUNC(E16+G16+I16,0) -> 321645 | L16: =TRUNC(F16+H16+J16,0) -> 305562 | N16: 43D7272C019760F788B1309ADDD3F | O16: 444A2020016F2DCF92B1A764C7863246FAA7A | P16: F | Q16: F | R16: T | V16: 1 | AW16: 43D7272C019760F788B1309ADDD3F444A2020016F2DCF92B1A764C7863246FAA7A
A17: 공구손료 | B17: 인력품의 1% | C17: 식 | D17: 1 | E17: =TRUNC(SUMIF(V15:V17, RIGHTB(O17, 1), H15:H17)*U17, 2) -> 3055.62 | F17: =TRUNC(E17*D17,0) -> 3055 | G17: 0 | H17: =TRUNC(G17*D17,0) -> 0 | I17: 0 | J17: =TRUNC(I17*D17,0) -> 0 | K17: =TRUNC(E17+G17+I17,0) -> 3055 | L17: =TRUNC(F17+H17+J17,0) -> 3055 | N17: 43D7272C019760F788B1309ADDD3F | O17: 458C272D01CAD6CAA6198C71F93001 | P17: F | Q17: F | R17: F | S17: 1 | T17: 0 | U17: 0.01 | AW17: 43D7272C019760F788B1309ADDD3F458C272D01CAD6CAA6198C71F90002
A18: [ 합 계 ] | F18: =TRUNC(SUMIF(N15:N17, N14, F15:F17),0) -> 133055 | H18: =TRUNC(SUMIF(N15:N17, N14, H15:H17),0) -> 305562 | J18: =TRUNC(SUMIF(N15:N17, N14, J15:J17),0) -> 0 | L18: =F18+H18+J18 -> 438617 | N18: TOTAL | O18: TOTAL
A20: 가스누설차단밸브 D65 개 ( 호표 4 ) | N20: 43D7272C019760B81FAC418EC7FFF
A21: 가스누설차단밸브 | B21: D65 | C21: 개 | D21: 1 | E21: =단가대비표!O188 -> 650000 | F21: =TRUNC(E21*D21,0) -> 650000 | G21: =단가대비표!P188 -> 0 | H21: =TRUNC(G21*D21,0) -> 0 | I21: =단가대비표!V188 -> 0 | J21: =TRUNC(I21*D21,0) -> 0 | K21: =TRUNC(E21+G21+I21,0) -> 650000 | L21: =TRUNC(F21+H21+J21,0) -> 650000 | N21: 43D7272C019760B81FAC418EC7FFF | O21: 43C62227012EE0048BEDFF98665F085CE3523 | P21: F | Q21: F | R21: T | AW21: 43D7272C019760B81FAC418EC7FFF43C62227012EE0048BEDFF98665F085CE3523
A22: 배관공 | B22: 일반공사 직종 | C22: 인 | D22: 0.057 | E22: =단가대비표!O215 -> 0 | F22: =TRUNC(E22*D22,0) -> 0 | G22: =단가대비표!P215 -> 249073 | H22: =TRUNC(G22*D22,0) -> 14197 | I22: =단가대비표!V215 -> 0 | J22: =TRUNC(I22*D22,0) -> 0 | K22: =TRUNC(E22+G22+I22,0) -> 249073 | L22: =TRUNC(F22+H22+J22,0) -> 14197 | N22: 43D7272C019760B81FAC418EC7FFF | O22: 444A2020016F2DCF92B1A764C7863246FA108 | P22: F | Q22: F | R22: T | V22: 1 | AW22: 43D7272C019760B81FAC418EC7FFF444A2020016F2DCF92B1A764C7863246FA108
A23: 계장공 | B23: 일반공사 직종 | C23: 인 | D23: 0.22 | E23: =단가대비표!O223 -> 0 | F23: =TRUNC(E23*D23,0) -> 0 | G23: =단가대비표!P223 -> 321645 | H23: =TRUNC(G23*D23,0) -> 70761 | I23: =단가대비표!V223 -> 0 | J23: =TRUNC(I23*D23,0) -> 0 | K23: =TRUNC(E23+G23+I23,0) -> 321645 | L23: =TRUNC(F23+H23+J23,0) -> 70761 | N23: 43D7272C019760B81FAC418EC7FFF | O23: 444A2020016F2DCF92B1A764C7863246FAA7A | P23: F | Q23: F | R23: T | V23: 1 | AW23: 43D7272C019760B81FAC418EC7FFF444A2020016F2DCF92B1A764C7863246FAA7A
A24: 공구손료 | B24: 인력품의 3% | C24: 식 | D24: 1 | E24: =TRUNC(SUMIF(V21:V24, RIGHTB(O24, 1), H21:H24)*U24, 2) -> 2548.74 | F24: =TRUNC(E24*D24,0) -> 2548 | G24: 0 | H24: =TRUNC(G24*D24,0) -> 0 | I24: 0 | J24: =TRUNC(I24*D24,0) -> 0 | K24: =TRUNC(E24+G24+I24,0) -> 2548 | L24: =TRUNC(F24+H24+J24,0) -> 2548 | N24: 43D7272C019760B81FAC418EC7FFF | O24: 458C272D01CAD6CAA6198C71F93001 | P24: F | Q24: F | R24: F | S24: 1 | T24: 0 | U24: 0.03 | AW24: 43D7272C019760B81FAC418EC7FFF458C272D01CAD6CAA6198C71F90002
A25: [ 합 계 ] | F25: =TRUNC(SUMIF(N21:N24, N20, F21:F24),0) -> 652548 | H25: =TRUNC(SUMIF(N21:N24, N20, H21:H24),0) -> 84958 | J25: =TRUNC(SUMIF(N21:N24, N20, J21:J24),0) -> 0 | L25: =F25+H25+J25 -> 737506 | N25: TOTAL | O25: TOTAL
A27: 조합페인트칠 철재면, 2회, 1급 ㎡ ( 호표 5 ) | N27: 44952C2F01A2D47DC409577975103
A28: 조합페인트 | B28: KSM6020-1종1급, 백색 | C28: L | D28: 0.166 | E28: =단가대비표!O46 -> 10555 | F28: =TRUNC(E28*D28,0) -> 1752 | G28: =단가대비표!P46 -> 0 | H28: =TRUNC(G28*D28,0) -> 0 | I28: =단가대비표!V46 -> 0 | J28: =TRUNC(I28*D28,0) -> 0 | K28: =TRUNC(E28+G28+I28,0) -> 10555 | L28: =TRUNC(F28+H28+J28,0) -> 1752 | N28: 44952C2F01A2D47DC409577975103 | O28: 43B42229017D2F25B7737DE3BF60AB9F6EFAE | P28: F | Q28: F | R28: T | V28: 1 | AW28: 44952C2F01A2D47DC40957797510343B42229017D2F25B7737DE3BF60AB9F6EFAE
A29: 시너 | B29: 시너, KSM6060, 1종 | C29: L | D29: 0.008 | E29: =단가대비표!O47 -> 3495 | F29: =TRUNC(E29*D29,0) -> 27 | G29: =단가대비표!P47 -> 0 | H29: =TRUNC(G29*D29,0) -> 0 | I29: =단가대비표!V47 -> 0 | J29: =TRUNC(I29*D29,0) -> 0 | K29: =TRUNC(E29+G29+I29,0) -> 3495 | L29: =TRUNC(F29+H29+J29,0) -> 27 | N29: 44952C2F01A2D47DC409577975103 | O29: 43B42229017D2F256FC26A37D20A69C73378B | P29: F | Q29: F | R29: T | V29: 1 | AW29: 44952C2F01A2D47DC40957797510343B42229017D2F256FC26A37D20A69C73378B
A30: 잡재료 | B30: 주재료비의 4% | C30: 식 | D30: 1 | E30: =TRUNC(SUMIF(V28:V32, RIGHTB(O30, 1), F28:F32)*U30, 2) -> 71.16 | F30: =TRUNC(E30*D30,0) -> 71 | G30: 0 | H30: =TRUNC(G30*D30,0) -> 0 | I30: 0 | J30: =TRUNC(I30*D30,0) -> 0 | K30: =TRUNC(E30+G30+I30,0) -> 71 | L30: =TRUNC(F30+H30+J30,0) -> 71 | N30: 44952C2F01A2D47DC409577975103 | O30: 458C272D01CAD6CAA6198C71F93001 | P30: F | Q30: F | R30: F | S30: 0 | T30: 0 | U30: 0.04 | AW30: 44952C2F01A2D47DC409577975103458C272D01CAD6CAA6198C71F93001
A31: 도장공 | B31: 일반공사 직종 | C31: 인 | D31: 0.04 | E31: =단가대비표!O214 -> 0 | F31: =TRUNC(E31*D31,0) -> 0 | G31: =단가대비표!P214 -> 268225 | H31: =TRUNC(G31*D31,0) -> 10729 | I31: =단가대비표!V214 -> 0 | J31: =TRUNC(I31*D31,0) -> 0 | K31: =TRUNC(E31+G31+I31,0) -> 268225 | L31: =TRUNC(F31+H31+J31,0) -> 10729 | N31: 44952C2F01A2D47DC409577975103 | O31: 444A2020016F2DCF92B1A764C7863246FA073 | P31: F | Q31: F | R31: T | AW31: 44952C2F01A2D47DC409577975103444A2020016F2DCF92B1A764C7863246FA073
A32: 보통인부 | B32: 일반공사 직종 | C32: 인 | D32: 0.008 | E32: =단가대비표!O209 -> 0 | F32: =TRUNC(E32*D32,0) -> 0 | G32: =단가대비표!P209 -> 172698 | H32: =TRUNC(G32*D32,0) -> 1381 | I32: =단가대비표!V209 -> 0 | J32: =TRUNC(I32*D32,0) -> 0 | K32: =TRUNC(E32+G32+I32,0) -> 172698 | L32: =TRUNC(F32+H32+J32,0) -> 1381 | N32: 44952C2F01A2D47DC409577975103 | O32: 444A2020016F2DCF92B1A764C7863246FA22A | P32: F | Q32: F | R32: T | AW32: 44952C2F01A2D47DC409577975103444A2020016F2DCF92B1A764C7863246FA22A
A33: [ 합 계 ] | F33: =TRUNC(SUMIF(N28:N32, N27, F28:F32),0) -> 1850 | H33: =TRUNC(SUMIF(N28:N32, N27, H28:H32),0) -> 12110 | J33: =TRUNC(SUMIF(N28:N32, N27, J28:J32),0) -> 0 | L33: =F33+H33+J33 -> 13960 | N33: TOTAL | O33: TOTAL
A35: 환풍기(천장형) D150x3.5CMMx30W 대 ( 호표 6 ) | N35: 44DE2C2B019CBC4DD341516187002
A36: 천장형 환풍기 | B36: 3.5 M3/MIN | C36: 대 | D36: 1 | E36: =단가대비표!O55 -> 46200 | F36: =TRUNC(E36*D36,0) -> 46200 | G36: =단가대비표!P55 -> 0 | H36: =TRUNC(G36*D36,0) -> 0 | I36: =단가대비표!V55 -> 0 | J36: =TRUNC(I36*D36,0) -> 0 | K36: =TRUNC(E36+G36+I36,0) -> 46200 | L36: =TRUNC(F36+H36+J36,0) -> 46200 | N36: 44DE2C2B019CBC4DD341516187002 | O36: 43C62A240170010B7F615774BDC184E209316 | P36: F | Q36: F | R36: T | AW36: 44DE2C2B019CBC4DD34151618700243C62A240170010B7F615774BDC184E209316
A37: 기계설비공 | B37: 일반공사 직종 | C37: 인 | D37: 0.111 | E37: =단가대비표!O220 -> 0 | F37: =TRUNC(E37*D37,0) -> 0 | G37: =단가대비표!P220 -> 242647 | H37: =TRUNC(G37*D37,0) -> 26933 | I37: =단가대비표!V220 -> 0 | J37: =TRUNC(I37*D37,0) -> 0 | K37: =TRUNC(E37+G37+I37,0) -> 242647 | L37: =TRUNC(F37+H37+J37,0) -> 26933 | M37: 2010년-통합 | N37: 44DE2C2B019CBC4DD341516187002 | O37: 444A2020016F2DCF92B1A764C7863246FA7AB | P37: F | Q37: F | R37: T | V37: 1 | AW37: 44DE2C2B019CBC4DD341516187002444A2020016F2DCF92B1A764C7863246FA7AB
A38: 보통인부 | B38: 일반공사 직종 | C38: 인 | D38: 0.056 | E38: =단가대비표!O209 -> 0 | F38: =TRUNC(E38*D38,0) -> 0 | G38: =단가대비표!P209 -> 172698 | H38: =TRUNC(G38*D38,0) -> 9671 | I38: =단가대비표!V209 -> 0 | J38: =TRUNC(I38*D38,0) -> 0 | K38: =TRUNC(E38+G38+I38,0) -> 172698 | L38: =TRUNC(F38+H38+J38,0) -> 9671 | N38: 44DE2C2B019CBC4DD341516187002 | O38: 444A2020016F2DCF92B1A764C7863246FA22A | P38: F | Q38: F | R38: T | V38: 1 | AW38: 44DE2C2B019CBC4DD341516187002444A2020016F2DCF92B1A764C7863246FA22A
A39: 공구손료 | B39: 인력품의 3% | C39: 식 | D39: 1 | E39: =TRUNC(SUMIF(V36:V39, RIGHTB(O39, 1), H36:H39)*U39, 2) -> 1098.12 | F39: =TRUNC(E39*D39,0) -> 1098 | G39: 0 | H39: =TRUNC(G39*D39,0) -> 0 | I39: 0 | J39: =TRUNC(I39*D39,0) -> 0 | K39: =TRUNC(E39+G39+I39,0) -> 1098 | L39: =TRUNC(F39+H39+J39,0) -> 1098 | N39: 44DE2C2B019CBC4DD341516187002 | O39: 458C272D01CAD6CAA6198C71F93001 | P39: F | Q39: F | R39: F | S39: 1 | T39: 0 | U39: 0.03 | AW39: 44DE2C2B019CBC4DD341516187002458C272D01CAD6CAA6198C71F93001
A40: [ 합 계 ] | F40: =TRUNC(SUMIF(N36:N39, N35, F36:F39),0) -> 47298 | H40: =TRUNC(SUMIF(N36:N39, N35, H36:H39),0) -> 36604 | J40: =TRUNC(SUMIF(N36:N39, N35, J36:J39),0) -> 0 | L40: =F40+H40+J40 -> 83902 | N40: TOTAL | O40: TOTAL
A42: 환풍기(천장형) 철거 대 ( 호표 7 ) | N42: 44DE2C2B019CBC4DD341516187003
A43: 기계설비공 | B43: 일반공사 직종 | C43: 인 | D43: 0.0444 | E43: =단가대비표!O220 -> 0 | F43: =TRUNC(E43*D43,0) -> 0 | G43: =단가대비표!P220 -> 242647 | H43: =TRUNC(G43*D43,0) -> 10773 | I43: =단가대비표!V220 -> 0 | J43: =TRUNC(I43*D43,0) -> 0 | K43: =TRUNC(E43+G43+I43,0) -> 242647 | L43: =TRUNC(F43+H43+J43,0) -> 10773 | M43: 2010년-통합 | N43: 44DE2C2B019CBC4DD341516187003 | O43: 444A2020016F2DCF92B1A764C7863246FA7AB | P43: F | Q43: F | R43: T | AW43: 44DE2C2B019CBC4DD341516187003444A2020016F2DCF92B1A764C7863246FA7AB
A44: 보통인부 | B44: 일반공사 직종 | C44: 인 | D44: 0.0224 | E44: =단가대비표!O209 -> 0 | F44: =TRUNC(E44*D44,0) -> 0 | G44: =단가대비표!P209 -> 172698 | H44: =TRUNC(G44*D44,0) -> 3868 | I44: =단가대비표!V209 -> 0 | J44: =TRUNC(I44*D44,0) -> 0 | K44: =TRUNC(E44+G44+I44,0) -> 172698 | L44: =TRUNC(F44+H44+J44,0) -> 3868 | N44: 44DE2C2B019CBC4DD341516187003 | O44: 444A2020016F2DCF92B1A764C7863246FA22A | P44: F | Q44: F | R44: T | AW44: 44DE2C2B019CBC4DD341516187003444A2020016F2DCF92B1A764C7863246FA22A
A45: [ 합 계 ] | F45: =TRUNC(SUMIF(N43:N44, N42, F43:F44),0) -> 0 | H45: =TRUNC(SUMIF(N43:N44, N42, H43:H44),0) -> 14641 | J45: =TRUNC(SUMIF(N43:N44, N42, J43:J44),0) -> 0 | L45: =F45+H45+J45 -> 14641 | N45: TOTAL | O45: TOTAL
A47: 환풍기(벽부형) 철거 대 ( 호표 8 ) | N47: 44DE2C2B019CBC4DD341516187005
...

Sheet 단가대비표
A1: 단 가 대 비 표
A2: [ 2026학년도 전주효문중 식생활관 리모델링 기계설비공사 ]
A3: 코 드 | B3: 품 명 | C3: 규격 | D3: 단위 | E3: 재 료 비 | P3: 노 무 비 | Q3: 경 비 | W3: 번 호 | X3: 비 고 | Y3: 품목구분 | Z3: 노임구분 | AA3: 소수점처리 | AB3: 자재구분
E4: 물가자료 | F4: PAGE | G4: 거래가격 | H4: PAGE | I4: 물가정보 | J4: PAGE | K4: 조사가격1 | L4: PAGE | M4: 조사가격2 | N4: PAGE | O4: 적용단가 | Q4: 물가자료 | R4: 거래가격 | S4: 물가정보 | T4: 조사가격1 | U4: 조사가격2 | V4: 적용단가
A5: 43882F2F01522B6F23D9A919BD6C255157417 | B5: 코어드릴 | C5: 15.24cm | D5: 대 | E5: 0 | G5: 0 | I5: 0 | K5: 0 | M5: 0 | O5: 0 | P5: 0 | Q5: 0 | R5: 0 | S5: 0 | T5: 866 | U5: 0 | V5: =SMALL(Q5:U5,COUNTIF(Q5:U5,0)+1) -> 866 | W5: 자재 1 | X5: 천원 | Y5: C
A6: 43992423018B344FE97A1119DEE26AA517A55 | B6: 아르곤가스 | C6: 아르곤가스, 건설용알곤가스 | D6: L | E6: 5.36 | F6: 33(하) | G6: 14.57 | H6: 1451 | I6: 0 | K6: 0 | M6: 0 | O6: =SMALL(E6:M6,COUNTIF(E6:M6,0)+1) -> 5.36 | P6: 0 | Q6: 0 | R6: 0 | S6: 0 | T6: 0 | U6: 0 | V6: 0 | W6: 자재 2 | X6: 47L용기 120Kg/Cm2(병당 7000L)
A7: 43AB2E290157F86BFF8C45983BAFE21CBE762 | B7: 스테인리스강용알곤용접봉 | C7: 스테인리스강용알곤용접봉, ∮3.2mm, T-308 | D7: kg | E7: 15903 | F7: 1388 | G7: 13280 | H7: 1326 | I7: 0 | K7: 0 | M7: 0 | O7: =SMALL(E7:M7,COUNTIF(E7:M7,0)+1) -> 13280 | P7: 0 | Q7: 0 | R7: 0 | S7: 0 | T7: 0 | U7: 0 | V7: 0 | W7: 자재 3
A8: 43B4232B01DD670849EF026EA4BAC76B56135 | B8: ㄱ형강 | C8: ㄱ형강, 등변, 30*30*3mm | D8: kg | E8: 1040 | F8: 7 | G8: 1020 | H8: 55 | I8: 1125 | J8: 5 | K8: 0 | M8: 0 | O8: =SMALL(E8:M8,COUNTIF(E8:M8,0)+1) -> 1020 | P8: 0 | Q8: 0 | R8: 0 | S8: 0 | T8: 0 | U8: 0 | V8: 0 | W8: 자재 4
A9: 43B4232B01DD0E872B7CE1D2DA7B2EF80BFB1 | B9: 웜기어 핸들 부착형 | D9: 개 | E9: 0 | G9: 0 | I9: 0 | K9: 85000 | L9: 견적 | M9: 0 | O9: =SMALL(E9:M9,COUNTIF(E9:M9,0)+1) -> 85000 | P9: 0 | Q9: 0 | R9: 0 | S9: 0 | T9: 0 | U9: 0 | V9: 0 | W9: 자재 5
A10: 43B4232B01DDE46DFDD1225BDC0965CE09221 | B10: 각형세면기 | C10: KSL 610, S/L(앵글밸브, 트랩, 폽업 포함, 수전제외) | D10: 대 | E10: 0 | G10: 0 | I10: 0 | K10: 190000 | L10: 산출단가 | M10: 0 | O10: =SMALL(E10:M10,COUNTIF(E10:M10,0)+1) -> 190000 | P10: 0 | Q10: 0 | R10: 0 | S10: 0 | T10: 0 | U10: 0 | V10: 0 | W10: 자재 6 | X10: 수전제외
A11: 43B4232B01DDE46DFDD13CFBA5A363DD43FF0 | B11: 양변기 | C11: KSC1210CR(초절수, 절수1등급) | D11: 조 | E11: 302000 | F11: 875 | G11: 287000 | H11: 866 | I11: 287000 | J11: 864 | K11: 0 | M11: 0 | O11: =SMALL(E11:M11,COUNTIF(E11:M11,0)+1) -> 287000 | P11: 0 | Q11: 0 | R11: 0 | S11: 0 | T11: 0 | U11: 0 | V11: 0 | W11: 자재 7
A12: 43B4232B01DDE46DFDC0F92B126646EFA3708 | B12: 수건걸이 | C12: 사각 BAR형 | D12: 개 | E12: 20000 | F12: 877 | G12: 20000 | H12: 867 | I12: 20000 | J12: 866 | K12: 0 | M12: 0 | O12: =SMALL(E12:M12,COUNTIF(E12:M12,0)+1) -> 20000 | P12: 0 | Q12: 0 | R12: 0 | S12: 0 | T12: 0 | U12: 0 | V12: 0 | W12: 자재 8
A13: 43B4232B01DDE46DFDC06B1AB2F4C52C97358 | B13: 세면대 수전 | C13: KLE670C,FL930C동등이상 (절수1등급) | D13: 개 | E13: 143000 | F13: 876 | G13: 143000 | H13: 867 | I13: 143000 | J13: 867 | K13: 0 | M13: 0 | O13: =SMALL(E13:M13,COUNTIF(E13:M13,0)+1) -> 143000 | P13: 0 | Q13: 0 | R13: 0 | S13: 0 | T13: 0 | U13: 0 | V13: 0 | W13: 자재 9
A14: 43B4232B01DDE46DFDC06B1AB2F4C52C9746D | B14: 목돌림수전 | C14: R-107A | D14: 개 | E14: 27000 | F14: 876 | G14: 27000 | H14: 867 | I14: 27000 | J14: 867 | K14: 0 | M14: 0 | O14: =SMALL(E14:M14,COUNTIF(E14:M14,0)+1) -> 27000 | P14: 0 | Q14: 0 | R14: 0 | S14: 0 | T14: 0 | U14: 0 | V14: 0 | W14: 자재 10
A15: 43B4232B01DDE46DFDC06B1AB2F4C52C9750B | B15: 커프링수전 | C15: 15mm | D15: 개 | E15: 19000 | F15: 876 | G15: 19000 | H15: 867 | I15: 19000 | J15: 867 | K15: 0 | M15: 0 | O15: =SMALL(E15:M15,COUNTIF(E15:M15,0)+1) -> 19000 | P15: 0 | Q15: 0 | R15: 0 | S15: 0 | T15: 0 | U15: 0 | V15: 0 | W15: 자재 11
A16: 43B4232B01DDE46DFDC06B1AB2F4C52C97739 | B16: 씽크수전 | C16: 싱글레버식 (절수1등급) | D16: 개 | E16: 159000 | F16: 876 | G16: 0 | I16: 159000 | J16: 867 | K16: 0 | M16: 0 | O16: =SMALL(E16:M16,COUNTIF(E16:M16,0)+1) -> 159000 | P16: 0 | Q16: 0 | R16: 0 | S16: 0 | T16: 0 | U16: 0 | V16: 0 | W16: 자재 12
A17: 43B4232B01DDE46DFDC06B1AB2F4C52C9773C | B17: 샤워기(선반형 레인샤워) | C17: KRS-3000동등이상 (절수1등급) | D17: 개 | E17: 302000 | F17: 876 | G17: 302000 | H17: 867 | I17: 302000 | J17: 867 | K17: 0 | M17: 0 | O17: =SMALL(E17:M17,COUNTIF(E17:M17,0)+1) -> 302000 | P17: 0 | Q17: 0 | R17: 0 | S17: 0 | T17: 0 | U17: 0 | V17: 0 | W17: 자재 13
A18: 43B4232B01DDE46DFDC06B1AB2F4C52C9773F | B18: 동파방지부동수전(STS) | C18: D15x1250 | D18: 개 | E18: 0 | G18: 0 | I18: 0 | K18: 34000 | M18: 0 | O18: =SMALL(E18:M18,COUNTIF(E18:M18,0)+1) -> 34000 | P18: 0 | Q18: 0 | R18: 0 | S18: 0 | T18: 0 | U18: 0 | V18: 0 | W18: 자재 14
A19: 43B4232B01DDE46DFDE3C86D969618A51E53A | B19: 휴지걸이 | C19: 휴대폰거치대 일체형 | D19: 개 | E19: 18000 | F19: 877 | G19: 0 | I19: 0 | K19: 0 | M19: 0 | O19: =SMALL(E19:M19,COUNTIF(E19:M19,0)+1) -> 18000 | P19: 0 | Q19: 0 | R19: 0 | S19: 0 | T19: 0 | U19: 0 | V19: 0 | W19: 자재 15
A20: 43B4232B01DDE46DFD43EDACACD1C50C04AA5 | B20: 비누갑 | C20: STS제 | D20: 개 | E20: 25000 | F20: 877 | G20: 0 | I20: 25000 | J20: 866 | K20: 0 | M20: 0 | O20: =SMALL(E20:M20,COUNTIF(E20:M20,0)+1) -> 25000 | P20: 0 | Q20: 0 | R20: 0 | S20: 0 | T20: 0 | U20: 0 | V20: 0 | W20: 자재 16
A21: 43B42229014198A22B944A7C2FBDED8EB640D | B21: 절연 U볼트/NUT | C21: 절연, ∮20mm | D21: 개 | E21: 0 | G21: 1300 | H21: 95 | I21: 900 | J21: 44 | K21: 0 | M21: 0 | O21: =SMALL(E21:M21,COUNTIF(E21:M21,0)+1) -> 900 | P21: 0 | Q21: 0 | R21: 0 | S21: 0 | T21: 0 | U21: 0 | V21: 0 | W21: 자재 17
A22: 43B42229014198A22B944A7C2FBDED8EB6403 | B22: 절연 U볼트/NUT | C22: 절연, ∮32mm | D22: 개 | E22: 0 | G22: 1730 | H22: 95 | I22: 1128 | J22: 44 | K22: 0 | M22: 0 | O22: =SMALL(E22:M22,COUNTIF(E22:M22,0)+1) -> 1128 | P22: 0 | Q22: 0 | R22: 0 | S22: 0 | T22: 0 | U22: 0 | V22: 0 | W22: 자재 18
A23: 43B42229014198A22B944A7C2FBDED8EB6511 | B23: 절연 U볼트/NUT | C23: 절연, ∮40mm | D23: 개 | E23: 0 | G23: 1880 | H23: 95 | I23: 1236 | J23: 44 | K23: 0 | M23: 0 | O23: =SMALL(E23:M23,COUNTIF(E23:M23,0)+1) -> 1236 | P23: 0 | Q23: 0 | R23: 0 | S23: 0 | T23: 0 | U23: 0 | V23: 0 | W23: 자재 19
A24: 43B42229014198A22B944A7C2FBDED8EB6510 | B24: 절연 U볼트/NUT | C24: 절연, ∮50mm | D24: 개 | E24: 0 | G24: 2250 | H24: 95 | I24: 1404 | J24: 44 | K24: 0 | M24: 0 | O24: =SMALL(E24:M24,COUNTIF(E24:M24,0)+1) -> 1404 | P24: 0 | Q24: 0 | R24: 0 | S24: 0 | T24: 0 | U24: 0 | V24: 0 | W24: 자재 20
A25: 43B42229014198A22B944A7C2FBDED8EB6513 | B25: 절연 U볼트/NUT | C25: 절연, ∮65mm | D25: 개 | E25: 0 | G25: 2500 | H25: 95 | I25: 1680 | J25: 44 | K25: 0 | M25: 0 | O25: =SMALL(E25:M25,COUNTIF(E25:M25,0)+1) -> 1680 | P25: 0 | Q25: 0 | R25: 0 | S25: 0 | T25: 0 | U25: 0 | V25: 0 | W25: 자재 21
A26: 43B42229014198A22BA6980DCCA0BA6E0C374 | B26: 육각볼트 | C26: 육각볼트, M10*20 | D26: 개 | E26: 98 | F26: 47 | G26: 76 | H26: 92 | I26: 76.1 | J26: 41 | K26: 0 | M26: 0 | O26: =SMALL(E26:M26,COUNTIF(E26:M26,0)+1) -> 76 | P26: 0 | Q26: 0 | R26: 0 | S26: 0 | T26: 0 | U26: 0 | V26: 0 | W26: 자재 22
A27: 43B42229014198A22B104E375F001A2ED8150 | B27: 행어볼트 | C27: 아연도금, M9*1000 | D27: 개 | E27: 1220 | F27: 46 | G27: 0 | I27: 0 | K27: 0 | M27: 0 | O27: =SMALL(E27:M27,COUNTIF(E27:M27,0)+1) -> 1220 | P27: 0 | Q27: 0 | R27: 0 | S27: 0 | T27: 0 | U27: 0 | V27: 0 | W27: 자재 23
A28: 43B42229014198A22B104E375F001A2ED8156 | B28: 행어볼트 | C28: 아연도금, M13*1000 | D28: 개 | E28: 0 | G28: 0 | I28: 0 | K28: 1580 | M28: 0 | O28: =SMALL(E28:M28,COUNTIF(E28:M28,0)+1) -> 1580 | P28: 0 | Q28: 0 | R28: 0 | S28: 0 | T28: 0 | U28: 0 | V28: 0 | W28: 자재 24
A29: 43B42229014198A2CBC88621A0121F2737329 | B29: 동리벳 | C29: D4 | D29: 개 | E29: 0 | G29: 0 | I29: 0 | K29: 13.58 | M29: 0 | O29: =SMALL(E29:M29,COUNTIF(E29:M29,0)+1) -> 13.58 | P29: 0 | Q29: 0 | R29: 0 | S29: 0 | T29: 0 | U29: 0 | V29: 0 | W29: 자재 25
A30: 43B42229014198A2CBC88621A0121F27252AF | B30: 볼트,너트,와샤(SET) | C30: M12*100L | D30: SET | E30: 0 | G30: 0 | I30: 0 | K30: 382 | M30: 0 | O30: =SMALL(E30:M30,COUNTIF(E30:M30,0)+1) -> 382 | P30: 0 | Q30: 0 | R30: 0 | S30: 0 | T30: 0 | U30: 0 | V30: 0 | W30: 자재 26
A31: 43B42229014198A2CBC88621A0121F2714D61 | B31: 스테인리스망, STS304 | C31: 해충방지용 | D31: M2 | E31: 35040 | F31: 105 | G31: 29340 | H31: 58 | I31: 0 | K31: 0 | M31: 0 | O31: =SMALL(E31:M31,COUNTIF(E31:M31,0)+1) -> 29340 | P31: 0 | Q31: 0 | R31: 0 | S31: 0 | T31: 0 | U31: 0 | V31: 0 | W31: 자재 27
A32: 43B4222901419891C6D6C34DC84A90452D2F6 | B32: 스트롱앵커 | C32: 스트롱앵커, M10, 9.5mm | D32: 개 | E32: 120 | F32: 52 | G32: 0 | I32: 0 | K32: 0 | M32: 0 | O32: =SMALL(E32:M32,COUNTIF(E32:M32,0)+1) -> 120 | P32: 0 | Q32: 0 | R32: 0 | S32: 0 | T32: 0 | U32: 0 | V32: 0 | W32: 자재 28
A33: 43B4222901419891C6D6C34DC84A90452D2F7 | B33: 스트롱앵커 | C33: 스트롱앵커, M13, 12.7mm | D33: 개 | E33: 280 | F33: 52 | G33: 0 | I33: 0 | K33: 0 | M33: 0 | O33: =SMALL(E33:M33,COUNTIF(E33:M33,0)+1) -> 280 | P33: 0 | Q33: 0 | R33: 0 | S33: 0 | T33: 0 | U33: 0 | V33: 0 | W33: 자재 29
A34: 43B4222901419891E1BCC7B39CD6FB7045B25 | B34: 지지행어 | C34: 파이프행어(일반), ∮100mm | D34: 개 | E34: 1350 | F34: 711 | G34: 1150 | H34: 827 | I34: 1560 | J34: 665 | K34: 0 | M34: 0 | O34: =SMALL(E34:M34,COUNTIF(E34:M34,0)+1) -> 1150 | P34: 0 | Q34: 0 | R34: 0 | S34: 0 | T34: 0 | U34: 0 | V34: 0 | W34: 자재 30
A35: 43B4222901419891E1BCC7B39CD6FB7045B23 | B35: 지지행어 | C35: 파이프행어(일반), ∮150mm | D35: 개 | E35: 3360 | F35: 711 | G35: 3110 | H35: 827 | I35: 3900 | J35: 665 | K35: 0 | M35: 0 | O35: =SMALL(E35:M35,COUNTIF(E35:M35,0)+1) -> 3110 | P35: 0 | Q35: 0 | R35: 0 | S35: 0 | T35: 0 | U35: 0 | V35: 0 | W35: 자재 31
A36: 43B4222901419891E1BCC7B39CD6FB7045A00 | B36: 지지행어 | C36: 절연행어, ∮15mm | D36: 개 | E36: 690 | F36: 711 | G36: 510 | H36: 827 | I36: 710 | J36: 665 | K36: 0 | M36: 0 | O36: =SMALL(E36:M36,COUNTIF(E36:M36,0)+1) -> 510 | P36: 0 | Q36: 0 | R36: 0 | S36: 0 | T36: 0 | U36: 0 | V36: 0 | W36: 자재 32
A37: 43B4222901419891E1BCC7B39CD6FB7045A04 | B37: 지지행어 | C37: 절연행어, ∮40mm | D37: 개 | E37: 1040 | F37: 711 | G37: 780 | H37: 827 | I37: 1060 | J37: 665 | K37: 0 | M37: 0 | O37: =SMALL(E37:M37,COUNTIF(E37:M37,0)+1) -> 780 | P37: 0 | Q37: 0 | R37: 0 | S37: 0 | T37: 0 | U37: 0 | V37: 0 | W37: 자재 33
A38: 43B4222901419891E1BCC7A1222A6F25C5F5C | B38: 콤파운드 | C38: 비초산계 | D38: g | E38: 0 | G38: 0 | I38: 0 | K38: 0 | M38: 26 | O38: =SMALL(E38:M38,COUNTIF(E38:M38,0)+1) -> 26 | P38: 0 | Q38: 0 | R38: 0 | S38: 0 | T38: 0 | U38: 0 | V38: 0 | W38: 자재 34
A39: 43B4222901419891E1BCC7A1222A6F25C5EB7 | B39: 고철 | D39: Kg | E39: 0 | G39: 261 | H39: 1472 | I39: 0 | K39: 0 | M39: 0 | O39: =SMALL(E39:M39,COUNTIF(E39:M39,0)+1) -> 261 | P39: 0 | Q39: 0 | R39: 0 | S39: 0 | T39: 0 | U39: 0 | V39: 0 | W39: 자재 35
A40: 43B4222901419891E1BCC7A1222A6F25C5EB6 | B40: 고스텐 | D40: Kg | E40: 0 | G40: 1377 | H40: 1472 | I40: 0 | K40: 0 | M40: 0 | O40: =SMALL(E40:M40,COUNTIF(E40:M40,0)+1) -> 1377 | P40: 0 | Q40: 0 | R40: 0 | S40: 0 | T40: 0 | U40: 0 | V40: 0 | W40: 자재 36
...

Sheet 품질관리비
E1: 초급기술자인건비 | G1: 일수(월당) | H1: 공사개월수 | I1: 품질관리기술인 인건비
E2: 159901 | G2: 22 | H2: 3 | I2: =E2*G2*H2 -> 10553466
A3: 공사명 : 전주효문중 식생활관 리모델링 기계설비공사
A4: 품 명 | B4: 규 격 | C4: 단위 | D4: 수량 | E4: 재 료 비 | G4: 노 무 비 | I4: 경 비 | K4: 합 계 | M4: 비 고 | N4: 품목코드 | O4: 변수 | P4: 설정 | Q4: 공종코드 | R4: 일위 | S4: 단산 | T4: 자재 | U4: 손료적용 | V4: 손료저장 | W4: 적용율 | X4: JUK1 | Y4: JUK2 | Z4: JUK3 | AA4: JUK4 | AB4: JUK5 | AC4: JUK6 | AD4: JUK7 | AE4: JUK8 | AF4: JUK9 | AG4: JUK10 | AH4: JUK11 | AI4: JUK12 | AJ4: JUK13 | AK4: JUK14 | AL4: JUK15 | AM4: JUK16 | AN4: JUK17 | AO4: JUK18 | AP4: JUK19 | AQ4: JUK20 | AR4: 자재구분 | AS4: 공종구분 | AT4: 공종레벨 | AU4: 공종+자재 | AV4: 고유번호
E5: 단 가 | F5: 금 액 | G5: 단 가 | H5: 금 액 | I5: 단 가 | J5: 금 액 | K5: 단 가 | L5: 금 액
A6: 1. 품질시험비 | Q6: 0101
A7: 품질시험비 | B7: 재료비*0.5% | C7: 식 | D7: 1 | K7: =TRUNC(E7+G7+I7, 0) -> 0 | L7: =TRUNC(F7+H7+J7, 0) -> 0 | N7: 56CA228228BFA849A101FAC624E8 | R7: T | S7: F | T7: F | AU7: 010156CA228228BFA849A101FAC624E8 | AV7: 3 | AW7: 갑지의 재료비*0.5%
A8: [ 합 계 ] | L8: =SUM(L7:L7) -> 0 | N8: TOTAL
A10: 2. 품질활동비 | K10: =TRUNC(E10+G10+I10, 0) -> 0 | L10: =TRUNC(F10+H10+J10, 0) -> 0 | N10: 5140F26268105768710C05B6181A | R10: F | S10: F | T10: T | AU10: 01015140F26268105768710C05B6181A | AV10: 26
A11: 품질관련 문서작성 및 관리 관련 비용 | B11: 품질관련기술인 인건비의 1% | C11: 식 | D11: 1 | K11: =TRUNC(E11+G11+I11, 0) -> 0 | L11: =TRUNC(F11+H11+J11, 0) -> 0 | N11: 5140F26268105768710C05B6181B | R11: F | S11: F | T11: T | AU11: 01015140F26268105768710C05B6181B | AV11: 27
A12: 품질관련 교육.훈련비 | B12: 품질관리 건설기술인 인건비의 1% | C12: 식 | D12: 1 | K12: =TRUNC(E12+G12+I12, 0) -> 0 | L12: =TRUNC(F12+H12+J12, 0) -> 0 | N12: 56CA228228BFA849A101FAC6258F | R12: T | S12: F | T12: F | AU12: 010156CA228228BFA849A101FAC6258F | AV12: 28
A13: 품질검사비 | B13: 품질시험비의 1% | C13: 식 | D13: 1 | K13: =TRUNC(E13+G13+I13, 0) -> 0 | L13: =TRUNC(F13+H13+J13, 0) -> 0
A14: 그 밖의 비용 | B14: 품질관리활동비 총액의 1% 이내 | C14: 식 | D14: 1 | K14: =TRUNC(E14+G14+I14, 0) -> 0 | L14: =TRUNC(F14+H14+J14, 0) -> 0
K15: =TRUNC(E15+G15+I15, 0) -> 0 | L15: =TRUNC(F15+H15+J15, 0) -> 0
A16: 3. 품질관리시험실 | K16: =TRUNC(E16+G16+I16, 0) -> 0 | L16: =TRUNC(F16+H16+J16, 0) -> 0
A17: 컨테이너형 가설창고 설치 및 해체(품질관리시험실) | B17: 3.0*6.0m, 3개월 | C17: 개소 | D17: 1 | K17: =TRUNC(E17+G17+I17, 0) -> 0 | L17: =TRUNC(F17+H17+J17, 0) -> 0 | AW17: 컨테이너 단가 3개월짜리로 수정함
F18: =TRUNC(E18*D18, 0) -> 0 | H18: =TRUNC(G18*D18, 0) -> 0 | J18: =TRUNC(I18*D18, 0) -> 0 | K18: =TRUNC(E18+G18+I18, 0) -> 0 | L18: =TRUNC(F18+H18+J18, 0) -> 0
F20: =TRUNC(E20*D20, 0) -> 0 | H20: =TRUNC(G20*D20, 0) -> 0 | J20: =TRUNC(I20*D20, 0) -> 0 | K20: =TRUNC(E20+G20+I20, 0) -> 0 | L20: =TRUNC(F20+H20+J20, 0) -> 0
F21: =TRUNC(E21*D21, 0) -> 0 | H21: =TRUNC(G21*D21, 0) -> 0 | J21: =TRUNC(I21*D21, 0) -> 0 | K21: =TRUNC(E21+G21+I21, 0) -> 0 | L21: =TRUNC(F21+H21+J21, 0) -> 0
F22: =TRUNC(E22*D22, 0) -> 0 | H22: =TRUNC(G22*D22, 0) -> 0 | J22: =TRUNC(I22*D22, 0) -> 0 | K22: =TRUNC(E22+G22+I22, 0) -> 0 | L22: =TRUNC(F22+H22+J22, 0) -> 0
F23: =TRUNC(E23*D23, 0) -> 0 | H23: =TRUNC(G23*D23, 0) -> 0 | J23: =TRUNC(I23*D23, 0) -> 0 | K23: =TRUNC(E23+G23+I23, 0) -> 0 | L23: =TRUNC(F23+H23+J23, 0) -> 0
F24: =TRUNC(E24*D24, 0) -> 0 | H24: =TRUNC(G24*D24, 0) -> 0 | J24: =TRUNC(I24*D24, 0) -> 0 | K24: =TRUNC(E24+G24+I24, 0) -> 0 | L24: =TRUNC(F24+H24+J24, 0) -> 0
F25: =TRUNC(E25*D25, 0) -> 0 | H25: =TRUNC(G25*D25, 0) -> 0 | J25: =TRUNC(I25*D25, 0) -> 0 | K25: =TRUNC(E25+G25+I25, 0) -> 0 | L25: =TRUNC(F25+H25+J25, 0) -> 0
F26: =TRUNC(E26*D26, 0) -> 0 | H26: =TRUNC(G26*D26, 0) -> 0 | J26: =TRUNC(I26*D26, 0) -> 0 | K26: =TRUNC(E26+G26+I26, 0) -> 0 | L26: =TRUNC(F26+H26+J26, 0) -> 0
F27: =TRUNC(E27*D27, 0) -> 0 | H27: =TRUNC(G27*D27, 0) -> 0 | J27: =TRUNC(I27*D27, 0) -> 0 | K27: =TRUNC(E27+G27+I27, 0) -> 0 | L27: =TRUNC(F27+H27+J27, 0) -> 0
F28: =TRUNC(E28*D28, 0) -> 0 | H28: =TRUNC(G28*D28, 0) -> 0 | J28: =TRUNC(I28*D28, 0) -> 0 | K28: =TRUNC(E28+G28+I28, 0) -> 0 | L28: =TRUNC(F28+H28+J28, 0) -> 0
A29: [ 합 계 ] | F29: =SUM(F7:F28) -> 0 | H29: =SUM(H7:H28) -> 0 | J29: =SUM(J8+J11+J12+J13+J14+J17) -> 0 | L29: =SUM(L8+L11+L12+L13+L14+L17) -> 0 | N29: TOTAL

Sheet  공사설정 
A1: 이 Sheet는 수정하지 마십시요
A2: 공사구분 | B2: C | C2: 타이틀
A3: 확정내역 | B3: 원내역
A4: 자재단가적용 | B4: 5
A5: 경비단가적용 | B5: 5
A6: 품목코드형식 | B6: XXXX-XXXX-XXXXXXXXX
A7: 내역금액소수점처리 | B7: C | C7: 1
A8: 일위대가내역소수점처리 | B8: C | C8: 1
A9: 단가명 | B9: 물가자료 | C9: 거래가격 | D9: 물가정보 | E9: 조사가격1 | F9: 조사가격2 | G9: TTTTT
A10: 환율 | B10: 1088 | C10: 0 | D10: 0
A11: 시간당작업량 | B11: R | C11: 4
A12: 1회 사이클시간 | B12: R | C12: 4
A13: 시간당 작업사이클 | B13: R | C13: 3
A14: 일반변수 | B14: C | C14: 5
A15: 시간당 노임산출 계수 | B15: A | C15: 1/8*16/12*25/20 | D15: 1/8*16/12*25/20 | E15: 1/8*16/12*25/20 | F15: 1
A16: 재료비 할증 계수 | B16: 1.11 | C16: 1.12
A17: 노무비 할증 계수 | B17: 1 | C17: 1.5 | D17: 1.16 | E17: 1.6 | F17: 1.6 | G17: 1.6 | H17: 1.94 | I17: 1.94 | J17: 1.94 | K17: 1 | L17: 1 | M17: 1
A18: 경비 할증 계수 | B18: 1.25 | C18: 1.071
A19: 내역,일위대가 품명,규격,단위 따로적용
A20: 내역단가 소수점처리 | B20: C | C20: 1
A21: 코드 | B21: 공종구분명 | C21: 원가비목코드
A22: 1 | B22: 작 업 부 산 물 | C22: A3
A23: 2 | B23: 운 반 비 | C23: C1
A24: 3 | B24: 관 급 자 재 비 | C24: DJ
A25: 4 | B25: 사 급 자 재 비 | C25: D3
A26: 5 | B26: 외 자 재
A27: 6 | B27: 폐기물처리비
A28: 7 | B28: ...
A29: 8 | B29: ...
A30: 9 | B30: ...
A31: A | B31: ....
A32: B | B32: .....
A33: C | B33: ....
A34: D | B34: ....
A35: E | B35: ....
A36: F | B36: ....
A37: G | B37: ....
A38: H | B38: ....
A39: I | B39: ....
A40: J | B40: ....
...

Sheet Sheet1
