Workbook
Name B: #REF!
Name CELLNOTE4: '[G:/BAE/용역입찰/번역물/벽산빌딩/사업장/로담코타워/월말보고서/MJR/공유/한국중공업시설.XLS]노무비'!#REF!
Name CELLNOTE5: '[G:/BAE/용역입찰/번역물/벽산빌딩/사업장/로담코타워/월말보고서/MJR/공유/한국중공업보안.XLS]노무비'!#REF!
Name CELLNOTE6: '[G:/BAE/용역입찰/번역물/벽산빌딩/사업장/로담코타워/월말보고서/MJR/공유/한국중공업시설.XLS]노무비'!#REF!
Name CR: #REF!
Name CRa: #REF!
Name CRb: #REF!
Name GONGJONG: #REF!
Name Main: #REF!
Name MAINPART: #REF!
Name mf: #REF!
Name PRINT_AREA_MI: #REF!
Name SChonsei: #REF!
Name SubDic: #REF!
Name TChonsei: #REF!
Name TDeposit: #REF!
Name TRent: #REF!
Name ㄹㄴㅇㄹㄴㅇㄹ: '[G:/BAE/용역입찰/번역물/벽산빌딩/사업장/로담코타워/월말보고서/MJR/공유/로담코총괄제안견적3.XLS]인원계획-미화'!#REF!
Name 반대탭: '[G:/BAE/용역입찰/미켈란/각종제안서/2005/전주코압쇼핑몰/예산(코압쇼핑몰).xls]시설장비'!#REF!
Name 연봉: '[G:/BAE/용역입찰/번역물/벽산빌딩/사업장/로담코타워/월말보고서/MJR/공유/로담코총괄제안견적3.XLS]인원계획-미화'!#REF!

Sheet 원가계산서
B1: 공 사 원 가 계 산 서
B2: 공사명 : 중산고 교사동 복도바닥 교체 공사
B3: 비 목 | E3: 금 액 | F3: 구 성 비 | G3: 비 고
A4: A1 | B4: 순 공 사 원 가 | C4: 재 료 비 | D4: 직 접 재 료 비 | E4: =TRUNC(공종별집계표!F5,0) -> 0
A5: A2 | D5: 간 접 재 료 비 | E5: 0
A6: A3 | D6: 작업설, 부산물(△) | E6: 0
A7: AS | D7: [ 소 계 ] | E7: =TRUNC(E4+E5-E6,0) -> 0
A8: B1 | C8: 노 무 비 | D8: 직 접 노 무 비 | E8: =TRUNC(공종별집계표!H5,0) -> 0
A9: B2 | D9: 간 접 노 무 비 | E9: =TRUNC(E8*0.175,0) -> 0 | F9: 직접노무비 * 17.5%
A10: BS | D10: [ 소 계 ] | E10: =TRUNC(E8+E9,0) -> 0
A11: C1 | C11: 경 비 | D11: 운 반 비 | E11: =TRUNC(공종별집계표!T13,0) -> 0
A12: C2 | D12: 경 비 | E12: =TRUNC(공종별집계표!J5,0) -> 0
A13: C4 | D13: 산 재 보 험 료 | E13: =TRUNC(E10*0.0356,0) -> 0 | F13: 노무비 * 3.56%
A14: C5 | D14: 고 용 보 험 료 | E14: =TRUNC(E10*0.0101,0) -> 0 | F14: 노무비 * 1.01%
A15: C6 | D15: 국민 건강 보험료 | E15: =TRUNC(E8*0.03595,0) -> 0 | F15: 직접노무비 * 3.595%
A16: C7 | D16: 국민 연금 보험료 | E16: =TRUNC(E8*0.0475,0) -> 0 | F16: 직접노무비 * 4.75%
A17: C8 | D17: 퇴직 공제 부금비 | E17: =TRUNC(E8*0.023,0) -> 0 | F17: 직접노무비 * 2.3%
A18: CA | D18: 산업안전보건관리비 | E18: =TRUNC((E7+E8+(0/1.1))*0.0311,0) -> 0 | F18: (재료비+직노+관급자재비) * 3.11%
A19: CB | D19: 노인장기요양보험료 | E19: =TRUNC(E15*0.1314,0) -> 0 | F19: 건강보험료 * 13.14%
A20: CD | D20: 품질관리비 | E20: =TRUNC(공종별집계표!T14,0) -> 0
A21: CC | D21: 폐기물상차비 | E21: =TRUNC(공종별집계표!T15,0) -> 0
A22: CG | D22: 기 타 경 비 | E22: =TRUNC((E7+E10)*0.05,0) -> 0 | F22: (재료비+노무비) * 5%
A23: CH | D23: 환 경 보 전 비 | E23: =TRUNC((E7+E8+E11+E12)*0.003,0) -> 0 | F23: (재료비+직노+경비) * 0.3%
A24: CK | D24: 하도급지급보증수수료 | E24: =TRUNC((E7+E8+E11+E12)*0.00081,0) -> 0 | F24: (재료비+직노+경비) * 0.081%
A25: CL | D25: 건설기계대여금지급보증서발급수수료 | E25: =TRUNC((E7+E8+E11+E12)*0.0007,0) -> 0 | F25: (재료비+직노+경비) * 0.07%
A26: CM | D26: 석 면 분 담 금 | E26: =TRUNC(E10*0.00006,0) -> 0 | F26: 노무비 * 0.006%
A27: CN | D27: 임 금 채 권 부 담 금 | E27: =TRUNC(E10*0.0009,0) -> 0 | F27: 노무비 * 0.09%
A28: CS | D28: [ 소 계 ] | E28: =TRUNC(E11+E12+E13+E14+E15+E16+E17+E18+E19+E21+E20+E22+E23+E24+E25+E26+E27,0) -> 0
A29: S1 | B29: 계 | E29: =TRUNC(E7+E10+E28,0) -> 0
A30: D1 | B30: 일 반 관 리 비 | E30: =TRUNC(E29*0.08,0) -> 0 | F30: 계 * 8%
A31: D2 | B31: 이 윤 | E31: =TRUNC((E10+E28+E30)*0.15,0) -> 0 | F31: (노무비+경비+일반관리비) * 15%
A32: D9 | B32: 공 급 가 액
A33: DB | B33: 부 가 가 치 세 | F33: 공급가액 * 10%
A34: DH | B34: 도 급 액 | E34: =TRUNC(E32+E33,0) -> 0
A35: S2 | B35: 총 공 사 비 | E35: =TRUNC(E34+0,0) -> 0

Sheet 공종별집계표
A1: 공 종 별 집 계 표
A2: [ 중산고 교사동 복도바닥 교체 공사 ]
A3: 품 명 | B3: 규 격 | C3: 단위 | D3: 수량 | E3: 재 료 비 | G3: 노 무 비 | I3: 경 비 | K3: 합 계 | M3: 비 고 | N3: 공종코드 | O3: 변수 | P3: 상위공종 | Q3: 공종구분 | R3: 공종레벨 | S3: 공종소계 | T3: 원가계산서 연결금액
E4: 단 가 | F4: 금 액 | G4: 단 가 | H4: 금 액 | I4: 단 가 | J4: 금 액 | K4: 단 가 | L4: 금 액
A5: 중산고 교사동 복도바닥 교체 설계용역 | D5: 1 | N5: 01 | R5: 1
A6: 01.교사동 복도바닥 교체 | D6: 1 | N6: 0101 | P6: 01 | R6: 2
A7: 가 설 공 사 | D7: 1 | N7: 010101 | P7: 0101 | R7: 3
A8: 돌 공 사 | D8: 1 | N8: 010102 | P8: 0101 | R8: 3
A9: 칠 공 사 | D9: 1 | N9: 010103 | P9: 0101 | R9: 3
A10: 기 타 공 사 | D10: 1 | N10: 010104 | P10: 0101 | R10: 3
A11: 철 거 공 사 | D11: 1 | N11: 010105 | P11: 0101 | R11: 3
A12: 골 재 비 | D12: 1 | N12: 010106 | P12: 0101 | R12: 3
A13: 운 반 비 | D13: 1 | N13: 010107 | Q13: 2 | R13: 3 | T13: =L13*1 -> 0
A14: 품 질 관 리 비 | D14: 1 | N14: 010108 | Q14: 7 | R14: 3 | T14: =L14*1 -> 0
A15: 건설폐기물 상차비 | D15: 1 | N15: 010109 | Q15: 8 | R15: 3 | T15: =L15*1 -> 0
A27: [ 합 계 ] | F27: =F5 -> 0 | H27: =H5 -> 0 | J27: =J5 -> 0 | L27: =L5 -> 0

Sheet 공종별내역서
A1: [ 중산고 교사동 복도바닥 교체 공사 ]
A2: 품 명 | B2: 규 격 | C2: 단위 | D2: 수량 | E2: 재 료 비 | G2: 노 무 비 | I2: 경 비 | K2: 합 계 | M2: 비 고 | N2: 품목코드 | O2: 변수 | P2: 설정 | Q2: 공종코드 | R2: 일위 | S2: 단산 | T2: 자재 | U2: 손료적용 | V2: 손료저장 | W2: 적용율 | X2: JUK1 | Y2: JUK2 | Z2: JUK3 | AA2: JUK4 | AB2: JUK5 | AC2: JUK6 | AD2: JUK7 | AE2: JUK8 | AF2: JUK9 | AG2: JUK10 | AH2: JUK11 | AI2: JUK12 | AJ2: JUK13 | AK2: JUK14 | AL2: JUK15 | AM2: JUK16 | AN2: JUK17 | AO2: JUK18 | AP2: JUK19 | AQ2: JUK20 | AR2: 자재구분 | AS2: 공종구분 | AT2: 공종레벨 | AU2: 공종+자재 | AV2: 고유번호
E3: 단 가 | F3: 금 액 | G3: 단 가 | H3: 금 액 | I3: 단 가 | J3: 금 액 | K3: 단 가 | L3: 금 액
A4: 가 설 공 사 | Q4: 010101
A5: 건축물 현장정리 | B5: 보수 | C5: M2 | D5: 985 | N5: 5AD96615AAE05C6F813DD87B05934A | Q5: 010101 | R5: T | S5: F | T5: F | AU5: 0101015AD96615AAE05C6F813DD87B05934A | AV5: 4
A6: 준공청소 | B6: 보수 | C6: M2 | D6: 985 | N6: 5AD96615AF605D824131A64AA108BB | Q6: 010101 | R6: T | S6: F | T6: F | AU6: 0101015AD96615AF605D824131A64AA108BB | AV6: 5
A7: 벽 보양 | B7: 벽, PE필름,0.1mm*1겹 | C7: M2 | D7: 1665 | N7: 5AD96615A9C054BC81396E63DCA706 | Q7: 010101 | R7: T | S7: F | T7: F | AU7: 0101015AD96615A9C054BC81396E63DCA706 | AV7: 33
Q8: 010101
Q9: 010101
Q10: 010101
Q11: 010101
Q12: 010101
Q13: 010101
Q14: 010101
Q15: 010101
Q16: 010101
Q17: 010101
Q18: 010101
Q19: 010101
... Q26: 010101
A27: [ 합 계 ] | F27: =SUMIF(Q5:Q26,"010101",F5:F26) -> 0 | H27: =SUMIF(Q5:Q26,"010101",H5:H26) -> 0 | J27: =SUMIF(Q5:Q26,"010101",J5:J26) -> 0 | L27: =SUMIF(Q5:Q26,"010101",L5:L26) -> 0 | N27: TOTAL
A28: 돌 공 사 | Q28: 010102
A29: 테라죠판붙임(습식, 일반) | B29: 바닥, 400*400*25mm, 모르타르 35mm | C29: M2 | D29: 985 | N29: 5AD9A6AEBE005319F1394B928D99D6 | Q29: 010102 | R29: T | S29: F | T29: F | AU29: 0101025AD9A6AEBE005319F1394B928D99D6 | AV29: 9
A30: 화강석 재료분리대(습식, 물갈기) | B30: 마천석,300*30mm,모르타르30mm,지정용,(X13~X15,중앙화장실) | C30: M | D30: 10 | N30: 5AD98658B2305095A13A2FC8F5FCAF | Q30: 010102 | R30: T | S30: F | T30: F | AU30: 0101025AD98658B2305095A13A2FC8F5FCAF | AV30: 10
A31: 점자블럭(점형) | B31: 300*300*18t+바탕42t,(X13~X15,중앙화장실앞) | C31: EA | D31: 12 | N31: 5AD9A6AD95405BD77139086E7687A3 | Q31: 010102 | R31: T | S31: F | T31: F | AU31: 0101025AD9A6AD95405BD77139086E7687A3 | AV31: 37
Q32: 010102
Q33: 010102
Q34: 010102
Q35: 010102
Q36: 010102
Q37: 010102
Q38: 010102
Q39: 010102
Q40: 010102
Q41: 010102
Q42: 010102
Q43: 010102
... Q50: 010102
A51: [ 합 계 ] | F51: =SUMIF(Q29:Q50,"010102",F29:F50) -> 0 | H51: =SUMIF(Q29:Q50,"010102",H29:H50) -> 0 | J51: =SUMIF(Q29:Q50,"010102",J29:J50) -> 0 | L51: =SUMIF(Q29:Q50,"010102",L29:L50) -> 0 | N51: TOTAL
A52: 칠 공 사 | Q52: 010103
...

Sheet  공사설정 
A1: 이 Sheet는 수정하지 마십시요
A2: 공사구분 | B2: A | C2: 타이틀
A3: 확정내역 | B3: 원내역
A4: 자재단가적용 | B4: 5
A5: 경비단가적용 | B5: 5
A6: 품목코드형식 | B6: XXXX-XXXX-XXXXXXXXX
A7: 내역금액소수점처리 | B7: C | C7: T
A8: 일위대가내역소수점처리 | B8: C | C8: 2
A9: 단가명 | B9: 조달청가격 | C9: 거래가격 | D9: 유통물가 | E9: 물가자료 | F9: 조사가격 | G9: TTTTT
A10: 환율 | B10: 1472 | C10: 0 | D10: 0
A11: 시간당작업량 | B11: R | C11: 4
A12: 1회 사이클시간 | B12: R | C12: 4
A13: 시간당 작업사이클 | B13: R | C13: 3
A14: 일반변수 | B14: R | C14: 5
A15: 시간당 노임산출 계수 | B15: A | C15: 1/8*16/12*25/20 | D15: 1/8*16/12*25/20 | E15: 1/8*16/12*25/20 | F15: 1
A16: 재료비 할증 계수 | B16: 1.11 | C16: 1.12
A17: 노무비 할증 계수 | B17: 1 | C17: 1.5 | D17: 1.16 | E17: 1.6 | F17: 1.6 | G17: 1.6 | H17: 1.94 | I17: 1.94 | J17: 1.94 | K17: 1 | L17: 1 | M17: 1
A18: 경비 할증 계수 | B18: 1.25 | C18: 1.071
A19: 내역,일위대가 품명,규격,단위 따로적용
A20: 내역단가 소수점처리 | B20: C | C20: 1
A21: 코드 | B21: 공종구분명 | C21: 원가비목코드
A22: 1 | B22: 작 업 부 산 물 | C22: A3
A23: 2 | B23: 운 반 비 | C23: C1
A24: 3 | B24: 관 급 자 재 비 | C24: DJ
A25: 4 | B25: 사 급 자 재 비 | C25: D3
A26: 5 | B26: 외 자 재
A27: 6 | B27: 폐기물처리비
A28: 7 | B28: 품질관리비 | C28: CD
A29: 8 | B29: 폐기물상차비 | C29: CC
A30: 9 | B30: ...
A31: A | B31: ....
A32: B | B32: .....
A33: C | B33: ....
A34: D | B34: ....
A35: E | B35: ....
A36: F | B36: ....
A37: G | B37: ....
A38: H | B38: ....
A39: I | B39: ....
A40: J | B40: ....
...

Sheet Sheet1
