Workbook

Sheet 설계서
A1: 설 계 내 역 서
A4: 공 사 명 : 신진과학기술고등학교 조리실습장 조성공사
A5: 총 공 사 비: | C5: ="一金 "&NUMBERSTRING(F5,1)&"원整" -> 一金 영원整 | F5: =G15 -> 0
A6: 도 급 금 액: | C6: ="一金 "&NUMBERSTRING(F6,1)&"원整" -> 一金 영원整 | F6: =E15 -> 0
A7: 관 급 금 액: | C7: ="一金 "&NUMBERSTRING(F7,1)&"원整" -> 一金 영원整 | F7: =F15 -> 0
A8: 공 사 내 용: | C8: 실습실 조성공사 1식
A10: 공 종 명 | B10: 규 격 | C10: 수량 | D10: 단위 | E10: 도 급 금 액 | F10: 관 급 금 액 | G10: 합 계 | H10: 비 고
A11: 건축공사 | C11: 1 | D11: 식 | E11: ='원가 (건축)'!D38 -> 0 | G11: =SUM(E11:F11) -> 0
A12: 기계공사 | C12: 1 | D12: 식 | E12: ='원가 (건축)'!E38 -> 0 | F12: ='원가 (건축)'!E39 -> 0 | G12: =E12+F12 -> 0
A15: 합 계 | E15: =SUM(E11:E14) -> 0 | F15: =SUM(F11:F13) -> 0 | G15: =E15+F15 -> 0

Sheet 원가  (건축)
A1: 공 사 원 가 계 산 서
A3: 공 사 명 : | C3: 신진과학기술고등학교 조리실습장 조성공사(건축)
A4: 비 목 | D4: 건 축 공 사 | E4: 기 계 공 사 | F4: 총 금 액 | G4: 구 성 비 | H4: 비 고
A5: 순 공 사 원 가 | B5: 재료비 | C5: 직 접 재 료 비 | D5: =공종별집계표!F6 -> 0 | E5: =공종별집계표!F24 -> 0 | F5: =공종별집계표!F44 -> 0
C6: 간 접 재 료 비
C7: 작업설, 부산물( )
C8: [ 소 계 ] | D8: =D5+D6-D7 -> 0 | E8: =E5+E6-E7 -> 0 | F8: =F5+F6-F7 -> 0
B9: 노무비 | C9: 직 접 노 무 비 | D9: =공종별집계표!H6 -> 0 | E9: =공종별집계표!H24 -> 0 | F9: =공종별집계표!H44 -> 0
C10: 간 접 노 무 비 | D10: =D9*0.175 -> 0 | E10: =E9*0.175 -> 0 | F10: =F9*0.175 -> 0 | G10: 직접노무비 * 17.5%
C11: [ 소 계 ] | D11: =SUM(D9:D10) -> 0 | E11: =SUM(E9:E10) -> 0 | F11: =SUM(F9:F10) -> 0
B12: 경 비 | C12: 운 반 비 | D12: 0 | E12: 0 | F12: 0
C13: 기 계 경 비 | D13: =공종별집계표!J6 -> 0 | E13: =공종별집계표!J24 -> 0 | F13: =공종별집계표!J44 -> 0
C14: 산 재 보 험 료 | D14: =D11*0.0356 -> 0 | E14: =E11*0.0356 -> 0 | F14: =F11*0.0356 -> 0 | G14: 노무비 * 3.56%
C15: 고 용 보 험 료 | D15: =D11*0.0101 -> 0 | E15: =E11*0.0101 -> 0 | F15: =F11*0.0101 -> 0 | G15: 노무비 * 1.01%
C16: 건 강 보 험 료 | D16: =D9*0.03595 -> 0 | E16: =E9*0.03595 -> 0 | F16: =F9*0.03595 -> 0 | G16: 직접노무비 * 3.595%
C17: 연 금 보 험 료 | D17: =D9*0.0475 -> 0 | E17: =E9*0.0475 -> 0 | F17: =F9*0.0475 -> 0 | G17: 직접노무비 * 4.75%
C18: 퇴 직 공 제 부금비 | D18: =D9*2.3%*0 -> 0 | E18: =E9*2.3%*0 -> 0 | F18: =F9*2.3%*0 -> 0 | G18: 직접노무비 * 2.3%
C19: 산업안전보건관리비 | D19: =(D8+D9)*0.0311 -> 0 | E19: =(E8+E9)*0.0311 -> 0 | F19: =(F8+F9)*0.0311 -> 0 | G19: (재료비+직노무비+도급자관급/1.1) * 3.11%
C20: 기 타 경 비 | D20: =(D8+D11)*0.05 -> 0 | E20: =(E8+E11)*0.05 -> 0 | F20: =(F8+F11)*0.05 -> 0 | G20: (재료비+노무비) * 5%
C21: 환 경 보 전 비 | D21: =(D8+D9+D13)*0.3% -> 0 | E21: =(E8+E9+E13)*0.3% -> 0 | F21: =(F8+F9+F13)*0.3% -> 0 | G21: (재료비+직노무비+경비) * 0.3%
C22: 노인장기요양보험료 | D22: =D16*13.14% -> 0 | E22: =E16*13.14% -> 0 | F22: =F16*13.14% -> 0 | G22: (건강보험료) * 13.14%
C23: 석면분담금 | D23: =D11*0.006% -> 0 | E23: =E11*0.006% -> 0 | F23: =F11*0.006% -> 0 | G23: 노무비 * 0.006%
C24: 임금채권부담금 | D24: =D11*0.09% -> 0 | E24: =E11*0.09% -> 0 | F24: =F11*0.09% -> 0 | G24: 노무비 * 0.09%
C25: 건 설 하 도 급 대 금 | D25: =(D8+D9+D13)*0.081% -> 0 | E25: =(E8+E9+E13)*0.081% -> 0 | F25: =(F8+F9+F13)*0.081% -> 0 | G25: (재료비+직노+경비)*0.081%
C26: 지급보증서발급수수료
C27: 건설기계대여대금 | D27: =(D8+D9+D13)*0.1% -> 0 | E27: =(E8+E9+E13)*0.1% -> 0 | F27: =(F8+F9+F13)*0.1% -> 0 | G27: (재료비+직노+경비)*0.1%
C28: 지급보증서발급수수료
C29: [ 소 계 ] | D29: =(D12+D13+D14+D15+D16+D17+D18+D19+D20+D21+D22+D23+D24+D25+D26+D27+D28) -> 0 | E29: =(E12+E13+E14+E15+E16+E17+E18+E19+E20+E21+E22+E23+E24+E25+E26+E27+E28) -> 0 | F29: =(F12+F13+F14+F15+F16+F17+F18+F19+F20+F21+F22+F23+F24+F25+F26+F27+F28) -> 0
A30: 계 | D30: =(D8+D11+D29) -> 0 | E30: =(E8+E11+E29) -> 0 | F30: =(F8+F11+F29) -> 0
A31: 일 반 관 리 비 | D31: =D30*0.08 -> 0 | E31: =E30*0.08 -> 0 | F31: =F30*0.08 -> 0 | G31: 계 * 8%
A32: 이 윤 | D32: =(D11+D29+D31)*0.15 -> 0 | E32: =(E11+E29+E31)*0.15 -> 0 | F32: =D32+E32 -> 0 | G32: (노무비+경비+일반관리비) * 15%
A33: 폐기물상차비 | D33: =공종별집계표!L22 -> 0 | E33: 0 | F33: =D33+E33 -> 0
A34: 폐기물처리비 | D34: =공종별집계표!L23 -> 0 | E34: 0 | F34: =D34+E34 -> 0
A35: 작업부산물 | D35: =공종별집계표!L21 -> 0 | E35: =공종별집계표!L26 -> 0 | F35: =D35+E35 -> 0
A36: 공 급 가 액 | D36: =SUM(D30:D35) -> 0 | E36: =SUM(E30:E35) -> 0 | F36: =D36+E36 -> 0
A37: 부 가 가 치 세 | D37: =D36*0.1 -> 0 | E37: =E36*0.1 -> 0 | F37: =D37+E37 -> 0 | G37: 공급가액의 10%
A38: 도 급 액 | D38: =D36+D37 -> 0 | E38: =E36+E37 -> 0 | F38: =D38+E38 -> 0
A39: 관급자관급자재비 | E39: =공종별집계표!L27 -> 0 | F39: =D39+E39 -> 0
A40: 총 공 사 비 | D40: =D38+D39 -> 0 | E40: =E38+E39 -> 0 | F40: =F38+F39 -> 0

Sheet 공종별집계표
A1: 공 종 별 집 계 표
A2: [ 신진과학기술고등학교 조리실습장 조성공사(건축) ]
A3: 품 명 | B3: 규 격 | C3: 단위 | D3: 수량 | E3: 재 료 비 | G3: 노 무 비 | I3: 경 비 | K3: 합 계 | M3: 비 고
E4: 단 가 | F4: 금 액 | G4: 단 가 | H4: 금 액 | I4: 단 가 | J4: 금 액 | K4: 단 가 | L4: 금 액
A5: 01 신진과학기술고등학교 조리실습장 조성공사(건축) | D5: 1 | E5: =F6+F24 -> 0 | F5: =E5*D5 -> 0 | G5: =H6+H24 -> 0 | H5: =G5*D5 -> 0 | I5: =J6+J24 -> 0 | J5: =I5*D5 -> 0 | K5: =E5+G5+I5 -> 0 | L5: =F5+H5+J5 -> 0
A6: 0101 ▶ 건 축 공 사 | D6: 1 | E6: =F7+F8+F9+F10+F11+F12+F13+F14+F15+F16+F17+F18+F19+F20 -> 0 | F6: =E6*D6 -> 0 | G6: =H7+H8+H9+H10+H11+H12+H13+H14+H15+H16+H17+H18+H19+H20 -> 0 | H6: =G6*D6 -> 0 | I6: =J7+J8+J9+J10+J11+J12+J13+J14+J15+J16+J17+J18+J19+J20 -> 0 | J6: =I6*D6 -> 0 | K6: =E6+G6+I6 -> 0 | L6: =F6+H6+J6 -> 0
A7: 010101 가 설 공 사 | D7: 1 | E7: =공종별내역서!F25 -> 0 | F7: =E7*D7 -> 0 | G7: =공종별내역서!H25 -> 0 | H7: =G7*D7 -> 0 | I7: =공종별내역서!J25 -> 0 | J7: =I7*D7 -> 0 | K7: =E7+G7+I7 -> 0 | L7: =F7+H7+J7 -> 0
A8: 010102 철근콘크리트공사 | D8: 1 | E8: =공종별내역서!F47 -> 0 | F8: =E8*D8 -> 0 | G8: =공종별내역서!H47 -> 0 | H8: =G8*D8 -> 0 | I8: =공종별내역서!J47 -> 0 | J8: =I8*D8 -> 0 | K8: =E8+G8+I8 -> 0 | L8: =F8+H8+J8 -> 0
A9: 010103 돌 및 티일공사 | D9: 1 | E9: =공종별내역서!F69 -> 0 | F9: =E9*D9 -> 0 | G9: =공종별내역서!H69 -> 0 | H9: =G9*D9 -> 0 | I9: =공종별내역서!J69 -> 0 | J9: =I9*D9 -> 0 | K9: =E9+G9+I9 -> 0 | L9: =F9+H9+J9 -> 0
A10: 010104 목 공 사 | D10: 1 | E10: =공종별내역서!F91 -> 0 | F10: =E10*D10 -> 0 | G10: =공종별내역서!H91 -> 0 | H10: =G10*D10 -> 0 | I10: =공종별내역서!J91 -> 0 | J10: =I10*D10 -> 0 | K10: =E10+G10+I10 -> 0 | L10: =F10+H10+J10 -> 0
A11: 010105 방 수 공 사 | D11: 1 | E11: =공종별내역서!F113 -> 0 | F11: =E11*D11 -> 0 | G11: =공종별내역서!H113 -> 0 | H11: =G11*D11 -> 0 | I11: =공종별내역서!J113 -> 0 | J11: =I11*D11 -> 0 | K11: =E11+G11+I11 -> 0 | L11: =F11+H11+J11 -> 0
A12: 010106 금 속 공 사 | D12: 1 | E12: =공종별내역서!F135 -> 0 | F12: =E12*D12 -> 0 | G12: =공종별내역서!H135 -> 0 | H12: =G12*D12 -> 0 | I12: =공종별내역서!J135 -> 0 | J12: =I12*D12 -> 0 | K12: =E12+G12+I12 -> 0 | L12: =F12+H12+J12 -> 0
A13: 010107 미 장 공 사 | D13: 1 | E13: =공종별내역서!F157 -> 0 | F13: =E13*D13 -> 0 | G13: =공종별내역서!H157 -> 0 | H13: =G13*D13 -> 0 | I13: =공종별내역서!J157 -> 0 | J13: =I13*D13 -> 0 | K13: =E13+G13+I13 -> 0 | L13: =F13+H13+J13 -> 0
A14: 010108 창 호 공 사 | D14: 1 | E14: =공종별내역서!F179 -> 0 | F14: =E14*D14 -> 0 | G14: =공종별내역서!H179 -> 0 | H14: =G14*D14 -> 0 | I14: =공종별내역서!J179 -> 0 | J14: =I14*D14 -> 0 | K14: =E14+G14+I14 -> 0 | L14: =F14+H14+J14 -> 0
A15: 010109 유 리 공 사 | D15: 1 | E15: =공종별내역서!F201 -> 0 | F15: =E15*D15 -> 0 | G15: =공종별내역서!H201 -> 0 | H15: =G15*D15 -> 0 | I15: =공종별내역서!J201 -> 0 | J15: =I15*D15 -> 0 | K15: =E15+G15+I15 -> 0 | L15: =F15+H15+J15 -> 0
A16: 010110 도 장 공 사 | D16: 1 | E16: =공종별내역서!F223 -> 0 | F16: =E16*D16 -> 0 | G16: =공종별내역서!H223 -> 0 | H16: =G16*D16 -> 0 | I16: =공종별내역서!J223 -> 0 | J16: =I16*D16 -> 0 | K16: =E16+G16+I16 -> 0 | L16: =F16+H16+J16 -> 0
A17: 010111 수 장 공 사 | D17: 1 | E17: =공종별내역서!F245 -> 0 | F17: =E17*D17 -> 0 | G17: =공종별내역서!H245 -> 0 | H17: =G17*D17 -> 0 | I17: =공종별내역서!J245 -> 0 | J17: =I17*D17 -> 0 | K17: =E17+G17+I17 -> 0 | L17: =F17+H17+J17 -> 0
A18: 010112 기 타 공 사 | D18: 1 | E18: =공종별내역서!F267 -> 0 | F18: =E18*D18 -> 0 | G18: =공종별내역서!H267 -> 0 | H18: =G18*D18 -> 0 | I18: =공종별내역서!J267 -> 0 | J18: =I18*D18 -> 0 | K18: =E18+G18+I18 -> 0 | L18: =F18+H18+J18 -> 0
A19: 010113 철 거 공 사 | D19: 1 | E19: =공종별내역서!F311 -> 0 | F19: =E19*D19 -> 0 | G19: =공종별내역서!H311 -> 0 | H19: =G19*D19 -> 0 | I19: =공종별내역서!J311 -> 0 | J19: =I19*D19 -> 0 | K19: =E19+G19+I19 -> 0 | L19: =F19+H19+J19 -> 0
A20: 010114 골 재 비 | D20: 1 | E20: =공종별내역서!F333 -> 0 | F20: =E20*D20 -> 0 | G20: =공종별내역서!H333 -> 0 | H20: =G20*D20 -> 0 | I20: =공종별내역서!J333 -> 0 | J20: =I20*D20 -> 0 | K20: =E20+G20+I20 -> 0 | L20: =F20+H20+J20 -> 0
A21: 010115 ◈ 작 업 부 산 물 | D21: 1 | E21: =공종별내역서!F355 -> 0 | F21: =E21*D21 -> 0 | G21: =공종별내역서!H355 -> 0 | H21: =G21*D21 -> 0 | I21: =공종별내역서!J355 -> 0 | J21: =I21*D21 -> 0 | K21: =E21+G21+I21 -> 0 | L21: =F21+H21+J21 -> 0
A22: 010116 ◈ 폐기물 상차비 | D22: 1 | E22: =공종별내역서!F377 -> 0 | F22: =E22*D22 -> 0 | G22: =공종별내역서!H377 -> 0 | H22: =G22*D22 -> 0 | I22: =공종별내역서!J377 -> 0 | J22: =I22*D22 -> 0 | K22: =E22+G22+I22 -> 0 | L22: =F22+H22+J22 -> 0
A23: 010117 ◈ 폐기물 처리비 | D23: 1 | E23: =공종별내역서!F399 -> 0 | F23: =E23*D23 -> 0 | G23: =공종별내역서!H399 -> 0 | H23: =G23*D23 -> 0 | I23: =공종별내역서!J399 -> 0 | J23: =I23*D23 -> 0 | K23: =E23+G23+I23 -> 0 | L23: =F23+H23+J23 -> 0
A24: 0102 ▶ 기 계 공 사 | D24: 1 | E24: =F25 -> 0 | F24: =E24*D24 -> 0 | G24: =H25 -> 0 | H24: =G24*D24 -> 0 | I24: =J25 -> 0 | J24: =I24*D24 -> 0 | K24: =E24+G24+I24 -> 0 | L24: =F24+H24+J24 -> 0
A25: 010201 기 계 공 사 | D25: 1 | E25: =공종별내역서!F421 -> 0 | F25: =E25*D25 -> 0 | G25: =공종별내역서!H421 -> 0 | H25: =G25*D25 -> 0 | I25: =공종별내역서!J421 -> 0 | J25: =I25*D25 -> 0 | K25: =E25+G25+I25 -> 0 | L25: =F25+H25+J25 -> 0
A44: [ 합 계 ] | F44: =F5 -> 0 | H44: =H5 -> 0 | J44: =J5 -> 0 | L44: =L5 -> 0

Sheet 공종별내역서
A1: [ 신진과학기술고등학교 조리실습장 조성공사(건축) ]
A2: 품 명 | B2: 규 격 | C2: 단위 | D2: 수량 | E2: 재 료 비 | G2: 노 무 비 | I2: 경 비 | K2: 합 계 | M2: 비 고
E3: 단 가 | F3: 금 액 | G3: 단 가 | H3: 금 액 | I3: 단 가 | J3: 금 액 | K3: 단 가 | L3: 금 액
A4: 010101 가 설 공 사
A5: 강관 조립말비계(이동식)설치 및 해체 | B5: 높이 2m, 3개월 | C5: 대 | D5: 2
A6: 건축물 현장정리 | B6: 공사중 옥내외 청소 + 정리 | C6: M2 | D6: 192
A7: 준공 청소 | B7: 준공시 시공으로 인한 오염물질 제거 / (마감재,창호,유리 등) | C7: M2 | D7: 192
A25: [ 합 계 ] | F25: =SUMIF(Q5:Q24,"010101",F5:F24) -> 0 | H25: =SUMIF(Q5:Q24,"010101",H5:H24) -> 0 | J25: =SUMIF(Q5:Q24,"010101",J5:J24) -> 0 | L25: =SUMIF(Q5:Q24,"010101",L5:L24) -> 0
A26: 010102 철근콘크리트공사
A27: 레미콘 - 서울 | B27: 25-18-12 | C27: M3 | D27: 32
A28: 레미콘 - 서울 | B28: 25-24-15 | C28: M3 | D28: 3
A29: 콘크리트 펌프차 타설 | B29: slump 8~12cm, 벽,기둥,슬래브 등, f2 : Type-Ⅰ, 32m | C29: M3 | D29: 31
A30: 콘크리트 펌프차 타설 | B30: slump 15cm, 벽,기둥,슬래브 등, f2 : Type-Ⅰ, 32m | C30: M3 | D30: 2
A31: 펌프카 임대료 | B31: 0.5일(1회) | C31: 회 | D31: 2
A32: 철근콘크리트용봉강 | B32: 철근콘크리트용봉강, 이형봉강(SD400), HD-10, 지정장소도 | C32: TON | D32: 0.1
A33: 철근 현장가공 및 현장조립 | B33: Type-Ⅰ | C33: TON | D33: 0.1
A34: 합판거푸집 설치 및 해체 | B34: 보통 4회, 수직고 7m까지 | C34: M2 | D34: 8
A35: 콘크리트 치핑 | B35: 소형치핑장비활용 | C35: M2 | D35: 2
A36: 에폭시(Epoxy) 콘크리트 접착제 바르기 | B36: 콘크리트 및 고무 기타 접착제 바르기 | C36: M2 | D36: 2
A37: 철근 용접 | C37: 개소 | D37: 131
A47: [ 합 계 ] | F47: =SUMIF(Q27:Q46,"010102",F27:F46) -> 0 | H47: =SUMIF(Q27:Q46,"010102",H27:H46) -> 0 | J47: =SUMIF(Q27:Q46,"010102",J27:J46) -> 0 | L47: =SUMIF(Q27:Q46,"010102",L27:L46) -> 0
A48: 010103 돌 및 티일공사
A49: 포세린타일 | B49: 600*600*10mm | C49: M2 | D49: 189
A50: 타일 압착 붙이기(바탕 30mm+압 5mm) | B50: 바닥, 600*600 | C50: M2 | D50: 184
A51: 화강석붙임(습식, 버너) | B51: 바닥, 포천석 30mm, 모르타르 30mm | C51: M2 | D51: 6
A52: 인조석붙임(습식) | B52: 창대, 인조석 230*12mm, 모르타르 30mm | C52: M | D52: 29
A69: [ 합 계 ] | F69: =SUMIF(Q49:Q68,"010103",F49:F68) -> 0 | H69: =SUMIF(Q49:Q68,"010103",H49:H68) -> 0 | J69: =SUMIF(Q49:Q68,"010103",J49:J68) -> 0 | L69: =SUMIF(Q49:Q68,"010103",L49:L68) -> 0
A70: 010104 목 공 사
A71: 벽체틀 설치 | B71: 30*30, @450*600 | C71: M2 | D71: 109
A72: 내수합판 설치 | B72: 벽, T=12.0*1겹 | C72: M2 | D72: 13
A73: 인테리어필름 | B73: 0.42*1.22, 방염우드, 시공비 포함 | C73: M2 | D73: 13
A91: [ 합 계 ] | F91: =SUMIF(Q71:Q90,"010104",F71:F90) -> 0 | H91: =SUMIF(Q71:Q90,"010104",H71:H90) -> 0 | J91: =SUMIF(Q71:Q90,"010104",J71:J90) -> 0 | L91: =SUMIF(Q71:Q90,"010104",L71:L90) -> 0
A92: 010105 방 수 공 사
A93: 시멘트 액체방수 | B93: 바닥, 1종 | C93: M2 | D93: 208
A94: 시멘트 액체방수 | B94: 벽, 2종 | C94: M2 | D94: 19
A95: 보호모르타르 / 바닥 | B95: 콘크리트면, 30mm / 트렌치 바닥 | C95: M2 | D95: 8
A96: 보호모르타르 / 벽 | B96: 콘크리트면, 18mm / 트렌치 벽 | C96: M2 | D96: 16
A97: 수밀코킹(실리콘) | B97: 삼각, 5mm, 창호주위 | C97: M | D97: 58
A98: 수밀코킹(실리콘) | B98: 사각, 10mm, 창호주위 | C98: M | D98: 36
A99: 수밀코킹(실리콘) | B99: 삼각, 5mm이하, 방균용 | C99: M | D99: 78
A113: [ 합 계 ] | F113: =SUMIF(Q93:Q112,"010105",F93:F112) -> 0 | H113: =SUMIF(Q93:Q112,"010105",H93:H112) -> 0 | J113: =SUMIF(Q93:Q112,"010105",J93:J112) -> 0 | L113: =SUMIF(Q93:Q112,"010105",L93:L112) -> 0
A114: 010106 금 속 공 사
A115: 알루미늄 시트패널 | B115: 평판 t=2 불소수지, 틀포함, 시공도 | C115: M2 | D115: 6
A116: 알루미늄 시트패널 | B116: 평판 t=3 불소수지, 틀포함, 시공도 | C116: M2 | D116: 49
A117: 와이어메시 바닥깔기 | B117: #8-150*150 | C117: M2 | D117: 198
A118: 트랜치 | B118: 스테인리스, W200*3t / 케이싱 포함 | C118: M | D118: 40
A119: 스테인리스 걸레받이 설치 | B119: 스테인리스, H150*1.5t | C119: M | D119: 63
A120: 스테인리스재료분리대 | B120: 바닥, W30*H20*1.5t | C120: M | D120: 2
A135: [ 합 계 ] | F135: =SUMIF(Q115:Q134,"010106",F115:F134) -> 0 | H135: =SUMIF(Q115:Q134,"010106",H115:H134) -> 0 | J135: =SUMIF(Q115:Q134,"010106",J115:J134) -> 0 | L135: =SUMIF(Q115:Q134,"010106",L115:L134) -> 0
A136: 010107 미 장 공 사
A137: 모르타르 바름 | B137: 내벽, 18mm, 3.6m 이하 (2회) | C137: M2 | D137: 26
A138: 창호주위 모르타르 충전 | C138: M | D138: 47
A157: [ 합 계 ] | F157: =SUMIF(Q137:Q156,"010107",F137:F156) -> 0 | H157: =SUMIF(Q137:Q156,"010107",H137:H156) -> 0 | J157: =SUMIF(Q137:Q156,"010107",J137:J156) -> 0 | L157: =SUMIF(Q137:Q156,"010107",L137:L156) -> 0
A158: 010108 창 호 공 사
A159: SSD01 (100*40*1.5T) | B159: 2600 * 2300 | C159: EA | D159: 1
A160: SSD02 (100*40*1.5T) | B160: 5750 * 2650 | C160: EA | D160: 1
A161: SSW01 (120*40*1.5T) | B161: 2600 * 2200 | C161: EA | D161: 4
A162: GAD01 | B162: 1800 * 2300 | C162: EA | D162: 1
A163: 플로어힌지 설치 | B163: 재료비 별도 | C163: 개소 | D163: 3
A164: 플로어힌지 | B164: 플로어힌지, KS3호, 105kg, 방수용(K-8300WP) | C164: 조 | D164: 3
A165: 강화유리문 손잡이 | C165: 개 | D165: 3
A179: [ 합 계 ] | F179: =SUMIF(Q159:Q178,"010108",F159:F178) -> 0 | H179: =SUMIF(Q159:Q178,"010108",H159:H178) -> 0 | J179: =SUMIF(Q159:Q178,"010108",J159:J178) -> 0 | L179: =SUMIF(Q159:Q178,"010108",L159:L178) -> 0
A180: 010109 유 리 공 사
A181: 강화유리 | B181: 강화유리, 칼라, 10mm, 그린 | C181: M2 | D181: 38
A182: 창호유리설치 / 판유리 | B182: 유리두께 12mm 이하 | C182: M2 | D182: 38
A183: 유리주위 코킹 | B183: 5*5, 실리콘 / 노임-창호유리설치에 포함 | C183: M | D183: 241
A184: 강화유리안전문 | B184: A101, 12T*1000*2100mm, 그린 | C184: Set | D184: 1
A185: 강화유리안전문 | B185: A101, 12T*900*2300mm, 그린 | C185: Set | D185: 2
A186: 디자인 시트지 붙임 | C186: M2 | D186: 10
A201: [ 합 계 ] | F201: =SUMIF(Q181:Q200,"010109",F181:F200) -> 0 | H201: =SUMIF(Q181:Q200,"010109",H181:H200) -> 0 | J201: =SUMIF(Q181:Q200,"010109",J181:J200) -> 0 | L201: =SUMIF(Q181:Q200,"010109",L181:L200) -> 0
A202: 010110 도 장 공 사
A203: 바탕만들기+수성페인트 롤러칠 | B203: 내부 2회, con'c·mortar면, 친환경 | C203: M2 | D203: 42
A204: 바탕만들기+수성페인트 롤러칠 | B204: 내부 2회, G.B.면 줄퍼티, 친환경 | C204: M2 | D204: 8
A205: 바탕만들기+수성페인트 롤러칠 | B205: 내천장 2회, con'c·mortar면, 친환경 | C205: M2 | D205: 250
A223: [ 합 계 ] | F223: =SUMIF(Q203:Q222,"010110",F203:F222) -> 0 | H223: =SUMIF(Q203:Q222,"010110",H203:H222) -> 0 | J223: =SUMIF(Q203:Q222,"010110",J203:J222) -> 0 | L223: =SUMIF(Q203:Q222,"010110",L203:L222) -> 0
A224: 010111 수 장 공 사
A225: 라미네이트패널 설치 | B225: T10.2 | C225: M2 | D225: 109
A226: AL 전용 몰딩 설치 | C226: M | D226: 136
A227: 블라인드 설치 | B227: 방염 | C227: M2 | D227: 59
A228: DRY WALL(C-100) | B228: 방수GS9.5t 2겹 양면 | C228: ㎡ | D228: 4
A245: [ 합 계 ] | F245: =SUMIF(Q225:Q244,"010111",F225:F244) -> 0 | H245: =SUMIF(Q225:Q244,"010111",H225:H244) -> 0 | J245: =SUMIF(Q225:Q244,"010111",J225:J244) -> 0 | L245: =SUMIF(Q225:Q244,"010111",L225:L244) -> 0
A246: 010112 기 타 공 사
A247: 그리스트랩 | B247: 900*600*600, SST'L커버포함 / 시공비 포함 | C247: SET | D247: 1
A248: 터파기(기계 9:1) | B248: 보통토사. 백호 90%+인력 10% | C248: M3 | D248: 16
A249: 되메우기 및 다짐 | B249: 대형장비 | C249: M3 | D249: 16
A250: 방범창 해체, 재설치 | B250: 해체재 재사용 | C250: M2 | D250: 31
A251: 아스팔트 포장(소규모) | B251: 표층+중층(기초포함) | C251: M2 | D251: 12
A252: 화강석경계석 설치 | B252: 150*200*1000, 직선 | C252: M | D252: 4
A253: 화강석통석 설치 | B253: 120*120 | C253: M | D253: 4
A254: PE 이중벽관 설치 | B254: ∮150 | C254: M | D254: 7
A255: 교목 전지 작업 | C255: 식 | D255: 1
A256: 관목 및 초화류 이식 | C256: 주 | D256: 40
A257: 고소작업차 | B257: 3ton | C257: HR | D257: 8
A267: [ 합 계 ] | F267: =SUMIF(Q247:Q266,"010112",F247:F266) -> 0 | H267: =SUMIF(Q247:Q266,"010112",H247:H266) -> 0 | J267: =SUMIF(Q247:Q266,"010112",J247:J266) -> 0 | L267: =SUMIF(Q247:Q266,"010112",L247:L266) -> 0
A268: 010113 철 거 공 사
A269: 조적벽 해체 | B269: H=3.6m 이하 | C269: M3 | D269: 2
A270: 콘크리트구조물 헐기(인력) | B270: 소형브레이커(전기식), 철근, 2.3m3/일당 | C270: M3 | D270: 0.8
A271: 콘크리트구조물 헐기(인력) | B271: 소형브레이커(전기식), 무근, 2.7m3/일당 / 잡석지정 포함 | C271: M3 | D271: 1
A272: 콘크리트구조물 헐기(기계) | B272: 장애물 미제거(기준높이 10m 이하), 50m3/일당 | C272: M3 | D272: 4.5
A273: 콘크리트 절단 | C273: M | D273: 43
...
