Workbook

Sheet 견적서
B2: 견 적 서 | F2: 견 적 일 : | G2: 44229
E3: 공급자 | F3: 주식회사 무한리더스
E4: 연락처 | F4: (TEL) 070-4651-2180
F5: (Fax) 070-7594-2001
E6: 사업자 번호 | F6: 179-81-00324
E7: 주소 | F7: 서울시 송파구 충민로 66, L-8029
B8: ◈ 귀사에 견적을 의뢰해 주셔서 감사합니다. | E8: 대표이사 | F8: 천 용 민 (인)
B10: 수신자 | C10: =갑지!E18 -> 0 | E10: 담당자 | F10: 용역담당자
B11: 과업명 | C11: =갑지!B6 -> 정선 청년농촌 보금자리 조성사업 설계VE
B13: 견적금액 | C13: =갑지!E15 -> 19,294,000원(금 일천구백이십구만사천원) | E13: 지급조건 | F13: 발주처의 지급조건에 따름
B15: ◇ 견적세부내용
B16: - 과업범위는 설계의 경제성 검토(VE) 1식임
B17: - 과업수행방법 등은 과업지시서 및 발주처의 지시에 따름
B18: - 과업 투입인원은 VE분야 - VE리더 1인, LCC분석 1인으로 총 2인임
B19: - 분야별 검토위원은 건축분야, 건축구조분야, 기계(소방)분야, 전기(통신)분야, 토목분야, 조경분야 각 1인으로 총 6인임
B20: - 과업 성과품은 경제성검토(VE) 보고서 1식임

Sheet 갑지
K2: 한국농어촌공사 강원지역본부
C4: =YEAR(TODAY()) & "년도" -> 2026년도
B6: 정선 청년농촌 보금자리 조성사업 설계VE
C9: ▣ 용 역 개 요: | E9: 설계 경제성(VE) 검토 1식
C12: ▣ 용 역 기 간: | E12: 착수일로부터 45일간
C15: ▣ 용 역 금 액: | E15: ="" & TEXT(내역서!G4,"#,##0원") & "" & "(금 " & NUMBERSTRING(내역서!G4,1) & "원)" -> 19,294,000원(금 일천구백이십구만사천원)

Sheet 내역서
B2: 공 종 | C2: 규 격 | D2: 단 위 | E2: 수 량 | F2: 단 가 | G2: 금 액 | H2: 비 고
B3: =" ◎ "&갑지!B6 -> ◎ 정선 청년농촌 보금자리 조성사업 설계VE
B4: 도급예정액 | G4: =G18 -> 19294000 | K4: ='참여기술자수 산출'!F4 -> 정선 청년농촌 보금자리 조성사업
B5: 1. 직접인건비 | D5: 인·월 | E5: =SUM(L5,O5,R5) -> 19.034039 | F5: =산출근거!E22 -> 310884 | G5: =SUM(M5,P5,S5) -> 5917378 | J5: 1. 직접인건비 | K5: 인·월 | L5: ='참여기술자수 산출'!G22 -> 19.034039 | M5: =F5*L5 -> 5917378
B6: 2. 제경비 | C6: ="직접인건비의 " & 산출기준!AF11*100& "%" -> 직접인건비의 110% | D6: 식 | E6: 1 | G6: =SUM(M6,P6,S6) -> 6509115 | J6: 2. 제경비 | K6: 식 | L6: 1 | M6: =ROUNDDOWN(M5*110%,0) -> 6509115
B7: 3. 기술료 | C7: ="(직접인건비+제경비)의 " & 산출기준!AF16*100& "%" -> (직접인건비+제경비)의 20% | D7: 식 | E7: 1 | G7: =SUM(M7,P7,S7) -> 2485299 | J7: 3. 기술료 | K7: 식 | L7: 1 | M7: =ROUND((M5+M6)*20%,0) -> 2485299
B8: 4. 직접경비 | D8: 식 | E8: 1 | G8: =SUM(M8,P8,S8) -> 2617512.5 | J8: 4. 직접경비 | K8: 식 | L8: 1 | M8: =M9+M10+M12+M11+M13 -> 2617512.5
B9: 가. 인쇄비 | D9: 부 | G9: =SUM(M9,P9,S9) -> 1021512.5 | J9: 가. 인쇄비 | K9: 부 | M9: ='직접경비1(인쇄비)'!J7/2 -> 1021512.5
B10: 나. 식대 | D10: =K10 -> 인*일 | G10: =SUM(M10,P10,S10) -> 360000 | J10: 나. 식대 | K10: 인*일 | M10: ='직접경비2(식대)'!E9 -> 360000
B11: 다. 회의실 | D11: 일 | G11: =SUM(M11,P11,S11) -> 960000 | J11: 다. 회의실 | K11: 일 | M11: ='직접경비3(회의실)'!G8 -> 960000
B12: 라. 렌터카 | D12: 일 | G12: =SUM(M12,P12,S12) -> 276000 | J12: 라. 렌터카 | K12: 일 | M12: ='직접경비4(렌트카)'!G8 -> 276000
B13: 마. 오리엔테이션 경비 | D13: 식 | G13: =SUM(M13,P13,S13) -> 0
B14: 5. 소 계 | C14: [ 1 + 2 + 3 + 4 ] | G14: =SUM(M14,P14,S14) -> 17529305 | J14: 5. 소 계 | M14: =SUM(M5:M8) -> 17529305
B15: 6. 손해배상보험료 | D15: % | G15: =SUM(M15,P15,S15) -> 11429.107 | J15: 6. 손해배상보험료 | K15: % | L15: 0.0652 | M15: =M14*L15/100 -> 11429.107
B16: 7. 공급가액 | G16: =SUM(M16,P16,S16) -> 17540734 | J16: 7. 공급가액 | M16: =M14+M15 -> 17540734
B17: 8. 부가가치세 | C17: 0.1 | D17: 식 | E17: 1 | G17: =SUM(M17,P17,S17) -> 1754073.4 | J17: 8. 부가가치세 | K17: 식 | M17: =M16*10% -> 1754073.4
B18: 9. 총 용 역 비 | C18: [ 7 + 8 ] | D18: 식 | E18: 1 | G18: =SUM(M18,P18,S18) -> 19294000 | H18: 천단위 미만 절사 | J18: 9. 총 용 역 비 | K18: 식 | M18: =ROUNDDOWN(M16+M17,-3) -> 19294000

Sheet 산출기준
C3: [용역비 산출기준]
D4: 1. 직접인건비
E5: 품목 및 수량 산출근거 | G5: ◦ 건설엔지니어링 대가 등에 관한 기준 (국토교통부 고시 제2023-580호(개정 2023.10.17))
E6: 노무비 단가 산출근거 | G6: ◦ 2025년 엔지니어링업체 임금실태조사결과 공표(한국엔지니어링협회 기획홍보팀-1515호(2025.12.12.))
D8: 2. 제 경 비
E9: 제 경 비 산출근거 | G9: ◦ 건설엔지니어링 대가 등에 관한 기준 (국토교통부 고시 제2023-580호(개정 2023.10.17))
G10: ◦ 적용 기준 : 직접인건비의 110 ~ 120% | AF10: 제경비 요율
G11: =" ◦ 본 내역서에는 직접인건비의 " & AF11*100& "% 적용" -> ◦ 본 내역서에는 직접인건비의 110% 적용 | AF11: 1.1
D13: 3. 기 술 료
E14: 기 술 료 산출근거 | G14: ◦ 건설엔지니어링 대가 등에 관한 기준 (국토교통부 고시 제2023-580호(개정 2023.10.17))
G15: ◦ 적용 기준 : 직접인건비에 제경비를 합한 금액의 20 ~ 40% | AF15: 기술료 요율
G16: =" ◦ 본 내역서에는 직접인건비에 제경비를 합한 금액의 " &AF16*100 & "% 적용" -> ◦ 본 내역서에는 직접인건비에 제경비를 합한 금액의 20% 적용 | AF16: 0.2
D18: 4. 직 접 경 비
E19: 제출도서의 인쇄 및 복사비 | G19: ◦ 실비 적용
D20: 5. 손해배상보험료
E21: 보 험 료 산출근거 | G21: ◦ 엔지니어링 손해배상보험·공제 업무처리요령 적용 (산업통상자원부고시 제2017-69호 2017. 5. 18.)

Sheet 참여기술자수 산출
C4: [ 참여기술자 산출근거 ] | F4: 정선 청년농촌 보금자리 조성사업
C5: ◦ 건설엔지니어링 대가 등에 관한 기준 (국토교통부 고시 제2023-580호(개정 2023.10.17)) | S5: 위원구성(26년 평균치) | T5: 6 | U5: VE리딩업체 | V5: 3
D6: 1) 공사비 및 공사난이도 산정 | T6: 0 | U6: VE리더 | V6: 1
D7: - 공 사 비 : | E7: 132 | G7: 억원 | U7: 퍼실리데이터 | V7: 2
D8: - 공사난이도 : | E8: =0.015*E7/10*(1-0.005*E7/10) -> 0.184932 | G8: [공사난이도 : 0.015 * 총공사비 * (1-0.005 * 총공사비)] | O8: 1000억 이하 | U8: 기술자1 | V8: 0
D9: - 공사난이도 : | E9: =0.015*1000/10*(1-0.005*1000/10)+(((E7/10)-100)/500) -> 0.5764 | G9: [공사난이도 = 총공사비 1,000억원 시 공사난이도+{(총공사비-100)/500}] | O9: 1000억 초과
D10: 2) 설계의 경제성(VE) 등 검토 투입인원수 산정
D11: 업무분류체계 | J11: 적용 수량 단위 | K11: 기준인원수 (인·일) 고급기술자 | M11: 업무포함 사항 | P11: 난이도
D12: 단계 | E12: 기본업무 | M12: 기본설계 | N12: 실시설계 | O12: 기본·실시설계
D13: 공통업무 | E13: 과업착수준비 | J13: 식 | K13: 7 | M13: =K13 -> 7 | N13: =K13 -> 7 | O13: =K13 -> 7
E14: 최종 건설사업관리 보고 | H14: 1)시공전 단계 | J14: 식 | K14: 27.3 | M14: =K14 -> 27.3 | N14: =K14 -> 27.3 | O14: =K14*2 -> 54.6
D15: 기본설계 | E15: 기본설계의 경제성(VE) 검토 | J15: 식 | K15: 90.6 | M15: =K15 -> 90.6 | N15: - | O15: =K15 -> 90.6 | P15: =IF(E7<1000,E8,E9) -> 0.184932
D16: 실시설계 | E16: 실시설계의 경제성(VE) 검토 | J16: 식 | K16: 123.3 | M16: - | N16: =K16*P16 -> 22.802116 | O16: =K16 -> 123.3 | P16: =P15 -> 0.184932
D17: 전체 투입인원수 | J17: 식 | M17: =M13+M14+M15*$P$15 -> 51.054839 | N17: =N13+N14+N16 -> 57.102116 | O17: =O13+O14+O15*P15+O16*P16 -> 101.15695
D18: 적용(○) | N18: ○
D20: 3) 최종 투입인원 산정 | S20: 조정계수 | T20: =V5/(T5+V5) -> 0.33333333
D21: 투입인원 | E21: 조정(%) | G21: 최종 투입인원 | J21: 비고
D22: =N17 -> 57.102116 | E22: =T20 -> 0.33333333 | G22: =D22*E22 -> 19.034039 | J22: ※ 실시설계 단계에서 VE검토 1회 실시
D23: ※ VE리더를 제외한 평가위원은 발주청에서 선정함에 따라, 투입인원 조정
D24: =G22 -> 19.034039
W25: =145+17 -> 162

Sheet 산출근거
B1: 산 출 근 거
B2: ◦ 건설엔지니어링 대가 등에 관한 기준 (국토교통부 고시 제2023-580호(개정 2023.10.17))
B4: 1) 설계의 경제성(VE) 등 검토 투입인원수 산정기준
B5: 업무분류체계 | H5: 적용 수량 단위 | I5: 기준인원수 (인·일) 고급기술자 | J5: 업무포함사항 | M5: 난이도
B6: 단계 | C6: 기본업무 | J6: 기본설계 | K6: 실시설계 | L6: 기본·실시설계
B7: 공통업무 | C7: 과업착수준비 | H7: 식 | I7: 7 | J7: ○ | K7: ○ | L7: ○
C8: 최종 건설사업관리 보고 | F8: 1)시공전 단계 | H8: 식 | I8: 27.3 | J8: ○ | K8: ○ | L8: ○
B9: 기본설계 | C9: 기본설계의 경제성(VE) 검토 | H9: 식 | I9: 90.6 | J9: ○ | L9: ○ | M9: ○
B10: 실시설계 | C10: 실시설계의 경제성(VE) 검토 | H10: 식 | I10: 123.3 | K10: ○ | L10: ○ | M10: ○
B11: 비고 | C11: ▪ 설계단계별 VE 포함업무(○) ▪ 기본 및 실시설계 VE 수행 시 보고서를 기본설계와 실시설계로 나누어 단계별로 작성하는 경우 공통업무의‘최종 건설사업관리보고’도 단계별로 산정하여 총 2회 산정 ▪ 토목선형, 비선형, 건축, 플랜트에 대한 별도의 시설물 구분없이 공통 적용 ▪ 건설사업관리기술자수, 직접경비, 제경비, 기술료 등의 산정방법과 기타 적용기준 등은 현행 국토부고시(제2015-472호) 건설기술용역대가등에 관한기준과 (별표2) 건설사업관리기술자 배치기준 적용
B13: 2) 공사난이도
B14: 구분 | E14: 난이도 산식
B15: 1,000억원 이하 | E15: ․공사난이도 = 0.015*총공사비*(1-0.005*총공사비)
B16: 1,000억원 초과 | E16: ․공사난이도 = 총공사비 1,000억원 시 공사난이도+{(총공사비-100)/500}
B17: 비고 | E17: ․총공사비는 10억원 단위로 한다. 전기․통신․소방부문 포함 가능
B19: 3) 2026년도 엔지니어링사업대가기준
B20: 구분 | E20: 일임금액(원) | I20: 환산비(Si) | K20: 비고
B21: 특급 | E21: 373353 | I21: =E21/$E$22 -> 1.2009399
B22: 고급 | E22: 310884 | I22: =E22/$E$22 -> 1 | K22: (○)적용
B23: 중급 | E23: 295138 | I23: =E23/$E$22 -> 0.94935088
B24: 초급 | E24: 235459 | I24: =E24/$E$22 -> 0.75738539
B25: ※ 이 임금은 2026년 1월 1일부터 적용함

Sheet 손해보증
B1: 엔지니어링 손해배상공제료
B2: ※ 적용근거 : 「엔지니어링산업 진흥법」 제31조 및「 동법 시행령」 제42조와「 엔지니어링손해배상보험 또는 공제 업무처리요령」 (산업통상자원부 고시 제2017-69호)에 따라 2017년 5월 18일 이후 발주된 엔지니어링사업에 적용
B3: ※ 적용방법 : 엔지니어링 손해배상공제료 = 1단계 공제료(①) + 2단계 공제료(②) - ① 1단계 공제료 = 순계약금액 × [기본요율 + {가산요율 × (표준담보기간초과일수/365)}] (1단계기간이 기술분야별 표준담보기간을 초과하지 않는 경우에는 기본요율만 적용됨.) - ② 2단계 공제료 = 순계약금액 × 0.16%
B5: □ 분석(타당성 조사, 평가, 시험), 계약, 검사(시험운전, 안전성 검토, 설계의 경제성 및 기능성 검토, 시스템의 분석 및 관리)
B6: 산업별 | D6: 공제가입금액(보상한도액) | N6: 표준담보 기간(년)
D7: 5억원 이하 | F7: 5억원초과 10억원이하 | H7: 10억원초과 20억원이하 | J7: 20억원초과 30억원이하 | L7: 30억원초과 50억원이하
D8: 기본요율 | E8: 가산요율 | F8: 기본요율 | G8: 가산요율 | H8: 기본요율 | I8: 가산요율 | J8: 기본요율 | K8: 가산요율 | L8: 기본요율 | M8: 가산요율
B9: 기계부문 | C9: 일반산업기계 | D9: 0.506 | E9: 0.082 | F9: 0.491 | G9: 0.078 | H9: 0.476 | I9: 0.076 | J9: 0.461 | K9: 0.073 | L9: 0.446 | M9: 0.072 | N9: 2
C10: 차량 | D10: 0.548 | E10: 0.088 | F10: 0.531 | G10: 0.085 | H10: 0.516 | I10: 0.082 | J10: 0.5 | K10: 0.081 | L10: 0.484 | M10: 0.078 | N10: 2
C11: 용접 | D11: 0.518 | E11: 0.084 | F11: 0.503 | G11: 0.081 | H11: 0.488 | I11: 0.078 | J11: 0.472 | K11: 0.076 | L11: 0.457 | M11: 0.073 | N11: 3
C12: 금형 | D12: 0.378 | E12: 0.061 | F12: 0.366 | G12: 0.06 | H12: 0.355 | I12: 0.058 | J12: 0.343 | K12: 0.055 | L12: 0.331 | M12: 0.054 | N12: 3
B13: 선박부문 | C13: 조선 | D13: 0.707 | E13: 0.113 | F13: 0.685 | G13: 0.11 | H13: 0.664 | I13: 0.106 | J13: 0.643 | K13: 0.104 | L13: 0.622 | M13: 0.1 | N13: 2
B14: 항공우주부문 | C14: 항공 | D14: 0.86 | E14: 0.137 | F14: 0.834 | G14: 0.134 | H14: 0.807 | I14: 0.13 | J14: 0.782 | K14: 0.125 | L14: 0.755 | M14: 0.121 | N14: 2
B15: 금속부문 | C15: 금속 | D15: 0.518 | E15: 0.084 | F15: 0.503 | G15: 0.081 | H15: 0.488 | I15: 0.078 | J15: 0.472 | K15: 0.076 | L15: 0.457 | M15: 0.073 | N15: 3
B16: 전기부문 | C16: 전기설비 | D16: 0.416 | E16: 0.067 | F16: 0.404 | G16: 0.066 | H16: 0.391 | I16: 0.063 | J16: 0.379 | K16: 0.061 | L16: 0.366 | M16: 0.06 | N16: 2
C17: 전기전자응용 | D17: 0.518 | E17: 0.084 | F17: 0.503 | G17: 0.081 | H17: 0.488 | I17: 0.078 | J17: 0.472 | K17: 0.076 | L17: 0.457 | M17: 0.073 | N17: 2
B18: 정보통신부문 | C18: 정보통신 | D18: 0.455 | E18: 0.073 | F18: 0.442 | G18: 0.07 | H18: 0.428 | I18: 0.069 | J18: 0.413 | K18: 0.067 | L18: 0.4 | M18: 0.064 | N18: 2
C19: 정보관리 | D19: 0.455 | E19: 0.073 | F19: 0.442 | G19: 0.07 | H19: 0.428 | I19: 0.069 | J19: 0.413 | K19: 0.067 | L19: 0.4 | M19: 0.064 | N19: 2
C20: 철도신호 | D20: 0.86 | E20: 0.137 | F20: 0.834 | G20: 0.134 | H20: 0.807 | I20: 0.13 | J20: 0.782 | K20: 0.125 | L20: 0.755 | M20: 0.121 | N20: 2
B21: 화학부문 | C21: 화공 | D21: 0.261 | E21: 0.042 | F21: 0.254 | G21: 0.04 | H21: 0.246 | I21: 0.04 | J21: 0.239 | K21: 0.037 | L21: 0.23 | M21: 0.037 | N21: 3
B22: 광업부문 | C22: 자원관리 | D22: 0.884 | E22: 0.142 | F22: 0.858 | G22: 0.137 | H22: 0.83 | I22: 0.134 | J22: 0.804 | K22: 0.128 | L22: 0.778 | M22: 0.125 | N22: 2
C23: 광해방지 | D23: 0.884 | E23: 0.142 | F23: 0.858 | G23: 0.137 | H23: 0.83 | I23: 0.134 | J23: 0.804 | K23: 0.128 | L23: 0.778 | M23: 0.125 | N23: 2
B24: 설비부문 | C24: 설비 | D24: 0.506 | E24: 0.082 | F24: 0.491 | G24: 0.078 | H24: 0.476 | I24: 0.076 | J24: 0.461 | K24: 0.073 | L24: 0.446 | M24: 0.072 | N24: 2
B25: 환경부문 | C25: 대기관리 | D25: 0.599 | E25: 0.096 | F25: 0.579 | G25: 0.093 | H25: 0.561 | I25: 0.09 | J25: 0.543 | K25: 0.088 | L25: 0.525 | M25: 0.084 | N25: 3
C26: 수질관리 | D26: 0.607 | E26: 0.161 | F26: 0.59 | G26: 0.157 | H26: 0.572 | I26: 0.152 | J26: 0.554 | K26: 0.148 | L26: 0.536 | M26: 0.142 | N26: 2
C27: 소음·진동 | D27: 0.66 | E27: 0.106 | F27: 0.64 | G27: 0.103 | H27: 0.619 | I27: 0.1 | J27: 0.6 | K27: 0.096 | L27: 0.581 | M27: 0.093 | N27: 3
C28: 폐기물처리 | D28: 0.772 | E28: 0.124 | F28: 0.749 | G28: 0.119 | H28: 0.725 | I28: 0.116 | J28: 0.703 | K28: 0.112 | L28: 0.679 | M28: 0.11 | N28: 5
C29: 자연·토양환경 | D29: 0.66 | E29: 0.106 | F29: 0.64 | G29: 0.103 | H29: 0.619 | I29: 0.1 | J29: 0.6 | K29: 0.096 | L29: 0.581 | M29: 0.093 | N29: 3
B30: 농림부문 | C30: 농림 | D30: 0.409 | E30: 0.066 | F30: 0.396 | G30: 0.064 | H30: 0.384 | I30: 0.061 | J30: 0.372 | K30: 0.06 | L30: 0.36 | M30: 0.058 | N30: 2
C31: 시설원예 | D31: 0.816 | E31: 0.13 | F31: 0.793 | G31: 0.127 | H31: 0.767 | I31: 0.122 | J31: 0.743 | K31: 0.119 | L31: 0.718 | M31: 0.115 | N31: 2
B32: 해양·수산부문 | C32: 해양 | D32: 0.816 | E32: 0.13 | F32: 0.793 | G32: 0.127 | H32: 0.767 | I32: 0.122 | J32: 0.743 | K32: 0.119 | L32: 0.718 | M32: 0.115 | N32: 2
B33: 산업부문 | C33: 생산관리 | D33: 0.518 | E33: 0.084 | F33: 0.503 | G33: 0.081 | H33: 0.488 | I33: 0.078 | J33: 0.472 | K33: 0.076 | L33: 0.457 | M33: 0.073 | N33: 3
C34: 포장·제품디자인 | D34: 0.518 | E34: 0.084 | F34: 0.503 | G34: 0.081 | H34: 0.488 | I34: 0.078 | J34: 0.472 | K34: 0.076 | L34: 0.457 | M34: 0.073 | N34: 3
C35: 산업안전 | D35: 0.518 | E35: 0.084 | F35: 0.503 | G35: 0.081 | H35: 0.488 | I35: 0.078 | J35: 0.472 | K35: 0.076 | L35: 0.457 | M35: 0.073 | N35: 3
C36: 소방·방재 | D36: 0.506 | E36: 0.082 | F36: 0.491 | G36: 0.078 | H36: 0.476 | I36: 0.076 | J36: 0.461 | K36: 0.073 | L36: 0.446 | M36: 0.072 | N36: 2
C37: 가스 | D37: 0.506 | E37: 0.082 | F37: 0.491 | G37: 0.078 | H37: 0.476 | I37: 0.076 | J37: 0.461 | K37: 0.073 | L37: 0.446 | M37: 0.072 | N37: 2
C38: 섬유 | D38: 0.413 | E38: 0.067 | F38: 0.401 | G38: 0.066 | H38: 0.39 | I38: 0.063 | J38: 0.376 | K38: 0.06 | L38: 0.366 | M38: 0.058 | N38: 2.5
C39: 나노융합 | D39: 0.518 | E39: 0.084 | F39: 0.503 | G39: 0.081 | H39: 0.488 | I39: 0.078 | J39: 0.472 | K39: 0.076 | L39: 0.457 | M39: 0.073 | N39: 3
C40: 체계공학 | D40: 0.518 | E40: 0.084 | F40: 0.503 | G40: 0.081 | H40: 0.488 | I40: 0.078 | J40: 0.472 | K40: 0.076 | L40: 0.457 | M40: 0.073 | N40: 3
C41: 프로젝트매니지먼트 | D41: 0.518 | E41: 0.084 | F41: 0.503 | G41: 0.081 | H41: 0.488 | I41: 0.078 | J41: 0.472 | K41: 0.076 | L41: 0.457 | M41: 0.073 | N41: 3
...

Sheet 직접경비1(인쇄비)
A2: [직접경비1]
A4: 가. 인쇄비 및 보고서작성비
A5: - 산출내역 | J5: (단위: 원)
A6: 구 분 | G6: 수 량 | J6: 계 | M6: ※ 2014 국가계약 실무편람(인쇄물 계약업무 매뉴얼)
A7: 계 | G7: 정선 청년농촌 보금자리 조성사업 | J7: =J8+J9 -> 2043025
A8: 1) VE 용역 회의진행 보고서 인쇄비
A9: 1) VE 용역 제안보고서 인쇄비 | G9: 5부 | J9: =J14 -> 2043025 | M9: ○ 인쇄요금산정
M10: 절 수 | N10: 지 질 | O10: 50부까지 면당단가 | P10: 10부마다 추가단가 | Q10: 조판생략 감액
A11: - 산출기준 | M11: 10절 | N11: 신문용지 | O11: 11960 | P11: 122 | Q11: 5150
A12: 1) VE 용역 제안보고서 인쇄비 총 5부(사업별 5부, 10절 기준) | J12: (단위: 원) | N12: 중질지 | O12: 12040 | P12: 140
A13: 구 분 | B13: 단위 | C13: 단위수량 | D13: 부수 | E13: 수량 | F13: 산출내역 | J13: 금 액 | N13: 백상지 | O13: 12150 | P13: 157
A14: 계 | J14: =J15+J16 -> 2043025 | M14: - 계산식 : 면수 × [50부까지의 금액 - 조판감액 + 10부금액 × (전체부수-50) ÷ 10]
A15: 표 지 | B15: 식 | C15: (백상지) | D15: 10 | E15: 1 | F15: (5매+7.5매)×[12,150+157×(10-50)/10] | J15: =ROUNDDOWN((5+7.5)*(12150+157*(10-50)/10),0) -> 144025
A16: 내 용 | B16: 매 | C16: (중질지) | D16: 10 | E16: 300 | F16: 300p×[12,040-5150+140×(10-50)/10] | J16: =ROUNDDOWN(300*(12040-5150+140*(10-50)/10),0) -> 1899000 | M16: ○ 표지요금 산정
M17: - 계산식 : 매수(크기+색상+용지+기타) × [50부까지의 금액 + 10부금액 × (전체부수-50) ÷ 10]
M18: - 크기 : 10절책자(5매)
M19: - 색상 : 2색도(2.5매), 3색도(5매), 4색도(7.5매)
M20: - 용지 : 아트지 및 레자크기(2.5매)
M21: - 기타 : 코팅(5매)
M23: 대량기준
M24: 원래는 견적

Sheet 직접경비2(식대)
A2: [직접경비4] 심의위원 식대
A4: 가. 여 비 (수도권기준)
A5: - 산출내역 | F5: (단위: 원)
A6: 출장여비 | C6: 준비단계 | D6: 분석/실행단계 | E6: 계
A7: 계 | C7: - | D7: - | E7: =E9 -> 360000
A8: 1) 일 비 | C8: 심의료 지급 | D8: =C8 -> 심의료 지급 | E8: =D8 -> 심의료 지급
A9: 2) 식 비 | C9: =E31 -> 120000 | D9: =E38 -> 240000 | E9: =C9+D9 -> 360000
A11: - 산출기준
A12: 1) 일비
A13: ｏ 준비단계(현장답사 1일) | F13: (단위: 원)
A14: 구 분 | B14: 일 수 | C14: 인 원 | D14: 단 가 | E14: 금 액 | F14: 비 고
A15: 계 | B15: 심의료 지급
A16: ='참여기술자수 산출'!F4 -> 정선 청년농촌 보금자리 조성사업
A17: =#REF! -> #REF!
A20: ｏ 분석 및 실행단계(워크숍 3일) | F20: (단위: 원)
A21: 구 분 | B21: 일 수 | C21: 인 원 | D21: 단 가 | E21: 금 액 | F21: 비 고
A22: 계 | B22: 심의료 지급
A23: =A16 -> 정선 청년농촌 보금자리 조성사업
A24: =A17 -> #REF!
A27: 2) 식비
A28: ｏ 준비단계(현장답사 1일) | F28: (단위: 원)
A29: 구 분 | B29: 일 수 | C29: 인 원 | D29: 단 가 | E29: 금 액 | F29: 비 고
A30: 계 | D30: - | E30: =SUM(E31:E33) -> 120000
A31: 정선 청년농촌 보금자리 | B31: 1 | C31: 6 | D31: 20000 | E31: =B31*C31*D31 -> 120000
A33: =A25 -> 0
A35: ｏ 분석 및 실행단계(워크숍 1일+이행회의 1일) | F35: (단위: 원)
A36: 구 분 | B36: 일 수 | C36: 인 원 | D36: 단 가 | E36: 금 액 | F36: 비 고
A37: 계 | D37: - | E37: =SUM(E38:E40) -> 240000
A38: 정선 청년농촌 보금자리 | B38: 2 | C38: 6 | D38: 20000 | E38: =B38*C38*D38 -> 240000

Sheet 직접경비3(회의실)
A2: [직접경비2]
A4: 나. 회의실
A5: - 산출내역 | J5: (단위: 원)
A6: 구 분 | G6: 금액 | J6: 계
A7: 계 | G7: 정선 청년농촌 | J7: =J8 -> 960000
A8: 1) 회의실 20인 이상(8시간)*2일 | G8: =O16*2 -> 960000 | J8: =SUM(G8:I8) -> 960000
O11: 용산역 회의실
O13: 1일기준
L14: 기본(2시간) | O14: 120000
L15: 추가시간(6시간) | O15: 360000
L16: 합 계 | O16: =SUM(O14:O15) -> 480000

Sheet 직접경비4(렌트카)
A2: [직접경비3]
A4: 다. 렌터카
A5: - 산출내역 | J5: (단위: 원)
A6: 구 분 | G6: 금액 | J6: 계
A7: 계 | G7: 정성 청년농촌 | J7: 276000
A8: 1) VE 용역 오리엔테이션 렌터카 | G8: 276000 | J8: 276000
L14: 구분 | M14: 기본요금 | N14: 자차보험료 | O14: 계
L15: 1일 | M15: 276000 | O15: =M15+N15 -> 276000

Sheet 직접경비5(OT경비)
A2: [직접경비5]
A4: `가. 오리엔테이션 경비(신안)
A5: - 산출내역 | J5: (단위: 원)
A6: 구 분 | G6: 금액 | J6: 계
G7: 일수 | H7: 인원 | I7: 단가
A8: 계 | J8: =SUM(J9:J11) -> 0
A9: 1) 승선운임(암태남강-비금가산) | I9: =6000*2 -> 12000 | J9: =G9*H9*I9 -> 0
A10: 2) 여행자보험 | I10: 10830 | J10: =G10*H10*I10 -> 0 | K10: 60세, 1박2일적용
A11: 3) 차량운임(암태남강-비금가산) | I11: =27000*2 -> 54000 | J11: =G11*H11*I11 -> 0 | K11: 승합차량(9인승이하)
