Workbook
Name _: '[1]P.M 별'!#REF!
Name _.장기출장자에게는_출장비이외_일절_수당지급을: #REF!
Name _?쾴?: #REF!
Name _?쾴?_?: #REF!
Name _?쾴?___P: #REF!
Name _?쾴?_T: #REF!
Name __: #REF!
Name __?쾴?: #REF!
Name __?쾴?_?: #REF!
Name __?쾴?___P: #REF!
Name __?쾴?_T: #REF!
Name ___: #REF!
Name ___?쾴?: #REF!
Name ___?쾴?_?: #REF!
Name ___?쾴?___P: #REF!
Name ___?쾴?_T: #REF!
Name ____?쾴?: #REF!
Name ____?쾴?_?: #REF!
Name ____?쾴?___P: #REF!
Name ____?쾴?_T: #REF!
Name _____: #REF!
Name _____?쾴?: #REF!
Name _____?쾴?_?: #REF!
Name _____?쾴?___P: #REF!
Name _____?쾴?_T: #REF!
Name ______?쾴?: #REF!
Name ______?쾴?_?: #REF!
Name ______?쾴?___P: #REF!
Name ______?쾴?_T: #REF!
Name _______?쾴?: #REF!
Name _______?쾴?_?: #REF!
Name _______?쾴?___P: #REF!
Name _______?쾴?_T: #REF!
Name _______GO1: #REF!
Name _______GO2: #REF!
Name _______go3: #REF!
Name ______GO1: #REF!
Name ______GO2: #REF!
Name ______go3: #REF!
Name ______pvc100: #REF!
Name ______pvc200: #REF!
Name ______SAN2: #N/A
Name _____a2: [4]청산공사!#REF!
Name _____GO1: #REF!
Name _____GO2: #REF!
Name _____go3: #REF!
Name _____pvc100: #REF!
Name _____pvc200: #REF!
Name _____SAN2: #N/A
Name _____SEL1: #REF!
Name _____SEL2: #REF!
Name _____SEL3: #REF!
Name ____a2: [4]청산공사!#REF!
Name ____GO1: #REF!
Name ____GO2: #REF!
Name ____go3: #REF!
Name ____pvc100: #REF!
Name ____pvc200: #REF!
Name ____SAN2: #N/A
Name ____SEL1: #REF!

Sheet 총괄표(노량진7)
A1: 총사업비 산출 총괄표
A2: ='구성현황표_간접비 포함'!A2 -> 현장명 : 노량진7재정비촉진구역 주택개재발정비사업 | H2: [단위 : 천원]
A3: 구 분 | C3: 전 체 | D3: 감리대상 | E3: 타법감리 (전기) | F3: 타법감리 (통신) | G3: 타법감리 (소방) | H3: 비 고
A4: 총공사비 | B4: 토목공사 | C4: =D4 -> 16861153 | D4: ='구성현황표_간접비 포함'!E17 -> 16861153 | E4: 0 | F4: 0 | G4: 0
B5: 건축공사 | C5: =D5 -> 118644827 | D5: ='구성현황표_간접비 포함'!E41 -> 118644827 | E5: 0 | F5: 0 | G5: 0
B6: 기계설비공사 | C6: =D6 -> 26944158 | D6: ='구성현황표_간접비 포함'!E51 -> 26944158 | E6: 0 | F6: 0 | G6: 0
B7: 전기공사 | C7: =E7 -> 38629453 | E7: ='구성현황표_간접비 포함'!D68 -> 38629453 | F7: 0 | G7: 0
B8: 정보통신공사 | C8: =F8 -> 10302905 | E8: 0 | F8: ='구성현황표_간접비 포함'!D69 -> 10302905 | G8: 0
B9: 소방설비공사 | C9: =G9 -> 4403411 | E9: 0 | F9: 0 | G9: ='구성현황표_간접비 포함'!D70 -> 4403411
B10: 소 계 | C10: =SUM(C4:C9) -> 215785907 | D10: =SUM(D4:D9) -> 162450138 | E10: =SUM(E4:E9) -> 38629453 | F10: =SUM(F4:F9) -> 10302905 | G10: =SUM(G4:G9) -> 4403411

Sheet 구성현황표_간접비 포함
A1: 공종별 총공사비 구성 현황표
A2: 현장명 : 노량진7재정비촉진구역 주택개재발정비사업 | I2: [단위 : 천원]
A3: 구 분 | B3: 분 야 | C3: 공 종 | D3: 전 체 | E3: 감리대상 | F3: 타법감리(전기) | G3: 타법감리(통신) | H3: 타법감리(소방) | I3: 비 고
A4: 순공사비 | B4: 토목 | C4: 토공사 | D4: 3466345 | E4: 3466345
B5: (13개공종) | C5: 흙막이공사 | D5: 2366017 | E5: 2366017
C6: 비탈면보호공사 | D6: 505834 | E6: 505834
C7: 옹벽공사 | D7: 950253 | E7: 950253
C8: 석축공사 | D8: 0 | E8: 0
C9: 우오수공사 | D9: 2308125 | E9: 2308125
C10: 공동구공사 | D10: 0 | E10: 0
C11: 지하저수조 및 급수공사 | D11: 337221 | E11: 337221
C12: 도로포장공사 | D12: 1915308 | E12: 1915308
C13: 교통안전시설물공사 | D13: 88309 | E13: 88309
C14: 정화조시설공사
C15: 조경공사 | D15: 3712408 | E15: 3712408
C16: 부대시설공사 | D16: 1211333 | E16: 1211333
C17: 소 계 | D17: =SUM(D4:D16) -> 16861153 | E17: =SUM(E4:E16) -> 16861153 | F17: =SUM(F4:F16) -> 0 | G17: =SUM(G4:G16) -> 0 | H17: =SUM(H4:H16) -> 0
B18: 건축 | C18: 공통가설공사 | D18: 7143657 | E18: 7143657
B19: (23개공종) | C19: 가시설물공사 | D19: 2256651 | E19: 2256651
C20: 지정및기초공사 | D20: 9226664 | E20: 9226664
C21: 철골공사 | D21: 0 | E21: 0
C22: 철근콘크리트공사 | D22: 42259888 | E22: 42259888
C23: 용접공사 | D23: 0 | E23: 0
C24: 조적공사 | D24: 1537830 | E24: 1537830
C25: 미장공사 | D25: 5839202 | E25: 5839202
C26: 단열공사 | D26: 1013844 | E26: 1013844
C27: 방수/방습공사 | D27: 2699895 | E27: 2699895
C28: 목공사 | D28: 2536801 | E28: 2536801
C29: 가구공사 | D29: 4954846 | E29: 4954846
C30: 금속공사 | D30: 2141909 | E30: 2141909
C31: 지붕 및 홈통공사 | D31: 2247065 | E31: 2247065
... C40: 잡공사 | D40: 1957455 | E40: 1957455
C41: 소 계 | D41: =SUM(D18:D40) -> 118644827 | E41: =SUM(E18:E40) -> 118644827 | F41: =SUM(F18:F40) -> 0 | G41: =SUM(G18:G40) -> 0 | H41: =SUM(H18:H40) -> 0
B42: 기계설비 | C42: 급수설비공사 | D42: 3213287 | E42: 3213287
B43: (9개공사) | C43: 급탕설비공사 | D43: 2414758 | E43: 2414758
C44: 오배수 및 통기설비공사 | D44: 2230878 | E44: 2230878
C45: 위생기구공사 | D45: 6607232 | E45: 6607232
C46: 승강기기계공사 | D46: 5211555 | E46: 5211555
C47: 난방설비공사 | D47: 5002120 | E47: 5002120
C48: 가스설비공사 | D48: 692248 | E48: 692248
C49: 자동제어설비공사 | D49: 748208 | E49: 748208
C50: 특수설비공사 | D50: 823872 | E50: 823872
C51: 소 계 | D51: =SUM(D42:D50) -> 26944158 | E51: =SUM(E42:E50) -> 26944158 | F51: =SUM(F42:F50) -> 0 | G51: =SUM(G42:G50) -> 0 | H51: =SUM(H42:H50) -> 0
B52: 전 기 | C52: 수변전설비공사 | D52: 2643788 | F52: 2643788
B53: (13개공종) | C53: 기계실동력설비공사열공사 | D53: 199999 | F53: 199999
C54: 옥외전력간설비공사 | D54: 3458570 | F54: 3458570
C55: 옥위보안등설비공사 | D55: 565369 | F55: 565369
C56: 전기계실전등전열설비공사 | D56: 45812 | F56: 45812
C57: 경비실전등전열설비공사 | D57: 23401 | F57: 23401
C58: 단위세대 전기설비공사 | D58: 10661849 | F58: 10661849
C59: 옥내전력간선설비공사 | D59: 3558858 | F59: 3558858
C60: 피뢰침 및 접지설비공사 | D60: 310809 | F60: 310809
C61: CABLE TRAY 설비공사 | D61: 281940 | F61: 281940
C62: 지하주차장전력간설비공사 | D62: 796544 | F62: 796544
C63: 지하주차장전등전열설비공사 | D63: 1219027 | F63: 1219027
C64: 주민공동시설전력간선설비공사 | D64: 97419 | F64: 97419
C65: 주민공동시설전등전열설비공사 | D65: 59752 | F65: 59752
C68: 소 계 | D68: =SUM(D52:D65,D69,D70) -> 38629453 | F68: =SUM(F52:F65) -> 23923137
B69: 정보통신(18개공사) | D69: 10302905 | G69: 10302905
B70: 소방설비(2개공사) | D70: 4403411 | H70: 4403411
A71: 총공사비 계 | D71: =SUM(D17,D41,D51,D68,D69,D70) -> 215785907 | E71: =SUM(E17,E41,E51:E68,E69,E70) -> 162450138 | F71: =SUM(F68) -> 23923137 | G71: =SUM(G69) -> 10302905 | H71: =SUM(H70) -> 4403411
