Workbook
Name _: #REF!
Name __: [1]예가표!#REF!
Name __10: #REF!
Name __11: #REF!
Name __6: #REF!
Name __7: #REF!
Name __8: #REF!
Name __9: #REF!
Name __a10: [0]!__a10
Name __a11: [0]!__a11
Name __a12: [0]!__a12
Name __a13: [0]!__a13
Name __a14: [0]!__a14
Name __a15: [0]!__a15
Name __a16: [0]!__a16
Name __a17: [0]!__a17
Name __a2: [0]!__a2
Name __a3: [0]!__a3
Name __a4: [0]!__a4
Name __a5: [0]!__a5
Name __a6: [0]!__a6
Name __a7: [0]!__a7
Name __a8: [0]!__a8
Name __a9: [0]!__a9
Name __bv3: BlankMacro1
Name __FF1: #REF!
Name __IntlFixup: TRUE
Name __JHY1: [0]!__JHY1
Name __JHY2: [0]!__JHY2
Name __LKS1: [0]!__LKS1
Name __LKS2: [0]!__LKS2
Name __SUM1: [4]EP0618!#REF!
Name __SUM10: [4]EP0618!#REF!
Name __SUM11: [4]EP0618!#REF!
Name __SUM12: [4]EP0618!#REF!
Name __SUM13: [4]EP0618!#REF!
Name __SUM14: [4]EP0618!#REF!
Name __SUM15: [4]EP0618!#REF!
Name __SUM16: [4]EP0618!#REF!
Name __SUM17: [4]EP0618!#REF!
Name __SUM18: [4]EP0618!#REF!
Name __SUM19: [4]EP0618!#REF!
Name __SUM2: [4]EP0618!#REF!
Name __SUM3: [4]EP0618!#REF!
Name __SUM4: [4]EP0618!#REF!
Name __SUM5: [4]EP0618!#REF!
Name __SUM6: [4]EP0618!#REF!
Name __SUM7: [4]EP0618!#REF!
Name __SUM8: [4]EP0618!#REF!
Name __SUM9: [4]EP0618!#REF!
Name _\Z: [5]결과조달!$GU$5658:$IV$7860
Name _1: #N/A
Name _10: #N/A
Name _11: #N/A
Name _12: #N/A
Name _13: #N/A
Name _14: #N/A
Name _15: #N/A
Name _15A: [6]가격조사서!$D$4:$D$11
Name _16: #N/A

Sheet 표지
B4: 국가대표선수촌 실내사격장 환기설비 설치공사
D6: - 공 사 비 내 역 서 -
E10: 2026. 10.

Sheet 원가계산서
B1: 공 사 원 가 계 산 서
B2: 공사명 : 국가대표선수촌 실내사격장 환기설비 설치 공사 | F2: =+G2 -> 0 | G2: =E31 -> 0
B3: 비 목 | E3: 금 액 | F3: 구 성 비 | G3: 비 고
A4: A1 | B4: 순 공 사 원 가 | C4: 재 료 비 | D4: 직 접 재 료 비 | E4: =TRUNC(공종별집계표!F5, 0) -> 0
A5: A2 | D5: 간 접 재 료 비 | E5: 0
A6: A3 | D6: 작업설, 부산물(△) | E6: 0
A7: AS | D7: [ 소 계 ] | E7: =TRUNC(E4+E5-E6, 0) -> 0
A8: B1 | C8: 노 무 비 | D8: 직 접 노 무 비 | E8: =TRUNC(공종별집계표!H5, 0) -> 0
A9: B2 | D9: 간 접 노 무 비 | E9: =TRUNC(E8*0.175, 0) -> 0 | F9: 직접노무비 * 17.5%
A10: BS | D10: [ 소 계 ] | E10: =TRUNC(E8+E9, 0) -> 0
A11: C2 | C11: 경 비 | D11: 경 비 | E11: =TRUNC(공종별집계표!J5, 0) -> 0
A12: C4 | D12: 산 재 보 험 료 | E12: =TRUNC(E10*0.0356, 0) -> 0 | F12: 노무비 * 3.56%
A13: C5 | D13: 고 용 보 험 료 | E13: =TRUNC(E10*0.0101, 0) -> 0 | F13: 노무비 * 1.01%
A14: C6 | D14: 국민 건강 보험료 | E14: =TRUNC(E8*0.03595, 0) -> 0 | F14: 직접노무비 * 3.595%
A15: C7 | D15: 국민 연금 보험료 | E15: =TRUNC(E8*0.0475, 0) -> 0 | F15: 직접노무비 * 4.75%
A16: C8 | D16: 퇴직 공제 부금비 | E16: =TRUNC(E8*0.023, 0) -> 0 | F16: 직접노무비 * 2.3%
A17: CA | D17: 산업안전보건관리비 | E17: =TRUNC((E7+E8+(0/1.1))*0.0311, 0) -> 0 | F17: (재료비+직노+관급자재비) * 3.11%
A18: CB | D18: 노인장기요양보험료 | E18: =TRUNC(E14*0.1314, 0) -> 0 | F18: 건강보험료 * 13.14%
A19: CG | D19: 기 타 경 비 | E19: =TRUNC((E7+E10)*0.05, 0) -> 0 | F19: (재료비+노무비) * 5%
A20: CH | D20: 환 경 보 전 비 | E20: =TRUNC((E7+E8+E11)*0.003, 0) -> 0 | F20: (재료비+직노+경비) * 0.3%
A21: CL | D21: 건설기계대여금지급보증서발급수수료 | E21: =TRUNC((E7+E8+E11)*0.001, 0) -> 0 | F21: (재료비+직노+경비) * 0.1%
A22: CM | D22: 석 연 분 담 금 | E22: =TRUNC(E10*0.00006, 0) -> 0 | F22: 노무비 * 0.006%
A23: CN | D23: 임 금 채 권 부 담 금 | E23: =TRUNC(E10*0.0009, 0) -> 0 | F23: 노무비 * 0.09%
A24: CS | D24: [ 소 계 ] | E24: =TRUNC(E11+E12+E13+E14+E15+E16+E17+E18+E19+E20+E21+E22+E23, 0) -> 0
A25: S1 | B25: 계 | E25: =TRUNC(E7+E10+E24, 0) -> 0
A26: D1 | B26: 일 반 관 리 비 | E26: =TRUNC(E25*0.08, 0) -> 0 | F26: 계 * 8%
A27: D2 | B27: 이 윤 | E27: =TRUNC((E10+E24+E26)*0.15, 0) -> 0 | F27: (노무비+경비+일반관리비) * 15%
A28: D9 | B28: 공 급 가 액 | E28: =TRUNC(INT((E25+E26+E27)/10000)*10000, 0) -> 0
A29: DB | B29: 부 가 가 치 세 | E29: =TRUNC(E28*0.1, 0) -> 0 | F29: 공급가액 * 10%
A30: DH | B30: 도 급 액 | E30: =TRUNC(E28+E29, 0) -> 0
A31: S2 | B31: 총 공 사 비 | E31: =TRUNC(E30+0, 0) -> 0

Sheet 공종별집계표
A1: 공 종 별 집 계 표
A2: [ 국가대표선수촌 실내사격장 환기설비 설치 공사 ]
A3: 품 명 | B3: 규 격 | C3: 단위 | D3: 수량 | E3: 재 료 비 | G3: 노 무 비 | I3: 경 비 | K3: 합 계 | M3: 비 고 | N3: 공종코드 | O3: 변수 | P3: 상위공종 | Q3: 공종구분 | R3: 공종레벨 | S3: 공종소계 | T3: 원가계산서 연결금액
E4: 단 가 | F4: 금 액 | G4: 단 가 | H4: 금 액 | I4: 단 가 | J4: 금 액 | K4: 단 가 | L4: 금 액
A5: 진천국가대표선수촌실내사격장환기설비설치 | D5: 1 | E5: =F6 -> 0 | F5: =E5*D5 -> 0 | G5: =H6 -> 0 | H5: =G5*D5 -> 0 | I5: =J6 -> 0 | J5: =I5*D5 -> 0 | K5: =E5+G5+I5 -> 0 | L5: =F5+H5+J5 -> 0 | N5: 01 | R5: 1
A6: 기계설비공사 | D6: 1 | E6: =F7+F8+F9 -> 0 | F6: =E6*D6 -> 0 | G6: =H7+H8+H9 -> 0 | H6: =G6*D6 -> 0 | I6: =J7+J8+J9 -> 0 | J6: =I6*D6 -> 0 | K6: =E6+G6+I6 -> 0 | L6: =F6+H6+J6 -> 0 | N6: 0101 | P6: 01 | R6: 2
A7: 장비설치공사 | D7: 1 | E7: =공종별내역서!F27 -> 0 | F7: =E7*D7 -> 0 | G7: =공종별내역서!H27 -> 0 | H7: =G7*D7 -> 0 | I7: =공종별내역서!J27 -> 0 | J7: =I7*D7 -> 0 | K7: =E7+G7+I7 -> 0 | L7: =F7+H7+J7 -> 0 | N7: 010101 | P7: 0101 | R7: 3
A8: 덕트공사 | D8: 1 | E8: =공종별내역서!F75 -> 0 | F8: =E8*D8 -> 0 | G8: =공종별내역서!H75 -> 0 | H8: =G8*D8 -> 0 | I8: =공종별내역서!J75 -> 0 | J8: =I8*D8 -> 0 | K8: =E8+G8+I8 -> 0 | L8: =F8+H8+J8 -> 0 | N8: 010102 | P8: 0101 | R8: 3
A9: 공기순환기설치 | D9: 1 | E9: =공종별내역서!F123 -> 0 | F9: =E9*D9 -> 0 | G9: =공종별내역서!H123 -> 0 | H9: =G9*D9 -> 0 | I9: =공종별내역서!J123 -> 0 | J9: =I9*D9 -> 0 | K9: =E9+G9+I9 -> 0 | L9: =F9+H9+J9 -> 0 | N9: 010103 | P9: 0101 | R9: 3
A26: [ 합 계 ] | F26: =F5 -> 0 | H26: =H5 -> 0 | J26: =J5 -> 0 | L26: =L5 -> 0

Sheet 공종별내역서
A1: [ 국가대표선수촌 실내사격장 환기설비 설치 공사 ]
A2: 품 명 | B2: 규 격 | C2: 단위 | D2: 수량 | E2: 재 료 비 | G2: 노 무 비 | I2: 경 비 | K2: 합 계 | M2: 비 고 | N2: 품목코드 | O2: 변수 | P2: 설정 | Q2: 공종코드 | R2: 일위 | S2: 단산 | T2: 자재 | U2: 손료적용 | V2: 손료저장 | W2: 적용율 | X2: JUK1 | Y2: JUK2 | Z2: JUK3 | AA2: JUK4 | AB2: JUK5 | AC2: JUK6 | AD2: JUK7 | AE2: JUK8 | AF2: JUK9 | AG2: JUK10 | AH2: JUK11 | AI2: JUK12 | AJ2: JUK13 | AK2: JUK14 | AL2: JUK15 | AM2: JUK16 | AN2: JUK17 | AO2: JUK18 | AP2: JUK19 | AQ2: JUK20 | AR2: 자재구분 | AS2: 공종구분 | AT2: 공종레벨 | AU2: 공종+자재 | AV2: 고유번호
E3: 단 가 | F3: 금 액 | G3: 단 가 | H3: 금 액 | I3: 단 가 | J3: 금 액 | K3: 단 가 | L3: 금 액
A4: 장비설치공사 | Q4: 010101
A5: 배기홴(소형인라인) | B5: 50CMM*30MMAQ*1.5KW | C5: 대 | D5: 1 | F5: =TRUNC(E5*D5, 0) -> 0 | H5: =TRUNC(G5*D5, 0) -> 0 | J5: =TRUNC(I5*D5, 0) -> 0 | K5: =TRUNC(E5+G5+I5, 0) -> 0 | L5: =TRUNC(F5+H5+J5, 0) -> 0 | N5: 45C67BD380A02366A1EA1C7F5EA076CB05649 | Q5: 010101 | R5: F | S5: F | T5: T | AU5: 01010145C67BD380A02366A1EA1C7F5EA076CB05649 | AV5: 5
A6: 지지행어 | B6: 지지행어, 스프링행어, 100kg | C6: 개 | D6: 4 | F6: =TRUNC(E6*D6, 0) -> 0 | H6: =TRUNC(G6*D6, 0) -> 0 | J6: =TRUNC(I6*D6, 0) -> 0 | K6: =TRUNC(E6+G6+I6, 0) -> 0 | L6: =TRUNC(F6+H6+J6, 0) -> 0 | N6: 42867856D510246FEC70FC1DE71E1A9F1726D | Q6: 010101 | R6: F | S6: F | T6: T | AU6: 01010142867856D510246FEC70FC1DE71E1A9F1726D | AV6: 4
A7: 고소작업차 | B7: 5ton | C7: 대 | D7: 1 | F7: =TRUNC(E7*D7, 0) -> 0 | H7: =TRUNC(G7*D7, 0) -> 0 | J7: =TRUNC(I7*D7, 0) -> 0 | K7: =TRUNC(E7+G7+I7, 0) -> 0 | L7: =TRUNC(F7+H7+J7, 0) -> 0 | N7: 42B37DDDC3202560F0818545805A3C1746CE3 | Q7: 010101 | R7: F | S7: F | T7: T | AU7: 01010142B37DDDC3202560F0818545805A3C1746CE3 | AV7: 3
A8: 보통인부 | B8: 일반공사 직종 | C8: 인 | D8: 1 | F8: =TRUNC(E8*D8, 0) -> 0 | H8: =TRUNC(G8*D8, 0) -> 0 | J8: =TRUNC(I8*D8, 0) -> 0 | K8: =TRUNC(E8+G8+I8, 0) -> 0 | L8: =TRUNC(F8+H8+J8, 0) -> 0 | N8: 45787618A2802E6B7C061856F82715C2A036E | Q8: 010101 | R8: F | S8: F | T8: T | X8: 1 | AU8: 01010145787618A2802E6B7C061856F82715C2A036E | AV8: 6
A9: 기계설비공 | B9: 일반공사 직종 | C9: 인 | D9: 1 | F9: =TRUNC(E9*D9, 0) -> 0 | H9: =TRUNC(G9*D9, 0) -> 0 | J9: =TRUNC(I9*D9, 0) -> 0 | K9: =TRUNC(E9+G9+I9, 0) -> 0 | L9: =TRUNC(F9+H9+J9, 0) -> 0 | N9: 45787618A2802E6B7C061856F82715C2A0620 | Q9: 010101 | R9: F | S9: F | T9: T | X9: 1 | AU9: 01010145787618A2802E6B7C061856F82715C2A0620 | AV9: 7
A10: 공구손료 | B10: 인력품의 3% | C10: 식 | D10: 1 | F10: =TRUNC(E10*D10, 0) -> 0 | H10: =TRUNC(G10*D10, 0) -> 0 | J10: =TRUNC(I10*D10, 0) -> 0 | K10: =TRUNC(E10+G10+I10, 0) -> 0 | L10: =TRUNC(F10+H10+J10, 0) -> 0 | N10: 44BB753463F026643CF3B2F8BCD001 | Q10: 010101 | R10: F | S10: F | T10: F | U10: 1 | V10: 0 | W10: 0.03 | AU10: 01010144BB753463F026643CF3B2F8BCD001 | AV10: 31
Q11: 010101
Q12: 010101
Q13: 010101
Q14: 010101
Q15: 010101
Q16: 010101
Q17: 010101
Q18: 010101
Q19: 010101
Q20: 010101
Q21: 010101
Q22: 010101
... Q26: 010101
A27: [ 합 계 ] | F27: =SUMIF(Q5:Q26,"010101",F5:F26) -> 0 | H27: =SUMIF(Q5:Q26,"010101",H5:H26) -> 0 | J27: =SUMIF(Q5:Q26,"010101",J5:J26) -> 0 | L27: =SUMIF(Q5:Q26,"010101",L5:L26) -> 0 | N27: TOTAL
A28: 덕트공사 | Q28: 010102
A29: 각형닥트제작 및 설치 | B29: 0.6t | C29: M2 | D29: 8 | F29: =TRUNC(E29*D29, 0) -> 0 | H29: =TRUNC(G29*D29, 0) -> 0 | J29: =TRUNC(I29*D29, 0) -> 0 | K29: =TRUNC(E29+G29+I29, 0) -> 0 | L29: =TRUNC(F29+H29+J29, 0) -> 0 | N29: 45687C8C9CF02D69E1BFAFDBA9B3C | Q29: 010102 | R29: T | S29: F | T29: F | AU29: 01010245687C8C9CF02D69E1BFAFDBA9B3C | AV29: 29
A30: 일반행가(전산볼트) | B30: D100 | C30: 개소 | D30: 1 | F30: =TRUNC(E30*D30, 0) -> 0 | H30: =TRUNC(G30*D30, 0) -> 0 | J30: =TRUNC(I30*D30, 0) -> 0 | K30: =TRUNC(E30+G30+I30, 0) -> 0 | L30: =TRUNC(F30+H30+J30, 0) -> 0 | N30: 45687708D4D0226590F5237BC7595 | Q30: 010102 | R30: T | S30: F | T30: F | AU30: 01010245687708D4D0226590F5237BC7595 | AV30: 76
A31: 일반용경질폴리염화비닐관 | B31: 일반용 VN SDR 33(구 VG2), ∮100mm | C31: M | D31: 3 | F31: =TRUNC(E31*D31, 0) -> 0 | H31: =TRUNC(G31*D31, 0) -> 0 | J31: =TRUNC(I31*D31, 0) -> 0 | K31: =TRUNC(E31+G31+I31, 0) -> 0 | L31: =TRUNC(F31+H31+J31, 0) -> 0 | N31: 42F978CCE1F02C62BAF79C5FD6021E4773CC7 | Q31: 010102 | R31: F | S31: F | T31: T | X31: 1 | AU31: 01010242F978CCE1F02C62BAF79C5FD6021E4773CC7 | AV31: 75
A32: 잡재료 | B32: 주재료비의 3% | C32: 식 | D32: 1 | F32: =TRUNC(E32*D32, 0) -> 0 | H32: =TRUNC(G32*D32, 0) -> 0 | J32: =TRUNC(I32*D32, 0) -> 0 | K32: =TRUNC(E32+G32+I32, 0) -> 0 | L32: =TRUNC(F32+H32+J32, 0) -> 0 | N32: 44BB753463F026643CF3B2F8BCD001 | Q32: 010102 | R32: F | S32: F | T32: F | U32: 0 | V32: 0 | W32: 0.03 | AU32: 01010244BB753463F026643CF3B2F8BCF003 | AV32: 77
A33: 일반용경질폴리염화비닐이음관 | B33: 일반용경질폴리염화비닐이음관, ∮100mm, 90˚단곡관(DTS) | C33: 개 | D33: 2 | F33: =TRUNC(E33*D33, 0) -> 0 | H33: =TRUNC(G33*D33, 0) -> 0 | J33: =TRUNC(I33*D33, 0) -> 0 | K33: =TRUNC(E33+G33+I33, 0) -> 0 | L33: =TRUNC(F33+H33+J33, 0) -> 0 | N33: 42F978CCE1F02C629F068CD92DD8D402505E6 | Q33: 010102 | R33: F | S33: F | T33: T | AU33: 01010242F978CCE1F02C629F068CD92DD8D402505E6 | AV33: 10
A34: 디퓨저 | B34: 디퓨저, 사각, ∮100mm, 알루미늄 | C34: 개 | D34: 2 | F34: =TRUNC(E34*D34, 0) -> 0 | H34: =TRUNC(G34*D34, 0) -> 0 | J34: =TRUNC(I34*D34, 0) -> 0 | K34: =TRUNC(E34+G34+I34, 0) -> 0 | L34: =TRUNC(F34+H34+J34, 0) -> 0 | N34: 42F978CCE55028667128EDF7257DB15A883A7 | Q34: 010102 | R34: F | S34: F | T34: T | AU34: 01010242F978CCE55028667128EDF7257DB15A883A7 | AV34: 11
A35: 자바라디퓨저 | B35: 자바라디퓨저, Φ125mm | C35: 개 | D35: 1 | F35: =TRUNC(E35*D35, 0) -> 0 | H35: =TRUNC(G35*D35, 0) -> 0 | J35: =TRUNC(I35*D35, 0) -> 0 | K35: =TRUNC(E35+G35+I35, 0) -> 0 | L35: =TRUNC(F35+H35+J35, 0) -> 0 | N35: 42F978CCE55028667128EDF7257DB14995EE4 | Q35: 010102 | R35: F | S35: F | T35: T | AU35: 01010242F978CCE55028667128EDF7257DB14995EE4 | AV35: 12
A36: 스테인리스 망 | B36: 스테인리스망, STS304, 30mesh*∮0.23*1m | C36: M2 | D36: 1 | F36: =TRUNC(E36*D36, 0) -> 0 | H36: =TRUNC(G36*D36, 0) -> 0 | J36: =TRUNC(I36*D36, 0) -> 0 | K36: =TRUNC(E36+G36+I36, 0) -> 0 | L36: =TRUNC(F36+H36+J36, 0) -> 0 | N36: 42A177DB74C0256760CB02DB1B0247D0E45F0 | Q36: 010102 | R36: F | S36: F | T36: T | AU36: 01010242A177DB74C0256760CB02DB1B0247D0E45F0 | AV36: 13
A37: ㄱ형강 | B37: ㄱ형강, 등변, 65*65*6mm | C37: kg | D37: 76 | F37: =TRUNC(E37*D37, 0) -> 0 | H37: =TRUNC(G37*D37, 0) -> 0 | J37: =TRUNC(I37*D37, 0) -> 0 | K37: =TRUNC(E37+G37+I37, 0) -> 0 | L37: =TRUNC(F37+H37+J37, 0) -> 0 | N37: 4286797FAAB02E6E561002DF5607C79065C29 | Q37: 010102 | R37: F | S37: F | T37: T | AU37: 0101024286797FAAB02E6E561002DF5607C79065C29 | AV37: 28
A38: 앵커볼트 | B38: 앵커볼트, M10*150mm | C38: 개 | D38: 9 | F38: =TRUNC(E38*D38, 0) -> 0 | H38: =TRUNC(G38*D38, 0) -> 0 | J38: =TRUNC(I38*D38, 0) -> 0 | K38: =TRUNC(E38+G38+I38, 0) -> 0 | L38: =TRUNC(F38+H38+J38, 0) -> 0 | N38: 42867856D510276B4BC1375CC890117E57CFD | Q38: 010102 | R38: F | S38: F | T38: T | AU38: 01010242867856D510276B4BC1375CC890117E57CFD | AV38: 14
A39: 잡철물 제작 및 설치 | B39: 규격철물 설치, 일반철재 | C39: kg | D39: 76 | F39: =TRUNC(E39*D39, 0) -> 0 | H39: =TRUNC(G39*D39, 0) -> 0 | J39: =TRUNC(I39*D39, 0) -> 0 | K39: =TRUNC(E39+G39+I39, 0) -> 0 | L39: =TRUNC(F39+H39+J39, 0) -> 0 | N39: 45687655BBE02A6A05F4653FC1368 | Q39: 010102 | R39: T | S39: F | T39: F | AU39: 01010245687655BBE02A6A05F4653FC1368 | AV39: 30
A40: 녹막이페인트(붓칠) | B40: 철재면, 2회 | C40: ㎡ | D40: 3 | F40: =TRUNC(E40*D40, 0) -> 0 | H40: =TRUNC(G40*D40, 0) -> 0 | J40: =TRUNC(I40*D40, 0) -> 0 | K40: =TRUNC(E40+G40+I40, 0) -> 0 | L40: =TRUNC(F40+H40+J40, 0) -> 0 | N40: 456871A215902661ADF944525BDAE | Q40: 010102 | R40: T | S40: F | T40: F | AU40: 010102456871A215902661ADF944525BDAE | AV40: 19
A41: 조합페인트칠 | B41: 철재면2회 | C41: ㎡ | D41: 3 | F41: =TRUNC(E41*D41, 0) -> 0 | H41: =TRUNC(G41*D41, 0) -> 0 | J41: =TRUNC(I41*D41, 0) -> 0 | K41: =TRUNC(E41+G41+I41, 0) -> 0 | L41: =TRUNC(F41+H41+J41, 0) -> 0 | N41: 4568753C0C202B6749227DC01CD72 | Q41: 010102 | R41: T | S41: F | T41: F | AU41: 0101024568753C0C202B6749227DC01CD72 | AV41: 24
A42: 공조덕트(플렉시블) | B42: AL, D100 | C42: M | D42: 6 | F42: =TRUNC(E42*D42, 0) -> 0 | H42: =TRUNC(G42*D42, 0) -> 0 | J42: =TRUNC(I42*D42, 0) -> 0 | K42: =TRUNC(E42+G42+I42, 0) -> 0 | L42: =TRUNC(F42+H42+J42, 0) -> 0 | N42: 45687C8C9AC02E6FB708E97349575 | Q42: 010102 | R42: T | S42: F | T42: F | AU42: 01010245687C8C9AC02E6FB708E97349575 | AV42: 16
A43: 공조덕트(플렉시블) | B43: AL, D125 | C43: M | D43: 3 | F43: =TRUNC(E43*D43, 0) -> 0 | H43: =TRUNC(G43*D43, 0) -> 0 | J43: =TRUNC(I43*D43, 0) -> 0 | K43: =TRUNC(E43+G43+I43, 0) -> 0 | L43: =TRUNC(F43+H43+J43, 0) -> 0 | N43: 45687C8C9AC02D6D2B84987DEFC83 | Q43: 010102 | R43: T | S43: F | T43: F | AU43: 01010245687C8C9AC02D6D2B84987DEFC83 | AV43: 17
...
