Workbook
Name _: #REF!
Name __: [1]예가표!#REF!
Name __10: #REF!
Name __11: #REF!
Name __6: #REF!
Name __7: #REF!
Name __8: #REF!
Name __9: #REF!
Name __a10: [0]!__a10
Name __a11: [0]!__a11
Name __a12: [0]!__a12
Name __a13: [0]!__a13
Name __a14: [0]!__a14
Name __a15: [0]!__a15
Name __a16: [0]!__a16
Name __a17: [0]!__a17
Name __a2: [0]!__a2
Name __a3: [0]!__a3
Name __a4: [0]!__a4
Name __a5: [0]!__a5
Name __a6: [0]!__a6
Name __a7: [0]!__a7
Name __a8: [0]!__a8
Name __a9: [0]!__a9
Name __bv3: BlankMacro1
Name __FF1: #REF!
Name __IntlFixup: TRUE
Name __JHY1: [0]!__JHY1
Name __JHY2: [0]!__JHY2
Name __LKS1: [0]!__LKS1
Name __LKS2: [0]!__LKS2
Name __SUM1: [4]EP0618!#REF!
Name __SUM10: [4]EP0618!#REF!
Name __SUM11: [4]EP0618!#REF!
Name __SUM12: [4]EP0618!#REF!
Name __SUM13: [4]EP0618!#REF!
Name __SUM14: [4]EP0618!#REF!
Name __SUM15: [4]EP0618!#REF!
Name __SUM16: [4]EP0618!#REF!
Name __SUM17: [4]EP0618!#REF!
Name __SUM18: [4]EP0618!#REF!
Name __SUM19: [4]EP0618!#REF!
Name __SUM2: [4]EP0618!#REF!
Name __SUM3: [4]EP0618!#REF!
Name __SUM4: [4]EP0618!#REF!
Name __SUM5: [4]EP0618!#REF!
Name __SUM6: [4]EP0618!#REF!
Name __SUM7: [4]EP0618!#REF!
Name __SUM8: [4]EP0618!#REF!
Name __SUM9: [4]EP0618!#REF!
Name _\Z: [5]결과조달!$GU$5658:$IV$7860
Name _1: #N/A
Name _10: #N/A
Name _11: #N/A
Name _12: #N/A
Name _13: #N/A
Name _14: #N/A
Name _15: #N/A
Name _15A: [6]가격조사서!$D$4:$D$11
Name _16: #N/A

Sheet 표지
B4: 국가대표선수촌 실내사격장 환기설비 설치공사
D6: - 공 사 비 내 역 서 -
E10: 2026. 10.

Sheet 원가계산서
B1: 공 사 원 가 계 산 서
B2: 공사명 : 국가대표선수촌 실내사격장 환기설비 설치 공사 | F2: =+G2 -> 0 | G2: =E31 -> 0
B3: 비 목 | E3: 금 액 | F3: 구 성 비 | G3: 비 고
A4: A1 | B4: 순 공 사 원 가 | C4: 재 료 비 | D4: 직 접 재 료 비 | E4: =TRUNC(공종별집계표!F5, 0) -> 0
A5: A2 | D5: 간 접 재 료 비 | E5: 0
A6: A3 | D6: 작업설, 부산물(△) | E6: 0
A7: AS | D7: [ 소 계 ] | E7: =TRUNC(E4+E5-E6, 0) -> 0
A8: B1 | C8: 노 무 비 | D8: 직 접 노 무 비 | E8: =TRUNC(공종별집계표!H5, 0) -> 0
A9: B2 | D9: 간 접 노 무 비 | E9: =TRUNC(E8*0.175, 0) -> 0 | F9: 직접노무비 * 17.5%
A10: BS | D10: [ 소 계 ] | E10: =TRUNC(E8+E9, 0) -> 0
A11: C2 | C11: 경 비 | D11: 경 비 | E11: =TRUNC(공종별집계표!J5, 0) -> 0
A12: C4 | D12: 산 재 보 험 료 | E12: =TRUNC(E10*0.0356, 0) -> 0 | F12: 노무비 * 3.56%
A13: C5 | D13: 고 용 보 험 료 | E13: =TRUNC(E10*0.0101, 0) -> 0 | F13: 노무비 * 1.01%
A14: C6 | D14: 국민 건강 보험료 | E14: =TRUNC(E8*0.03595, 0) -> 0 | F14: 직접노무비 * 3.595%
A15: C7 | D15: 국민 연금 보험료 | E15: =TRUNC(E8*0.0475, 0) -> 0 | F15: 직접노무비 * 4.75%
A16: C8 | D16: 퇴직 공제 부금비 | E16: =TRUNC(E8*0.023, 0) -> 0 | F16: 직접노무비 * 2.3%
A17: CA | D17: 산업안전보건관리비 | E17: =TRUNC((E7+E8+(0/1.1))*0.0311, 0) -> 0 | F17: (재료비+직노+관급자재비) * 3.11%
A18: CB | D18: 노인장기요양보험료 | E18: =TRUNC(E14*0.1314, 0) -> 0 | F18: 건강보험료 * 13.14%
A19: CG | D19: 기 타 경 비 | E19: =TRUNC((E7+E10)*0.05, 0) -> 0 | F19: (재료비+노무비) * 5%
A20: CH | D20: 환 경 보 전 비 | E20: =TRUNC((E7+E8+E11)*0.003, 0) -> 0 | F20: (재료비+직노+경비) * 0.3%
A21: CL | D21: 건설기계대여금지급보증서발급수수료 | E21: =TRUNC((E7+E8+E11)*0.001, 0) -> 0 | F21: (재료비+직노+경비) * 0.1%
A22: CM | D22: 석 연 분 담 금 | E22: =TRUNC(E10*0.00006, 0) -> 0 | F22: 노무비 * 0.006%
A23: CN | D23: 임 금 채 권 부 담 금 | E23: =TRUNC(E10*0.0009, 0) -> 0 | F23: 노무비 * 0.09%
A24: CS | D24: [ 소 계 ] | E24: =TRUNC(E11+E12+E13+E14+E15+E16+E17+E18+E19+E20+E21+E22+E23, 0) -> 0
A25: S1 | B25: 계 | E25: =TRUNC(E7+E10+E24, 0) -> 0
A26: D1 | B26: 일 반 관 리 비 | E26: =TRUNC(E25*0.08, 0) -> 0 | F26: 계 * 8%
A27: D2 | B27: 이 윤 | E27: =TRUNC((E10+E24+E26)*0.15, 0) -> 0 | F27: (노무비+경비+일반관리비) * 15%
A28: D9 | B28: 공 급 가 액 | E28: =TRUNC(INT((E25+E26+E27)/10000)*10000, 0) -> 0
A29: DB | B29: 부 가 가 치 세 | E29: =TRUNC(E28*0.1, 0) -> 0 | F29: 공급가액 * 10%
A30: DH | B30: 도 급 액 | E30: =TRUNC(E28+E29, 0) -> 0
A31: S2 | B31: 총 공 사 비 | E31: =TRUNC(E30+0, 0) -> 0

Sheet 공종별집계표
A1: 공 종 별 집 계 표
A2: [ 국가대표선수촌 실내사격장 환기설비 설치 공사 ]
A3: 품 명 | B3: 규 격 | C3: 단위 | D3: 수량 | E3: 재 료 비 | G3: 노 무 비 | I3: 경 비 | K3: 합 계 | M3: 비 고 | N3: 공종코드 | O3: 변수 | P3: 상위공종 | Q3: 공종구분 | R3: 공종레벨 | S3: 공종소계 | T3: 원가계산서 연결금액
E4: 단 가 | F4: 금 액 | G4: 단 가 | H4: 금 액 | I4: 단 가 | J4: 금 액 | K4: 단 가 | L4: 금 액
A5: 진천국가대표선수촌실내사격장환기설비설치 | D5: 1 | E5: =F6 -> 0 | F5: =E5*D5 -> 0 | G5: =H6 -> 0 | H5: =G5*D5 -> 0 | I5: =J6 -> 0 | J5: =I5*D5 -> 0 | K5: =E5+G5+I5 -> 0 | L5: =F5+H5+J5 -> 0 | N5: 01 | R5: 1
A6: 기계설비공사 | D6: 1 | E6: =F7+F8+F9 -> 0 | F6: =E6*D6 -> 0 | G6: =H7+H8+H9 -> 0 | H6: =G6*D6 -> 0 | I6: =J7+J8+J9 -> 0 | J6: =I6*D6 -> 0 | K6: =E6+G6+I6 -> 0 | L6: =F6+H6+J6 -> 0 | N6: 0101 | P6: 01 | R6: 2
A7: 장비설치공사 | D7: 1 | E7: =공종별내역서!F27 -> 0 | F7: =E7*D7 -> 0 | G7: =공종별내역서!H27 -> 0 | H7: =G7*D7 -> 0 | I7: =공종별내역서!J27 -> 0 | J7: =I7*D7 -> 0 | K7: =E7+G7+I7 -> 0 | L7: =F7+H7+J7 -> 0 | N7: 010101 | P7: 0101 | R7: 3
A8: 덕트공사 | D8: 1 | E8: =공종별내역서!F75 -> 0 | F8: =E8*D8 -> 0 | G8: =공종별내역서!H75 -> 0 | H8: =G8*D8 -> 0 | I8: =공종별내역서!J75 -> 0 | J8: =I8*D8 -> 0 | K8: =E8+G8+I8 -> 0 | L8: =F8+H8+J8 -> 0 | N8: 010102 | P8: 0101 | R8: 3
A9: 공기순환기설치 | D9: 1 | E9: =공종별내역서!F123 -> 0 | F9: =E9*D9 -> 0 | G9: =공종별내역서!H123 -> 0 | H9: =G9*D9 -> 0 | I9: =공종별내역서!J123 -> 0 | J9: =I9*D9 -> 0 | K9: =E9+G9+I9 -> 0 | L9: =F9+H9+J9 -> 0 | N9: 010103 | P9: 0101 | R9: 3
A26: [ 합 계 ] | F26: =F5 -> 0 | H26: =H5 -> 0 | J26: =J5 -> 0 | L26: =L5 -> 0

Sheet 공종별내역서
A1: [ 국가대표선수촌 실내사격장 환기설비 설치 공사 ]
A2: 품 명 | B2: 규 격 | C2: 단위 | D2: 수량 | E2: 재 료 비 | G2: 노 무 비 | I2: 경 비 | K2: 합 계 | M2: 비 고 | N2: 품목코드 | O2: 변수 | P2: 설정 | Q2: 공종코드 | R2: 일위 | S2: 단산 | T2: 자재 | U2: 손료적용 | V2: 손료저장 | W2: 적용율 | X2: JUK1 | Y2: JUK2 | Z2: JUK3 | AA2: JUK4 | AB2: JUK5 | AC2: JUK6 | AD2: JUK7 | AE2: JUK8 | AF2: JUK9 | AG2: JUK10 | AH2: JUK11 | AI2: JUK12 | AJ2: JUK13 | AK2: JUK14 | AL2: JUK15 | AM2: JUK16 | AN2: JUK17 | AO2: JUK18 | AP2: JUK19 | AQ2: JUK20 | AR2: 자재구분 | AS2: 공종구분 | AT2: 공종레벨 | AU2: 공종+자재 | AV2: 고유번호
E3: 단 가 | F3: 금 액 | G3: 단 가 | H3: 금 액 | I3: 단 가 | J3: 금 액 | K3: 단 가 | L3: 금 액
A4: 장비설치공사 | Q4: 010101
A5: 배기홴(소형인라인) | B5: 50CMM*30MMAQ*1.5KW | C5: 대 | D5: 1 | F5: =TRUNC(E5*D5, 0) -> 0 | H5: =TRUNC(G5*D5, 0) -> 0 | J5: =TRUNC(I5*D5, 0) -> 0 | K5: =TRUNC(E5+G5+I5, 0) -> 0 | L5: =TRUNC(F5+H5+J5, 0) -> 0 | N5: 45C67BD380A02366A1EA1C7F5EA076CB05649 | Q5: 010101 | R5: F | S5: F | T5: T | AU5: 01010145C67BD380A02366A1EA1C7F5EA076CB05649 | AV5: 5
A6: 지지행어 | B6: 지지행어, 스프링행어, 100kg | C6: 개 | D6: 4 | F6: =TRUNC(E6*D6, 0) -> 0 | H6: =TRUNC(G6*D6, 0) -> 0 | J6: =TRUNC(I6*D6, 0) -> 0 | K6: =TRUNC(E6+G6+I6, 0) -> 0 | L6: =TRUNC(F6+H6+J6, 0) -> 0 | N6: 42867856D510246FEC70FC1DE71E1A9F1726D | Q6: 010101 | R6: F | S6: F | T6: T | AU6: 01010142867856D510246FEC70FC1DE71E1A9F1726D | AV6: 4
A7: 고소작업차 | B7: 5ton | C7: 대 | D7: 1 | F7: =TRUNC(E7*D7, 0) -> 0 | H7: =TRUNC(G7*D7, 0) -> 0 | J7: =TRUNC(I7*D7, 0) -> 0 | K7: =TRUNC(E7+G7+I7, 0) -> 0 | L7: =TRUNC(F7+H7+J7, 0) -> 0 | N7: 42B37DDDC3202560F0818545805A3C1746CE3 | Q7: 010101 | R7: F | S7: F | T7: T | AU7: 01010142B37DDDC3202560F0818545805A3C1746CE3 | AV7: 3
A8: 보통인부 | B8: 일반공사 직종 | C8: 인 | D8: 1 | F8: =TRUNC(E8*D8, 0) -> 0 | H8: =TRUNC(G8*D8, 0) -> 0 | J8: =TRUNC(I8*D8, 0) -> 0 | K8: =TRUNC(E8+G8+I8, 0) -> 0 | L8: =TRUNC(F8+H8+J8, 0) -> 0 | N8: 45787618A2802E6B7C061856F82715C2A036E | Q8: 010101 | R8: F | S8: F | T8: T | X8: 1 | AU8: 01010145787618A2802E6B7C061856F82715C2A036E | AV8: 6
A9: 기계설비공 | B9: 일반공사 직종 | C9: 인 | D9: 1 | F9: =TRUNC(E9*D9, 0) -> 0 | H9: =TRUNC(G9*D9, 0) -> 0 | J9: =TRUNC(I9*D9, 0) -> 0 | K9: =TRUNC(E9+G9+I9, 0) -> 0 | L9: =TRUNC(F9+H9+J9, 0) -> 0 | N9: 45787618A2802E6B7C061856F82715C2A0620 | Q9: 010101 | R9: F | S9: F | T9: T | X9: 1 | AU9: 01010145787618A2802E6B7C061856F82715C2A0620 | AV9: 7
A10: 공구손료 | B10: 인력품의 3% | C10: 식 | D10: 1 | F10: =TRUNC(E10*D10, 0) -> 0 | H10: =TRUNC(G10*D10, 0) -> 0 | J10: =TRUNC(I10*D10, 0) -> 0 | K10: =TRUNC(E10+G10+I10, 0) -> 0 | L10: =TRUNC(F10+H10+J10, 0) -> 0 | N10: 44BB753463F026643CF3B2F8BCD001 | Q10: 010101 | R10: F | S10: F | T10: F | U10: 1 | V10: 0 | W10: 0.03 | AU10: 01010144BB753463F026643CF3B2F8BCD001 | AV10: 31
Q11: 010101
Q12: 010101
Q13: 010101
Q14: 010101
Q15: 010101
Q16: 010101
Q17: 010101
Q18: 010101
Q19: 010101
Q20: 010101
Q21: 010101
Q22: 010101
... Q26: 010101
A27: [ 합 계 ] | F27: =SUMIF(Q5:Q26,"010101",F5:F26) -> 0 | H27: =SUMIF(Q5:Q26,"010101",H5:H26) -> 0 | J27: =SUMIF(Q5:Q26,"010101",J5:J26) -> 0 | L27: =SUMIF(Q5:Q26,"010101",L5:L26) -> 0 | N27: TOTAL
A28: 덕트공사 | Q28: 010102
A29: 각형닥트제작 및 설치 | B29: 0.6t | C29: M2 | D29: 8 | F29: =TRUNC(E29*D29, 0) -> 0 | H29: =TRUNC(G29*D29, 0) -> 0 | J29: =TRUNC(I29*D29, 0) -> 0 | K29: =TRUNC(E29+G29+I29, 0) -> 0 | L29: =TRUNC(F29+H29+J29, 0) -> 0 | N29: 45687C8C9CF02D69E1BFAFDBA9B3C | Q29: 010102 | R29: T | S29: F | T29: F | AU29: 01010245687C8C9CF02D69E1BFAFDBA9B3C | AV29: 29
A30: 일반행가(전산볼트) | B30: D100 | C30: 개소 | D30: 1 | F30: =TRUNC(E30*D30, 0) -> 0 | H30: =TRUNC(G30*D30, 0) -> 0 | J30: =TRUNC(I30*D30, 0) -> 0 | K30: =TRUNC(E30+G30+I30, 0) -> 0 | L30: =TRUNC(F30+H30+J30, 0) -> 0 | N30: 45687708D4D0226590F5237BC7595 | Q30: 010102 | R30: T | S30: F | T30: F | AU30: 01010245687708D4D0226590F5237BC7595 | AV30: 76
A31: 일반용경질폴리염화비닐관 | B31: 일반용 VN SDR 33(구 VG2), ∮100mm | C31: M | D31: 3 | F31: =TRUNC(E31*D31, 0) -> 0 | H31: =TRUNC(G31*D31, 0) -> 0 | J31: =TRUNC(I31*D31, 0) -> 0 | K31: =TRUNC(E31+G31+I31, 0) -> 0 | L31: =TRUNC(F31+H31+J31, 0) -> 0 | N31: 42F978CCE1F02C62BAF79C5FD6021E4773CC7 | Q31: 010102 | R31: F | S31: F | T31: T | X31: 1 | AU31: 01010242F978CCE1F02C62BAF79C5FD6021E4773CC7 | AV31: 75
A32: 잡재료 | B32: 주재료비의 3% | C32: 식 | D32: 1 | F32: =TRUNC(E32*D32, 0) -> 0 | H32: =TRUNC(G32*D32, 0) -> 0 | J32: =TRUNC(I32*D32, 0) -> 0 | K32: =TRUNC(E32+G32+I32, 0) -> 0 | L32: =TRUNC(F32+H32+J32, 0) -> 0 | N32: 44BB753463F026643CF3B2F8BCD001 | Q32: 010102 | R32: F | S32: F | T32: F | U32: 0 | V32: 0 | W32: 0.03 | AU32: 01010244BB753463F026643CF3B2F8BCF003 | AV32: 77
A33: 일반용경질폴리염화비닐이음관 | B33: 일반용경질폴리염화비닐이음관, ∮100mm, 90˚단곡관(DTS) | C33: 개 | D33: 2 | F33: =TRUNC(E33*D33, 0) -> 0 | H33: =TRUNC(G33*D33, 0) -> 0 | J33: =TRUNC(I33*D33, 0) -> 0 | K33: =TRUNC(E33+G33+I33, 0) -> 0 | L33: =TRUNC(F33+H33+J33, 0) -> 0 | N33: 42F978CCE1F02C629F068CD92DD8D402505E6 | Q33: 010102 | R33: F | S33: F | T33: T | AU33: 01010242F978CCE1F02C629F068CD92DD8D402505E6 | AV33: 10
A34: 디퓨저 | B34: 디퓨저, 사각, ∮100mm, 알루미늄 | C34: 개 | D34: 2 | F34: =TRUNC(E34*D34, 0) -> 0 | H34: =TRUNC(G34*D34, 0) -> 0 | J34: =TRUNC(I34*D34, 0) -> 0 | K34: =TRUNC(E34+G34+I34, 0) -> 0 | L34: =TRUNC(F34+H34+J34, 0) -> 0 | N34: 42F978CCE55028667128EDF7257DB15A883A7 | Q34: 010102 | R34: F | S34: F | T34: T | AU34: 01010242F978CCE55028667128EDF7257DB15A883A7 | AV34: 11
A35: 자바라디퓨저 | B35: 자바라디퓨저, Φ125mm | C35: 개 | D35: 1 | F35: =TRUNC(E35*D35, 0) -> 0 | H35: =TRUNC(G35*D35, 0) -> 0 | J35: =TRUNC(I35*D35, 0) -> 0 | K35: =TRUNC(E35+G35+I35, 0) -> 0 | L35: =TRUNC(F35+H35+J35, 0) -> 0 | N35: 42F978CCE55028667128EDF7257DB14995EE4 | Q35: 010102 | R35: F | S35: F | T35: T | AU35: 01010242F978CCE55028667128EDF7257DB14995EE4 | AV35: 12
A36: 스테인리스 망 | B36: 스테인리스망, STS304, 30mesh*∮0.23*1m | C36: M2 | D36: 1 | F36: =TRUNC(E36*D36, 0) -> 0 | H36: =TRUNC(G36*D36, 0) -> 0 | J36: =TRUNC(I36*D36, 0) -> 0 | K36: =TRUNC(E36+G36+I36, 0) -> 0 | L36: =TRUNC(F36+H36+J36, 0) -> 0 | N36: 42A177DB74C0256760CB02DB1B0247D0E45F0 | Q36: 010102 | R36: F | S36: F | T36: T | AU36: 01010242A177DB74C0256760CB02DB1B0247D0E45F0 | AV36: 13
A37: ㄱ형강 | B37: ㄱ형강, 등변, 65*65*6mm | C37: kg | D37: 76 | F37: =TRUNC(E37*D37, 0) -> 0 | H37: =TRUNC(G37*D37, 0) -> 0 | J37: =TRUNC(I37*D37, 0) -> 0 | K37: =TRUNC(E37+G37+I37, 0) -> 0 | L37: =TRUNC(F37+H37+J37, 0) -> 0 | N37: 4286797FAAB02E6E561002DF5607C79065C29 | Q37: 010102 | R37: F | S37: F | T37: T | AU37: 0101024286797FAAB02E6E561002DF5607C79065C29 | AV37: 28
A38: 앵커볼트 | B38: 앵커볼트, M10*150mm | C38: 개 | D38: 9 | F38: =TRUNC(E38*D38, 0) -> 0 | H38: =TRUNC(G38*D38, 0) -> 0 | J38: =TRUNC(I38*D38, 0) -> 0 | K38: =TRUNC(E38+G38+I38, 0) -> 0 | L38: =TRUNC(F38+H38+J38, 0) -> 0 | N38: 42867856D510276B4BC1375CC890117E57CFD | Q38: 010102 | R38: F | S38: F | T38: T | AU38: 01010242867856D510276B4BC1375CC890117E57CFD | AV38: 14
A39: 잡철물 제작 및 설치 | B39: 규격철물 설치, 일반철재 | C39: kg | D39: 76 | F39: =TRUNC(E39*D39, 0) -> 0 | H39: =TRUNC(G39*D39, 0) -> 0 | J39: =TRUNC(I39*D39, 0) -> 0 | K39: =TRUNC(E39+G39+I39, 0) -> 0 | L39: =TRUNC(F39+H39+J39, 0) -> 0 | N39: 45687655BBE02A6A05F4653FC1368 | Q39: 010102 | R39: T | S39: F | T39: F | AU39: 01010245687655BBE02A6A05F4653FC1368 | AV39: 30
A40: 녹막이페인트(붓칠) | B40: 철재면, 2회 | C40: ㎡ | D40: 3 | F40: =TRUNC(E40*D40, 0) -> 0 | H40: =TRUNC(G40*D40, 0) -> 0 | J40: =TRUNC(I40*D40, 0) -> 0 | K40: =TRUNC(E40+G40+I40, 0) -> 0 | L40: =TRUNC(F40+H40+J40, 0) -> 0 | N40: 456871A215902661ADF944525BDAE | Q40: 010102 | R40: T | S40: F | T40: F | AU40: 010102456871A215902661ADF944525BDAE | AV40: 19
A41: 조합페인트칠 | B41: 철재면2회 | C41: ㎡ | D41: 3 | F41: =TRUNC(E41*D41, 0) -> 0 | H41: =TRUNC(G41*D41, 0) -> 0 | J41: =TRUNC(I41*D41, 0) -> 0 | K41: =TRUNC(E41+G41+I41, 0) -> 0 | L41: =TRUNC(F41+H41+J41, 0) -> 0 | N41: 4568753C0C202B6749227DC01CD72 | Q41: 010102 | R41: T | S41: F | T41: F | AU41: 0101024568753C0C202B6749227DC01CD72 | AV41: 24
A42: 공조덕트(플렉시블) | B42: AL, D100 | C42: M | D42: 6 | F42: =TRUNC(E42*D42, 0) -> 0 | H42: =TRUNC(G42*D42, 0) -> 0 | J42: =TRUNC(I42*D42, 0) -> 0 | K42: =TRUNC(E42+G42+I42, 0) -> 0 | L42: =TRUNC(F42+H42+J42, 0) -> 0 | N42: 45687C8C9AC02E6FB708E97349575 | Q42: 010102 | R42: T | S42: F | T42: F | AU42: 01010245687C8C9AC02E6FB708E97349575 | AV42: 16
A43: 공조덕트(플렉시블) | B43: AL, D125 | C43: M | D43: 3 | F43: =TRUNC(E43*D43, 0) -> 0 | H43: =TRUNC(G43*D43, 0) -> 0 | J43: =TRUNC(I43*D43, 0) -> 0 | K43: =TRUNC(E43+G43+I43, 0) -> 0 | L43: =TRUNC(F43+H43+J43, 0) -> 0 | N43: 45687C8C9AC02D6D2B84987DEFC83 | Q43: 010102 | R43: T | S43: F | T43: F | AU43: 01010245687C8C9AC02D6D2B84987DEFC83 | AV43: 17
A44: 구멍뚫기(코어드릴) | B44: D100, 콘크리트 300mm, 벽 | C44: 개소 | D44: 23 | F44: =TRUNC(E44*D44, 0) -> 0 | H44: =TRUNC(G44*D44, 0) -> 0 | J44: =TRUNC(I44*D44, 0) -> 0 | K44: =TRUNC(E44+G44+I44, 0) -> 0 | L44: =TRUNC(F44+H44+J44, 0) -> 0 | N44: 4568753C0C202A66DA050972D4A99 | Q44: 010102 | R44: T | S44: F | T44: F | AU44: 0101024568753C0C202A66DA050972D4A99 | AV44: 20
... A47: 점검구 | B47: 600 x 600 | C47: 개소 | D47: 10 | F47: =TRUNC(E47*D47, 0) -> 0 | H47: =TRUNC(G47*D47, 0) -> 0 | J47: =TRUNC(I47*D47, 0) -> 0 | K47: =TRUNC(E47+G47+I47, 0) -> 0 | L47: =TRUNC(F47+H47+J47, 0) -> 0 | N47: 45C67BD380A02366A1BED0028E54EC3773875 | Q47: 010102 | R47: T | S47: F | T47: F | AU47: 01010245C67BD380A02366A1BED0028E54EC3773875 | AV47: 73
A48: 텍스철거후재설치 | C48: M2 | D48: 430 | F48: =TRUNC(E48*D48, 0) -> 0 | H48: =TRUNC(G48*D48, 0) -> 0 | J48: =TRUNC(I48*D48, 0) -> 0 | K48: =TRUNC(E48+G48+I48, 0) -> 0 | L48: =TRUNC(F48+H48+J48, 0) -> 0 | N48: 45C67BD380A0216BCBFC499D84E1064012A92 | Q48: 010102 | R48: T | S48: F | T48: F | AU48: 01010245C67BD380A0216BCBFC499D84E1064012A92 | AV48: 74
A49: 보통인부 | B49: 일반공사 직종 | C49: 인 | D49: 1 | F49: =TRUNC(E49*D49, 0) -> 0 | H49: =TRUNC(G49*D49, 0) -> 0 | J49: =TRUNC(I49*D49, 0) -> 0 | K49: =TRUNC(E49+G49+I49, 0) -> 0 | L49: =TRUNC(F49+H49+J49, 0) -> 0 | N49: 45787618A2802E6B7C061856F82715C2A036E | Q49: 010102 | R49: F | S49: F | T49: T | Y49: 2 | AU49: 01010245787618A2802E6B7C061856F82715C2A036E | AV49: 25
A50: 배관공 | B50: 일반공사 직종 | C50: 인 | D50: 1 | F50: =TRUNC(E50*D50, 0) -> 0 | H50: =TRUNC(G50*D50, 0) -> 0 | J50: =TRUNC(I50*D50, 0) -> 0 | K50: =TRUNC(E50+G50+I50, 0) -> 0 | L50: =TRUNC(F50+H50+J50, 0) -> 0 | N50: 45787618A2802E6B7C061856F82715C2A0091 | Q50: 010102 | R50: F | S50: F | T50: T | Y50: 2 | AU50: 01010245787618A2802E6B7C061856F82715C2A0091 | AV50: 26
A51: 덕트공 | B51: 일반공사 직종 | C51: 인 | D51: 1 | F51: =TRUNC(E51*D51, 0) -> 0 | H51: =TRUNC(G51*D51, 0) -> 0 | J51: =TRUNC(I51*D51, 0) -> 0 | K51: =TRUNC(E51+G51+I51, 0) -> 0 | L51: =TRUNC(F51+H51+J51, 0) -> 0 | N51: 45787618A2802E6B7C061856F82715C2A07C4 | Q51: 010102 | R51: F | S51: F | T51: T | Y51: 2 | AU51: 01010245787618A2802E6B7C061856F82715C2A07C4 | AV51: 27
A52: 공구손료 | B52: 인력품의 3% | C52: 식 | D52: 1 | F52: =TRUNC(E52*D52, 0) -> 0 | H52: =TRUNC(G52*D52, 0) -> 0 | J52: =TRUNC(I52*D52, 0) -> 0 | K52: =TRUNC(E52+G52+I52, 0) -> 0 | L52: =TRUNC(F52+H52+J52, 0) -> 0 | N52: 44BB753463F026643CF3B2F8BCE002 | Q52: 010102 | R52: F | S52: F | T52: F | U52: 1 | V52: 0 | W52: 0.03 | AU52: 01010244BB753463F026643CF3B2F8BCE002 | AV52: 33
Q53: 010102
Q54: 010102
Q55: 010102
Q56: 010102
Q57: 010102
Q58: 010102
Q59: 010102
Q60: 010102
Q61: 010102
Q62: 010102
Q63: 010102
Q64: 010102
... Q74: 010102
A75: [ 합 계 ] | F75: =SUMIF(Q29:Q74,"010102",F29:F74) -> 0 | H75: =SUMIF(Q29:Q74,"010102",H29:H74) -> 0 | J75: =SUMIF(Q29:Q74,"010102",J29:J74) -> 0 | L75: =SUMIF(Q29:Q74,"010102",L29:L74) -> 0 | N75: TOTAL
A76: 공기순환기설치 | Q76: 010103
A77: 공기순환기 | B77: 12000CMH | C77: 대 | D77: 10 | F77: =TRUNC(E77*D77, 0) -> 0 | H77: =TRUNC(G77*D77, 0) -> 0 | J77: =TRUNC(I77*D77, 0) -> 0 | K77: =TRUNC(E77+G77+I77, 0) -> 0 | L77: =TRUNC(F77+H77+J77, 0) -> 0 | N77: 42F978CCE5502866AE62BE3488AECCCA2AC13 | Q77: 010103 | R77: F | S77: F | T77: T | AU77: 01010342F978CCE5502866AE62BE3488AECCCA2AC13 | AV77: 35
A78: 유선리모콘 | B78: LCD TYP. CO2 | C78: 대 | D78: 10 | F78: =TRUNC(E78*D78, 0) -> 0 | H78: =TRUNC(G78*D78, 0) -> 0 | J78: =TRUNC(I78*D78, 0) -> 0 | K78: =TRUNC(E78+G78+I78, 0) -> 0 | L78: =TRUNC(F78+H78+J78, 0) -> 0 | N78: 42F978CCE5502866AE62BE3488AECCCA2AC12 | Q78: 010103 | R78: F | S78: F | T78: T | AU78: 01010342F978CCE5502866AE62BE3488AECCCA2AC12 | AV78: 36
A79: 유선리모콘전선관 | B79: 합성수지제가요전선관, HL-CD16, 하이렉스-CD, 16mm | C79: M | D79: 260 | F79: =TRUNC(E79*D79, 0) -> 0 | H79: =TRUNC(G79*D79, 0) -> 0 | J79: =TRUNC(I79*D79, 0) -> 0 | K79: =TRUNC(E79+G79+I79, 0) -> 0 | L79: =TRUNC(F79+H79+J79, 0) -> 0 | N79: 4286700078E02B66DE88FC1C479E3CDDAA213 | Q79: 010103 | R79: F | S79: F | T79: T | AU79: 0101034286700078E02B66DE88FC1C479E3CDDAA213 | AV79: 37
A80: 유선리모콘 전선 | B80: UTP케이블, 난연성 10MBps, 4P | C80: M | D80: 260 | F80: =TRUNC(E80*D80, 0) -> 0 | H80: =TRUNC(G80*D80, 0) -> 0 | J80: =TRUNC(I80*D80, 0) -> 0 | K80: =TRUNC(E80+G80+I80, 0) -> 0 | L80: =TRUNC(F80+H80+J80, 0) -> 0 | N80: 429776F944702C68AE5D008C0EDBF5A461B37 | Q80: 010103 | R80: F | S80: F | T80: T | AU80: 010103429776F944702C68AE5D008C0EDBF5A461B37 | AV80: 38
A81: 유선리모콘 전선박스 | B81: 스위치박스, 2개용, 44mm | C81: 개 | D81: 10 | F81: =TRUNC(E81*D81, 0) -> 0 | H81: =TRUNC(G81*D81, 0) -> 0 | J81: =TRUNC(I81*D81, 0) -> 0 | K81: =TRUNC(E81+G81+I81, 0) -> 0 | L81: =TRUNC(F81+H81+J81, 0) -> 0 | N81: 4286700079F0206AD698D5EF871E46EA74A75 | Q81: 010103 | R81: F | S81: F | T81: T | AU81: 0101034286700079F0206AD698D5EF871E46EA74A75 | AV81: 39
A82: 공조덕트 | B82: 공조덕트, 스파이럴, ∮150mm | C82: M | D82: 120 | F82: =TRUNC(E82*D82, 0) -> 0 | H82: =TRUNC(G82*D82, 0) -> 0 | J82: =TRUNC(I82*D82, 0) -> 0 | K82: =TRUNC(E82+G82+I82, 0) -> 0 | L82: =TRUNC(F82+H82+J82, 0) -> 0 | N82: 42F978CCE1F02F6F78773EE1AC5DD6B8A65C7 | Q82: 010103 | R82: F | S82: F | T82: T | X82: 1 | AU82: 01010342F978CCE1F02F6F78773EE1AC5DD6B8A65C7 | AV82: 40
A83: 공조덕트 | B83: 공조덕트, 스파이럴, ∮200mm | C83: M | D83: 48 | F83: =TRUNC(E83*D83, 0) -> 0 | H83: =TRUNC(G83*D83, 0) -> 0 | J83: =TRUNC(I83*D83, 0) -> 0 | K83: =TRUNC(E83+G83+I83, 0) -> 0 | L83: =TRUNC(F83+H83+J83, 0) -> 0 | N83: 42F978CCE1F02F6F78773EE1AC5DD6B8A65C3 | Q83: 010103 | R83: F | S83: F | T83: T | X83: 1 | AU83: 01010342F978CCE1F02F6F78773EE1AC5DD6B8A65C3 | AV83: 41
A84: 공조덕트 | B84: 공조덕트, 스파이럴, ∮250mm | C84: M | D84: 40 | F84: =TRUNC(E84*D84, 0) -> 0 | H84: =TRUNC(G84*D84, 0) -> 0 | J84: =TRUNC(I84*D84, 0) -> 0 | K84: =TRUNC(E84+G84+I84, 0) -> 0 | L84: =TRUNC(F84+H84+J84, 0) -> 0 | N84: 42F978CCE1F02F6F78773EE1AC5DD6B8A65C1 | Q84: 010103 | R84: F | S84: F | T84: T | X84: 1 | AU84: 01010342F978CCE1F02F6F78773EE1AC5DD6B8A65C1 | AV84: 42
A85: 잡재료 | B85: 주재료비의 5% | C85: 식 | D85: 1 | F85: =TRUNC(E85*D85, 0) -> 0 | H85: =TRUNC(G85*D85, 0) -> 0 | J85: =TRUNC(I85*D85, 0) -> 0 | K85: =TRUNC(E85+G85+I85, 0) -> 0 | L85: =TRUNC(F85+H85+J85, 0) -> 0 | N85: 44BB753463F026643CF3B2F8BCD001 | Q85: 010103 | R85: F | S85: F | T85: F | U85: 0 | V85: 0 | W85: 0.05 | AU85: 01010344BB753463F026643CF3B2F8BCD001 | AV85: 43
A86: 덕트보온(OA,EA) | B86: 아티론5t,접착 | C86: ㎡ | D86: 146 | F86: =TRUNC(E86*D86, 0) -> 0 | H86: =TRUNC(G86*D86, 0) -> 0 | J86: =TRUNC(I86*D86, 0) -> 0 | K86: =TRUNC(E86+G86+I86, 0) -> 0 | L86: =TRUNC(F86+H86+J86, 0) -> 0 | N86: 45687CFDB470296FCC674578E2EE0 | Q86: 010103 | R86: T | S86: F | T86: F | AU86: 01010345687CFDB470296FCC674578E2EE0 | AV86: 44
A87: 공조덕트 | B87: 공조덕트, 스파이럴엘보, ∮150mm | C87: 개 | D87: 20 | F87: =TRUNC(E87*D87, 0) -> 0 | H87: =TRUNC(G87*D87, 0) -> 0 | J87: =TRUNC(I87*D87, 0) -> 0 | K87: =TRUNC(E87+G87+I87, 0) -> 0 | L87: =TRUNC(F87+H87+J87, 0) -> 0 | N87: 42F978CCE1F02F6F78773EE1AC5DD6B8FEE06 | Q87: 010103 | R87: F | S87: F | T87: T | AU87: 01010342F978CCE1F02F6F78773EE1AC5DD6B8FEE06 | AV87: 45
A88: 공조덕트 | B88: 공조덕트, 스파이럴엘보, ∮250mm | C88: 개 | D88: 20 | F88: =TRUNC(E88*D88, 0) -> 0 | H88: =TRUNC(G88*D88, 0) -> 0 | J88: =TRUNC(I88*D88, 0) -> 0 | K88: =TRUNC(E88+G88+I88, 0) -> 0 | L88: =TRUNC(F88+H88+J88, 0) -> 0 | N88: 42F978CCE1F02F6F78773EE1AC5DD6B8FE1B4 | Q88: 010103 | R88: F | S88: F | T88: T | AU88: 01010342F978CCE1F02F6F78773EE1AC5DD6B8FE1B4 | AV88: 46
A89: 공조덕트 | B89: 공조덕트, 스파이럴Y-Tee, ∮250mm*150mm | C89: EA | D89: 20 | F89: =TRUNC(E89*D89, 0) -> 0 | H89: =TRUNC(G89*D89, 0) -> 0 | J89: =TRUNC(I89*D89, 0) -> 0 | K89: =TRUNC(E89+G89+I89, 0) -> 0 | L89: =TRUNC(F89+H89+J89, 0) -> 0 | N89: 42F978CCE1F02F6F78773EE1AC5DD6B8C11FD | Q89: 010103 | R89: F | S89: F | T89: T | AU89: 01010342F978CCE1F02F6F78773EE1AC5DD6B8C11FD | AV89: 47
A90: 공조덕트 | B90: 공조덕트, 스파이럴REDUCING Tee, ∮200mm*150mm*150mm | C90: EA | D90: 20 | F90: =TRUNC(E90*D90, 0) -> 0 | H90: =TRUNC(G90*D90, 0) -> 0 | J90: =TRUNC(I90*D90, 0) -> 0 | K90: =TRUNC(E90+G90+I90, 0) -> 0 | L90: =TRUNC(F90+H90+J90, 0) -> 0 | N90: 42F978CCE1F02F6F78773EE1AC5DD6B8C10ED | Q90: 010103 | R90: F | S90: F | T90: T | AU90: 01010342F978CCE1F02F6F78773EE1AC5DD6B8C10ED | AV90: 48
A91: 공조덕트 | B91: 공조덕트, 스파이럴REDUCING Tee, ∮250mm*200mm*150mm | C91: EA | D91: 20 | F91: =TRUNC(E91*D91, 0) -> 0 | H91: =TRUNC(G91*D91, 0) -> 0 | J91: =TRUNC(I91*D91, 0) -> 0 | K91: =TRUNC(E91+G91+I91, 0) -> 0 | L91: =TRUNC(F91+H91+J91, 0) -> 0 | N91: 42F978CCE1F02F6F78773EE1AC5DD6B8C11FC | Q91: 010103 | R91: F | S91: F | T91: T | AU91: 01010342F978CCE1F02F6F78773EE1AC5DD6B8C11FC | AV91: 49
A92: 공조덕트 | B92: 공조덕트, 스파이럴소켓, ∮150mm | C92: EA | D92: 76 | F92: =TRUNC(E92*D92, 0) -> 0 | H92: =TRUNC(G92*D92, 0) -> 0 | J92: =TRUNC(I92*D92, 0) -> 0 | K92: =TRUNC(E92+G92+I92, 0) -> 0 | L92: =TRUNC(F92+H92+J92, 0) -> 0 | N92: 42F978CCE1F02F6F78773EE1AC5DD6B8C10EE | Q92: 010103 | R92: F | S92: F | T92: T | AU92: 01010342F978CCE1F02F6F78773EE1AC5DD6B8C10EE | AV92: 50
A93: 공조덕트 | B93: 공조덕트, 스파이럴소켓, ∮200mm | C93: EA | D93: 64 | F93: =TRUNC(E93*D93, 0) -> 0 | H93: =TRUNC(G93*D93, 0) -> 0 | J93: =TRUNC(I93*D93, 0) -> 0 | K93: =TRUNC(E93+G93+I93, 0) -> 0 | L93: =TRUNC(F93+H93+J93, 0) -> 0 | N93: 42F978CCE1F02F6F78773EE1AC5DD6B8C10EF | Q93: 010103 | R93: F | S93: F | T93: T | AU93: 01010342F978CCE1F02F6F78773EE1AC5DD6B8C10EF | AV93: 51
A94: 공조덕트 | B94: 공조덕트, 스파이럴소켓, ∮250mm | C94: EA | D94: 361 | F94: =TRUNC(E94*D94, 0) -> 0 | H94: =TRUNC(G94*D94, 0) -> 0 | J94: =TRUNC(I94*D94, 0) -> 0 | K94: =TRUNC(E94+G94+I94, 0) -> 0 | L94: =TRUNC(F94+H94+J94, 0) -> 0 | N94: 42F978CCE1F02F6F78773EE1AC5DD6B8C10EC | Q94: 010103 | R94: F | S94: F | T94: T | AU94: 01010342F978CCE1F02F6F78773EE1AC5DD6B8C10EC | AV94: 52
A95: 공조덕트 | B95: 공조덕트, HANGER,150mm | C95: EA | D95: 34 | F95: =TRUNC(E95*D95, 0) -> 0 | H95: =TRUNC(G95*D95, 0) -> 0 | J95: =TRUNC(I95*D95, 0) -> 0 | K95: =TRUNC(E95+G95+I95, 0) -> 0 | L95: =TRUNC(F95+H95+J95, 0) -> 0 | N95: 42F978CCE1F02F6F78773EE1AC5DD6B8C10EA | Q95: 010103 | R95: F | S95: F | T95: T | AU95: 01010342F978CCE1F02F6F78773EE1AC5DD6B8C10EA | AV95: 53
A96: 공조덕트 | B96: 공조덕트, HANGER,200mm | C96: EA | D96: 20 | F96: =TRUNC(E96*D96, 0) -> 0 | H96: =TRUNC(G96*D96, 0) -> 0 | J96: =TRUNC(I96*D96, 0) -> 0 | K96: =TRUNC(E96+G96+I96, 0) -> 0 | L96: =TRUNC(F96+H96+J96, 0) -> 0 | N96: 42F978CCE1F02F6F78773EE1AC5DD6B8C10EB | Q96: 010103 | R96: F | S96: F | T96: T | AU96: 01010342F978CCE1F02F6F78773EE1AC5DD6B8C10EB | AV96: 54
A97: 공조덕트 | B97: 공조덕트, HANGER,250mm | C97: EA | D97: 20 | F97: =TRUNC(E97*D97, 0) -> 0 | H97: =TRUNC(G97*D97, 0) -> 0 | J97: =TRUNC(I97*D97, 0) -> 0 | K97: =TRUNC(E97+G97+I97, 0) -> 0 | L97: =TRUNC(F97+H97+J97, 0) -> 0 | N97: 42F978CCE1F02F6F78773EE1AC5DD6B8C10E8 | Q97: 010103 | R97: F | S97: F | T97: T | AU97: 01010342F978CCE1F02F6F78773EE1AC5DD6B8C10E8 | AV97: 55
... A107: 고소작업차 | B107: 5ton | C107: 대 | D107: 1 | F107: =TRUNC(E107*D107, 0) -> 0 | H107: =TRUNC(G107*D107, 0) -> 0 | J107: =TRUNC(I107*D107, 0) -> 0 | K107: =TRUNC(E107+G107+I107, 0) -> 0 | L107: =TRUNC(F107+H107+J107, 0) -> 0 | N107: 42B37DDDC3202560F0818545805A3C1746CE3 | Q107: 010103 | R107: F | S107: F | T107: T | AU107: 01010342B37DDDC3202560F0818545805A3C1746CE3 | AV107: 65
A108: 보통인부 | B108: 일반공사 직종 | C108: 인 | D108: 10.8 | F108: =TRUNC(E108*D108, 0) -> 0 | H108: =TRUNC(G108*D108, 0) -> 0 | J108: =TRUNC(I108*D108, 0) -> 0 | K108: =TRUNC(E108+G108+I108, 0) -> 0 | L108: =TRUNC(F108+H108+J108, 0) -> 0 | N108: 45787618A2802E6B7C061856F82715C2A036E | Q108: 010103 | R108: F | S108: F | T108: T | Y108: 2 | AU108: 01010345787618A2802E6B7C061856F82715C2A036E | AV108: 66
A109: 덕트공 | B109: 일반공사 직종 | C109: 인 | D109: 72.8 | F109: =TRUNC(E109*D109, 0) -> 0 | H109: =TRUNC(G109*D109, 0) -> 0 | J109: =TRUNC(I109*D109, 0) -> 0 | K109: =TRUNC(E109+G109+I109, 0) -> 0 | L109: =TRUNC(F109+H109+J109, 0) -> 0 | N109: 45787618A2802E6B7C061856F82715C2A07C4 | Q109: 010103 | R109: F | S109: F | T109: T | Y109: 2 | AU109: 01010345787618A2802E6B7C061856F82715C2A07C4 | AV109: 67
A110: 기계설비공 | B110: 일반공사 직종 | C110: 인 | D110: 3.6 | F110: =TRUNC(E110*D110, 0) -> 0 | H110: =TRUNC(G110*D110, 0) -> 0 | J110: =TRUNC(I110*D110, 0) -> 0 | K110: =TRUNC(E110+G110+I110, 0) -> 0 | L110: =TRUNC(F110+H110+J110, 0) -> 0 | N110: 45787618A2802E6B7C061856F82715C2A0620 | Q110: 010103 | R110: F | S110: F | T110: T | Y110: 2 | AU110: 01010345787618A2802E6B7C061856F82715C2A0620 | AV110: 68
A111: 내선전공 | B111: 일반공사 직종 | C111: 인 | D111: 12.4 | F111: =TRUNC(E111*D111, 0) -> 0 | H111: =TRUNC(G111*D111, 0) -> 0 | J111: =TRUNC(I111*D111, 0) -> 0 | K111: =TRUNC(E111+G111+I111, 0) -> 0 | L111: =TRUNC(F111+H111+J111, 0) -> 0 | N111: 45787618A2802E6B7C061856F82715C2A0476 | Q111: 010103 | R111: F | S111: F | T111: T | Y111: 2 | AU111: 01010345787618A2802E6B7C061856F82715C2A0476 | AV111: 69
A112: 통신케이블공 | B112: 일반공사 직종 | C112: 인 | D112: 3.9 | F112: =TRUNC(E112*D112, 0) -> 0 | H112: =TRUNC(G112*D112, 0) -> 0 | J112: =TRUNC(I112*D112, 0) -> 0 | K112: =TRUNC(E112+G112+I112, 0) -> 0 | L112: =TRUNC(F112+H112+J112, 0) -> 0 | N112: 45787618A2802E6B7C061856F82715C2A0BAB | Q112: 010103 | R112: F | S112: F | T112: T | Y112: 2 | AU112: 01010345787618A2802E6B7C061856F82715C2A0BAB | AV112: 70
A113: 공구손료 | B113: 인력품의 3% | C113: 식 | D113: 1 | F113: =TRUNC(E113*D113, 0) -> 0 | H113: =TRUNC(G113*D113, 0) -> 0 | J113: =TRUNC(I113*D113, 0) -> 0 | K113: =TRUNC(E113+G113+I113, 0) -> 0 | L113: =TRUNC(F113+H113+J113, 0) -> 0 | N113: 44BB753463F026643CF3B2F8BCE002 | Q113: 010103 | R113: F | S113: F | T113: F | U113: 1 | V113: 0 | W113: 0.03 | AU113: 01010344BB753463F026643CF3B2F8BCE002 | AV113: 71
Q114: 010103
Q115: 010103
Q116: 010103
Q117: 010103
Q118: 010103
Q119: 010103
Q120: 010103
Q121: 010103
Q122: 010103
A123: [ 합 계 ] | F123: =SUMIF(Q77:Q122,"010103",F77:F122) -> 0 | H123: =SUMIF(Q77:Q122,"010103",H77:H122) -> 0 | J123: =SUMIF(Q77:Q122,"010103",J77:J122) -> 0 | L123: =SUMIF(Q77:Q122,"010103",L77:L122) -> 0 | N123: TOTAL
