Workbook

Sheet 과업지시서
A2: 2026년 9월
B6: 삼향읍 지산리 304호선 확포장공사 실시설계용역
H17: 무 안 군
C29: 1. 과 업 지 시 서
A41: Ⅰ. 과업의 목적 및 내용
A42: 1. 과업의 목적
A43: 본 사업은 지역의 균형발전과 주민의 편익을 증진을 위하여 경제적이고 견실한 시공이 되도록 실시설계용역을 시행하는데 목적이 있음.
A45: 2. 과업의 내용
A47: ="가. 과업명 : "&B6 -> 가. 과업명 : 삼향읍 지산리 304호선 확포장공사 실시설계용역
A48: 나. 과업범위
A49: - 과업위치 : | C49: 삼향읍 지산리 874-1번지 일원
A52: - 과업연장 : L = | D52: 0.5 | E52: km
A54: 다. 과업기간 : | C54: 착수일로부터 3개월
A64: Ⅱ. 실시설계 | I64: 45672
A66: 제1장 과업의 목적
A67: =A43 -> 본 사업은 지역의 균형발전과 주민의 편익을 증진을 위하여 경제적이고 견실한 시공이 되도록 실시설계용역을 시행하는데 목적이 있음.
A69: 제2장 과업의 내용
A70: 1) 실시설계 지구에 대한 조사측량
A71: 2) 실시설계 용지보상 및 지장물 조사
A72: 3) 실시설계 도서작성
A78: 제3장 적용기준
A79: ° 본 실시설계는 과업지시서 및 다음 항의 각종 도서를 참조하여 과업을 수행하여야 한다.
A80: 1) 전라남도 설계기준 및 단가기준서
A81: 2) 토목공사 일반 표준시방서
A82: 3) 콘크리트 표준시방서
A83: 4) 구조물 기초설계 기준
A84: 5) 콘크리트 표준시방서
A85: 6) 설계와 관련된 문헌
... A354: - 각종실시계획인가 필요량

Sheet 예정공정표
A1: Ⅲ. 과업수행기간
A2: ="용 역 명 : "&과업지시서!B6 -> 용 역 명 : 삼향읍 지산리 304호선 확포장공사 실시설계용역
A3: =" 본 과업수행기간은 "&과업지시서!C54&"로 한다." -> 본 과업수행기간은 착수일로부터 3개월로 한다.
A4: 공 종 | B4: 계획 | C4: 실적 | D4: 10일 | E4: 30일 | F4: 50일 | G4: 70일 | H4: 70일 | I4: 90일 | J4: 비 고
A5: 1. 조사측량 | B5: 0.1
A8: 2. 실시설계 | B8: 0.6
A11: 3. 설계도서작성 | B11: 0.3
A14: 계 | B14: =B11+B8+B5 -> 1 | C14: =C5+C8+#REF! -> #REF!
I64: 45672

Sheet 갑지
B1: 과 장
C2: =B20 -> 2026년 9월 | K2: =과업지시서!C49 -> 삼향읍 지산리 874-1번지 일원
B7: 팀 장 | C7: =과업지시서!B6 -> 삼향읍 지산리 304호선 확포장공사 실시설계용역
C8: 내 역 서
B11: 심 사 자
E15: ○ 용역개요
B17: 설 계 | E17: - | F17: 과업연장 | G17: L=1.0km | H17: L=0.5km
B18: 년월일
E19: - | F19: 조사측량 | G19: 1식 | H19: 1식
B20: =과업지시서!A2 -> 2026년 9월
B23: 설 계 자
F28: ◎ 용 역 비 : | H28: ="(금"&TEXT('2.실시설계'!G17,"#,##0")&"원)" -> (금75,870,000원) | K28: ="일금"&NUMBERSTRING('2.실시설계'!G17,1)&"원정" -> 일금칠천오백팔십칠만원정
B29: 조 사 자
C32: 무 안 군
I64: 45672

Sheet 2.실시설계
A1: 공 종 | B1: 규 격 | C1: 수 량 | D1: 총 액 | F1: 노 무 비 | H1: 재 료 비 | J1: 경 비 | L1: 비 고
D2: 단 가 | E2: 금 액 | F2: 단 가 | G2: 금 액 | H2: 단 가 | I2: 금 액 | J2: 단 가 | K2: 금 액
A3: =갑지!C7 -> 삼향읍 지산리 304호선 확포장공사 실시설계용역
A4: 1. 조사측량비 | D4: =F4+H4+J4 -> 0 | E4: =G4+I4+K4 -> 12564915 | G4: =G5 -> 4986078 | I4: =I5 -> 0 | K4: =K5+K7+K8 -> 7578837
A5: 가) 조사측량 | C5: 1.0km | D5: =F5+H5+J5 -> 0 | E5: =G5+I5+K5 -> 4986078 | G5: =SUM(G6:G6) -> 4986078 | I5: =SUM(I6:I8) -> 0
A6: =" 1) "&일위대가!B3 -> 1) 현황측량 | C6: 1 | D6: =F6+H6+J6 -> 4986078 | E6: =G6+I6+K6 -> 4986078 | F6: =일위대가!H3 -> 4986078 | G6: =ROUNDDOWN($C6*F6,) -> 4986078 | H6: =일위대가!J3 -> 0 | I6: =ROUNDDOWN($C6*H6,) -> 0 | J6: =일위대가!L3 -> 0 | K6: =ROUNDDOWN($C6*J6,) -> 0 | L6: =일위대가!A3 -> 제 1호표
A7: =" 나) 제경비(직접인건비의 "&C7*100&"%)" -> 나) 제경비(직접인건비의 110%) | C7: 1.1 | J7: =G5 -> 4986078 | K7: =ROUNDDOWN($C7*J7,) -> 5484685
A8: =" 다) 기술료(직접인건비+제경비)의 "&C8*100&"%)" -> 다) 기술료(직접인건비+제경비)의 20%) | C8: 0.2 | J8: =G5+K7 -> 10470763 | K8: =ROUNDDOWN($C8*J8,) -> 2094152
A10: 2. 실시설계비 | E10: =(INT(E11/10000))*10000 -> 55990000
A11: 실시설계비 | C11: 1 | E11: =실시설계비!D28 -> 55999000
A13: 3. 용역원가 | C13: 1 | D13: =F13+H13+J13 -> 0 | E13: =E4+E10 -> 68554915 | G13: =ROUNDDOWN($C13*F13,) -> 0 | I13: =ROUNDDOWN($C13*H13,) -> 0
A14: 4. 용역손해배상보험료[용역원가] × | C14: 0.00615 | D14: =E13 -> 68554915 | E14: =ROUND($C14*D14,) -> 421613 | G14: =ROUNDDOWN($C14*F14,) -> 0 | I14: =ROUNDDOWN($C14*H14,) -> 0
A15: 5. 소계 | C15: 1 | E15: =E13+E14 -> 68976528 | G15: =ROUNDDOWN($C15*F15,) -> 0 | I15: =ROUNDDOWN($C15*H15,) -> 0
A16: 6. 부가가치세 | C16: 0.1 | D16: =F16+H16+J16 -> 0 | E16: =ROUND(E15*C16,) -> 6897653 | G16: =ROUNDDOWN($C16*F16,) -> 0 | I16: =ROUNDDOWN($C16*H16,) -> 0
A17: 7. 용역비 | C17: 1 | E17: =E15+E16 -> 75874181 | F17: ≒ | G17: =(INT(E17/10000))*10000 -> 75870000 | I17: =ROUNDDOWN($C17*H17,) -> 0
I64: 45672

Sheet 간지(2)
B9: 일 위 대 가 표
I64: 45672

Sheet 일위대가
A1: 종 별 | B1: 규 격 | C1: 수 량 | D1: 단 위 | E1: 총 액 | G1: 노 무 비 | I1: 재 료 비 | K1: 경 비 | M1: 비 고
E2: 단 가 | F2: 금 액 | G2: 단 가 | H2: 금 액 | I2: 단 가 | J2: 금 액 | K2: 단 가 | L2: 금 액
A3: 제 1호표 | B3: 현황측량 | D3: Km | F3: =H3+J3+L3 -> 4986078 | H3: =TRUNC(H8*$M3,0) -> 4986078 | M3: 1
A4: 중급기술자(측량) | C4: =인원수산정!T14 -> 3 | D4: 인 | E4: =G4+I4+K4 -> 251596 | F4: =H4+J4+L4 -> 754788 | G4: =VLOOKUP($A4,기초단가!$B$2:$E$1337,2,FALSE) -> 251596 | H4: =ROUNDDOWN($C4*G4,) -> 754788 | I4: =VLOOKUP($A4,기초단가!$B$2:$E$1337,3,FALSE) -> 0 | J4: =ROUNDDOWN($C4*I4,) -> 0 | K4: =VLOOKUP($A4,기초단가!$B$2:$E$1337,4,FALSE) -> 0 | L4: =ROUNDDOWN($C4*K4,) -> 0
A5: 초급기술자(측량) | C5: =인원수산정!T15 -> 6 | D5: 인 | E5: =G5+I5+K5 -> 215609 | F5: =H5+J5+L5 -> 1293654 | G5: =VLOOKUP($A5,기초단가!$B$2:$E$1337,2,FALSE) -> 215609 | H5: =ROUNDDOWN($C5*G5,) -> 1293654 | I5: =VLOOKUP($A5,기초단가!$B$2:$E$1337,3,FALSE) -> 0 | J5: =ROUNDDOWN($C5*I5,) -> 0 | K5: =VLOOKUP($A5,기초단가!$B$2:$E$1337,4,FALSE) -> 0 | L5: =ROUNDDOWN($C5*K5,) -> 0
A6: 초급기능사(측량) | C6: =인원수산정!T16 -> 12 | D6: 인 | E6: =G6+I6+K6 -> 200786 | F6: =H6+J6+L6 -> 2409432 | G6: =VLOOKUP($A6,기초단가!$B$2:$E$1337,2,FALSE) -> 200786 | H6: =ROUNDDOWN($C6*G6,) -> 2409432 | I6: =VLOOKUP($A6,기초단가!$B$2:$E$1337,3,FALSE) -> 0 | J6: =ROUNDDOWN($C6*I6,) -> 0 | K6: =VLOOKUP($A6,기초단가!$B$2:$E$1337,4,FALSE) -> 0 | L6: =ROUNDDOWN($C6*K6,) -> 0
A7: 보통인부 | C7: =인원수산정!T17 -> 3 | D7: 인 | E7: =G7+I7+K7 -> 176068 | F7: =H7+J7+L7 -> 528204 | G7: =VLOOKUP($A7,기초단가!$B$2:$E$1337,2,FALSE) -> 176068 | H7: =ROUNDDOWN($C7*G7,) -> 528204 | I7: =VLOOKUP($A7,기초단가!$B$2:$E$1337,3,FALSE) -> 0 | J7: =ROUNDDOWN($C7*I7,) -> 0 | K7: =VLOOKUP($A7,기초단가!$B$2:$E$1337,4,FALSE) -> 0 | L7: =ROUNDDOWN($C7*K7,) -> 0
A8: 소 계 | H8: =SUM(H4:H7) -> 4986078 | J8: =J5+J6+J7 -> 0 | L8: =L5+L6+L7 -> 0
A10: 제 8호표 | B10: 보링(점토) | D10: m | F10: =H10+J10+L10 -> #N/A | H10: =SUM(H11:H22) -> #N/A | J10: =SUM(J11:J22) -> #N/A | L10: =SUM(L11:L22) -> 0
A11: 중급기술자(ENG) | C11: 0.175 | D11: 인 | E11: =G11+I11+K11 -> 295138 | F11: =H11+J11+L11 -> 51649 | G11: =VLOOKUP($A11,기초단가!$B$2:$E$1337,2,FALSE) -> 295138 | H11: =ROUNDDOWN($C11*G11,) -> 51649 | I11: =VLOOKUP($A11,기초단가!$B$2:$E$1337,3,FALSE) -> 0 | J11: =ROUNDDOWN($C11*I11,) -> 0
A12: 보링공 | C12: 0.35 | D12: 인 | E12: =G12+I12+K12 -> 232562 | F12: =H12+J12+L12 -> 81396 | G12: =VLOOKUP($A12,기초단가!$B$2:$E$1337,2,FALSE) -> 232562 | H12: =ROUNDDOWN($C12*G12,) -> 81396 | I12: =VLOOKUP($A12,기초단가!$B$2:$E$1337,3,FALSE) -> 0 | J12: =ROUNDDOWN($C12*I12,) -> 0
A13: 특별인부 | C13: 0.35 | D13: 인 | E13: =G13+I13+K13 -> #N/A | F13: =H13+J13+L13 -> #N/A | G13: =VLOOKUP($A13,기초단가!$B$2:$E$1337,2,FALSE) -> #N/A | H13: =ROUNDDOWN($C13*G13,) -> #N/A | I13: =VLOOKUP($A13,기초단가!$B$2:$E$1337,3,FALSE) -> #N/A | J13: =ROUNDDOWN($C13*I13,) -> #N/A
A14: 보통인부 | C14: 0.35 | D14: 인 | E14: =G14+I14+K14 -> 176068 | F14: =H14+J14+L14 -> 61623 | G14: =VLOOKUP($A14,기초단가!$B$2:$E$1337,2,FALSE) -> 176068 | H14: =ROUNDDOWN($C14*G14,) -> 61623 | I14: =VLOOKUP($A14,기초단가!$B$2:$E$1337,3,FALSE) -> 0 | J14: =ROUNDDOWN($C14*I14,) -> 0
A15: 코아튜브 | C15: 0.01 | D15: set | E15: =G15+I15+K15 -> #N/A | F15: =H15+J15+L15 -> #N/A | G15: =VLOOKUP($A15,기초단가!$B$2:$E$1337,2,FALSE) -> #N/A | H15: =ROUNDDOWN($C15*G15,) -> #N/A | I15: =VLOOKUP($A15,기초단가!$B$2:$E$1337,3,FALSE) -> #N/A | J15: =ROUNDDOWN($C15*I15,) -> #N/A
A16: 메탈크라운비트 | C16: 0.025 | D16: EA | E16: =G16+I16+K16 -> #N/A | F16: =H16+J16+L16 -> #N/A | G16: =VLOOKUP($A16,기초단가!$B$2:$E$1337,2,FALSE) -> #N/A | H16: =ROUNDDOWN($C16*G16,) -> #N/A | I16: =VLOOKUP($A16,기초단가!$B$2:$E$1337,3,FALSE) -> #N/A | J16: =ROUNDDOWN($C16*I16,) -> #N/A
A17: 드라이브파이프헤드 | C17: 0.01 | D17: EA | E17: =G17+I17+K17 -> #N/A | F17: =H17+J17+L17 -> #N/A | G17: =VLOOKUP($A17,기초단가!$B$2:$E$1337,2,FALSE) -> #N/A | H17: =ROUNDDOWN($C17*G17,) -> #N/A | I17: =VLOOKUP($A17,기초단가!$B$2:$E$1337,3,FALSE) -> #N/A | J17: =ROUNDDOWN($C17*I17,) -> #N/A
A18: 드라이브파이프슈 | C18: 0.01 | D18: EA | E18: =G18+I18+K18 -> #N/A | F18: =H18+J18+L18 -> #N/A | G18: =VLOOKUP($A18,기초단가!$B$2:$E$1337,2,FALSE) -> #N/A | H18: =ROUNDDOWN($C18*G18,) -> #N/A | I18: =VLOOKUP($A18,기초단가!$B$2:$E$1337,3,FALSE) -> #N/A | J18: =ROUNDDOWN($C18*I18,) -> #N/A
A19: 드라이브파이프 | C19: 0.01 | D19: EA | E19: =G19+I19+K19 -> #N/A | F19: =H19+J19+L19 -> #N/A | G19: =VLOOKUP($A19,기초단가!$B$2:$E$1337,2,FALSE) -> #N/A | H19: =ROUNDDOWN($C19*G19,) -> #N/A | I19: =VLOOKUP($A19,기초단가!$B$2:$E$1337,3,FALSE) -> #N/A | J19: =ROUNDDOWN($C19*I19,) -> #N/A
A20: 잡재료비 | B20: (재료비의3%) | C20: 0.03 | D20: % | E20: =G20+I20+K20 -> #N/A | F20: =H20+J20+L20 -> #N/A | H20: =ROUNDDOWN($C20*G20,) -> 0 | I20: =SUM(J11:J19) -> #N/A | J20: =ROUNDDOWN($C20*I20,) -> #N/A
A21: 경유 | C21: 3 | D21: L | E21: =G21+I21+K21 -> #N/A | F21: =H21+J21+L21 -> #N/A | G21: =VLOOKUP($A21,기초단가!$B$2:$E$1337,2,FALSE) -> #N/A | H21: =ROUNDDOWN($C21*G21,) -> #N/A | I21: =VLOOKUP($A21,기초단가!$B$2:$E$1337,3,FALSE) -> #N/A | J21: =ROUNDDOWN($C21*I21,) -> #N/A
A22: 엔진류 | C22: 0.04 | D22: L | E22: =G22+I22+K22 -> #N/A | F22: =H22+J22+L22 -> #N/A | G22: =VLOOKUP($A22,기초단가!$B$2:$E$1337,2,FALSE) -> #N/A | H22: =ROUNDDOWN($C22*G22,) -> #N/A | I22: =VLOOKUP($A22,기초단가!$B$2:$E$1337,3,FALSE) -> #N/A | J22: =ROUNDDOWN($C22*I22,) -> #N/A
A24: 제 9호표 | B24: 보링(모래) | D24: m | F24: =H24+J24+L24 -> #N/A | H24: =SUM(H25:H36) -> #N/A | J24: =SUM(J25:J36) -> #N/A | L24: =SUM(L25:L36) -> 0
A25: 중급기술자(ENG) | C25: 0.225 | D25: 인 | E25: =G25+I25+K25 -> 295138 | F25: =H25+J25+L25 -> 66406 | G25: =VLOOKUP($A25,기초단가!$B$2:$E$1337,2,FALSE) -> 295138 | H25: =ROUNDDOWN($C25*G25,) -> 66406 | I25: =VLOOKUP($A25,기초단가!$B$2:$E$1337,3,FALSE) -> 0 | J25: =ROUNDDOWN($C25*I25,) -> 0
A26: 보링공 | C26: 0.45 | D26: 인 | E26: =G26+I26+K26 -> 232562 | F26: =H26+J26+L26 -> 104652 | G26: =VLOOKUP($A26,기초단가!$B$2:$E$1337,2,FALSE) -> 232562 | H26: =ROUNDDOWN($C26*G26,) -> 104652 | I26: =VLOOKUP($A26,기초단가!$B$2:$E$1337,3,FALSE) -> 0 | J26: =ROUNDDOWN($C26*I26,) -> 0
A27: 특별인부 | C27: 0.45 | D27: 인 | E27: =G27+I27+K27 -> #N/A | F27: =H27+J27+L27 -> #N/A | G27: =VLOOKUP($A27,기초단가!$B$2:$E$1337,2,FALSE) -> #N/A | H27: =ROUNDDOWN($C27*G27,) -> #N/A | I27: =VLOOKUP($A27,기초단가!$B$2:$E$1337,3,FALSE) -> #N/A | J27: =ROUNDDOWN($C27*I27,) -> #N/A
A28: 보통인부 | C28: 0.45 | D28: 인 | E28: =G28+I28+K28 -> 176068 | F28: =H28+J28+L28 -> 79230 | G28: =VLOOKUP($A28,기초단가!$B$2:$E$1337,2,FALSE) -> 176068 | H28: =ROUNDDOWN($C28*G28,) -> 79230 | I28: =VLOOKUP($A28,기초단가!$B$2:$E$1337,3,FALSE) -> 0 | J28: =ROUNDDOWN($C28*I28,) -> 0
A29: 코아튜브 | C29: 0.025 | D29: set | E29: =G29+I29+K29 -> #N/A | F29: =H29+J29+L29 -> #N/A | G29: =VLOOKUP($A29,기초단가!$B$2:$E$1337,2,FALSE) -> #N/A | H29: =ROUNDDOWN($C29*G29,) -> #N/A | I29: =VLOOKUP($A29,기초단가!$B$2:$E$1337,3,FALSE) -> #N/A | J29: =ROUNDDOWN($C29*I29,) -> #N/A
A30: 메탈크라운비트 | C30: 0.05 | D30: EA | E30: =G30+I30+K30 -> #N/A | F30: =H30+J30+L30 -> #N/A | G30: =VLOOKUP($A30,기초단가!$B$2:$E$1337,2,FALSE) -> #N/A | H30: =ROUNDDOWN($C30*G30,) -> #N/A | I30: =VLOOKUP($A30,기초단가!$B$2:$E$1337,3,FALSE) -> #N/A | J30: =ROUNDDOWN($C30*I30,) -> #N/A
A31: 드라이브파이프헤드 | C31: 0.025 | D31: EA | E31: =G31+I31+K31 -> #N/A | F31: =H31+J31+L31 -> #N/A | G31: =VLOOKUP($A31,기초단가!$B$2:$E$1337,2,FALSE) -> #N/A | H31: =ROUNDDOWN($C31*G31,) -> #N/A | I31: =VLOOKUP($A31,기초단가!$B$2:$E$1337,3,FALSE) -> #N/A | J31: =ROUNDDOWN($C31*I31,) -> #N/A
A32: 드라이브파이프슈 | C32: 0.025 | D32: EA | E32: =G32+I32+K32 -> #N/A | F32: =H32+J32+L32 -> #N/A | G32: =VLOOKUP($A32,기초단가!$B$2:$E$1337,2,FALSE) -> #N/A | H32: =ROUNDDOWN($C32*G32,) -> #N/A | I32: =VLOOKUP($A32,기초단가!$B$2:$E$1337,3,FALSE) -> #N/A | J32: =ROUNDDOWN($C32*I32,) -> #N/A
A33: 드라이브파이프 | C33: 0.025 | D33: EA | E33: =G33+I33+K33 -> #N/A | F33: =H33+J33+L33 -> #N/A | G33: =VLOOKUP($A33,기초단가!$B$2:$E$1337,2,FALSE) -> #N/A | H33: =ROUNDDOWN($C33*G33,) -> #N/A | I33: =VLOOKUP($A33,기초단가!$B$2:$E$1337,3,FALSE) -> #N/A | J33: =ROUNDDOWN($C33*I33,) -> #N/A
A34: 잡재료비 | B34: (재료비의3%) | C34: 0.03 | D34: % | E34: =G34+I34+K34 -> #N/A | F34: =H34+J34+L34 -> #N/A | H34: =ROUNDDOWN($C34*G34,) -> 0 | I34: =SUM(J25:J33) -> #N/A | J34: =ROUNDDOWN($C34*I34,) -> #N/A
A35: 경유 | C35: 3 | D35: L | E35: =G35+I35+K35 -> #N/A | F35: =H35+J35+L35 -> #N/A | G35: =VLOOKUP($A35,기초단가!$B$2:$E$1337,2,FALSE) -> #N/A | H35: =ROUNDDOWN($C35*G35,) -> #N/A | I35: =VLOOKUP($A35,기초단가!$B$2:$E$1337,3,FALSE) -> #N/A | J35: =ROUNDDOWN($C35*I35,) -> #N/A
A36: 엔진류 | C36: 0.04 | D36: L | E36: =G36+I36+K36 -> #N/A | F36: =H36+J36+L36 -> #N/A | G36: =VLOOKUP($A36,기초단가!$B$2:$E$1337,2,FALSE) -> #N/A | H36: =ROUNDDOWN($C36*G36,) -> #N/A | I36: =VLOOKUP($A36,기초단가!$B$2:$E$1337,3,FALSE) -> #N/A | J36: =ROUNDDOWN($C36*I36,) -> #N/A
A38: 제 10호표 | B38: 보링(자갈) | D38: m | F38: =H38+J38+L38 -> #N/A | H38: =SUM(H39:H50) -> #N/A | J38: =SUM(J39:J50) -> #N/A | L38: =SUM(L39:L50) -> 0
A39: 중급기술자(ENG) | C39: 0.5 | D39: 인 | E39: =G39+I39+K39 -> 295138 | F39: =H39+J39+L39 -> 147569 | G39: =VLOOKUP($A39,기초단가!$B$2:$E$1337,2,FALSE) -> 295138 | H39: =ROUNDDOWN($C39*G39,) -> 147569 | I39: =VLOOKUP($A39,기초단가!$B$2:$E$1337,3,FALSE) -> 0 | J39: =ROUNDDOWN($C39*I39,) -> 0
A40: 보링공 | C40: 1 | D40: 인 | E40: =G40+I40+K40 -> 232562 | F40: =H40+J40+L40 -> 232562 | G40: =VLOOKUP($A40,기초단가!$B$2:$E$1337,2,FALSE) -> 232562 | H40: =ROUNDDOWN($C40*G40,) -> 232562 | I40: =VLOOKUP($A40,기초단가!$B$2:$E$1337,3,FALSE) -> 0 | J40: =ROUNDDOWN($C40*I40,) -> 0
A41: 특별인부 | C41: 1 | D41: 인 | E41: =G41+I41+K41 -> #N/A | F41: =H41+J41+L41 -> #N/A | G41: =VLOOKUP($A41,기초단가!$B$2:$E$1337,2,FALSE) -> #N/A | H41: =ROUNDDOWN($C41*G41,) -> #N/A | I41: =VLOOKUP($A41,기초단가!$B$2:$E$1337,3,FALSE) -> #N/A | J41: =ROUNDDOWN($C41*I41,) -> #N/A
A42: 보통인부 | C42: 1 | D42: 인 | E42: =G42+I42+K42 -> 176068 | F42: =H42+J42+L42 -> 176068 | G42: =VLOOKUP($A42,기초단가!$B$2:$E$1337,2,FALSE) -> 176068 | H42: =ROUNDDOWN($C42*G42,) -> 176068 | I42: =VLOOKUP($A42,기초단가!$B$2:$E$1337,3,FALSE) -> 0 | J42: =ROUNDDOWN($C42*I42,) -> 0
A43: 코아튜브 | C43: 0.05 | D43: set | E43: =G43+I43+K43 -> #N/A | F43: =H43+J43+L43 -> #N/A | G43: =VLOOKUP($A43,기초단가!$B$2:$E$1337,2,FALSE) -> #N/A | H43: =ROUNDDOWN($C43*G43,) -> #N/A | I43: =VLOOKUP($A43,기초단가!$B$2:$E$1337,3,FALSE) -> #N/A | J43: =ROUNDDOWN($C43*I43,) -> #N/A
...

Sheet 실시설계비
A1: 실시설계비 산출서(직선보간법) | I1: 가. 기본설계
I2: 공사비 | J2: 업무별 요율(%)
A3: 1. 대상공사비 | J3: 도로 | K3: 철도 | L3: 항만 | M3: 상수도
A4: ○ 확포장사업 | I4: 10억원 이하 | J4: 3.78 | K4: 2.93 | L4: 4.15 | M4: 3.45
A5: - 현경면 가입리 농어촌도로 215호선 확포장공사 | D5: 1000000000 | E5: 원 | I5: 20억원 이하 | J5: 3.33 | K5: 2.69 | L5: 3.64 | M5: 3.07
E6: 원 | I6: 30억원 이하 | J6: 3.1 | K6: 2.55 | L6: 3.37 | M6: 2.86
I7: 50억원 이하 | J7: 2.82 | K7: 2.39 | L7: 3.06 | M7: 2.63
I8: 100억원 이하 | J8: 2.49 | K8: 2.19 | L8: 2.68 | M8: 2.34
I9: 200억원 이하 | J9: 2.2 | K9: 2.01 | L9: 2.35 | M9: 2.08
I10: 300억원 이하 | J10: 2.04 | K10: 1.9 | L10: 2.18 | M10: 1.94
A11: - 계 | D11: =SUM(D5:D10) -> 1000000000 | E11: 원 | I11: 1,000억원 이하 | J11: 1.64 | K11: 1.63 | L11: 1.74 | M11: 1.58
A12: ○ 대상공사비 | I12: 2,000억원 이하 | J12: 1.45 | K12: 1.5 | L12: 1.52 | M12: 1.41
B13: =""&TEXT(D11,"#,#")&"원 / 1.1 = "&TEXT(ROUNDDOWN(D11/1.1,),"#,#")&"원" -> 1,000,000,000원 / 1.1 = 909,090,909원 | I13: 3,000억원 이하 | J13: 1.35 | K13: 1.42 | L13: 1.41 | M13: 1.32
D14: =ROUNDDOWN(D11/1.1,) -> 909090909 | I14: 5,000억원 이하 | J14: 1.23 | K14: 1.33 | L14: 1.28 | M14: 1.21
I15: 5,000억원 초과 | J15: 0.0573x-0.181 | K15: 0.0393x-0.127 | L15: 0.0641x-0.189 | M15: 0.0509x-0.169
A16: 2. 요율산정
A17: ○ 방법 : 공사비 요율에 의한 방식(엔지니어링 사업대가의 기준) | I17: 나. 실시설계
A18: ○ 요율 : 공사비가 중간에 있을때의 요율 | I18: 공사비 | J18: 업무별 요율(%)
A19: Y = Y1 - | B19: (X - X2) × (Y1 - Y2) | D19: X : 당해금액 = | E19: =D14 -> 909090909 | F19: Y : 당해공사비 요율 | J19: 도로 | K19: 철도 | L19: 항만 | M19: 상수도 | N19: 하천
B20: X1 - X2 | D20: X1 : 큰금액 = | E20: 1000000000 | F20: Y2 : 큰금액 요율 = | G20: =J21 -> 5.47 | I20: 10억원 이하 | J20: 6.16 | K20: 4.1 | L20: 7.65 | M20: 8.27 | N20: 5.37
D21: X2 : 작은금액 = | E21: 1000000000 | F21: Y1 : 작은금액 요율 = | G21: =J20 -> 6.16 | I21: 20억원 이하 | J21: 5.47 | K21: 3.88 | L21: 6.74 | M21: 7.28 | N21: 4.71
I22: 30억원 이하 | J22: 5.1 | K22: 3.76 | L22: 6.25 | M22: 6.75 | N22: 4.36
A23: =IF(D14<1000000000,"","Y = "&G21&" - ") | B23: =IF(D14<1000000000,"10억이하 요율적용","("&TEXT(E19,"#,#")&" - "&TEXT(E21,"#,#")&") × ("&G21&" - "&G20&")") -> 10억이하 요율적용 | E23: =IF(D14<1000000000,6.16,ROUNDDOWN(G21-((E19-E21)*(G21-G20))/(E20-E21),2)) -> 6.16 | I23: 50억원 이하 | J23: 4.67 | K23: 3.62 | L23: 5.69 | M23: 6.15 | N23: 3.96
B24: =IF(D14<1000000000,"","("&TEXT(E20,"#,#")&" - "&TEXT(E21,"#,#")&")") | I24: 100억원 이하 | J24: 4.15 | K24: 3.43 | L24: 5.01 | M24: 5.41 | N24: 3.47
I25: 200억원 이하 | J25: 3.68 | K25: 3.25 | L25: 4.41 | M25: 4.76 | N25: 3.04
A26: 3. 실시설계비 | I26: 300억원 이하 | J26: 3.43 | K26: 3.15 | L26: 4.09 | M26: 4.42 | N26: 2.81
A27: ="("&TEXT(D14,"#,#")&" × "&E23&"%) × " -> (909,090,909 × 6.16%) × | C27: 1 | D27: =ROUNDDOWN(D14*E23*C27/100,) -> 55999999 | F27: 기본계획 하지않음 | I27: 500억원 이하 | J27: 3.15 | K27: 3.03 | L27: 3.73 | M27: 4.03 | N27: 2.55
D28: =ROUNDDOWN(D27,-3) -> 55999000 | I28: 1,000억원 이하 | J28: 2.79 | K28: 2.87 | L28: 3.28 | M28: 3.54 | N28: 2.24
A29: ※ 기본설계와 실시설계를 동시에 발주하는경우 실시설계 요율의 1.45배 | I29: 2,000억원 이하 | J29: 2.48 | K29: 2.72 | L29: 2.89 | M29: 3.12 | N29: 1.96
A30: ※ 기본설계를 시행하지 않은 실시설계를 발주하는 경우 실시설계 요율의 1.35배 | I30: 3,000억원 이하 | J30: 2.31 | K30: 2.64 | L30: 2.68 | M30: 2.89 | N30: 1.82
A31: ※ 1.35*0.9=1.215배 적용 | I31: 5,000억원 이하 | J31: 2.12 | K31: 2.54 | L31: 2.44 | M31: 2.64 | N31: 1.65
I32: 5,000억원 초과 | J32: 0.0916x-0.175 | K32: 0.0489x-0.077 | L32: 0.1169x-0.184 | M32: 0.1263x-0.184 | N32: 0.0832x-0.19
I64: 45672

Sheet 인원수산정
A2: 3 | B2: =IF(A2=1,"보통시가지",IF(A2=2,"교외촌락지",IF(A2=3,"농지구릉지",IF(A2=4,"삼림지",0)))) -> 농지구릉지 | C2: ■ (1.0km당) 측량 인원수 산정
A3: 종별 | B3: 구 분 | C3: 노선 선정 | D3: 소요 일수 | E3: 소요 인원 | F3: 노선 선점 | G3: 소요 일수 | H3: 소요 인원 | I3: 중심선측량 | J3: 소요 일수 | K3: 소요 인원 | L3: 종단 측량 | M3: 소요 일수 | N3: 소요 인원 | O3: 횡단 측량 | P3: 소요 일수 | Q3: 소요 인원 | R3: 평판 측량 | S3: 소요 일수 | T3: 소요 인원 | U3: 용지 측량 | V3: 소요 일수 | W3: 소요 인원
A4: 외업 | B4: 고급기술자 | C4: =VLOOKUP($B4,기준!$C$12:$I$15,2,FALSE) -> 2 | D4: =VLOOKUP($B$2,기준!$B$5:$H$8,2,FALSE) -> 2 | E4: =ROUNDDOWN(C4*D4,2) -> 4 | F4: =VLOOKUP($B4,기준!$C$12:$I$15,3,FALSE) -> 1 | G4: =VLOOKUP($B$2,기준!$B$5:$H$8,3,FALSE) -> 0.5 | H4: =ROUNDDOWN(F4*G4,2) -> 0.5 | I4: =VLOOKUP($B4,기준!$C$12:$I$15,4,FALSE) -> 1 | J4: =VLOOKUP($B$2,기준!$B$5:$H$8,4,FALSE) -> 2.5 | K4: =ROUNDDOWN(I4*J4,2) -> 2.5 | L4: =VLOOKUP($B4,기준!$C$12:$I$15,5,FALSE) -> 0 | M4: =VLOOKUP($B$2,기준!$B$5:$H$8,5,FALSE) -> 1 | N4: =ROUNDDOWN(L4*M4,2) -> 0 | O4: =VLOOKUP($B4,기준!$C$12:$I$15,6,FALSE) -> 0 | P4: =VLOOKUP($B$2,기준!$B$5:$H$8,6,FALSE) -> 2.5 | Q4: =ROUNDDOWN(O4*P4,2) -> 0 | R4: =VLOOKUP($B4,기준!$C$12:$I$15,7,FALSE) -> 0 | S4: =VLOOKUP($B$2,기준!$B$5:$H$8,7,FALSE) -> 3 | T4: =ROUNDDOWN(R4*S4,2) -> 0 | U4: =VLOOKUP($B4,기준!$C$12:$J$15,8,FALSE) -> 0 | V4: =VLOOKUP($B$2,기준!$B$5:$I$8,8,FALSE) -> 2.5 | W4: =ROUNDDOWN(U4*V4,2) -> 0
B5: 중급기술자 | C5: =VLOOKUP($B5,기준!$C$12:$I$15,2,FALSE) -> 1 | D5: =IF(C5=0,0,D4) -> 2 | E5: =ROUNDDOWN(C5*D5,2) -> 2 | F5: =VLOOKUP($B5,기준!$C$12:$I$15,3,FALSE) -> 1 | G5: =IF(F5=0,0,G4) -> 0.5 | H5: =ROUNDDOWN(F5*G5,2) -> 0.5 | I5: =VLOOKUP($B5,기준!$C$12:$I$15,4,FALSE) -> 1 | J5: =IF(I5=0,0,J4) -> 2.5 | K5: =ROUNDDOWN(I5*J5,2) -> 2.5 | L5: =VLOOKUP($B5,기준!$C$12:$I$15,5,FALSE) -> 1 | M5: =IF(L5=0,0,M4) -> 1 | N5: =ROUNDDOWN(L5*M5,2) -> 1 | O5: =VLOOKUP($B5,기준!$C$12:$I$15,6,FALSE) -> 1 | P5: =IF(O5=0,0,P4) -> 2.5 | Q5: =ROUNDDOWN(O5*P5,2) -> 2.5 | R5: =VLOOKUP($B5,기준!$C$12:$I$15,7,FALSE) -> 1 | S5: =IF(R5=0,0,S4) -> 3 | T5: =ROUNDDOWN(R5*S5,2) -> 3 | U5: =VLOOKUP($B5,기준!$C$12:$J$15,8,FALSE) -> 1 | V5: =IF(U5=0,0,V4) -> 2.5 | W5: =ROUNDDOWN(U5*V5,2) -> 2.5
B6: 초급기술자 | C6: =VLOOKUP($B6,기준!$C$12:$I$15,2,FALSE) -> 2 | D6: =IF(C6=0,0,D4) -> 2 | E6: =ROUNDDOWN(C6*D6,2) -> 4 | F6: =VLOOKUP($B6,기준!$C$12:$I$15,3,FALSE) -> 2 | G6: =IF(F6=0,0,G4) -> 0.5 | H6: =ROUNDDOWN(F6*G6,2) -> 1 | I6: =VLOOKUP($B6,기준!$C$12:$I$15,4,FALSE) -> 1 | J6: =IF(I6=0,0,J4) -> 2.5 | K6: =ROUNDDOWN(I6*J6,2) -> 2.5 | L6: =VLOOKUP($B6,기준!$C$12:$I$15,5,FALSE) -> 1 | M6: =IF(L6=0,0,M4) -> 1 | N6: =ROUNDDOWN(L6*M6,2) -> 1 | O6: =VLOOKUP($B6,기준!$C$12:$I$15,6,FALSE) -> 1 | P6: =IF(O6=0,0,P4) -> 2.5 | Q6: =ROUNDDOWN(O6*P6,2) -> 2.5 | R6: =VLOOKUP($B6,기준!$C$12:$I$15,7,FALSE) -> 1 | S6: =IF(R6=0,0,S4) -> 3 | T6: =ROUNDDOWN(R6*S6,2) -> 3 | U6: =VLOOKUP($B6,기준!$C$12:$J$15,8,FALSE) -> 3 | V6: =IF(U6=0,0,V4) -> 2.5 | W6: =ROUNDDOWN(U6*V6,2) -> 7.5
B7: 초급기능사(측량) | C7: =VLOOKUP($B7,기준!$C$12:$I$15,2,FALSE) -> 0 | D7: =IF(C7=0,0,D4) -> 0 | E7: =ROUNDDOWN(C7*D7,2) -> 0 | F7: =VLOOKUP($B7,기준!$C$12:$I$15,3,FALSE) -> 2 | G7: =IF(F7=0,0,G4) -> 0.5 | H7: =ROUNDDOWN(F7*G7,2) -> 1 | I7: =VLOOKUP($B7,기준!$C$12:$I$15,4,FALSE) -> 2 | J7: =IF(I7=0,0,J4) -> 2.5 | K7: =ROUNDDOWN(I7*J7,2) -> 5 | L7: =VLOOKUP($B7,기준!$C$12:$I$15,5,FALSE) -> 2 | M7: =IF(L7=0,0,M4) -> 1 | N7: =ROUNDDOWN(L7*M7,2) -> 2 | O7: =VLOOKUP($B7,기준!$C$12:$I$15,6,FALSE) -> 2 | P7: =IF(O7=0,0,P4) -> 2.5 | Q7: =ROUNDDOWN(O7*P7,2) -> 5 | R7: =VLOOKUP($B7,기준!$C$12:$I$15,7,FALSE) -> 2 | S7: =IF(R7=0,0,S4) -> 3 | T7: =ROUNDDOWN(R7*S7,2) -> 6 | U7: =VLOOKUP($B7,기준!$C$12:$J$15,8,FALSE) -> 0 | V7: =IF(U7=0,0,V4) -> 0 | W7: =ROUNDDOWN(U7*V7,2) -> 0
B8: 보통인부 | C8: =VLOOKUP($B$2,기준!$C$23:$I$26,2,FALSE) -> 1 | D8: =IF(C8=0,0,D4) -> 2 | E8: =ROUNDDOWN(C8*D8,2) -> 2 | F8: =VLOOKUP($B$2,기준!$C$23:$I$26,3,FALSE) -> 2 | G8: =IF(F8=0,0,G4) -> 0.5 | H8: =ROUNDDOWN(F8*G8,2) -> 1 | I8: =VLOOKUP($B$2,기준!$C$23:$I$26,4,FALSE) -> 2 | J8: =IF(I8=0,0,J4) -> 2.5 | K8: =ROUNDDOWN(I8*J8,2) -> 5 | L8: =VLOOKUP($B$2,기준!$C$23:$I$26,5,FALSE) -> 1 | M8: =IF(L8=0,0,M4) -> 1 | N8: =ROUNDDOWN(L8*M8,2) -> 1 | O8: =VLOOKUP($B$2,기준!$C$23:$I$26,6,FALSE) -> 1 | P8: =IF(O8=0,0,P4) -> 2.5 | Q8: =ROUNDDOWN(O8*P8,2) -> 2.5 | R8: =VLOOKUP($B$2,기준!$C$23:$I$26,7,FALSE) -> 1 | S8: =IF(R8=0,0,S4) -> 3 | T8: =ROUNDDOWN(R8*S8,2) -> 3 | U8: =VLOOKUP($B$2,기준!$C$23:$J$26,8,FALSE) -> 0.5 | V8: =IF(U8=0,0,V4) -> 2.5 | W8: =ROUNDDOWN(U8*V8,2) -> 1.25
A9: 내업 | B9: 고급기술자 | C9: =VLOOKUP($B9,기준!$C$16:$I$19,2,FALSE) -> 2 | D9: =IF(C9=0,0,D4) -> 2 | E9: =ROUNDDOWN(C9*D9,2) -> 4 | F9: =VLOOKUP($B9,기준!$C$16:$I$19,3,FALSE) -> 0.5 | G9: =IF(F9=0,0,G4) -> 0.5 | H9: =ROUNDDOWN(F9*G9,2) -> 0.25 | I9: =VLOOKUP($B9,기준!$C$16:$I$19,4,FALSE) -> 0.5 | J9: =IF(I9=0,0,J4) -> 2.5 | K9: =ROUNDDOWN(I9*J9,2) -> 1.25 | L9: =VLOOKUP($B9,기준!$C$16:$I$19,5,FALSE) -> 0 | M9: =IF(L9=0,0,M4) -> 0 | N9: =ROUNDDOWN(L9*M9,2) -> 0 | O9: =VLOOKUP($B9,기준!$C$16:$I$19,6,FALSE) -> 0 | P9: =IF(O9=0,0,P4) -> 0 | Q9: =ROUNDDOWN(O9*P9,2) -> 0 | R9: =VLOOKUP($B9,기준!$C$16:$I$19,7,FALSE) -> 0 | S9: =IF(R9=0,0,S4) -> 0 | T9: =ROUNDDOWN(R9*S9,2) -> 0 | U9: =VLOOKUP($B9,기준!$C$16:$I$19,7,FALSE) -> 0 | V9: =IF(U9=0,0,V4) -> 0 | W9: =ROUNDDOWN(U9*V9,2) -> 0
B10: 중급기술자 | C10: =VLOOKUP($B10,기준!$C$16:$I$19,2,FALSE) -> 1 | D10: =IF(C10=0,0,D4) -> 2 | E10: =ROUNDDOWN(C10*D10,2) -> 2 | F10: =VLOOKUP($B10,기준!$C$16:$I$19,3,FALSE) -> 0.5 | G10: =IF(F10=0,0,G4) -> 0.5 | H10: =ROUNDDOWN(F10*G10,2) -> 0.25 | I10: =VLOOKUP($B10,기준!$C$16:$I$19,4,FALSE) -> 0.5 | J10: =IF(I10=0,0,J4) -> 2.5 | K10: =ROUNDDOWN(I10*J10,2) -> 1.25 | L10: =VLOOKUP($B10,기준!$C$16:$I$19,5,FALSE) -> 0 | M10: =IF(L10=0,0,M4) -> 0 | N10: =ROUNDDOWN(L10*M10,2) -> 0 | O10: =VLOOKUP($B10,기준!$C$16:$I$19,6,FALSE) -> 0 | P10: =IF(O10=0,0,P4) -> 0 | Q10: =ROUNDDOWN(O10*P10,2) -> 0 | R10: =VLOOKUP($B10,기준!$C$16:$I$19,7,FALSE) -> 0 | S10: =IF(R10=0,0,S4) -> 0 | T10: =ROUNDDOWN(R10*S10,2) -> 0 | U10: =VLOOKUP($B10,기준!$C$16:$I$19,7,FALSE) -> 0 | V10: =IF(U10=0,0,V4) -> 0 | W10: =ROUNDDOWN(U10*V10,2) -> 0
B11: 초급기술자 | C11: =VLOOKUP($B11,기준!$C$16:$I$19,2,FALSE) -> 0 | D11: =IF(C11=0,0,D4) -> 0 | E11: =ROUNDDOWN(C11*D11,2) -> 0 | F11: =VLOOKUP($B11,기준!$C$16:$I$19,3,FALSE) -> 0 | G11: =IF(F11=0,0,G4) -> 0 | H11: =ROUNDDOWN(F11*G11,2) -> 0 | I11: =VLOOKUP($B11,기준!$C$16:$I$19,4,FALSE) -> 0 | J11: =IF(I11=0,0,J4) -> 0 | K11: =ROUNDDOWN(I11*J11,2) -> 0 | L11: =VLOOKUP($B11,기준!$C$16:$I$19,5,FALSE) -> 1 | M11: =IF(L11=0,0,M4) -> 1 | N11: =ROUNDDOWN(L11*M11,2) -> 1 | O11: =VLOOKUP($B11,기준!$C$16:$I$19,6,FALSE) -> 1 | P11: =IF(O11=0,0,P4) -> 2.5 | Q11: =ROUNDDOWN(O11*P11,2) -> 2.5 | R11: =VLOOKUP($B11,기준!$C$16:$I$19,7,FALSE) -> 1 | S11: =IF(R11=0,0,S4) -> 3 | T11: =ROUNDDOWN(R11*S11,2) -> 3 | U11: =VLOOKUP($B11,기준!$C$16:$I$19,7,FALSE) -> 1 | V11: =IF(U11=0,0,V4) -> 2.5 | W11: =ROUNDDOWN(U11*V11,2) -> 2.5
B12: 초급기능사(측량) | C12: =VLOOKUP($B12,기준!$C$16:$I$19,2,FALSE) -> 0 | D12: =IF(C12=0,0,D4) -> 0 | E12: =ROUNDDOWN(C12*D12,2) -> 0 | F12: =VLOOKUP($B12,기준!$C$16:$I$19,3,FALSE) -> 0 | G12: =IF(F12=0,0,G4) -> 0 | H12: =ROUNDDOWN(F12*G12,2) -> 0 | I12: =VLOOKUP($B12,기준!$C$16:$I$19,4,FALSE) -> 0 | J12: =IF(I12=0,0,J4) -> 0 | K12: =ROUNDDOWN(I12*J12,2) -> 0 | L12: =VLOOKUP($B12,기준!$C$16:$I$19,5,FALSE) -> 2 | M12: =IF(L12=0,0,M4) -> 1 | N12: =ROUNDDOWN(L12*M12,2) -> 2 | O12: =VLOOKUP($B12,기준!$C$16:$I$19,6,FALSE) -> 2 | P12: =IF(O12=0,0,P4) -> 2.5 | Q12: =ROUNDDOWN(O12*P12,2) -> 5 | R12: =VLOOKUP($B12,기준!$C$16:$I$19,7,FALSE) -> 2 | S12: =IF(R12=0,0,S4) -> 3 | T12: =ROUNDDOWN(R12*S12,2) -> 6 | U12: =VLOOKUP($B12,기준!$C$16:$I$19,7,FALSE) -> 2 | V12: =IF(U12=0,0,V4) -> 2.5 | W12: =ROUNDDOWN(U12*V12,2) -> 5
A13: 계 | B13: 고급기술자 | E13: =E4+E9 -> 8 | H13: =H4+H9 -> 0.75 | K13: =K4+K9 -> 3.75 | N13: =N4+N9 -> 0 | Q13: =Q4+Q9 -> 0 | T13: =T4+T9 -> 0 | W13: =W4+W9 -> 0
B14: 중급기술자 | E14: =E5+E10 -> 4 | H14: =H5+H10 -> 0.75 | K14: =K5+K10 -> 3.75 | N14: =N5+N10 -> 1 | Q14: =Q5+Q10 -> 2.5 | T14: =T5+T10 -> 3 | W14: =W5+W10 -> 2.5
B15: 초급기술자 | E15: =E6+E11 -> 4 | H15: =H6+H11 -> 1 | K15: =K6+K11 -> 2.5 | N15: =N6+N11 -> 2 | Q15: =Q6+Q11 -> 5 | T15: =T6+T11 -> 6 | W15: =W6+W11 -> 10
B16: 초급기능사(측량) | E16: =E7+E12 -> 0 | H16: =H7+H12 -> 1 | K16: =K7+K12 -> 5 | N16: =N7+N12 -> 4 | Q16: =Q7+Q12 -> 10 | T16: =T7+T12 -> 12 | W16: =W7+W12 -> 5
B17: 보통인부 | E17: =E8 -> 2 | H17: =H8 -> 1 | K17: =K8 -> 5 | N17: =N8 -> 1 | Q17: =Q8 -> 2.5 | T17: =T8 -> 3 | W17: =W8 -> 1.25
B18: ※ 2021표준품셈 9-5노선측량 기준
I64: 45672

Sheet 기준
A1: ■ 측량인원수 산정기준
A2: 노선측량(철도,도로 신설)
A3: 1. 진행기준 | G3: (1반1일)(1km당 1반 소요일수)
B4: 종별 지구별 | C4: 노선선정 | D4: 노선선점 | E4: 중심선측량 | F4: 종단측량 | G4: 횡단측량 | H4: 평판측량 | I4: 용지경계측량
B5: 보통시가지 | C5: 4 | D5: 2 | E5: 5 | F5: 2 | G5: 4 | H5: 6.7 | I5: 3
B6: 교외촌락지 | C6: 4 | D6: 1 | E6: 4 | F6: 2 | G6: 4 | H6: 4 | I6: 2.5
B7: 농지구릉지 | C7: 2 | D7: 0.5 | E7: 2.5 | F7: 1 | G7: 2.5 | H7: 3 | I7: 2.5
B8: 삼림지 | C8: 5 | D8: 2.5 | E8: 6.7 | F8: 3 | G8: 6 | H8: 5 | I8: 2.5
A10: 2. 작업별 인원 편성
B11: 종 별 | C11: 직 종 별 | D11: 노선선정 | E11: 노선선점 | F11: 중심선측량 | G11: 종단측량 | H11: 횡단측량 | I11: 평판측량 | J11: 용지경계측량
B12: 외 업 | C12: 고급기술자 | D12: 2 | E12: 1 | F12: 1
C13: 중급기술자 | D13: 1 | E13: 1 | F13: 1 | G13: 1 | H13: 1 | I13: 1 | J13: 1
C14: 초급기술자 | D14: 2 | E14: 2 | F14: 1 | G14: 1 | H14: 1 | I14: 1 | J14: 3
C15: 초급기능사(측량) | E15: 2 | F15: 2 | G15: 2 | H15: 2 | I15: 2
B16: 내 업 | C16: 고급기술자 | D16: 2 | E16: 0.5 | F16: 0.5 | J16: 0.5
C17: 중급기술자 | D17: 1 | E17: 0.5 | F17: 0.5
C18: 초급기술자 | G18: 1 | H18: 1 | I18: 1
C19: 초급기능사(측량) | G19: 2 | H19: 2 | I19: 2
A21: 3. 지역별 소요인부
B22: 종 별 | C22: 구 분 | D22: 노선선정 | E22: 노선선점 | F22: 중심선측량 | G22: 종단측량 | H22: 횡단측량 | I22: 평판측량 | J22: 용지경계측량
B23: 지구별 | C23: 보통시가지 | E23: 2 | F23: 2 | G23: 1 | H23: 1 | I23: 1 | J23: 1
C24: 교외촌락지 | D24: 2 | E24: 3 | F24: 3 | G24: 1 | H24: 2 | I24: 2 | J24: 0.5
C25: 농지구릉지 | D25: 1 | E25: 2 | F25: 2 | G25: 1 | H25: 1 | I25: 1 | J25: 0.5
C26: 삼림지 | D26: 2 | E26: 3 | F26: 3 | G26: 1 | H26: 2 | I26: 2 | J26: 0.5
B28: ※ 2026표준품셈 9-4노선측량 기준
I64: 45672

Sheet 손해보상공제요율 (2)
A1: ■ 실시설계 공제요율
B3: 용역금액(계약금액) | L3: 표준
A4: 공사종류 | B4: 5억원이하 | D4: 5억원초과10억원이하 | F4: 10억원초과20억원이하 | H4: 20억원초과30억원이하 | J4: 30억원초과50억원이하 | L4: 공사
B5: 기본요율 | C5: 가산요율 | D5: 기본요율 | E5: 가산요율 | F5: 기본요율 | G5: 가산요율 | H5: 기본요율 | I5: 가산요율 | J5: 기본요율 | K5: 가산요율 | L5: 기간
A6: 교량공사 | B6: 0.962 | C6: 0.153 | D6: 0.933 | E6: 0.149 | F6: 0.904 | G6: 0.144 | H6: 0.875 | I6: 0.14 | J6: 0.846 | K6: 0.135 | L6: 3
A7: 공항건설공사 | B7: 1.089 | C7: 0.173 | D7: 1.057 | E7: 0.169 | F7: 1.024 | G7: 0.164 | H7: 0.991 | I7: 0.158 | J7: 0.959 | K7: 0.153 | L7: 5
A8: 댐축조공사 | B8: 1.203 | C8: 0.192 | D8: 1.167 | E8: 0.186 | F8: 1.13 | G8: 0.18 | H8: 1.094 | I8: 0.175 | J8: 1.059 | K8: 0.169 | L8: 5
A9: 도로공사 | B9: 0.615 | C9: 0.098 | D9: 0.596 | E9: 0.096 | F9: 0.578 | G9: 0.092 | H9: 0.56 | I9: 0.089 | J9: 0.541 | K9: 0.087 | L9: 3
A10: 에너지저장시설공사 | B10: 0.865 | C10: 0.138 | D10: 0.839 | E10: 0.134 | F10: 0.813 | G10: 0.13 | H10: 0.788 | I10: 0.125 | J10: 0.761 | K10: 0.122 | L10: 3
A11: 간척공사 | B11: 0.98 | C11: 0.156 | D11: 0.951 | E11: 0.152 | F11: 0.921 | G11: 0.147 | H11: 0.892 | I11: 0.143 | J11: 0.863 | K11: 0.137 | L11: 5
A12: 항만공사 | B12: 0.98 | C12: 0.156 | D12: 0.951 | E12: 0.152 | F12: 0.921 | G12: 0.147 | H12: 0.892 | I12: 0.143 | J12: 0.863 | K12: 0.137 | L12: 5
A13: 철도공사 | B13: 0.769 | C13: 0.122 | D13: 0.746 | E13: 0.119 | F13: 0.723 | G13: 0.116 | H13: 0.7 | I13: 0.112 | J13: 0.677 | K13: 0.108 | L13: 3
A14: 지하철공사 | B14: 1.203 | C14: 0.192 | D14: 1.167 | E14: 0.186 | F14: 1.13 | G14: 0.18 | H14: 1.094 | I14: 0.175 | J14: 1.059 | K14: 0.169 | L14: 4
A15: 터널공사 | B15: 1.203 | C15: 0.192 | D15: 1.167 | E15: 0.186 | F15: 1.13 | G15: 0.18 | H15: 1.094 | I15: 0.175 | J15: 1.059 | K15: 0.169 | L15: 4
A16: 발전소건설공사 | B16: 1.025 | C16: 0.164 | D16: 0.995 | E16: 0.158 | F16: 0.964 | G16: 0.154 | H16: 0.933 | I16: 0.149 | J16: 0.902 | K16: 0.144 | L16: 3
A17: 쓰레기소각로건설공사 | B17: 1.333 | C17: 0.212 | D17: 1.293 | E17: 0.206 | F17: 1.253 | G17: 0.2 | H17: 1.213 | I17: 0.194 | J17: 1.172 | K17: 0.187 | L17: 2
... A29: 평균 | B29: 1.259 | C29: 0.201 | D29: 1.221 | E29: 0.195 | F29: 1.183 | G29: 0.189 | H29: 1.145 | I29: 0.183 | J29: 1.108 | K29: 0.177 | L29: 3.136
A34: 별표 1】건설부문의 요율
A36: 요 율 | B36: 업 무 별 요 율(%)
A37: 공사비 | B37: 기본설계 | C37: 실시설계 | D37: 공사감리 | E37: 계
A38: 5천만원이하 | B38: 3.24 | C38: 6.49 | D38: 3.02 | E38: 12.75
A39: 1억원이하 | B39: 3.04 | C39: 6.07 | D39: 2.85 | E39: 11.96
A40: 2억원이하 | B40: 2.42 | C40: 4.85 | D40: 2.26 | E40: 9.53
A41: 3억원이하 | B41: 2.22 | C41: 4.43 | D41: 2.06 | E41: 8.71
A42: 5억원이하 | B42: 2.01 | C42: 4.03 | D42: 1.89 | E42: 7.93
A43: 10억원이하 | B43: 1.77 | C43: 3.55 | D43: 1.66 | E43: 6.98
A44: 20억원이하 | B44: 1.63 | C44: 3.27 | D44: 1.53 | E44: 6.43
A45: 30억원이하 | B45: 1.57 | C45: 3.15 | D45: 1.48 | E45: 6.2
A46: 50억원이하 | B46: 1.54 | C46: 3.09 | D46: 1.45 | E46: 6.08
A47: 100억원이하 | B47: 1.51 | C47: 3.01 | D47: 1.41 | E47: 5.93
A48: 200억원이하 | B48: 1.46 | C48: 2.91 | D48: 1.37 | E48: 5.74
A49: 300억원이하 | B49: 1.45 | C49: 2.9 | D49: 1.35 | E49: 5.7
... A54: 5,000억원이하 | B54: 1.34 | C54: 2.7 | D54: 1.23 | E54: 5.27
A55: 5,000억원 초과 | B55: 기본설계요율 = 2.75 x (공사비)-0.0265 - 0.006822
B56: 실시설계요율 = 5.0x(공사비)-0.0229
B57: 공사감리요율 = 3.4816x(공사비)-0.0386 - 0.00084
A58: 비고)
A59: 1."건설부문"이라 함은 엔지니어링기술진흥법 시행령 별표1 기술부문 및 전문분야 구분표의 건설부문(농어업토목분야를 제외한다)과 산업관리부문 중 소방설비분야를 말한다.
A60: 2."공사감리"란 비상주 감리를 말한다.
A61: 3.기본설계, 실시설계 및 공사감리의 업무범위는 제14조와 같다.
...

Sheet 기초단가
A1: 연변 | B1: 명칭 | C1: 노무비 | D1: 재료비 | E1: 경비 | F1: 비고
A2: 1 | B2: 특급기술자(측량) | C2: =K5 -> 326774 | F2: =$J$2 -> 2026 공간정보산업협회 | J2: 2026 공간정보산업협회
A3: 2 | B3: 고급기술자(측량) | C3: =K6 -> 289266 | F3: =$J$2 -> 2026 공간정보산업협회 | H3: 구 분 | K3: 2026
A4: 3 | B4: 중급기술자(측량) | C4: =K7 -> 251596 | F4: =$J$2 -> 2026 공간정보산업협회 | H4: 기 | I4: 기 술 사 | K4: 442679
A5: 4 | B5: 초급기술자(측량) | C5: =K8 -> 215609 | F5: =$J$2 -> 2026 공간정보산업협회 | H5: 술 | I5: 특급기술자 | K5: 326774
A6: 5 | B6: 고급기능사(측량) | C6: =K9 -> 259647 | F6: =$J$2 -> 2026 공간정보산업협회 | H6: 계 | I6: 고급기술자 | K6: 289266
A7: 6 | B7: 중급기능사(측량) | C7: =K10 -> 235899 | F7: =$J$2 -> 2026 공간정보산업협회 | I7: 중급기술자 | K7: 251596
A8: 7 | B8: 초급기능사(측량) | C8: =K11 -> 200786 | F8: =$J$2 -> 2026 공간정보산업협회 | I8: 초급기술자 | K8: 215609
A9: 8 | B9: 말목(FRP) | D9: 1800 | H9: 기 | I9: 측량 | J9: 고급기능사 | K9: 259647
A10: 9 | B10: 보링공 | C10: 232562 | F10: 건설협회-2026(상반기) | H10: 능 | J10: 중급기능사 | K10: 235899
A11: 10 | B11: 보통인부 | C11: 176068 | F11: 건설협회-2026(상반기) | H11: 계 | J11: 초급기능사 | K11: 200786
A12: 11 | B12: 특급기술자(ENG) | C12: 373353 | F12: 건설협회-2026(상반기)
A13: 12 | B13: 고급기술자(ENG) | C13: 310884 | F13: 건설협회-2026(상반기)
A14: 13 | B14: 중급기술자(ENG) | C14: 295138 | F14: 건설협회-2026(상반기)
A15: 14 | B15: 초급기술자(ENG) | C15: 235459 | F15: 건설협회-2026(상반기)
A16: 15 | B16: 고급숙련기술자(ENG) | C16: 281075 | F16: 건설협회-2026(상반기)
A17: 16 | B17: 중급숙련기술자(ENG) | C17: 250087 | F17: 건설협회-2026(상반기)
A18: 17 | B18: 초급숙련기술자(ENG) | C18: 218142 | F18: 건설협회-2026(상반기)
I64: 45672

Sheet Sheet1
