Workbook
Name PRINT_AREA_MI: [1]Sheet2!#REF!
Name PRINT_AREA_MI: [1]Sheet2!#REF!
Name 개발비: [2]사업성분석!#REF!
Name 개발비: [2]사업성분석!#REF!
Name 계수나눈값: [3]계수!$E$1
Name 계수영역: [3]계수!$A$2:$C$13
Name 계약금: '[4]1-최종안'!$G$13
Name 공영정산: [2]사업성분석!#REF!
Name 공영정산: [2]사업성분석!#REF!
Name 금융2: #REF!
Name 금융2: #REF!
Name 당사광고: [5]사업수지!$H$77
Name 당사모델운영: [5]사업수지!$H$78
Name 당사사업추진: [5]사업수지!$H$79
Name 대여이자: [2]사업성분석!#REF!
Name 대여이자: [2]사업성분석!#REF!
Name 도급계: [2]사업성분석!$H$45
Name 도로부담금: [6]당사!#REF!
Name 도로부담금: [6]당사!#REF!
Name 무이주비: [2]사업성분석!#REF!
Name 무이주비: [2]사업성분석!#REF!
Name 보증: [7]수지!#REF!
Name 보증: [7]수지!#REF!
Name 분양금액: '[4]사업분석-분양가결정'!$H$17
Name 사업성분석: [8]사업분석!$I$22
Name 산출내역서0: [9]계수!$G$1
Name 설계보상: [2]사업성분석!#REF!
Name 설계보상: [2]사업성분석!#REF!
Name 승수: [3]계수!$F$1
Name 승수비율: [3]계수!$G$1
Name 용역: [2]사업성분석!#REF!
Name 용역: [2]사업성분석!#REF!
Name 유이주비: [2]사업성분석!#REF!
Name 유이주비: [2]사업성분석!#REF!
Name 유토지: [2]사업성분석!#REF!
Name 유토지: [2]사업성분석!#REF!
Name 이주비이자: [2]사업성분석!#REF!
Name 이주비이자: [2]사업성분석!#REF!
Name 인허가: [2]사업성분석!#REF!
Name 인허가: [2]사업성분석!#REF!
Name 잔여유토지: [2]사업성분석!#REF!
Name 잔여유토지: [2]사업성분석!#REF!
Name 정산설계: [2]사업성분석!#REF!
Name 정산설계: [2]사업성분석!#REF!
Name 정산시공보증: [2]사업성분석!#REF!
Name 정산시공보증: [2]사업성분석!#REF!
Name 정산용역: [2]사업성분석!#REF!
Name 정산용역: [2]사업성분석!#REF!
Name 정산이자: [2]사업성분석!#REF!
Name 정산이자: [2]사업성분석!#REF!
Name 정산조합개소비: [2]사업성분석!#REF!
Name 정산조합개소비: [2]사업성분석!#REF!
Name 정산조합운영: [2]사업성분석!#REF!
Name 정산조합운영: [2]사업성분석!#REF!
Name 정산토지: [2]사업성분석!#REF!
Name 정산토지: [2]사업성분석!#REF!
Name 측량: [2]사업성분석!#REF!
Name 측량: [2]사업성분석!#REF!
Name 측량지질: [2]사업성분석!#REF!
Name 측량지질: [2]사업성분석!#REF!

Sheet 사업개요
B1: 사 업 개 요 서
B3: 가. 사업현황
B4: 구 분 | C4: 내 용 | D4: 비 고
B5: 1. 사업명 | C5: 수원 영통2구역 주택재건축 정비사업
B6: 2. 사업주체 | C6: 수원 영통2구역 주택재건축 정비사업조합(조합장 장석우)
B7: 3. 설계자 | C7: ㈜하우드엔지니어링종합건축사사무소
B8: 4. 시공사 | C8: GS건설
C9: IPARK현대산업개발
B10: 5. 사업개요 | C10: 위치 : 경기도 수원시 영통구 인계로 189번길 일원
C11: 공사기간 : 2027년 10월01일 - 2030년 06월30일( 34개월)
C12: 대지면적 : 222,842.8㎡
C13: 연 면 적 : 714,633.33㎡
C14: 공사규모 : 아파트 29개동, 지하2층/ 지상35층 (공동주택 3,737세대) 및 부대복리시설
C15: (최초) 사업계획승인일 :2021. 05. 03.
B18: 나. 총사업비 | D18: (단위 : 천원)
B19: 항 목 | C19: 금 액 | D19: 비 고
B20: 총사업비 | C20: =[10]총사업비산출총괄표!E25 -> 1500265482
B21: 대 지 비 | C21: =[10]총사업비산출총괄표!E23 -> 0
B22: 총공사비 | C22: =[10]총사업비산출총괄표!E12 -> 1492172312
B23: 가.건축감리대상공사비 | C23: =[10]총사업비산출총괄표!F12 -> 1284168668
B24: 나.전기감리대상공사비 | C24: =[10]총사업비산출총괄표!H12 -> 84639337
B25: 다.타법감리대상공사비 | C25: =[10]총사업비산출총괄표!I12 -> 123364307

Sheet 총사업비산출총괄표(전기)
A1: [별지 제1호 서식]
A2: 총사업비 산출내역서 (전기)
F3: 단위 : 천원
A4: 구 분 | D4: 전 체 | E4: 감리대상 | F4: 타법감리 | G4: 감리제외
A5: 총공사비 | B5: 순공사비 | C5: 토목공사 | D5: 96605391 | F5: =D5 -> 96605391
C6: 건축공사 | D6: 1033584245 | F6: =D6 -> 1033584245
C7: 기계설비공사 | D7: 153979032 | F7: =D7 -> 153979032
C8: 전기공사 | D8: 84639337 | E8: =D8 -> 84639337
C9: 정보통신공사 | D9: 52603244 | F9: =D9 -> 52603244
C10: 소방설비공사 | D10: 70761063 | F10: =D10 -> 70761063
C11: 소 계 | D11: =SUM(D5:D10) -> 1492172312 | E11: =SUM(E5:E10) -> 84639337 | F11: =SUM(F5:F10) -> 1407532975
B12: 일반관리비 (순공사비내 포함)
B13: 이 윤 (순공사비내 포함)
B14: 소 계 | D14: =SUM(D11:D13) -> 1492172312 | E14: =SUM(E11:E13) -> 84639337 | F14: =SUM(F11:F13) -> 1407532975 | G14: =SUM(G11:G13) -> 0
A15: 간접비 | B15: 설계비 | G15: =D15 -> 0
B16: 감리비 | G16: =D16 -> 0
B17: 일반분양시설경비 | D17: 8093170 | G17: =D17 -> 8093170
B18: 분담금 및 부담금 | G18: =D18 -> 0
B19: 보상비 | G19: =D19 -> 0
B20: 기타사업성경비 | G20: =D20 -> 0
B21: 소 계 | D21: =SUM(D15:D20) -> 8093170 | E21: =SUM(E15:E19) -> 0 | F21: =SUM(F15:F19) -> 0 | G21: =SUM(G15:G20) -> 8093170
A22: 대 지 비
A23: 부가가치세액 | G23: =D23 -> 0
A24: 총 사 업 비 계 | D24: =D14+D21+D22+D23 -> 1500265482 | E24: =E14+E21+E22+E23 -> 84639337 | F24: =F14+F21+F22+F23 -> 1407532975 | G24: =G14+G21+G22+G23 -> 8093170
A25: 주 1 : 순수 공사비란 재료비, 노무비, 경비를 합한 금액임.
A26: 2 : 일반관리비와 이윤에 대한 정의 및 산정방법은 ‘원가계산에 의한 예정가격작성준칙(회계 예규)’에 따름.
A27: 3 : 부가가치세액의 정의와 산정방법은 ‘부가가치세법’에 따름.
A28: 4 : 간접비란 사업비 중 총공사비를 제외한 설계비, 감리비, 일반분양시설경비 등 사업비성 경비를 말하며,
A29: 세부 비목은 다음과 같음.
A30: · 일반분양시설경비 : 모델하우스설치공사비, 분양 보증 수수료, 분양 촉진비 등
A31: · 분담금 및 부담금 : 인입공사비(가스, 전기, 수도, 지역난방), 학교용지확보 부담금,광역교통시설분담금,지역난방부담금 등 | D31: 2683414.8
A32: · 보상금 : 영업손실보상비, 기타이주보상비,현금청산비 등
A33: · 기타 사업비성 경비 : 제세공과금, 측량·교통·환경 영향평가 수수료, 취득세, 등록세, 건물보존 등기비 및
A34: 입주 관리비, 감정평가 수수료, 분양· 임대보증 및 하자보증수수료 등 기타 사업비성 경비
A35: · 대지비 : 대지 구입비, 대지 구입 관련 금융비용 및 제세공과금,국공유지매입비, 토지수용비 등

Sheet 공종별현황표(전기)
A1: [별치 제2호 서식]
A2: 공종별 총공사비 구성 현황표(전기/통신/소방)
G3: 단위 : 천원
A4: 구 분 | D4: 전체 | E4: 감리대상 | F4: 감리제외 | G4: 타법감리
A5: 순공사비 | B5: 전기공사 | C5: 전력간선공사 | D5: 13945808815 | E5: =D5 -> 13945808815
B6: (13개공종) | C6: 동력설비공사 | D6: 898408862 | E6: =D6 -> 898408862
C7: 전등전열공사 | D7: 6605065234 | E7: =D7 -> 6605065234
C8: 경관조명공사 | D8: 716425917 | E8: =D8 -> 716425917
C9: 케이블트레이전기공사 | D9: 1404528565 | E9: =D9 -> 1404528565
C10: 피뢰접지공사 | D10: 850833717 | E10: =D10 -> 850833717
C11: 단위세대전기공사 | D11: 51472343065 | E11: =D11 -> 51472343065
C12: 수변전설비공사 | D12: 2583748955 | E12: =D12 -> 2583748955
C13: 조명제어공사 | D13: 646733861 | E13: =D13 -> 646733861
C14: 스노우멜팅공사 | D14: 0 | E14: =D14 -> 0
C15: 전기차충전공사 | D15: 3420150452 | E15: =D15 -> 3420150452
C16: 신재생공사 | D16: 860628332 | E16: =D16 -> 860628332
C17: 전력제어공사 | D17: 1234661225 | E17: =D17 -> 1234661225
C20: 소 계 | D20: =SUM(D5:D19) -> 84639337000 | E20: =D20 -> 84639337000
B21: 정보통신 | D21: 52603244000 | G21: =D21 -> 52603244000
B22: 소방설비 | D22: 70761063000 | G22: =D22 -> 70761063000
A23: 총 공 사 비 계 | D23: =D20+D21+D22 -> 208003644000 | E23: =E20+E21+E22 -> 84639337000 | G23: =G20+G21+G22 -> 123364307000

Sheet 예정공정표 및 감리원 배치
B1: ○예정공정표
B2: 현장명 : 영통2구역 재건축정비사업
B3: 공 종 | D3: 2026 | G3: 2027년 | S3: 2028년 | AE3: 2029년 | AQ3: 2030년 | BB3: 비고
D4: 10 | E4: =IF(D4=12,1,D4+1) -> 11 | F4: =IF(E4=12,1,E4+1) -> 12 | G4: =IF(F4=12,1,F4+1) -> 1 | H4: =IF(G4=12,1,G4+1) -> 2 | I4: =IF(H4=12,1,H4+1) -> 3 | J4: =IF(I4=12,1,I4+1) -> 4 | K4: =IF(J4=12,1,J4+1) -> 5 | L4: =IF(K4=12,1,K4+1) -> 6 | ... BA4: =IF(AZ4=12,1,AZ4+1) -> 11
G5: 1 | H5: =G5+1 -> 2 | I5: =H5+1 -> 3 | J5: =I5+1 -> 4 | K5: =J5+1 -> 5 | L5: =K5+1 -> 6 | M5: =L5+1 -> 7 | N5: =M5+1 -> 8 | O5: =N5+1 -> 9 | ... AV5: =AU5+1 -> 42
B6: 전체공정 | G6: 1 | H6: =G6+1 -> 2 | I6: =H6+1 -> 3 | J6: =I6+1 -> 4 | K6: =J6+1 -> 5 | L6: =K6+1 -> 6 | M6: =L6+1 -> 7 | N6: =M6+1 -> 8 | O6: =N6+1 -> 9 | ... AV6: =AU6+1 -> 42 | BB6: '27.01.01 ~ '30.06.30 (42개월) | BD6: 46388 | BE6: 47664 | BF6: =(BE6-BD6)/365*12 -> 41.950685
B7: 건축공사 | BB7: 2025.10~2028.12 (39개월) | BD7: 46327 | BE7: 47817 | BF7: =(BE7-BD7)/365*12 -> 48.986301
BD8: 46327 | BE8: 47817 | BF8: =(BE8-BD8)/365*12 -> 48.986301
BD9: 46327 | BE9: 47817 | BF9: =(BE9-BD9)/365*12 -> 48.986301
B10: 구조체공사 | BB10: 2026.04~2027.12 (21개월) | BD10: 46327 | BE10: 47817 | BF10: =(BE10-BD10)/365*12 -> 48.986301
BD11: 46327 | BE11: 47817 | BF11: =(BE11-BD11)/365*12 -> 48.986301
BD12: 46327 | BE12: 47817 | BF12: =(BE12-BD12)/365*12 -> 48.986301
B13: 토목공사 | BB13: 2025.10~2026.10 2027.03~2028.11 (34개월) | BD13: 46327 | BE13: 47817 | BF13: =(BE13-BD13)/365*12 -> 48.986301
D14: 13 | BD14: 46327 | BE14: 47817 | BF14: =(BE14-BD14)/365*12 -> 48.986301
BD15: 46327 | BE15: 47817 | BF15: =(BE15-BD15)/365*12 -> 48.986301
B16: 조경공사 | BB16: 2027.09~2028.11 (15개월) | BD16: 46327 | BE16: 47817 | BF16: =(BE16-BD16)/365*12 -> 48.986301
BD17: 46327 | BE17: 47817 | BF17: =(BE17-BD17)/365*12 -> 48.986301
BD18: 46327 | BE18: 47817 | BF18: =(BE18-BD18)/365*12 -> 48.986301
B19: 설비공사 | BB19: 2026.04~2028.12 (33개월) | BD19: 46327 | BE19: 47817 | BF19: =(BE19-BD19)/365*12 -> 48.986301
BD20: 46327 | BE20: 47817 | BF20: =(BE20-BD20)/365*12 -> 48.986301
BD21: 46327 | BE21: 47817 | BF21: =(BE21-BD21)/365*12 -> 48.986301
B22: 전기 공사 | C22: 매입배관 | P22: 1 | Q22: =P22+1 -> 2 | R22: =Q22+1 -> 3 | S22: =R22+1 -> 4 | T22: =S22+1 -> 5 | U22: =T22+1 -> 6 | V22: =U22+1 -> 7 | W22: =V22+1 -> 8 | X22: =W22+1 -> 9 | ... AQ22: =AP22+1 -> 28 | BB22: '27.10.01 ~ '30.01.31 (28개월) | BD22: 46661 | BE22: 47514 | BF22: =(BE22-BD22)/365*12 -> 28.043836
C23: 노출배관 | AJ23: 1 | AK23: =AJ23+1 -> 2 | AL23: =AK23+1 -> 3 | AM23: =AL23+1 -> 4 | AN23: =AM23+1 -> 5 | AO23: =AN23+1 -> 6 | AP23: =AO23+1 -> 7 | AQ23: =AP23+1 -> 8 | AR23: =AQ23+1 -> 9 | BB23: '29.06.01 ~ '30.02.28 (9개월) | BD23: 47270 | BE23: 47542 | BF23: =(BE23-BD23)/365*12 -> 8.9424658
C24: 입선배관 | Q24: 1 | R24: =Q24+1 -> 2 | S24: =R24+1 -> 3 | T24: =S24+1 -> 4 | U24: =T24+1 -> 5 | V24: =U24+1 -> 6 | W24: =V24+1 -> 7 | X24: =W24+1 -> 8 | Y24: =X24+1 -> 9 | ... AS24: =AR24+1 -> 29 | BB24: '27.11.01 ~ '30.03.31 (29개월) | BD24: 46692 | BE24: 47573 | BF24: =(BE24-BD24)/365*12 -> 28.964384
C25: CABLE TRAY설치 CABLE 풀링 | X25: 1 | Y25: =X25+1 -> 2 | Z25: =Y25+1 -> 3 | AA25: =Z25+1 -> 4 | AB25: =AA25+1 -> 5 | AC25: =AB25+1 -> 6 | AD25: =AC25+1 -> 7 | AE25: =AD25+1 -> 8 | AF25: =AE25+1 -> 9 | ... AR25: =AQ25+1 -> 21 | BB25: '28.06.01 ~ '30.02.28 (21개월) | BD25: 46905 | BE25: 47542 | BF25: =(BE25-BD25)/365*12 -> 20.942466
C26: 조명기구/ 배선기구 취부 | AN26: 1 | AO26: =AN26+1 -> 2 | AP26: =AO26+1 -> 3 | AQ26: =AP26+1 -> 4 | AR26: =AQ26+1 -> 5 | AS26: =AR26+1 -> 6 | AT26: =AS26+1 -> 7 | AU26: =AT26+1 -> 8 | AV26: =AU26+1 -> 9 | BB26: '29.10.01 ~ '30.06.30 (9개월) | BD26: 47392 | BE26: 47664 | BF26: =(BE26-BD26)/365*12 -> 8.9424658
C27: 수배전반/분전반 | AK27: 1 | AL27: =AK27+1 -> 2 | AM27: =AL27+1 -> 3 | AN27: =AM27+1 -> 4 | AO27: =AN27+1 -> 5 | AP27: =AO27+1 -> 6 | AQ27: =AP27+1 -> 7 | AR27: =AQ27+1 -> 8 | BB27: '29.07.01 ~ '30.02.28 (8개월) | BD27: 47300 | BE27: 47542 | BF27: =(BE27-BD27)/365*12 -> 7.9561644
C28: 접지 및 피뢰공사 | O28: 1 | P28: =O28+1 -> 2 | Q28: =P28+1 -> 3 | R28: =Q28+1 -> 4 | AQ28: 5 | AR28: =AQ28+1 -> 6 | AS28: =AR28+1 -> 7 | AT28: =AS28+1 -> 8 | AU28: =AT28+1 -> 9 | AV28: =AU28+1 -> 10 | BB28: '27.09.01 ~ 30.06.30 중 일부(10개월) | BF28: =(BE28-BD28)/365*12 -> 0
