Workbook
Name _: #N/A
Name _?ó_ü?Ì?æ: #REF!
Name _______HSH1: #REF!
Name _______HSH2: #REF!
Name _______NP1: #REF!
Name _______NP2: #REF!
Name _______NSH1: #REF!
Name _______NSH2: #REF!
Name ______HSH1: #REF!
Name ______HSH2: #REF!
Name ______NP1: #REF!
Name ______NP2: #REF!
Name ______NSH1: #REF!
Name ______NSH2: #REF!
Name ______SBB1: #REF!
Name ______SBB2: #REF!
Name ______SBB3: #REF!
Name ______SBB4: #REF!
Name ______SBB5: #REF!
Name ______SHH1: #REF!
Name ______SHH2: #REF!
Name ______SHH3: #REF!
Name _____aab42: #REF!
Name _____GHH1: #REF!
Name _____GHH2: #REF!
Name _____HSH1: #REF!
Name _____HSH2: #REF!
Name _____JEA1: #REF!
Name _____JEA2: #REF!
Name _____MaL1: #REF!
Name _____MaL2: #REF!
Name _____NP1: #REF!
Name _____NP2: #REF!
Name _____NSH1: #REF!
Name _____NSH2: #REF!
Name _____pa1: #REF!
Name _____pa2: #REF!
Name _____pl1: #REF!
Name _____PL2: #REF!
Name _____PL3: #REF!
Name _____SBB1: #REF!
Name _____SBB2: #REF!
Name _____SBB3: #REF!
Name _____SBB4: #REF!
Name _____SBB5: #REF!
Name _____SHH1: #REF!
Name _____SHH2: #REF!
Name _____SHH3: #REF!
Name _____t3: #REF!
Name _____T4: #REF!
Name _____Ted1: #REF!
Name _____Ts1: #REF!
Name _____Ty1: #REF!
Name _____Ty2: #REF!
Name _____wb1: #REF!
Name _____wb2: #REF!
Name _____wb3: #REF!
Name _____xx1: #REF!
Name _____xx10: #REF!
Name _____xx2: #REF!

Sheet 총괄내역서
A1: 총 괄 내 역 서
A2: 성동구 아차산로 감성가로 조성사업 기본 및 실시설계 용역
A3: 공 종 | B3: 규격 | C3: 수량 | D3: 단위 | E3: 재 료 비 | G3: 노 무 비 | I3: 경 비 | K3: 합 계 | M3: 비고
E4: 단가 | F4: 금액 | G4: 단가 | H4: 금액 | I4: 단가 | J4: 금액 | K4: 단가 | L4: 금액
A5: 1. 기본및실시설계 | C5: 1 | D5: 식
A6: 소 계
A7: 2. 디자인설계 및 심의 | C7: 1 | D7: 식
A8: 3. 제경비 | C8: 110 | D8: %
A9: 4. 창작료 | C9: 20 | D9: %
A10: 소 계
A11: 5. 전문가 자문 | C11: 2 | D11: 회
A12: 6.공급가액
A13: 7.손해보험료 | C13: 1 | D13: 식
A14: 8.부가가치세 | E14: 공급가액의 10% | L14: =ROUNDDOWN(((L12+L13)*0.1),0) -> 0
A15: 총용역비 | L15: =L12+L13+L14 -> 0
A17: 공종 | B17: 규격 | C17: 수량 | D17: 단위 | E17: 재료비 | G17: 노무비 | I17: 경비 | K17: 합계 | M17: 비고
E18: 단가 | F18: 금액 | G18: 단가 | H18: 금액 | I18: 단가 | J18: 금액 | K18: 단가 | L18: 금액
A19: 1.실시설계비
A20: 실시설계비 | C20: 1 | D20: 식 | F20: =ROUNDDOWN(($C20*E20),0) -> 0 | H20: =ROUNDDOWN(($C20*G20),0) -> 0 | I20: =#REF! -> #REF! | J20: =ROUNDDOWN(($C20*I20),0) -> #REF! | K20: =ROUNDDOWN(SUM(E20,G20,I20),0) -> #REF! | L20: =ROUNDDOWN(SUM(F20,H20,J20),0) -> #REF!
A21: 계 | F21: =ROUNDDOWN(SUM(F20),0) -> 0 | H21: =ROUNDDOWN(SUM(H20),0) -> 0 | J21: =ROUNDDOWN(SUM(J20),0) -> #REF! | L21: =ROUNDDOWN(SUM(L20),0) -> #REF!
A22: 2.측량비
A23: =#REF! -> #REF! | B23: (시가지)km당 | C23: =#REF! -> #REF! | D23: km | F23: =ROUNDDOWN(($C23*E23),0) -> #REF! | G23: =(+#REF!) -> #REF! | H23: =ROUNDDOWN(($C23*G23),0) -> #REF! | I23: =#REF! -> #REF! | J23: =ROUNDDOWN(($C23*I23),0) -> #REF! | K23: =ROUNDDOWN(SUM(E23,G23,I23),0) -> #REF! | L23: =ROUNDDOWN(SUM(F23,H23,J23),0) -> #REF!
A24: =#REF! -> #REF! | B24: (시가지)km당 | C24: =#REF! -> #REF! | D24: km | F24: =ROUNDDOWN(($C24*E24),0) -> #REF! | G24: =(+#REF!) -> #REF! | H24: =ROUNDDOWN(($C24*G24),0) -> #REF! | I24: =#REF! -> #REF! | J24: =ROUNDDOWN(($C24*I24),0) -> #REF! | K24: =ROUNDDOWN(SUM(E24,G24,I24),0) -> #REF! | L24: =ROUNDDOWN(SUM(F24,H24,J24),0) -> #REF!
A25: =#REF! -> #REF! | B25: (시가지)km당 | C25: =#REF! -> #REF! | D25: km | F25: =ROUNDDOWN(($C25*E25),0) -> #REF! | G25: =(+#REF!) -> #REF! | H25: =ROUNDDOWN(($C25*G25),0) -> #REF! | I25: =#REF! -> #REF! | J25: =ROUNDDOWN(($C25*I25),0) -> #REF! | K25: =ROUNDDOWN(SUM(E25,G25,I25),0) -> #REF! | L25: =ROUNDDOWN(SUM(F25,H25,J25),0) -> #REF!
A26: 제경비 | B26: 직접인건비의110% | C26: 1.1 | F26: =ROUNDDOWN((C26*E26),0) -> 0 | H26: =ROUNDDOWN((C26*G26),0) -> 0 | J26: =ROUNDDOWN(SUM(H23:H25)*1.1,0) -> #REF! | K26: =ROUNDDOWN((SUM(E26,G26,I26)),0) -> 0 | L26: =ROUND((SUM(F26,H26,J26)),0) -> #REF!
A27: 기술료 | B27: (직인+제경비)의20% | C27: 0.2 | H27: =ROUNDDOWN((C27*G27),0) -> 0 | J27: =ROUNDDOWN(SUM(L23:L26)*0.2,0) -> #REF! | K27: =ROUNDDOWN((SUM(E27,G27,I27)),0) -> 0 | L27: =ROUNDDOWN((SUM(F27,H27,J27)),) -> #REF!
A28: 계 | F28: =ROUNDDOWN(SUM(F23:F27),0) -> #REF! | H28: =ROUNDDOWN(SUM(H23:H27),0) -> #REF! | J28: =ROUNDDOWN(SUM(J23:J27),0) -> #REF! | L28: =ROUNDDOWN(SUM(L23:L27),0) -> #REF!
A29: 3.토질조사및시험
A30: 3-1 보오링(NX) | F30: =ROUNDDOWN(($C30*E30),0) -> 0 | H30: =ROUNDDOWN(($C30*G30),0) -> 0 | J30: =ROUNDDOWN(($C30*I30),0) -> 0 | K30: =ROUNDDOWN(SUM(E30,G30,I30),0) -> 0 | L30: =ROUNDDOWN(SUM(F30,H30,J30),0) -> 0
A31: ='지반조사 설계예산서'!A71:G71 -> 0 | C31: ='지반조사 설계예산서'!N71:P71 -> #VALUE! | D31: ='지반조사 설계예산서'!Q71:R71 -> #VALUE! | E31: ='지반조사 설계예산서'!S71:W71 -> #VALUE! | F31: =ROUNDDOWN((C31*E31),0) -> #VALUE! | G31: =#REF! -> #REF! | H31: =ROUNDDOWN((C31*G31),0) -> #VALUE! | J31: =ROUNDDOWN((C31*I31),0) -> #VALUE! | K31: =ROUNDDOWN((SUM(E31,G31,I31)),0) -> #VALUE! | L31: =ROUNDDOWN((SUM(F31,H31,J31)),0) -> #VALUE!
A32: ='지반조사 설계예산서'!A72:G72 -> 0 | C32: ='지반조사 설계예산서'!N72:P72 -> #VALUE! | D32: ='지반조사 설계예산서'!Q72:R72 -> #VALUE! | E32: =#REF! -> #REF! | F32: =ROUNDDOWN((C32*E32),0) -> #VALUE! | G32: =#REF! -> #REF! | H32: =ROUNDDOWN((C32*G32),0) -> #VALUE! | I32: =#REF! -> #REF! | J32: =ROUNDDOWN((C32*I32),0) -> #VALUE! | K32: =ROUNDDOWN((SUM(E32,G32,I32)),0) -> #REF! | L32: =ROUNDDOWN((SUM(F32,H32,J32)),0) -> #VALUE!
A33: ='지반조사 설계예산서'!A73:G73 -> 0 | C33: ='지반조사 설계예산서'!N73:P73 -> #VALUE! | D33: ='지반조사 설계예산서'!Q73:R73 -> #VALUE! | E33: =#REF! -> #REF! | F33: =ROUNDDOWN((C33*E33),0) -> #VALUE! | G33: =#REF! -> #REF! | H33: =ROUNDDOWN((C33*G33),0) -> #VALUE! | I33: =#REF! -> #REF! | J33: =ROUNDDOWN((C33*I33),0) -> #VALUE! | K33: =ROUNDDOWN((SUM(E33,G33,I33)),0) -> #REF! | L33: =ROUNDDOWN((SUM(F33,H33,J33)),0) -> #VALUE!
A34: ='지반조사 설계예산서'!A74:G74 -> 0 | C34: ='지반조사 설계예산서'!N74:P74 -> #VALUE! | D34: ='지반조사 설계예산서'!Q74:R74 -> #VALUE! | E34: =#REF! -> #REF! | F34: =ROUNDDOWN((C34*E34),0) -> #VALUE! | G34: =#REF! -> #REF! | H34: =ROUNDDOWN((C34*G34),0) -> #VALUE! | I34: =#REF! -> #REF! | J34: =ROUNDDOWN((C34*I34),0) -> #VALUE! | K34: =ROUNDDOWN((SUM(E34,G34,I34)),0) -> #REF! | L34: =ROUNDDOWN((SUM(F34,H34,J34)),0) -> #VALUE!
A35: ='지반조사 설계예산서'!A75:G75 -> 0 | C35: ='지반조사 설계예산서'!N75:P75 -> #VALUE! | D35: ='지반조사 설계예산서'!Q75:R75 -> #VALUE! | E35: =#REF! -> #REF! | F35: =ROUNDDOWN((C35*E35),0) -> #VALUE! | G35: =#REF! -> #REF! | H35: =ROUNDDOWN((C35*G35),0) -> #VALUE! | I35: =#REF! -> #REF! | J35: =ROUNDDOWN((C35*I35),0) -> #VALUE! | K35: =ROUNDDOWN((SUM(E35,G35,I35)),0) -> #REF! | L35: =ROUNDDOWN((SUM(F35,H35,J35)),0) -> #VALUE!
A36: ='지반조사 설계예산서'!A76:G76 -> 0 | C36: ='지반조사 설계예산서'!N76:P76 -> #VALUE! | D36: ='지반조사 설계예산서'!Q76:R76 -> #VALUE! | E36: =#REF! -> #REF! | F36: =ROUNDDOWN((C36*E36),0) -> #VALUE! | G36: =#REF! -> #REF! | H36: =ROUNDDOWN((C36*G36),0) -> #VALUE! | I36: =#REF! -> #REF! | J36: =ROUNDDOWN((C36*I36),0) -> #VALUE! | K36: =ROUNDDOWN((SUM(E36,G36,I36)),0) -> #REF! | L36: =ROUNDDOWN((SUM(F36,H36,J36)),0) -> #VALUE!
A37: ='지반조사 설계예산서'!A77:G77 -> 0 | C37: ='지반조사 설계예산서'!N77:P77 -> #VALUE! | D37: ='지반조사 설계예산서'!Q77:R77 -> #VALUE! | E37: =#REF! -> #REF! | F37: =ROUNDDOWN((C37*E37),0) -> #VALUE! | G37: =#REF! -> #REF! | H37: =ROUNDDOWN((C37*G37),0) -> #VALUE! | I37: =#REF! -> #REF! | J37: =ROUNDDOWN((C37*I37),0) -> #VALUE! | K37: =ROUNDDOWN((SUM(E37,G37,I37)),0) -> #REF! | L37: =ROUNDDOWN((SUM(F37,H37,J37)),0) -> #VALUE!
A38: ='지반조사 설계예산서'!A78:G78 -> 0 | C38: ='지반조사 설계예산서'!N78:P78 -> #VALUE! | D38: ='지반조사 설계예산서'!Q78:R78 -> #VALUE! | E38: ='지반조사 설계예산서'!S78:W78 -> #VALUE! | F38: =ROUNDDOWN((C38*E38),0) -> #VALUE! | G38: =#REF!/10 -> #REF! | H38: =ROUNDDOWN((C38*G38),0) -> #VALUE! | I38: =#REF! -> #REF! | J38: =ROUNDDOWN((C38*I38),0) -> #VALUE! | K38: =ROUNDDOWN((SUM(E38,G38,I38)),0) -> #VALUE! | L38: =ROUNDDOWN((SUM(F38,H38,J38)),0) -> #VALUE!
A39: 소계 | F39: =ROUNDDOWN(SUM(F31:F38),0) -> #VALUE! | H39: =ROUNDDOWN(SUM(H31:H38),0) -> #VALUE! | J39: =ROUNDDOWN(SUM(J31:J38),0) -> #VALUE! | K39: =ROUNDDOWN(SUM(E39,G39,I39),0) -> 0 | L39: =ROUNDDOWN(SUM(F39,H39,J39),0) -> #VALUE!
A40: 3-2토질시험 | F40: =ROUNDDOWN(($C40*E40),0) -> 0 | H40: =ROUNDDOWN(($C40*G40),0) -> 0 | J40: =ROUNDDOWN(($C40*I40),0) -> 0 | K40: =ROUNDDOWN(SUM(E40,G40,I40),0) -> 0 | L40: =ROUNDDOWN(SUM(F40,H40,J40),0) -> 0
A41: ='지반조사 설계예산서'!A81:G81 -> 0 | C41: ='지반조사 설계예산서'!N81:P81 -> #VALUE! | D41: ='지반조사 설계예산서'!Q81:R81 -> #VALUE! | F41: =ROUNDDOWN((C41*E41),0) -> #VALUE! | H41: =ROUNDDOWN((C41*G41),0) -> #VALUE! | I41: =20310 -> 20310 | J41: =ROUNDDOWN((C41*I41),0) -> #VALUE! | K41: =ROUNDDOWN((SUM(E41,G41,I41)),0) -> 20310 | L41: =ROUNDDOWN((SUM(F41,H41,J41)),0) -> #VALUE!
...

Sheet 지반조사 설계예산서
A1: 용역명: | E1: =#REF! -> #REF! | AD1: 계약내역서
A3: 공종 | H3: 규격 | N3: 수량 | Q3: 단위 | S3: 재료비 | AD3: 노무비 | AO3: 경비 | AZ3: 합계 | BK3: 비고
S4: 단가 | X4: 금액 | AD4: 단가 | AI4: 금액 | AO4: 단가 | AT4: 금액 | AZ4: 단가 | BE4: 금액
A5: 1.토질조사및시험
A6: 1-1 보오링(NX) | X6: =ROUNDDOWN(($N6*S6),0) -> 0 | AI6: =ROUNDDOWN(($N6*AD6),0) -> 0 | AT6: =ROUNDDOWN(($N6*AO6),0) -> 0 | AZ6: =ROUNDDOWN(SUM(S6,AD6,AO6),0) -> 0 | BE6: =ROUNDDOWN(SUM(X6,AI6,AT6),0) -> 0
A7: 기계기구설치 | N7: ='지반조사 수량산출'!E51 -> 1 | Q7: 개소 | X7: =ROUNDDOWN((N7*S7),0) -> 0 | AD7: =#REF! -> #REF! | AI7: =ROUNDDOWN((N7*AD7),0) -> #REF! | AT7: =ROUNDDOWN((N7*AO7),0) -> 0 | AZ7: =ROUNDDOWN((SUM(S7,AD7,AO7)),0) -> #REF! | BE7: =ROUNDDOWN((SUM(X7,AI7,AT7)),0) -> #REF!
A8: 보오링(NX점토층) | N8: ='지반조사 수량산출'!J9 -> 2 | Q8: m | S8: =#REF! -> #REF! | X8: =ROUNDDOWN((N8*S8),0) -> #REF! | AD8: =#REF! -> #REF! | AI8: =ROUNDDOWN((N8*AD8),0) -> #REF! | AO8: =#REF! -> #REF! | AT8: =ROUNDDOWN((N8*AO8),0) -> #REF! | AZ8: =ROUNDDOWN((SUM(S8,AD8,AO8)),0) -> #REF! | BE8: =ROUNDDOWN((SUM(X8,AI8,AT8)),0) -> #REF!
A9: 보오링(NX모래층) | N9: ='지반조사 수량산출'!J10 -> 1 | Q9: m | S9: =#REF! -> #REF! | X9: =ROUNDDOWN((N9*S9),0) -> #REF! | AD9: =#REF! -> #REF! | AI9: =ROUNDDOWN((N9*AD9),0) -> #REF! | AO9: =#REF! -> #REF! | AT9: =ROUNDDOWN((N9*AO9),0) -> #REF! | AZ9: =ROUNDDOWN((SUM(S9,AD9,AO9)),0) -> #REF! | BE9: =ROUNDDOWN((SUM(X9,AI9,AT9)),0) -> #REF!
A10: 보오링(NX자갈층) | N10: ='지반조사 수량산출'!J11 -> 2 | Q10: m | S10: =#REF! -> #REF! | X10: =ROUNDDOWN((N10*S10),0) -> #REF! | AD10: =#REF! -> #REF! | AI10: =ROUNDDOWN((N10*AD10),0) -> #REF! | AO10: =#REF! -> #REF! | AT10: =ROUNDDOWN((N10*AO10),0) -> #REF! | AZ10: =ROUNDDOWN((SUM(S10,AD10,AO10)),0) -> #REF! | BE10: =ROUNDDOWN((SUM(X10,AI10,AT10)),0) -> #REF!
A11: 보오링(NX풍화암) | N11: ='지반조사 수량산출'!J12 -> 1 | Q11: m | S11: =#REF! -> #REF! | X11: =ROUNDDOWN((N11*S11),0) -> #REF! | AD11: =#REF! -> #REF! | AI11: =ROUNDDOWN((N11*AD11),0) -> #REF! | AO11: =#REF! -> #REF! | AT11: =ROUNDDOWN((N11*AO11),0) -> #REF! | AZ11: =ROUNDDOWN((SUM(S11,AD11,AO11)),0) -> #REF! | BE11: =ROUNDDOWN((SUM(X11,AI11,AT11)),0) -> #REF!
A12: 보오링(NX연암) | N12: ='지반조사 수량산출'!J13 -> 1 | Q12: m | S12: =#REF! -> #REF! | X12: =ROUNDDOWN((N12*S12),0) -> #REF! | AD12: =#REF! -> #REF! | AI12: =ROUNDDOWN((N12*AD12),0) -> #REF! | AO12: =#REF! -> #REF! | AT12: =ROUNDDOWN((N12*AO12),0) -> #REF! | AZ12: =ROUNDDOWN((SUM(S12,AD12,AO12)),0) -> #REF! | BE12: =ROUNDDOWN((SUM(X12,AI12,AT12)),0) -> #REF!
A13: 표준관입시험 | N13: ='지반조사 수량산출'!I35 -> 4 | Q13: 회 | S13: =#REF! -> #REF! | X13: =ROUNDDOWN((N13*S13),0) -> #REF! | AD13: =#REF! -> #REF! | AI13: =ROUNDDOWN((N13*AD13),0) -> #REF! | AO13: =#REF! -> #REF! | AT13: =ROUNDDOWN((N13*AO13),0) -> #REF! | AZ13: =ROUNDDOWN((SUM(S13,AD13,AO13)),0) -> #REF! | BE13: =ROUNDDOWN((SUM(X13,AI13,AT13)),0) -> #REF!
A14: 폐공처리비 | N14: ='지반조사 수량산출'!E60 -> 1 | Q14: m | S14: 0 | X14: =ROUNDDOWN((N14*S14),0) -> 0 | AD14: =#REF!/10 -> #REF! | AI14: =ROUNDDOWN((N14*AD14),0) -> #REF! | AO14: =#REF! -> #REF! | AT14: =ROUNDDOWN((N14*AO14),0) -> #REF! | AZ14: =ROUNDDOWN((SUM(S14,AD14,AO14)),0) -> #REF! | BE14: =ROUNDDOWN((SUM(X14,AI14,AT14)),0) -> #REF!
A15: 소계 | X15: =ROUNDDOWN(SUM(X7:AC14),0) -> #REF! | AI15: =ROUNDDOWN(SUM(AI7:AN14),0) -> #REF! | AT15: =ROUNDDOWN(SUM(AT7:AY14),0) -> #REF! | AZ15: =ROUNDDOWN(SUM(S15,AD15,AO15),0) -> 0 | BE15: =ROUNDDOWN(SUM(X15,AI15,AT15),0) -> #REF!
A16: 1-2토질시험 | X16: =ROUNDDOWN(($N16*S16),0) -> 0 | AI16: =ROUNDDOWN(($N16*AD16),0) -> 0 | AT16: =ROUNDDOWN(($N16*AO16),0) -> 0 | AZ16: =ROUNDDOWN(SUM(S16,AD16,AO16),0) -> 0 | BE16: =ROUNDDOWN(SUM(X16,AI16,AT16),0) -> 0
A17: 함수비 | N17: 1 | Q17: 회 | X17: =ROUNDDOWN((N17*S17),0) -> 0 | AI17: =ROUNDDOWN((N17*AD17),0) -> 0 | AO17: =20310 -> 20310 | AT17: =ROUNDDOWN((N17*AO17),0) -> 20310 | AZ17: =ROUNDDOWN((SUM(S17,AD17,AO17)),0) -> 20310 | BE17: =ROUNDDOWN((SUM(X17,AI17,AT17)),0) -> 20310
A18: 밀도 | N18: =N17 -> 1 | Q18: 회 | X18: =ROUNDDOWN((N18*S18),0) -> 0 | AI18: =ROUNDDOWN((N18*AD18),0) -> 0 | AO18: =50740 -> 50740 | AT18: =ROUNDDOWN((N18*AO18),0) -> 50740 | AZ18: =ROUNDDOWN((SUM(S18,AD18,AO18)),0) -> 50740 | BE18: =ROUNDDOWN((SUM(X18,AI18,AT18)),0) -> 50740
A19: 0.08mm체통과량 | N19: =N18 -> 1 | Q19: 회 | X19: =ROUNDDOWN((N19*S19),0) -> 0 | AI19: =ROUNDDOWN((N19*AD19),0) -> 0 | AO19: =48150 -> 48150 | AT19: =ROUNDDOWN((N19*AO19),0) -> 48150 | AZ19: =ROUNDDOWN((SUM(S19,AD19,AO19)),0) -> 48150 | BE19: =ROUNDDOWN((SUM(X19,AI19,AT19)),0) -> 48150
A20: 입도 | N20: =N19 -> 1 | Q20: 회 | X20: =ROUNDDOWN((N20*S20),0) -> 0 | AI20: =ROUNDDOWN((N20*AD20),0) -> 0 | AO20: =288990 -> 288990 | AT20: =ROUNDDOWN((N20*AO20),0) -> 288990 | AZ20: =ROUNDDOWN((SUM(S20,AD20,AO20)),0) -> 288990 | BE20: =ROUNDDOWN((SUM(X20,AI20,AT20)),0) -> 288990
A21: 현장밀도(시내) | N21: =N20 -> 1 | Q21: 회 | X21: =ROUNDDOWN((N21*S21),0) -> 0 | AI21: =ROUNDDOWN((N21*AD21),0) -> 0 | AO21: =246250-30836 -> 215414 | AT21: =ROUNDDOWN((N21*AO21),0) -> 215414 | AZ21: =ROUNDDOWN((SUM(S21,AD21,AO21)),0) -> 215414 | BE21: =ROUNDDOWN((SUM(X21,AI21,AT21)),0) -> 215414
A22: 소계 | X22: =ROUNDDOWN(SUM(X17:AC21),0) -> 0 | AI22: =ROUNDDOWN(SUM(AI17:AN21),0) -> 0 | AT22: =ROUNDDOWN(SUM(AT17:AY21),0) -> 623604 | AZ22: =ROUNDDOWN(SUM(S22,AD22,AO22),0) -> 0 | BE22: =ROUNDDOWN(SUM(X22,AI22,AT22),0) -> 623604
A23: 총계 | X23: =X15+X22 -> #REF! | AI23: =AI15+AI22 -> #REF! | AT23: =AT15+AT22 -> #REF! | BE23: =BE15+BE22 -> #REF!
A24: 공급가액 | BE24: =ROUNDDOWN(SUM(BE23:BJ23),0)-BN24 -> #REF!
A25: 도급액 | BE25: =SUM(BE24:BJ24) -> #REF!

Sheet 지반조사 수량산출
A1: 토 질 조 사 수 량 산 출 서
A3: 가. 현장조사비
N4: 성토 | O4: BX보링
A5: 1. 보링조사 : | B5: 총 | C5: 1 | D5: 공 | N5: 절토 | O5: NX보링
H6: (단위 : m) | N6: 구조물 | O6: =+O5 -> NX보링
A7: 구분 | B7: 심도 | J7: 계 | L7: 비고 | N7: 시험굴
B8: BX( 0공) | F8: NX( 1공) | N8: 블럭시료
A9: 점 토 | B9: 0 | F9: 2 | J9: =SUM(B9:F9) -> 2 | N9: 오거보링
A10: 모 래 | B10: 0 | F10: 1 | J10: =SUM(B10:F10) -> 1
A11: 자 갈 | B11: 0 | F11: 2 | J11: =SUM(B11:F11) -> 2
A12: 풍화암 | B12: 0 | F12: =J27 -> 1 | J12: =SUM(B12:F12) -> 1
A13: 연 암 | B13: 0 | F13: =J28 -> 1 | J13: =SUM(B13:F13) -> 1
A14: 보통암 | F14: =J29 -> 0 | J14: =SUM(B14:F14) -> 0
A15: 경 암 | F15: =J30 -> 0 | J15: =SUM(B15:F15) -> 0
A16: 계 | B16: =SUM(B9:E15) -> 0 | F16: =SUM(F9:I15) -> 7 | J16: =SUM(J9:K15) -> 7
A18: ※ 세부 산출내역
A20: ○ 시추조사 2회
A21: 구분 | B21: BX | E21: NX | K21: 총 심도 | L21: 비고
B22: 성토부 | E22: 절토부 | H22: 구조물
B23: 공별심도 | C23: 수량 | D23: 계 | E23: 공별심도 | F23: 수량 | G23: 계 | H23: 공별심도 | I23: 수량 | J23: 계
A24: 점 토 | B24: 0 | C24: 0 | D24: =B24*C24 -> 0 | E24: 0 | F24: 0 | G24: =E24*F24 -> 0 | H24: 1 | I24: 1 | J24: =H24*I24 -> 1 | K24: =SUM(D24+G24+J24) -> 1
A25: 모 래 | B25: 0 | C25: =C24 -> 0 | D25: =B25*C25 -> 0 | E25: 0 | F25: =F24 -> 0 | G25: =E25*F25 -> 0 | H25: 1 | I25: 1 | J25: =H25*I25 -> 1 | K25: =SUM(D25+G25+J25) -> 1
A26: 자 갈 | B26: 0 | C26: =C25 -> 0 | D26: =B26*C26 -> 0 | E26: 0 | F26: =F25 -> 0 | G26: =E26*F26 -> 0 | H26: 1 | I26: =I25 -> 1 | J26: =H26*I26 -> 1 | K26: =SUM(D26+G26+J26) -> 1
A27: 풍화암 | B27: 0 | C27: =C26 -> 0 | D27: =B27*C27 -> 0 | E27: 0 | F27: =F26 -> 0 | G27: =E27*F27 -> 0 | H27: 1 | I27: =I26 -> 1 | J27: =H27*I27 -> 1 | K27: =SUM(D27+G27+J27) -> 1
A28: 연 암 | B28: 0 | C28: =C27 -> 0 | D28: =B28*C28 -> 0 | E28: 0 | F28: =F27 -> 0 | G28: =E28*F28 -> 0 | H28: 1 | I28: =I27 -> 1 | J28: =H28*I28 -> 1 | K28: =SUM(D28+G28+J28) -> 1
A29: 보통암 | E29: 0 | F29: =F28 -> 0 | G29: =E29*F29 -> 0 | K29: =SUM(D29+G29+J29) -> 0
A30: 경 암 | E30: 0 | F30: =F29 -> 0 | G30: =E30*F30 -> 0 | K30: =SUM(D30+G30+J30) -> 0
A31: 계 | B31: =SUM(B24:B30) -> 0 | C31: =C24 -> 0 | D31: =SUM(D24:D30) -> 0 | E31: =SUM(E24:E30) -> 0 | F31: =F24 -> 0 | G31: =SUM(G24:G30) -> 0 | H31: =SUM(H24:H30) -> 5 | I31: =I24 -> 1 | J31: =SUM(J24:J30) -> 5 | K31: =SUM(D31+G31+J31) -> 5
A33: 2. 원위치시험
A34: 구 분 | D34: 빈도 | H34: 단위 | I34: 수량 | L34: 비고
A35: 표준관입시험 | D35: 풍화암까지 1.0m마다 | H35: 회 | I35: =SUM(J24:J27)/1 -> 4
A36: 핸드오거보링 | D36: 성토부 | H36: 회 | I36: 0
A37: ※ 표준관입시험: | B37: BX : 0m / 1.0m = 0회
B38: NX : 8m / 1.0m = 8회 계 : 8 회
A40: 3. 시료채취
A41: 구 분 | D41: 빈도 | H41: 단위 | I41: 수량 | L41: 비고
A42: 시험굴시료 채취 | D42: 절토부, 개소당 | H42: 회 | I42: 0
A43: 시험굴시료 운반 | D43: 절토부, 개소당 | H43: 회 | I43: 0
A44: 블록시료 채취 | D44: 대절토 사면 발생부, 개소당 | H44: 회 | I44: 0
A45: 자연시료채취 | D45: 성토부(연약지반), 개소당 | H45: 회 | I45: 0
...

Sheet 지장물조사 설계예산서
A1: 용역명: | E1: =#REF! -> #REF! | AD1: 일 위 대 가
A3: 공종 | H3: 규격 | N3: 수량 | Q3: 단위 | S3: 재료비 | AD3: 노무비 | AO3: 경비 | AZ3: 합계 | BK3: 비고
S4: 단가 | X4: 금액 | AD4: 단가 | AI4: 금액 | AO4: 단가 | AT4: 금액 | AZ4: 단가 | BE4: 금액
A5: 2.지장물 조사
A6: 인력굴착 | X6: =ROUNDDOWN(($N6*S6),0) -> 0 | AI6: =ROUNDDOWN(($N6*AD6),0) -> 0 | AT6: =ROUNDDOWN(($N6*AO6),0) -> 0 | AZ6: =ROUNDDOWN(SUM(S6,AD6,AO6),0) -> 0 | BE6: =ROUNDDOWN(SUM(X6,AI6,AT6),0) -> 0
A7: 터파기 및 되메우기 | H7: (0~2m) | N7: =#REF! -> #REF! | Q7: ㎥ | S7: =#REF! -> #REF! | X7: =ROUNDDOWN((N7*S7),0) -> #REF! | AD7: =#REF! -> #REF! | AI7: =ROUNDDOWN((N7*AD7),0) -> #REF! | AO7: =#REF! -> #REF! | AT7: =ROUNDDOWN((N7*AO7),0) -> #REF! | AZ7: =ROUNDDOWN((SUM(S7,AD7,AO7)),0) -> #REF! | BE7: =ROUNDDOWN((SUM(X7,AI7,AT7)),0) -> #REF!
A8: 소계 | X8: =ROUNDDOWN(SUM(X7:AC7),0) -> #REF! | AI8: =ROUNDDOWN(SUM(AI7:AN7),0) -> #REF! | AT8: =ROUNDDOWN(SUM(AT7:AY7),0) -> #REF! | AZ8: =ROUNDDOWN(SUM(S8,AD8,AO8),0) -> 0 | BE8: =ROUNDDOWN(SUM(X8,AI8,AT8),0) -> #REF!
A9: 보도 철거 및 복구 | X9: =ROUNDDOWN(($N9*S9),0) -> 0 | AI9: =ROUNDDOWN(($N9*AD9),0) -> 0 | AT9: =ROUNDDOWN(($N9*AO9),0) -> 0 | AZ9: =ROUNDDOWN(SUM(S9,AD9,AO9),0) -> 0 | BE9: =ROUNDDOWN(SUM(X9,AI9,AT9),0) -> 0
A10: 보도철거 | N10: =#REF!/100 -> #REF! | Q10: a | S10: =#REF! -> #REF! | X10: =ROUNDDOWN((N10*S10),0) -> #REF! | AD10: =#REF! -> #REF! | AI10: =ROUNDDOWN((N10*AD10),0) -> #REF! | AO10: =#REF! -> #REF! | AT10: =ROUNDDOWN((N10*AO10),0) -> #REF! | AZ10: =ROUNDDOWN((SUM(S10,AD10,AO10)),0) -> #REF! | BE10: =ROUNDDOWN((SUM(X10,AI10,AT10)),0) -> #REF!
A11: 보도복구 | N11: =#REF!/100 -> #REF! | Q11: a | S11: =#REF! -> #REF! | X11: =ROUNDDOWN((N11*S11),0) -> #REF! | AD11: =#REF! -> #REF! | AI11: =ROUNDDOWN((N11*AD11),0) -> #REF! | AO11: =#REF! -> #REF! | AT11: =ROUNDDOWN((N11*AO11),0) -> #REF! | AZ11: =ROUNDDOWN((SUM(S11,AD11,AO11)),0) -> #REF! | BE11: =ROUNDDOWN((SUM(X11,AI11,AT11)),0) -> #REF!
A12: 소계 | X12: =ROUNDDOWN(SUM(X10:AC11),0) -> #REF! | AI12: =ROUNDDOWN(SUM(AI10:AN11),0) -> #REF! | AT12: =ROUNDDOWN(SUM(AT10:AY11),0) -> #REF! | AZ12: =ROUNDDOWN(SUM(S12,AD12,AO12),0) -> 0 | BE12: =ROUNDDOWN(SUM(X12,AI12,AT12),0) -> #REF!
A13: 총계 | X13: =X8+X12 -> #REF! | AI13: =AI8+AI12 -> #REF! | AT13: =AT8+AT12 -> #REF! | BE13: =BE8+BE12 -> #REF!
A14: 공급가액 | BE14: =ROUNDDOWN(SUM(BE13:BJ13)-BN14,0) -> #REF!
A15: 도급액 | BE15: =SUM(BE14:BJ14) -> #REF!
