Workbook
Name _: #N/A
Name _?ó_ü?Ì?æ: #REF!
Name _______HSH1: #REF!
Name _______HSH2: #REF!
Name _______NP1: #REF!
Name _______NP2: #REF!
Name _______NSH1: #REF!
Name _______NSH2: #REF!
Name ______HSH1: #REF!
Name ______HSH2: #REF!
Name ______NP1: #REF!
Name ______NP2: #REF!
Name ______NSH1: #REF!
Name ______NSH2: #REF!
Name ______SBB1: #REF!
Name ______SBB2: #REF!
Name ______SBB3: #REF!
Name ______SBB4: #REF!
Name ______SBB5: #REF!
Name ______SHH1: #REF!
Name ______SHH2: #REF!
Name ______SHH3: #REF!
Name _____aab42: #REF!
Name _____GHH1: #REF!
Name _____GHH2: #REF!
Name _____HSH1: #REF!
Name _____HSH2: #REF!
Name _____JEA1: #REF!
Name _____JEA2: #REF!
Name _____MaL1: #REF!
Name _____MaL2: #REF!
Name _____NP1: #REF!
Name _____NP2: #REF!
Name _____NSH1: #REF!
Name _____NSH2: #REF!
Name _____pa1: #REF!
Name _____pa2: #REF!
Name _____pl1: #REF!
Name _____PL2: #REF!
Name _____PL3: #REF!
Name _____SBB1: #REF!
Name _____SBB2: #REF!
Name _____SBB3: #REF!
Name _____SBB4: #REF!
Name _____SBB5: #REF!
Name _____SHH1: #REF!
Name _____SHH2: #REF!
Name _____SHH3: #REF!
Name _____t3: #REF!
Name _____T4: #REF!
Name _____Ted1: #REF!
Name _____Ts1: #REF!
Name _____Ty1: #REF!
Name _____Ty2: #REF!
Name _____wb1: #REF!
Name _____wb2: #REF!
Name _____wb3: #REF!
Name _____xx1: #REF!
Name _____xx10: #REF!
Name _____xx2: #REF!

Sheet 총괄내역서
A1: 총 괄 내 역 서
A2: 성동구 아차산로 감성가로 조성사업 기본 및 실시설계 용역
A3: 공 종 | B3: 규격 | C3: 수량 | D3: 단위 | E3: 재 료 비 | G3: 노 무 비 | I3: 경 비 | K3: 합 계 | M3: 비고
E4: 단가 | F4: 금액 | G4: 단가 | H4: 금액 | I4: 단가 | J4: 금액 | K4: 단가 | L4: 금액
A5: 1. 기본및실시설계 | C5: 1 | D5: 식
A6: 소 계
A7: 2. 디자인설계 및 심의 | C7: 1 | D7: 식
A8: 3. 제경비 | C8: 110 | D8: %
A9: 4. 창작료 | C9: 20 | D9: %
A10: 소 계
A11: 5. 전문가 자문 | C11: 2 | D11: 회
A12: 6.공급가액
A13: 7.손해보험료 | C13: 1 | D13: 식
A14: 8.부가가치세 | E14: 공급가액의 10% | L14: =ROUNDDOWN(((L12+L13)*0.1),0) -> 0
A15: 총용역비 | L15: =L12+L13+L14 -> 0
A17: 공종 | B17: 규격 | C17: 수량 | D17: 단위 | E17: 재료비 | G17: 노무비 | I17: 경비 | K17: 합계 | M17: 비고
E18: 단가 | F18: 금액 | G18: 단가 | H18: 금액 | I18: 단가 | J18: 금액 | K18: 단가 | L18: 금액
A19: 1.실시설계비
A20: 실시설계비 | C20: 1 | D20: 식 | F20: =ROUNDDOWN(($C20*E20),0) -> 0 | H20: =ROUNDDOWN(($C20*G20),0) -> 0 | I20: =#REF! -> #REF! | J20: =ROUNDDOWN(($C20*I20),0) -> #REF! | K20: =ROUNDDOWN(SUM(E20,G20,I20),0) -> #REF! | L20: =ROUNDDOWN(SUM(F20,H20,J20),0) -> #REF!
A21: 계 | F21: =ROUNDDOWN(SUM(F20),0) -> 0 | H21: =ROUNDDOWN(SUM(H20),0) -> 0 | J21: =ROUNDDOWN(SUM(J20),0) -> #REF! | L21: =ROUNDDOWN(SUM(L20),0) -> #REF!
A22: 2.측량비
A23: =#REF! -> #REF! | B23: (시가지)km당 | C23: =#REF! -> #REF! | D23: km | F23: =ROUNDDOWN(($C23*E23),0) -> #REF! | G23: =(+#REF!) -> #REF! | H23: =ROUNDDOWN(($C23*G23),0) -> #REF! | I23: =#REF! -> #REF! | J23: =ROUNDDOWN(($C23*I23),0) -> #REF! | K23: =ROUNDDOWN(SUM(E23,G23,I23),0) -> #REF! | L23: =ROUNDDOWN(SUM(F23,H23,J23),0) -> #REF!
A24: =#REF! -> #REF! | B24: (시가지)km당 | C24: =#REF! -> #REF! | D24: km | F24: =ROUNDDOWN(($C24*E24),0) -> #REF! | G24: =(+#REF!) -> #REF! | H24: =ROUNDDOWN(($C24*G24),0) -> #REF! | I24: =#REF! -> #REF! | J24: =ROUNDDOWN(($C24*I24),0) -> #REF! | K24: =ROUNDDOWN(SUM(E24,G24,I24),0) -> #REF! | L24: =ROUNDDOWN(SUM(F24,H24,J24),0) -> #REF!
A25: =#REF! -> #REF! | B25: (시가지)km당 | C25: =#REF! -> #REF! | D25: km | F25: =ROUNDDOWN(($C25*E25),0) -> #REF! | G25: =(+#REF!) -> #REF! | H25: =ROUNDDOWN(($C25*G25),0) -> #REF! | I25: =#REF! -> #REF! | J25: =ROUNDDOWN(($C25*I25),0) -> #REF! | K25: =ROUNDDOWN(SUM(E25,G25,I25),0) -> #REF! | L25: =ROUNDDOWN(SUM(F25,H25,J25),0) -> #REF!
A26: 제경비 | B26: 직접인건비의110% | C26: 1.1 | F26: =ROUNDDOWN((C26*E26),0) -> 0 | H26: =ROUNDDOWN((C26*G26),0) -> 0 | J26: =ROUNDDOWN(SUM(H23:H25)*1.1,0) -> #REF! | K26: =ROUNDDOWN((SUM(E26,G26,I26)),0) -> 0 | L26: =ROUND((SUM(F26,H26,J26)),0) -> #REF!
A27: 기술료 | B27: (직인+제경비)의20% | C27: 0.2 | H27: =ROUNDDOWN((C27*G27),0) -> 0 | J27: =ROUNDDOWN(SUM(L23:L26)*0.2,0) -> #REF! | K27: =ROUNDDOWN((SUM(E27,G27,I27)),0) -> 0 | L27: =ROUNDDOWN((SUM(F27,H27,J27)),) -> #REF!
A28: 계 | F28: =ROUNDDOWN(SUM(F23:F27),0) -> #REF! | H28: =ROUNDDOWN(SUM(H23:H27),0) -> #REF! | J28: =ROUNDDOWN(SUM(J23:J27),0) -> #REF! | L28: =ROUNDDOWN(SUM(L23:L27),0) -> #REF!
A29: 3.토질조사및시험
A30: 3-1 보오링(NX) | F30: =ROUNDDOWN(($C30*E30),0) -> 0 | H30: =ROUNDDOWN(($C30*G30),0) -> 0 | J30: =ROUNDDOWN(($C30*I30),0) -> 0 | K30: =ROUNDDOWN(SUM(E30,G30,I30),0) -> 0 | L30: =ROUNDDOWN(SUM(F30,H30,J30),0) -> 0
A31: ='지반조사 설계예산서'!A71:G71 -> 0 | C31: ='지반조사 설계예산서'!N71:P71 -> #VALUE! | D31: ='지반조사 설계예산서'!Q71:R71 -> #VALUE! | E31: ='지반조사 설계예산서'!S71:W71 -> #VALUE! | F31: =ROUNDDOWN((C31*E31),0) -> #VALUE! | G31: =#REF! -> #REF! | H31: =ROUNDDOWN((C31*G31),0) -> #VALUE! | J31: =ROUNDDOWN((C31*I31),0) -> #VALUE! | K31: =ROUNDDOWN((SUM(E31,G31,I31)),0) -> #VALUE! | L31: =ROUNDDOWN((SUM(F31,H31,J31)),0) -> #VALUE!
A32: ='지반조사 설계예산서'!A72:G72 -> 0 | C32: ='지반조사 설계예산서'!N72:P72 -> #VALUE! | D32: ='지반조사 설계예산서'!Q72:R72 -> #VALUE! | E32: =#REF! -> #REF! | F32: =ROUNDDOWN((C32*E32),0) -> #VALUE! | G32: =#REF! -> #REF! | H32: =ROUNDDOWN((C32*G32),0) -> #VALUE! | I32: =#REF! -> #REF! | J32: =ROUNDDOWN((C32*I32),0) -> #VALUE! | K32: =ROUNDDOWN((SUM(E32,G32,I32)),0) -> #REF! | L32: =ROUNDDOWN((SUM(F32,H32,J32)),0) -> #VALUE!
A33: ='지반조사 설계예산서'!A73:G73 -> 0 | C33: ='지반조사 설계예산서'!N73:P73 -> #VALUE! | D33: ='지반조사 설계예산서'!Q73:R73 -> #VALUE! | E33: =#REF! -> #REF! | F33: =ROUNDDOWN((C33*E33),0) -> #VALUE! | G33: =#REF! -> #REF! | H33: =ROUNDDOWN((C33*G33),0) -> #VALUE! | I33: =#REF! -> #REF! | J33: =ROUNDDOWN((C33*I33),0) -> #VALUE! | K33: =ROUNDDOWN((SUM(E33,G33,I33)),0) -> #REF! | L33: =ROUNDDOWN((SUM(F33,H33,J33)),0) -> #VALUE!
A34: ='지반조사 설계예산서'!A74:G74 -> 0 | C34: ='지반조사 설계예산서'!N74:P74 -> #VALUE! | D34: ='지반조사 설계예산서'!Q74:R74 -> #VALUE! | E34: =#REF! -> #REF! | F34: =ROUNDDOWN((C34*E34),0) -> #VALUE! | G34: =#REF! -> #REF! | H34: =ROUNDDOWN((C34*G34),0) -> #VALUE! | I34: =#REF! -> #REF! | J34: =ROUNDDOWN((C34*I34),0) -> #VALUE! | K34: =ROUNDDOWN((SUM(E34,G34,I34)),0) -> #REF! | L34: =ROUNDDOWN((SUM(F34,H34,J34)),0) -> #VALUE!
A35: ='지반조사 설계예산서'!A75:G75 -> 0 | C35: ='지반조사 설계예산서'!N75:P75 -> #VALUE! | D35: ='지반조사 설계예산서'!Q75:R75 -> #VALUE! | E35: =#REF! -> #REF! | F35: =ROUNDDOWN((C35*E35),0) -> #VALUE! | G35: =#REF! -> #REF! | H35: =ROUNDDOWN((C35*G35),0) -> #VALUE! | I35: =#REF! -> #REF! | J35: =ROUNDDOWN((C35*I35),0) -> #VALUE! | K35: =ROUNDDOWN((SUM(E35,G35,I35)),0) -> #REF! | L35: =ROUNDDOWN((SUM(F35,H35,J35)),0) -> #VALUE!
A36: ='지반조사 설계예산서'!A76:G76 -> 0 | C36: ='지반조사 설계예산서'!N76:P76 -> #VALUE! | D36: ='지반조사 설계예산서'!Q76:R76 -> #VALUE! | E36: =#REF! -> #REF! | F36: =ROUNDDOWN((C36*E36),0) -> #VALUE! | G36: =#REF! -> #REF! | H36: =ROUNDDOWN((C36*G36),0) -> #VALUE! | I36: =#REF! -> #REF! | J36: =ROUNDDOWN((C36*I36),0) -> #VALUE! | K36: =ROUNDDOWN((SUM(E36,G36,I36)),0) -> #REF! | L36: =ROUNDDOWN((SUM(F36,H36,J36)),0) -> #VALUE!
A37: ='지반조사 설계예산서'!A77:G77 -> 0 | C37: ='지반조사 설계예산서'!N77:P77 -> #VALUE! | D37: ='지반조사 설계예산서'!Q77:R77 -> #VALUE! | E37: =#REF! -> #REF! | F37: =ROUNDDOWN((C37*E37),0) -> #VALUE! | G37: =#REF! -> #REF! | H37: =ROUNDDOWN((C37*G37),0) -> #VALUE! | I37: =#REF! -> #REF! | J37: =ROUNDDOWN((C37*I37),0) -> #VALUE! | K37: =ROUNDDOWN((SUM(E37,G37,I37)),0) -> #REF! | L37: =ROUNDDOWN((SUM(F37,H37,J37)),0) -> #VALUE!
A38: ='지반조사 설계예산서'!A78:G78 -> 0 | C38: ='지반조사 설계예산서'!N78:P78 -> #VALUE! | D38: ='지반조사 설계예산서'!Q78:R78 -> #VALUE! | E38: ='지반조사 설계예산서'!S78:W78 -> #VALUE! | F38: =ROUNDDOWN((C38*E38),0) -> #VALUE! | G38: =#REF!/10 -> #REF! | H38: =ROUNDDOWN((C38*G38),0) -> #VALUE! | I38: =#REF! -> #REF! | J38: =ROUNDDOWN((C38*I38),0) -> #VALUE! | K38: =ROUNDDOWN((SUM(E38,G38,I38)),0) -> #VALUE! | L38: =ROUNDDOWN((SUM(F38,H38,J38)),0) -> #VALUE!
A39: 소계 | F39: =ROUNDDOWN(SUM(F31:F38),0) -> #VALUE! | H39: =ROUNDDOWN(SUM(H31:H38),0) -> #VALUE! | J39: =ROUNDDOWN(SUM(J31:J38),0) -> #VALUE! | K39: =ROUNDDOWN(SUM(E39,G39,I39),0) -> 0 | L39: =ROUNDDOWN(SUM(F39,H39,J39),0) -> #VALUE!
A40: 3-2토질시험 | F40: =ROUNDDOWN(($C40*E40),0) -> 0 | H40: =ROUNDDOWN(($C40*G40),0) -> 0 | J40: =ROUNDDOWN(($C40*I40),0) -> 0 | K40: =ROUNDDOWN(SUM(E40,G40,I40),0) -> 0 | L40: =ROUNDDOWN(SUM(F40,H40,J40),0) -> 0
A41: ='지반조사 설계예산서'!A81:G81 -> 0 | C41: ='지반조사 설계예산서'!N81:P81 -> #VALUE! | D41: ='지반조사 설계예산서'!Q81:R81 -> #VALUE! | F41: =ROUNDDOWN((C41*E41),0) -> #VALUE! | H41: =ROUNDDOWN((C41*G41),0) -> #VALUE! | I41: =20310 -> 20310 | J41: =ROUNDDOWN((C41*I41),0) -> #VALUE! | K41: =ROUNDDOWN((SUM(E41,G41,I41)),0) -> 20310 | L41: =ROUNDDOWN((SUM(F41,H41,J41)),0) -> #VALUE!
A42: ='지반조사 설계예산서'!A82:G82 -> 0 | C42: ='지반조사 설계예산서'!N82:P82 -> #VALUE! | D42: ='지반조사 설계예산서'!Q82:R82 -> #VALUE! | F42: =ROUNDDOWN((C42*E42),0) -> #VALUE! | H42: =ROUNDDOWN((C42*G42),0) -> #VALUE! | I42: =50740 -> 50740 | J42: =ROUNDDOWN((C42*I42),0) -> #VALUE! | K42: =ROUNDDOWN((SUM(E42,G42,I42)),0) -> 50740 | L42: =ROUNDDOWN((SUM(F42,H42,J42)),0) -> #VALUE!
A43: ='지반조사 설계예산서'!A83:G83 -> 0 | C43: ='지반조사 설계예산서'!N83:P83 -> #VALUE! | D43: ='지반조사 설계예산서'!Q83:R83 -> #VALUE! | F43: =ROUNDDOWN((C43*E43),0) -> #VALUE! | H43: =ROUNDDOWN((C43*G43),0) -> #VALUE! | I43: =48150 -> 48150 | J43: =ROUNDDOWN((C43*I43),0) -> #VALUE! | K43: =ROUNDDOWN((SUM(E43,G43,I43)),0) -> 48150 | L43: =ROUNDDOWN((SUM(F43,H43,J43)),0) -> #VALUE!
A44: ='지반조사 설계예산서'!A84:G84 -> 0 | C44: ='지반조사 설계예산서'!N84:P84 -> #VALUE! | D44: ='지반조사 설계예산서'!Q84:R84 -> #VALUE! | F44: =ROUNDDOWN((C44*E44),0) -> #VALUE! | H44: =ROUNDDOWN((C44*G44),0) -> #VALUE! | I44: =288990 -> 288990 | J44: =ROUNDDOWN((C44*I44),0) -> #VALUE! | K44: =ROUNDDOWN((SUM(E44,G44,I44)),0) -> 288990 | L44: =ROUNDDOWN((SUM(F44,H44,J44)),0) -> #VALUE!
A45: ='지반조사 설계예산서'!A85:G85 -> 0 | C45: ='지반조사 설계예산서'!N85:P85 -> #VALUE! | D45: ='지반조사 설계예산서'!Q85:R85 -> #VALUE! | F45: =ROUNDDOWN((C45*E45),0) -> #VALUE! | H45: =ROUNDDOWN((C45*G45),0) -> #VALUE! | I45: =246250-30836 -> 215414 | J45: =ROUNDDOWN((C45*I45),0) -> #VALUE! | K45: =ROUNDDOWN((SUM(E45,G45,I45)),0) -> 215414 | L45: =ROUNDDOWN((SUM(F45,H45,J45)),0) -> #VALUE!
A46: 소계 | F46: =ROUNDDOWN(SUM(F41:F45),0) -> #VALUE! | H46: =ROUNDDOWN(SUM(H41:H45),0) -> #VALUE! | J46: =ROUNDDOWN(SUM(J41:J45),0) -> #VALUE! | K46: =ROUNDDOWN(SUM(E46,G46,I46),0) -> 0 | L46: =ROUNDDOWN(SUM(F46,H46,J46),0) -> #VALUE!
A47: 3-3 지하매설물조사비 | F47: =ROUNDDOWN(($C47*E47),0) -> 0 | H47: =ROUNDDOWN(($C47*G47),0) -> 0 | J47: =ROUNDDOWN(($C47*I47),0) -> 0 | K47: =ROUNDDOWN(SUM(E47,G47,I47),0) -> 0 | L47: =ROUNDDOWN(SUM(F47,H47,J47),0) -> 0
A48: ='지장물조사 설계예산서'!A71:G71 -> 0 | B48: B=1m, L=1m | C48: ='지장물조사 설계예산서'!N71:P71 -> #VALUE! | D48: ='지장물조사 설계예산서'!Q71:R71 -> #VALUE! | E48: =#REF! -> #REF! | F48: =ROUNDDOWN((C48*E48),0) -> #VALUE! | G48: =#REF! -> #REF! | H48: =ROUNDDOWN((C48*G48),0) -> #VALUE! | I48: ='지장물조사 설계예산서'!AO71:AS71 -> #VALUE! | J48: =ROUNDDOWN((C48*I48),0) -> #VALUE! | K48: =ROUNDDOWN((SUM(E48,G48,I48)),0) -> #REF! | L48: =ROUNDDOWN((SUM(F48,H48,J48)),0) -> #VALUE!
A49: ='지장물조사 설계예산서'!A74:G74 -> 0 | C49: ='지장물조사 설계예산서'!N74:P74 -> #VALUE! | D49: ='지장물조사 설계예산서'!Q74:R74 -> #VALUE! | E49: =#REF! -> #REF! | F49: =ROUNDDOWN((C49*E49),0) -> #VALUE! | G49: ='지장물조사 설계예산서'!AD74:AH74 -> #VALUE! | H49: =ROUNDDOWN((C49*G49),0) -> #VALUE! | I49: ='지장물조사 설계예산서'!AO74:AS74 -> #VALUE! | J49: =ROUNDDOWN((C49*I49),0) -> #VALUE! | K49: =ROUNDDOWN((SUM(E49,G49,I49)),0) -> #REF! | L49: =ROUNDDOWN((SUM(F49,H49,J49)),0) -> #VALUE!
A50: ='지장물조사 설계예산서'!A75:G75 -> 0 | C50: ='지장물조사 설계예산서'!N75:P75 -> #VALUE! | D50: ='지장물조사 설계예산서'!Q75:R75 -> #VALUE! | E50: =#REF! -> #REF! | F50: =ROUNDDOWN((C50*E50),0) -> #VALUE! | G50: ='지장물조사 설계예산서'!AD75:AH75 -> #VALUE! | H50: =ROUNDDOWN((C50*G50),0) -> #VALUE! | I50: ='지장물조사 설계예산서'!AO75:AS75 -> #VALUE! | J50: =ROUNDDOWN((C50*I50),0) -> #VALUE! | K50: =ROUNDDOWN((SUM(E50,G50,I50)),0) -> #REF! | L50: =ROUNDDOWN((SUM(F50,H50,J50)),0) -> #VALUE!
A51: 소계 | F51: =SUM(F48:F50) -> #VALUE! | H51: =SUM(H48:H50) -> #VALUE! | J51: =SUM(J48:J50) -> #VALUE! | K51: =ROUNDDOWN(SUM(E51,G51,I51),0) -> 0 | L51: =SUM(L48:L50) -> #VALUE!
A52: 계 | F52: =F39+F46+F51 -> #VALUE! | H52: =H39+H46+H51 -> #VALUE! | J52: =J39+J46+J51 -> #VALUE! | K52: =ROUNDDOWN(SUM(E52,G52,I52),0) -> 0 | L52: =L39+L46+L51 -> #VALUE!
A53: 4.정밀안전진단비 | E53: 0 | F53: 0 | G53: 0 | H53: 0 | I53: 0 | J53: 0 | K53: =E53+G53+I53 -> 0 | L53: =F53+H53+J53 -> 0
A54: 4-1. 직접인건비 | E54: 0 | F54: 0 | G54: 0 | H54: 0 | J54: 0 | K54: =E54+G54+I54 -> 0 | L54: =F54+H54+J54 -> 0
A55: 외 업 | C55: 3 | D55: 인 | E55: 0 | F55: 0 | G55: =#REF! -> #REF! | H55: =C55*G55 -> #REF! | J55: 0 | K55: =E55+G55+I55 -> #REF! | L55: =F55+H55+J55 -> #REF!
A56: 내 업 | C56: 6 | D56: 인 | E56: 0 | F56: 0 | G56: =#REF! -> #REF! | H56: =C56*G56 -> #REF! | J56: 0 | K56: =E56+G56+I56 -> #REF! | L56: =F56+H56+J56 -> #REF!
A57: 소계 | E57: 0 | F57: 0 | H57: =SUM(H55:H56) -> #REF! | J57: 0 | L57: =F57+H57+J57 -> #REF!
A58: 4-2. 제경비 | B58: 직접인건비의110% | C58: 110 | D58: % | E58: 0 | F58: 0 | G58: 0 | H58: 0 | J58: =H57*1.1 -> #REF! | K58: =E58+G58+I58 -> 0 | L58: =F58+H58+J58 -> #REF!
A59: 소계 | E59: 0 | F59: 0 | G59: 0 | H59: 0 | J59: =SUM(J58) -> #REF! | K59: =E59+G59+I59 -> 0 | L59: =F59+H59+J59 -> #REF!
A60: 4-3. 기술료 | B60: (직접인건비+제경비)*20% | C60: 20 | D60: % | E60: 0 | F60: 0 | G60: 0 | H60: 0 | J60: =(H57+J59)*0.2 -> #REF! | K60: =E60+G60+I60 -> 0 | L60: =F60+H60+J60 -> #REF!
A61: 소계 | E61: 0 | F61: 0 | G61: 0 | H61: 0 | J61: =SUM(J60) -> #REF! | K61: =E61+G61+I61 -> 0 | L61: =F61+H61+J61 -> #REF!
A62: 4-4. 직접경비 | E62: 0 | F62: 0 | G62: 0 | H62: 0 | J62: 0 | K62: =E62+G62+I62 -> 0 | L62: =F62+H62+J62 -> 0
A63: 현지보조인부 | B63: 조사 및 시험소요일수 x 2인 | C63: =C55/5*2 -> 1.2 | D63: 인 | E63: 0 | F63: 0 | G63: =#REF! -> #REF! | H63: =C63*G63 -> #REF! | J63: 0 | K63: =E63+G63+I63 -> #REF! | L63: =F63+H63+J63 -> #REF!
A64: 위험수당 | B64: 직접인건비(외업)의 10% | C64: 10 | D64: % | E64: 0 | F64: 0 | G64: 0 | H64: 0 | J64: =H55*0.1 -> #REF! | K64: =E64+G64+I64 -> 0 | L64: =F64+H64+J64 -> #REF!
A65: 기계, 기구손료 | C65: 1.5 | D65: % | E65: 0 | F65: 0 | G65: 0 | H65: 0 | J65: =L57*C65% -> #REF! | K65: =E65+G65+I65 -> 0 | L65: =F65+H65+J65 -> #REF!
A66: 소계 | E66: 0 | F66: =SUM(F63:F65) -> 0 | G66: 0 | H66: =SUM(H63:H65) -> #REF! | J66: =SUM(J63:J65) -> #REF! | K66: =E66+G66+I66 -> 0 | L66: =F66+H66+J66 -> #REF!
A67: 4-5. 추가조사비 | E67: 0 | F67: 0 | G67: 0 | H67: 0 | J67: 0 | K67: =E67+G67+I67 -> 0 | L67: =F67+H67+J67 -> 0
A68: 점검장비 | B68: 탑제형 트럭(5톤), 400m/1일 | C68: 0.69 | D68: 일 | E68: 81587 | F68: =C68*E68 -> 56295.03 | G68: 159679 | H68: =C68*G68 -> 110178.51 | I68: 94624 | J68: =I68*C68 -> 65290.56 | K68: =E68+G68+I68 -> 335890 | L68: =F68+H68+J68 -> 231764.1
A69: 소계 | E69: 0 | F69: =SUM(F68) -> 56295.03 | G69: 0 | H69: =SUM(H68) -> 110178.51 | J69: =SUM(J68) -> 65290.56 | K69: =E69+G69+I69 -> 0 | L69: =F69+H69+J69 -> 231764.1
A70: 4-6. 안전시설비 | C70: 0.69 | D70: 일 | E70: 0 | F70: 0 | G70: 66004 | H70: =C70*G70 -> 45542.76 | I70: 49044 | J70: =I70*C70 -> 33840.36 | K70: =E70+G70+I70 -> 115048 | L70: =F70+H70+J70 -> 79383.12
A71: 소계 | E71: 0 | F71: 0 | G71: 0 | H71: =SUM(H70) -> 45542.76 | J71: =SUM(J70) -> 33840.36 | K71: =E71+G71+I71 -> 0 | L71: =F71+H71+J71 -> 79383.12
A72: 계 | E72: 0 | F72: =F57+F59+F61+F66+F69+F71 -> 56295.03 | G72: 0 | H72: =H57+H59+H61+H66+H69+H71 -> #REF! | J72: =J57+J59+J61+J66+J69+J71 -> #REF! | K72: =E72+G72+I72 -> 0 | L72: =F72+H72+J72 -> #REF!
A73: 총계 | F73: =F21+F28+F52+F72 -> #REF! | H73: =H21+H28+H52+H72 -> #REF! | J73: =J21+J28+J52+J72 -> #REF! | L73: =L21+L28+L52+L72 -> #REF!
A74: 공급가액 | L74: =ROUNDDOWN(SUM(L73:L73),-4) -> #REF!
A75: 4.부가가치세 | E75: 공급가액의 10% | L75: =ROUNDDOWN((L73*0.1),-3) -> #REF!
A76: 5.손해보험료 | C76: 0.865 | D76: % | E76: 실시설계비 | F76: =L74 -> #REF! | L76: =ROUNDDOWN((F76*0.865%),-4) -> #REF!
A77: 도급액 | L77: =SUM(L74:L76) -> #REF!
A78: 총용역비 | L78: =ROUNDDOWN(SUM(L77:L77),0) -> #REF!

Sheet 지반조사 설계예산서
A1: 용역명: | E1: =#REF! -> #REF! | AD1: 계약내역서
A3: 공종 | H3: 규격 | N3: 수량 | Q3: 단위 | S3: 재료비 | AD3: 노무비 | AO3: 경비 | AZ3: 합계 | BK3: 비고
S4: 단가 | X4: 금액 | AD4: 단가 | AI4: 금액 | AO4: 단가 | AT4: 금액 | AZ4: 단가 | BE4: 금액
A5: 1.토질조사및시험
A6: 1-1 보오링(NX) | X6: =ROUNDDOWN(($N6*S6),0) -> 0 | AI6: =ROUNDDOWN(($N6*AD6),0) -> 0 | AT6: =ROUNDDOWN(($N6*AO6),0) -> 0 | AZ6: =ROUNDDOWN(SUM(S6,AD6,AO6),0) -> 0 | BE6: =ROUNDDOWN(SUM(X6,AI6,AT6),0) -> 0
A7: 기계기구설치 | N7: ='지반조사 수량산출'!E51 -> 1 | Q7: 개소 | X7: =ROUNDDOWN((N7*S7),0) -> 0 | AD7: =#REF! -> #REF! | AI7: =ROUNDDOWN((N7*AD7),0) -> #REF! | AT7: =ROUNDDOWN((N7*AO7),0) -> 0 | AZ7: =ROUNDDOWN((SUM(S7,AD7,AO7)),0) -> #REF! | BE7: =ROUNDDOWN((SUM(X7,AI7,AT7)),0) -> #REF!
A8: 보오링(NX점토층) | N8: ='지반조사 수량산출'!J9 -> 2 | Q8: m | S8: =#REF! -> #REF! | X8: =ROUNDDOWN((N8*S8),0) -> #REF! | AD8: =#REF! -> #REF! | AI8: =ROUNDDOWN((N8*AD8),0) -> #REF! | AO8: =#REF! -> #REF! | AT8: =ROUNDDOWN((N8*AO8),0) -> #REF! | AZ8: =ROUNDDOWN((SUM(S8,AD8,AO8)),0) -> #REF! | BE8: =ROUNDDOWN((SUM(X8,AI8,AT8)),0) -> #REF!
A9: 보오링(NX모래층) | N9: ='지반조사 수량산출'!J10 -> 1 | Q9: m | S9: =#REF! -> #REF! | X9: =ROUNDDOWN((N9*S9),0) -> #REF! | AD9: =#REF! -> #REF! | AI9: =ROUNDDOWN((N9*AD9),0) -> #REF! | AO9: =#REF! -> #REF! | AT9: =ROUNDDOWN((N9*AO9),0) -> #REF! | AZ9: =ROUNDDOWN((SUM(S9,AD9,AO9)),0) -> #REF! | BE9: =ROUNDDOWN((SUM(X9,AI9,AT9)),0) -> #REF!
A10: 보오링(NX자갈층) | N10: ='지반조사 수량산출'!J11 -> 2 | Q10: m | S10: =#REF! -> #REF! | X10: =ROUNDDOWN((N10*S10),0) -> #REF! | AD10: =#REF! -> #REF! | AI10: =ROUNDDOWN((N10*AD10),0) -> #REF! | AO10: =#REF! -> #REF! | AT10: =ROUNDDOWN((N10*AO10),0) -> #REF! | AZ10: =ROUNDDOWN((SUM(S10,AD10,AO10)),0) -> #REF! | BE10: =ROUNDDOWN((SUM(X10,AI10,AT10)),0) -> #REF!
A11: 보오링(NX풍화암) | N11: ='지반조사 수량산출'!J12 -> 1 | Q11: m | S11: =#REF! -> #REF! | X11: =ROUNDDOWN((N11*S11),0) -> #REF! | AD11: =#REF! -> #REF! | AI11: =ROUNDDOWN((N11*AD11),0) -> #REF! | AO11: =#REF! -> #REF! | AT11: =ROUNDDOWN((N11*AO11),0) -> #REF! | AZ11: =ROUNDDOWN((SUM(S11,AD11,AO11)),0) -> #REF! | BE11: =ROUNDDOWN((SUM(X11,AI11,AT11)),0) -> #REF!
A12: 보오링(NX연암) | N12: ='지반조사 수량산출'!J13 -> 1 | Q12: m | S12: =#REF! -> #REF! | X12: =ROUNDDOWN((N12*S12),0) -> #REF! | AD12: =#REF! -> #REF! | AI12: =ROUNDDOWN((N12*AD12),0) -> #REF! | AO12: =#REF! -> #REF! | AT12: =ROUNDDOWN((N12*AO12),0) -> #REF! | AZ12: =ROUNDDOWN((SUM(S12,AD12,AO12)),0) -> #REF! | BE12: =ROUNDDOWN((SUM(X12,AI12,AT12)),0) -> #REF!
A13: 표준관입시험 | N13: ='지반조사 수량산출'!I35 -> 4 | Q13: 회 | S13: =#REF! -> #REF! | X13: =ROUNDDOWN((N13*S13),0) -> #REF! | AD13: =#REF! -> #REF! | AI13: =ROUNDDOWN((N13*AD13),0) -> #REF! | AO13: =#REF! -> #REF! | AT13: =ROUNDDOWN((N13*AO13),0) -> #REF! | AZ13: =ROUNDDOWN((SUM(S13,AD13,AO13)),0) -> #REF! | BE13: =ROUNDDOWN((SUM(X13,AI13,AT13)),0) -> #REF!
A14: 폐공처리비 | N14: ='지반조사 수량산출'!E60 -> 1 | Q14: m | S14: 0 | X14: =ROUNDDOWN((N14*S14),0) -> 0 | AD14: =#REF!/10 -> #REF! | AI14: =ROUNDDOWN((N14*AD14),0) -> #REF! | AO14: =#REF! -> #REF! | AT14: =ROUNDDOWN((N14*AO14),0) -> #REF! | AZ14: =ROUNDDOWN((SUM(S14,AD14,AO14)),0) -> #REF! | BE14: =ROUNDDOWN((SUM(X14,AI14,AT14)),0) -> #REF!
A15: 소계 | X15: =ROUNDDOWN(SUM(X7:AC14),0) -> #REF! | AI15: =ROUNDDOWN(SUM(AI7:AN14),0) -> #REF! | AT15: =ROUNDDOWN(SUM(AT7:AY14),0) -> #REF! | AZ15: =ROUNDDOWN(SUM(S15,AD15,AO15),0) -> 0 | BE15: =ROUNDDOWN(SUM(X15,AI15,AT15),0) -> #REF!
A16: 1-2토질시험 | X16: =ROUNDDOWN(($N16*S16),0) -> 0 | AI16: =ROUNDDOWN(($N16*AD16),0) -> 0 | AT16: =ROUNDDOWN(($N16*AO16),0) -> 0 | AZ16: =ROUNDDOWN(SUM(S16,AD16,AO16),0) -> 0 | BE16: =ROUNDDOWN(SUM(X16,AI16,AT16),0) -> 0
A17: 함수비 | N17: 1 | Q17: 회 | X17: =ROUNDDOWN((N17*S17),0) -> 0 | AI17: =ROUNDDOWN((N17*AD17),0) -> 0 | AO17: =20310 -> 20310 | AT17: =ROUNDDOWN((N17*AO17),0) -> 20310 | AZ17: =ROUNDDOWN((SUM(S17,AD17,AO17)),0) -> 20310 | BE17: =ROUNDDOWN((SUM(X17,AI17,AT17)),0) -> 20310
A18: 밀도 | N18: =N17 -> 1 | Q18: 회 | X18: =ROUNDDOWN((N18*S18),0) -> 0 | AI18: =ROUNDDOWN((N18*AD18),0) -> 0 | AO18: =50740 -> 50740 | AT18: =ROUNDDOWN((N18*AO18),0) -> 50740 | AZ18: =ROUNDDOWN((SUM(S18,AD18,AO18)),0) -> 50740 | BE18: =ROUNDDOWN((SUM(X18,AI18,AT18)),0) -> 50740
A19: 0.08mm체통과량 | N19: =N18 -> 1 | Q19: 회 | X19: =ROUNDDOWN((N19*S19),0) -> 0 | AI19: =ROUNDDOWN((N19*AD19),0) -> 0 | AO19: =48150 -> 48150 | AT19: =ROUNDDOWN((N19*AO19),0) -> 48150 | AZ19: =ROUNDDOWN((SUM(S19,AD19,AO19)),0) -> 48150 | BE19: =ROUNDDOWN((SUM(X19,AI19,AT19)),0) -> 48150
A20: 입도 | N20: =N19 -> 1 | Q20: 회 | X20: =ROUNDDOWN((N20*S20),0) -> 0 | AI20: =ROUNDDOWN((N20*AD20),0) -> 0 | AO20: =288990 -> 288990 | AT20: =ROUNDDOWN((N20*AO20),0) -> 288990 | AZ20: =ROUNDDOWN((SUM(S20,AD20,AO20)),0) -> 288990 | BE20: =ROUNDDOWN((SUM(X20,AI20,AT20)),0) -> 288990
A21: 현장밀도(시내) | N21: =N20 -> 1 | Q21: 회 | X21: =ROUNDDOWN((N21*S21),0) -> 0 | AI21: =ROUNDDOWN((N21*AD21),0) -> 0 | AO21: =246250-30836 -> 215414 | AT21: =ROUNDDOWN((N21*AO21),0) -> 215414 | AZ21: =ROUNDDOWN((SUM(S21,AD21,AO21)),0) -> 215414 | BE21: =ROUNDDOWN((SUM(X21,AI21,AT21)),0) -> 215414
A22: 소계 | X22: =ROUNDDOWN(SUM(X17:AC21),0) -> 0 | AI22: =ROUNDDOWN(SUM(AI17:AN21),0) -> 0 | AT22: =ROUNDDOWN(SUM(AT17:AY21),0) -> 623604 | AZ22: =ROUNDDOWN(SUM(S22,AD22,AO22),0) -> 0 | BE22: =ROUNDDOWN(SUM(X22,AI22,AT22),0) -> 623604
A23: 총계 | X23: =X15+X22 -> #REF! | AI23: =AI15+AI22 -> #REF! | AT23: =AT15+AT22 -> #REF! | BE23: =BE15+BE22 -> #REF!
A24: 공급가액 | BE24: =ROUNDDOWN(SUM(BE23:BJ23),0)-BN24 -> #REF!
A25: 도급액 | BE25: =SUM(BE24:BJ24) -> #REF!

Sheet 지반조사 수량산출
A1: 토 질 조 사 수 량 산 출 서
A3: 가. 현장조사비
N4: 성토 | O4: BX보링
A5: 1. 보링조사 : | B5: 총 | C5: 1 | D5: 공 | N5: 절토 | O5: NX보링
H6: (단위 : m) | N6: 구조물 | O6: =+O5 -> NX보링
A7: 구분 | B7: 심도 | J7: 계 | L7: 비고 | N7: 시험굴
B8: BX( 0공) | F8: NX( 1공) | N8: 블럭시료
A9: 점 토 | B9: 0 | F9: 2 | J9: =SUM(B9:F9) -> 2 | N9: 오거보링
A10: 모 래 | B10: 0 | F10: 1 | J10: =SUM(B10:F10) -> 1
A11: 자 갈 | B11: 0 | F11: 2 | J11: =SUM(B11:F11) -> 2
A12: 풍화암 | B12: 0 | F12: =J27 -> 1 | J12: =SUM(B12:F12) -> 1
A13: 연 암 | B13: 0 | F13: =J28 -> 1 | J13: =SUM(B13:F13) -> 1
A14: 보통암 | F14: =J29 -> 0 | J14: =SUM(B14:F14) -> 0
A15: 경 암 | F15: =J30 -> 0 | J15: =SUM(B15:F15) -> 0
A16: 계 | B16: =SUM(B9:E15) -> 0 | F16: =SUM(F9:I15) -> 7 | J16: =SUM(J9:K15) -> 7
A18: ※ 세부 산출내역
A20: ○ 시추조사 2회
A21: 구분 | B21: BX | E21: NX | K21: 총 심도 | L21: 비고
B22: 성토부 | E22: 절토부 | H22: 구조물
B23: 공별심도 | C23: 수량 | D23: 계 | E23: 공별심도 | F23: 수량 | G23: 계 | H23: 공별심도 | I23: 수량 | J23: 계
A24: 점 토 | B24: 0 | C24: 0 | D24: =B24*C24 -> 0 | E24: 0 | F24: 0 | G24: =E24*F24 -> 0 | H24: 1 | I24: 1 | J24: =H24*I24 -> 1 | K24: =SUM(D24+G24+J24) -> 1
A25: 모 래 | B25: 0 | C25: =C24 -> 0 | D25: =B25*C25 -> 0 | E25: 0 | F25: =F24 -> 0 | G25: =E25*F25 -> 0 | H25: 1 | I25: 1 | J25: =H25*I25 -> 1 | K25: =SUM(D25+G25+J25) -> 1
A26: 자 갈 | B26: 0 | C26: =C25 -> 0 | D26: =B26*C26 -> 0 | E26: 0 | F26: =F25 -> 0 | G26: =E26*F26 -> 0 | H26: 1 | I26: =I25 -> 1 | J26: =H26*I26 -> 1 | K26: =SUM(D26+G26+J26) -> 1
A27: 풍화암 | B27: 0 | C27: =C26 -> 0 | D27: =B27*C27 -> 0 | E27: 0 | F27: =F26 -> 0 | G27: =E27*F27 -> 0 | H27: 1 | I27: =I26 -> 1 | J27: =H27*I27 -> 1 | K27: =SUM(D27+G27+J27) -> 1
A28: 연 암 | B28: 0 | C28: =C27 -> 0 | D28: =B28*C28 -> 0 | E28: 0 | F28: =F27 -> 0 | G28: =E28*F28 -> 0 | H28: 1 | I28: =I27 -> 1 | J28: =H28*I28 -> 1 | K28: =SUM(D28+G28+J28) -> 1
A29: 보통암 | E29: 0 | F29: =F28 -> 0 | G29: =E29*F29 -> 0 | K29: =SUM(D29+G29+J29) -> 0
A30: 경 암 | E30: 0 | F30: =F29 -> 0 | G30: =E30*F30 -> 0 | K30: =SUM(D30+G30+J30) -> 0
A31: 계 | B31: =SUM(B24:B30) -> 0 | C31: =C24 -> 0 | D31: =SUM(D24:D30) -> 0 | E31: =SUM(E24:E30) -> 0 | F31: =F24 -> 0 | G31: =SUM(G24:G30) -> 0 | H31: =SUM(H24:H30) -> 5 | I31: =I24 -> 1 | J31: =SUM(J24:J30) -> 5 | K31: =SUM(D31+G31+J31) -> 5
A33: 2. 원위치시험
A34: 구 분 | D34: 빈도 | H34: 단위 | I34: 수량 | L34: 비고
A35: 표준관입시험 | D35: 풍화암까지 1.0m마다 | H35: 회 | I35: =SUM(J24:J27)/1 -> 4
A36: 핸드오거보링 | D36: 성토부 | H36: 회 | I36: 0
A37: ※ 표준관입시험: | B37: BX : 0m / 1.0m = 0회
B38: NX : 8m / 1.0m = 8회 계 : 8 회
A40: 3. 시료채취
A41: 구 분 | D41: 빈도 | H41: 단위 | I41: 수량 | L41: 비고
A42: 시험굴시료 채취 | D42: 절토부, 개소당 | H42: 회 | I42: 0
A43: 시험굴시료 운반 | D43: 절토부, 개소당 | H43: 회 | I43: 0
A44: 블록시료 채취 | D44: 대절토 사면 발생부, 개소당 | H44: 회 | I44: 0
A45: 자연시료채취 | D45: 성토부(연약지반), 개소당 | H45: 회 | I45: 0
A48: 4. 부대공
A49: 구분 | D49: 단위 | E49: 수량 | H49: 비고
A50: 기계기구 대운반(왕복) | D50: 회 | E50: 1 | H50: 2.5ton truck(서울시~현장 10Km)
A51: 기계기구 설치 | D51: 회 | E51: =$C$5 -> 1 | H51: 보링 개소당 1회
A52: 기계기구 소운반 | D52: 회 | E52: =$C$5 -> 1 | H52: 보링 개소당 1회
A53: 기계기구 경비 | D53: 일 | E53: =$C$5 -> 1 | H53: 보링 개소당 1회
A54: 급수비 | D54: 일 | E54: =$C$5 -> 1 | H54: 보링 개소당 1회
A55: SPT시료상자 | D55: 개 | E55: =ROUNDUP(C5/2,0) -> 1 | H55: 보링 2개소당 1개
A57: 5. 폐공처리
A58: 구분 | D58: 단위 | E58: 수량 | H58: 비고
A59: BX규격 | D59: m | E59: =B13 -> 0 | H59: ※ 연암이상 암반층은 불투수성 재료를 주입하고
A60: NX규격 | D60: m | E60: =F13+F14+F15 -> 1 | H60: 토사층은 자연함몰 조치
A62: 6. 여비 및 숙박비
A63: - 여비산출인원 : 4인 × 2회 = 8인(서울시∼현장, L=10Km, 시외버스)
A64: ※ 보링작업인원 : 4인(중급기술자, 고급기능사,중급기능사,초급기능사)
A65: - 숙박비 : 1일/보링공당 × | C65: =+C5 -> 1 | D65: 공-1일= | E65: =+C65-1 -> 0 | F65: 일
A67: 7. 시험비
A68: 구분 | E68: 단위 | F68: 수량 | I68: 비고
F69: 계 | G69: 외부(70%) | H69: 자체(30%)
A70: 표준관입시험시료 | B70: 입도시험 | E70: 회 | F70: 1 | G70: =ROUND(+F70*0.7,0) -> 1 | H70: =+F70-G70 -> 0 | I70: 2공/3 = 1회
A71: 시험굴 시료 | B71: 현장밀도시험 | E71: 회 | F71: =F72*3 -> 0 | G71: =F72*3 -> 0 | H71: - | I71: 개소당
B72: 입도시험 | E72: 회 | F72: =I42 -> 0 | G72: =ROUND(+F72*0.7,0) -> 0 | H72: =+F72-G72 -> 0
B73: 다짐시험 | E73: 회 | F73: =F72 -> 0 | G73: =ROUND(+F73*0.7,0) -> 0 | H73: =+F73-G73 -> 0
B74: 실내 CBR시험 | E74: 회 | F74: =F73 -> 0 | G74: =ROUND(+F74*0.7,0) -> 0 | H74: =+F74-G74 -> 0
A75: 블록시료 | B75: 입도시험 | E75: 회 | F75: =I44 -> 0 | G75: =ROUND(+F75*0.7,0) -> 0 | H75: =+F75-G75 -> 0 | I75: 개소당
B76: 직접전단시험 | E76: 회 | F76: =F75 -> 0 | G76: =ROUND(+F76*0.7,0) -> 0 | H76: =+F76-G76 -> 0
A77: 암코어 시료 | B77: 강도시험 | E77: 회 | F77: 1 | G77: =ROUND(+F77*0.7,0) -> 1 | H77: =+F77-G77 -> 0 | I77: NX 2공 / 3 = 1회
B78: 비중 및 흡수율시험 | E78: 회 | F78: =F77 -> 1 | G78: =ROUND(+F78*0.7,0) -> 1 | H78: =+F78-G78 -> 0
B79: 마모시험 | E79: 회 | F79: 0 | G79: =ROUND(+F79*0.7,0) -> 0 | H79: =+F79-G79 -> 0 | I79: 대절취부 암유용성 확인
B80: 안정성 시험 | E80: 회 | F80: 0 | G80: =ROUND(+F80*0.7,0) -> 0 | H80: =+F80-G80 -> 0
A81: UD시료 | B81: 입도시험 | E81: 회 | F81: =I45 -> 0 | G81: =ROUND(+F81*0.7,0) -> 0 | H81: =+F81-G81 -> 0 | I81: 시료채취 개소당
B82: 일축압축시험 | E82: 회 | F82: =F81 -> 0 | G82: =ROUND(+F82*0.7,0) -> 0 | H82: =+F82-G82 -> 0
B83: 삼축압축시험 | E83: 회 | F83: =F81 -> 0 | G83: =ROUND(+F83*0.7,0) -> 0 | H83: =+F83-G83 -> 0
B84: 압밀시험 | E84: 회 | F84: =F81 -> 0 | G84: =ROUND(+F84*0.7,0) -> 0 | H84: =+F84-G84 -> 0

Sheet 지장물조사 설계예산서
A1: 용역명: | E1: =#REF! -> #REF! | AD1: 일 위 대 가
A3: 공종 | H3: 규격 | N3: 수량 | Q3: 단위 | S3: 재료비 | AD3: 노무비 | AO3: 경비 | AZ3: 합계 | BK3: 비고
S4: 단가 | X4: 금액 | AD4: 단가 | AI4: 금액 | AO4: 단가 | AT4: 금액 | AZ4: 단가 | BE4: 금액
A5: 2.지장물 조사
A6: 인력굴착 | X6: =ROUNDDOWN(($N6*S6),0) -> 0 | AI6: =ROUNDDOWN(($N6*AD6),0) -> 0 | AT6: =ROUNDDOWN(($N6*AO6),0) -> 0 | AZ6: =ROUNDDOWN(SUM(S6,AD6,AO6),0) -> 0 | BE6: =ROUNDDOWN(SUM(X6,AI6,AT6),0) -> 0
A7: 터파기 및 되메우기 | H7: (0~2m) | N7: =#REF! -> #REF! | Q7: ㎥ | S7: =#REF! -> #REF! | X7: =ROUNDDOWN((N7*S7),0) -> #REF! | AD7: =#REF! -> #REF! | AI7: =ROUNDDOWN((N7*AD7),0) -> #REF! | AO7: =#REF! -> #REF! | AT7: =ROUNDDOWN((N7*AO7),0) -> #REF! | AZ7: =ROUNDDOWN((SUM(S7,AD7,AO7)),0) -> #REF! | BE7: =ROUNDDOWN((SUM(X7,AI7,AT7)),0) -> #REF!
A8: 소계 | X8: =ROUNDDOWN(SUM(X7:AC7),0) -> #REF! | AI8: =ROUNDDOWN(SUM(AI7:AN7),0) -> #REF! | AT8: =ROUNDDOWN(SUM(AT7:AY7),0) -> #REF! | AZ8: =ROUNDDOWN(SUM(S8,AD8,AO8),0) -> 0 | BE8: =ROUNDDOWN(SUM(X8,AI8,AT8),0) -> #REF!
A9: 보도 철거 및 복구 | X9: =ROUNDDOWN(($N9*S9),0) -> 0 | AI9: =ROUNDDOWN(($N9*AD9),0) -> 0 | AT9: =ROUNDDOWN(($N9*AO9),0) -> 0 | AZ9: =ROUNDDOWN(SUM(S9,AD9,AO9),0) -> 0 | BE9: =ROUNDDOWN(SUM(X9,AI9,AT9),0) -> 0
A10: 보도철거 | N10: =#REF!/100 -> #REF! | Q10: a | S10: =#REF! -> #REF! | X10: =ROUNDDOWN((N10*S10),0) -> #REF! | AD10: =#REF! -> #REF! | AI10: =ROUNDDOWN((N10*AD10),0) -> #REF! | AO10: =#REF! -> #REF! | AT10: =ROUNDDOWN((N10*AO10),0) -> #REF! | AZ10: =ROUNDDOWN((SUM(S10,AD10,AO10)),0) -> #REF! | BE10: =ROUNDDOWN((SUM(X10,AI10,AT10)),0) -> #REF!
A11: 보도복구 | N11: =#REF!/100 -> #REF! | Q11: a | S11: =#REF! -> #REF! | X11: =ROUNDDOWN((N11*S11),0) -> #REF! | AD11: =#REF! -> #REF! | AI11: =ROUNDDOWN((N11*AD11),0) -> #REF! | AO11: =#REF! -> #REF! | AT11: =ROUNDDOWN((N11*AO11),0) -> #REF! | AZ11: =ROUNDDOWN((SUM(S11,AD11,AO11)),0) -> #REF! | BE11: =ROUNDDOWN((SUM(X11,AI11,AT11)),0) -> #REF!
A12: 소계 | X12: =ROUNDDOWN(SUM(X10:AC11),0) -> #REF! | AI12: =ROUNDDOWN(SUM(AI10:AN11),0) -> #REF! | AT12: =ROUNDDOWN(SUM(AT10:AY11),0) -> #REF! | AZ12: =ROUNDDOWN(SUM(S12,AD12,AO12),0) -> 0 | BE12: =ROUNDDOWN(SUM(X12,AI12,AT12),0) -> #REF!
A13: 총계 | X13: =X8+X12 -> #REF! | AI13: =AI8+AI12 -> #REF! | AT13: =AT8+AT12 -> #REF! | BE13: =BE8+BE12 -> #REF!
A14: 공급가액 | BE14: =ROUNDDOWN(SUM(BE13:BJ13)-BN14,0) -> #REF!
A15: 도급액 | BE15: =SUM(BE14:BJ14) -> #REF!
