Workbook
Name _B22: [1]일위대가!$A$1400:$IV$1413=[1]일위대가!$A$1400
Name _K02: [1]일위대가!$A$732:$IV$745=[1]일위대가!$A$732
Name _O03: [1]일위대가!$A$1516:$IV$1529=[1]일위대가!$A$1516
Name _Order1: 255
Name _Order2: 255
Name _Regression_Int: 1
Name AccessDatabase: "C:\My Documents\북부수도사업소\전원차단장치\전원차~1\전원차단장치 내역서 03월06일.mdb"
Name fact: #REF!
Name HTML_CodePage: 949
Name HTML_Control: {"'단계별시설공사비'!$A$3:$K$51"}
Name HTML_Description: ""
Name HTML_Email: ""
Name HTML_Header: "사업비총괄"
Name HTML_LastUpdate: "01-06-17"
Name HTML_LineAfter: FALSE
Name HTML_LineBefore: FALSE
Name HTML_Name: "김정호"
Name HTML_OBDlg2: TRUE
Name HTML_OBDlg4: TRUE
Name HTML_OS: 0
Name HTML_PathFile: "C:\My Documents\6.htm"
Name HTML_Title: "비용산출"
Name LP___4: #REF!
Name MACRO20: [2]!Macro2
Name PEE: [3]DATA!$N$4:$P$12
Name PRINT_TILTES: #REF!
Name solver_drv: 1
Name solver_est: 1
Name solver_itr: 100
Name solver_lin: 0
Name solver_num: 0
Name solver_nwt: 1
Name solver_pre: 0.000001
Name solver_scl: 0
Name solver_sho: 0
Name solver_tim: 100
Name solver_tol: 0.05
Name solver_typ: 1
Name solver_val: 0
Name 가설공사비: #REF!
Name 간접노무비: #REF!
Name 간접재료비: #REF!
Name 경비: #REF!
Name 관급자재비: #REF!
Name 기타경비: #REF!
Name 낙찰내역: {"'단계별시설공사비'!$A$3:$K$51"}
Name 노무비: [4]노무비!$C$2:$G$117
Name 노임: #REF!
Name 단가: #REF!
Name 단가: #REF!
Name 단가1: #REF!
Name 단가2: #REF!
Name 단가3: #REF!
Name 단가비교표: [4]단가비교표!#REF!
Name 도급공사비: #REF!
Name ㅁㅁ: '[5]단가 '!$B$3:$N$103
Name 부가가치세: #REF!
Name 산재보험료: #REF!
Name 선관: #REF!
Name 안전관리비: #REF!

Sheet 원가계산서
B1: 공 사 원 가 계 산 서
B2: 공사명 : 2024년 공주시 소하천 스마트 계측관리시스템 구축사업 (전기,계측제어)
B3: 비 목 | E3: 금 액 | F3: 구 성 비 | G3: 비 고
A4: A1 | B4: 순 공 사 원 가 | C4: 재 료 비 | D4: 직 접 재 료 비 | E4: =TRUNC(공종별집계표!F5, 0) -> 0
A5: A2 | D5: 간 접 재 료 비 | E5: 0
A6: A3 | D6: 작업설, 부산물(△) | E6: 0
A7: AS | D7: [ 소 계 ] | E7: =TRUNC(E4+E5-E6, 0) -> 0
A8: B1 | C8: 노 무 비 | D8: 직 접 노 무 비 | E8: =TRUNC(공종별집계표!H5, 0) -> 0
A9: B2 | D9: 간 접 노 무 비 | E9: =TRUNC(E8*0.191, 0) -> 0 | F9: 직접노무비 * 19.1%
A10: BS | D10: [ 소 계 ] | E10: =TRUNC(E8+E9, 0) -> 0
A11: C2 | C11: 경 비 | D11: 기 계 경 비 | E11: =TRUNC(공종별집계표!J5, 0) -> 0
A12: C4 | D12: 산 재 보 험 료 | E12: =TRUNC(E10*0.0356, 0) -> 0 | F12: 노무비 * 3.56%
A13: C5 | D13: 고 용 보 험 료 | E13: =TRUNC(E10*0.0101, 0) -> 0 | F13: 노무비 * 1.01%
A14: C6 | D14: 국민 건강 보험료 | E14: =TRUNC(E8*0.03595, 0) -> 0 | F14: 직접노무비 * 3.595%
A15: C7 | D15: 국민 연금 보험료 | E15: =TRUNC(E8*0.0475, 0) -> 0 | F15: 직접노무비 * 4.75%
A16: CB | D16: 노인장기요양보험료 | E16: =TRUNC(E14*0.1314, 0) -> 0 | F16: 건강보험료 * 13.14%
A17: C8 | D17: 퇴직 공제 부금비 | E17: =TRUNC(E8*0.023, 0) -> 0 | F17: 직접노무비 * 2.3%
A18: CA | D18: 산업안전보건관리비 | E18: 0 | F18: (재료비+직노+도급자관급) * 2.07%
A19: CC | D19: 법정부담금 | E19: =TRUNC(E20+E21, 0) -> 0
A20: CD | D20: 석면분담금 | E20: =TRUNC(E10*0.00006, 0) -> 0 | F20: 노무비 * 0.006%
A21: CE | D21: 임금채권부담금 | E21: =TRUNC(E10*0.0009, 0) -> 0 | F21: 노무비 * 0.09%
A22: CG | D22: 기 타 경 비 | E22: =TRUNC((E7+E10)*0.055, 0) -> 0 | F22: (재료비+노무비) * 5.5%
A23: CS | D23: [ 소 계 ] | E23: =TRUNC(E11+E12+E13+E14+E15+E17+E18+E16+E19+E22, 0) -> 0
A24: S1 | B24: 계 | E24: =TRUNC(E7+E10+E23, 0) -> 0
A25: D1 | B25: 일 반 관 리 비 | E25: =TRUNC(E24*0.065, 0) -> 0 | F25: 계 * 6.5%
A26: D2 | B26: 이 윤 | E26: 0 | F26: (노무비+경비+일반관리비) * 14.57%
A27: D9 | B27: 공 급 가 액 | E27: =TRUNC(E24+E25+E26, 0) -> 0
A28: DA | B28: 전기공사손해배상공제 | E28: 0 | F28: 순계약금액(공급가액+도급자관급)*0.26477%
A29: DB | B29: 부 가 가 치 세 | E29: =TRUNC((E27+E28)*0.1, 0) -> 0 | F29: 공급가액 * 10%
A30: DH | B30: 도 급 액 | E30: 0
A31: DK | B31: 관 급 자 재 비 | E31: 0 | G31: <부가세포함>
A32: DL | B32: 한 전 수 탁 비 | E32: 0 | G32: <부가세포함>
A33: S2 | B33: 총 공 사 비 | E33: 0

Sheet 공종별집계표
A1: 공 종 별 집 계 표
A2: [ 2024년 공주시 소하천 스마트 계측관리시스템 구축사업 (전기,계측제어) ]
A3: 품 명 | B3: 규 격 | C3: 단위 | D3: 수량 | E3: 재 료 비 | G3: 노 무 비 | I3: 경 비 | K3: 합 계 | M3: 비 고 | N3: 공종코드 | O3: 변수 | P3: 상위공종 | Q3: 공종구분 | R3: 공종레벨 | S3: 공종소계 | T3: 원가계산서 연결금액
E4: 단 가 | F4: 금 액 | G4: 단 가 | H4: 금 액 | I4: 단 가 | J4: 금 액 | K4: 단 가 | L4: 금 액
A5: 01 2024년 공주시 소하천 스마트 계측관리시스템 구축사업 실시설계용역(전기) | D5: 1 | E5: =F6+F9+F12+F15+F18+F21+F24+F27+F30+F33+F36+F39+F42+F45+F48+F51+F54+F57+F60 -> 0 | F5: =E5*D5 -> 0 | G5: =H6+H9+H12+H15+H18+H21+H24+H27+H30+H33+H36+H39+H42+H45+H48+H51+H54+H57+H60 -> 0 | H5: =G5*D5 -> 0 | I5: =J6+J9+J12+J15+J18+J21+J24+J27+J30+J33+J36+J39+J42+J45+J48+J51+J54+J57+J60 -> 0 | J5: =I5*D5 -> 0 | K5: =E5+G5+I5 -> 0 | L5: =F5+H5+J5 -> 0 | N5: 01 | R5: 1
A6: 0101 1.여사골천 | D6: 1 | E6: =F7+F8 -> 0 | F6: =E6*D6 -> 0 | G6: =H7+H8 -> 0 | H6: =G6*D6 -> 0 | I6: =J7+J8 -> 0 | J6: =I6*D6 -> 0 | K6: =E6+G6+I6 -> 0 | L6: =F6+H6+J6 -> 0 | N6: 0101 | P6: 01 | R6: 2
A7: 010101 1) 전기 인입공사 | D7: 1 | E7: =공종별내역서!F26 -> 0 | F7: =E7*D7 -> 0 | G7: =공종별내역서!H26 -> 0 | H7: =G7*D7 -> 0 | I7: =공종별내역서!J26 -> 0 | J7: =I7*D7 -> 0 | K7: =E7+G7+I7 -> 0 | L7: =F7+H7+J7 -> 0 | N7: 010101 | P7: 0101 | R7: 3
A8: 010102 2) 조명 설비공사 | D8: 1 | E8: =공종별내역서!F49 -> 0 | F8: =E8*D8 -> 0 | G8: =공종별내역서!H49 -> 0 | H8: =G8*D8 -> 0 | I8: =공종별내역서!J49 -> 0 | J8: =I8*D8 -> 0 | K8: =E8+G8+I8 -> 0 | L8: =F8+H8+J8 -> 0 | N8: 010102 | P8: 0101 | R8: 3
A9: 0102 2.달월천 | D9: 1 | E9: =F10+F11 -> 0 | F9: =E9*D9 -> 0 | G9: =H10+H11 -> 0 | H9: =G9*D9 -> 0 | I9: =J10+J11 -> 0 | J9: =I9*D9 -> 0 | K9: =E9+G9+I9 -> 0 | L9: =F9+H9+J9 -> 0 | N9: 0102 | P9: 01 | R9: 2
A10: 010201 1) 전기,통신 인입공사 | D10: 1 | E10: =공종별내역서!F72 -> 0 | F10: =E10*D10 -> 0 | G10: =공종별내역서!H72 -> 0 | H10: =G10*D10 -> 0 | I10: =공종별내역서!J72 -> 0 | J10: =I10*D10 -> 0 | K10: =E10+G10+I10 -> 0 | L10: =F10+H10+J10 -> 0 | N10: 010201 | P10: 0102 | R10: 3
A11: 010202 2) 조명 설비공사 | D11: 1 | E11: =공종별내역서!F118 -> 0 | F11: =E11*D11 -> 0 | G11: =공종별내역서!H118 -> 0 | H11: =G11*D11 -> 0 | I11: =공종별내역서!J118 -> 0 | J11: =I11*D11 -> 0 | K11: =E11+G11+I11 -> 0 | L11: =F11+H11+J11 -> 0 | N11: 010202 | P11: 0102 | R11: 3
A12: 0103 3.노동천 | D12: 1 | E12: =F13+F14 -> 0 | F12: =E12*D12 -> 0 | G12: =H13+H14 -> 0 | H12: =G12*D12 -> 0 | I12: =J13+J14 -> 0 | J12: =I12*D12 -> 0 | K12: =E12+G12+I12 -> 0 | L12: =F12+H12+J12 -> 0 | N12: 0103 | P12: 01 | R12: 2
A13: 010301 1) 전기 인입공사 | D13: 1 | E13: =공종별내역서!F141 -> 0 | F13: =E13*D13 -> 0 | G13: =공종별내역서!H141 -> 0 | H13: =G13*D13 -> 0 | I13: =공종별내역서!J141 -> 0 | J13: =I13*D13 -> 0 | K13: =E13+G13+I13 -> 0 | L13: =F13+H13+J13 -> 0 | N13: 010301 | P13: 0103 | R13: 3
A14: 010302 2) 조명 설비공사 | D14: 1 | E14: =공종별내역서!F164 -> 0 | F14: =E14*D14 -> 0 | G14: =공종별내역서!H164 -> 0 | H14: =G14*D14 -> 0 | I14: =공종별내역서!J164 -> 0 | J14: =I14*D14 -> 0 | K14: =E14+G14+I14 -> 0 | L14: =F14+H14+J14 -> 0 | N14: 010302 | P14: 0103 | R14: 3
A15: 0104 4.가느니천 | D15: 1 | E15: =F16+F17 -> 0 | F15: =E15*D15 -> 0 | G15: =H16+H17 -> 0 | H15: =G15*D15 -> 0 | I15: =J16+J17 -> 0 | J15: =I15*D15 -> 0 | K15: =E15+G15+I15 -> 0 | L15: =F15+H15+J15 -> 0 | N15: 0104 | P15: 01 | R15: 2
A16: 010401 1) 전기 인입공사 | D16: 1 | E16: =공종별내역서!F187 -> 0 | F16: =E16*D16 -> 0 | G16: =공종별내역서!H187 -> 0 | H16: =G16*D16 -> 0 | I16: =공종별내역서!J187 -> 0 | J16: =I16*D16 -> 0 | K16: =E16+G16+I16 -> 0 | L16: =F16+H16+J16 -> 0 | N16: 010401 | P16: 0104 | R16: 3
A17: 010402 2) 조명 설비공사 | D17: 1 | E17: =공종별내역서!F210 -> 0 | F17: =E17*D17 -> 0 | G17: =공종별내역서!H210 -> 0 | H17: =G17*D17 -> 0 | I17: =공종별내역서!J210 -> 0 | J17: =I17*D17 -> 0 | K17: =E17+G17+I17 -> 0 | L17: =F17+H17+J17 -> 0 | N17: 010402 | P17: 0104 | R17: 3
A18: 0105 5.탄향천 | D18: 1 | E18: =F19+F20 -> 0 | F18: =E18*D18 -> 0 | G18: =H19+H20 -> 0 | H18: =G18*D18 -> 0 | I18: =J19+J20 -> 0 | J18: =I18*D18 -> 0 | K18: =E18+G18+I18 -> 0 | L18: =F18+H18+J18 -> 0 | N18: 0105 | P18: 01 | R18: 2
A19: 010501 1) 전기 인입공사 | D19: 1 | E19: =공종별내역서!F233 -> 0 | F19: =E19*D19 -> 0 | G19: =공종별내역서!H233 -> 0 | H19: =G19*D19 -> 0 | I19: =공종별내역서!J233 -> 0 | J19: =I19*D19 -> 0 | K19: =E19+G19+I19 -> 0 | L19: =F19+H19+J19 -> 0 | N19: 010501 | P19: 0105 | R19: 3
A20: 010502 2) 감시 및 조명 설비공사 | D20: 1 | E20: =공종별내역서!F256 -> 0 | F20: =E20*D20 -> 0 | G20: =공종별내역서!H256 -> 0 | H20: =G20*D20 -> 0 | I20: =공종별내역서!J256 -> 0 | J20: =I20*D20 -> 0 | K20: =E20+G20+I20 -> 0 | L20: =F20+H20+J20 -> 0 | N20: 010502 | P20: 0105 | R20: 3
A21: 0106 6.반선말천 | D21: 1 | E21: =F22+F23 -> 0 | F21: =E21*D21 -> 0 | G21: =H22+H23 -> 0 | H21: =G21*D21 -> 0 | I21: =J22+J23 -> 0 | J21: =I21*D21 -> 0 | K21: =E21+G21+I21 -> 0 | L21: =F21+H21+J21 -> 0 | N21: 0106 | P21: 01 | R21: 2
A22: 010601 1) 전기 인입공사 | D22: 1 | E22: =공종별내역서!F279 -> 0 | F22: =E22*D22 -> 0 | G22: =공종별내역서!H279 -> 0 | H22: =G22*D22 -> 0 | I22: =공종별내역서!J279 -> 0 | J22: =I22*D22 -> 0 | K22: =E22+G22+I22 -> 0 | L22: =F22+H22+J22 -> 0 | N22: 010601 | P22: 0106 | R22: 3
A23: 010602 2) 조명 설비공사 | D23: 1 | E23: =공종별내역서!F302 -> 0 | F23: =E23*D23 -> 0 | G23: =공종별내역서!H302 -> 0 | H23: =G23*D23 -> 0 | I23: =공종별내역서!J302 -> 0 | J23: =I23*D23 -> 0 | K23: =E23+G23+I23 -> 0 | L23: =F23+H23+J23 -> 0 | N23: 010602 | P23: 0106 | R23: 3
A24: 0107 7.장골천 | D24: 1 | E24: =F25+F26 -> 0 | F24: =E24*D24 -> 0 | G24: =H25+H26 -> 0 | H24: =G24*D24 -> 0 | I24: =J25+J26 -> 0 | J24: =I24*D24 -> 0 | K24: =E24+G24+I24 -> 0 | L24: =F24+H24+J24 -> 0 | N24: 0107 | P24: 01 | R24: 2
A25: 010701 1) 전기 인입공사 | D25: 1 | E25: =공종별내역서!F325 -> 0 | F25: =E25*D25 -> 0 | G25: =공종별내역서!H325 -> 0 | H25: =G25*D25 -> 0 | I25: =공종별내역서!J325 -> 0 | J25: =I25*D25 -> 0 | K25: =E25+G25+I25 -> 0 | L25: =F25+H25+J25 -> 0 | N25: 010701 | P25: 0107 | R25: 3
A26: 010702 2) 조명 설비공사 | D26: 1 | E26: =공종별내역서!F348 -> 0 | F26: =E26*D26 -> 0 | G26: =공종별내역서!H348 -> 0 | H26: =G26*D26 -> 0 | I26: =공종별내역서!J348 -> 0 | J26: =I26*D26 -> 0 | K26: =E26+G26+I26 -> 0 | L26: =F26+H26+J26 -> 0 | N26: 010702 | P26: 0107 | R26: 3
A27: 0108 8.중대천 | D27: 1 | E27: =F28+F29 -> 0 | F27: =E27*D27 -> 0 | G27: =H28+H29 -> 0 | H27: =G27*D27 -> 0 | I27: =J28+J29 -> 0 | J27: =I27*D27 -> 0 | K27: =E27+G27+I27 -> 0 | L27: =F27+H27+J27 -> 0 | N27: 0108 | P27: 01 | R27: 2
A28: 010801 1) 전기 인입공사 | D28: 1 | E28: =공종별내역서!F371 -> 0 | F28: =E28*D28 -> 0 | G28: =공종별내역서!H371 -> 0 | H28: =G28*D28 -> 0 | I28: =공종별내역서!J371 -> 0 | J28: =I28*D28 -> 0 | K28: =E28+G28+I28 -> 0 | L28: =F28+H28+J28 -> 0 | N28: 010801 | P28: 0108 | R28: 3
A29: 010802 2) 조명 설비공사 | D29: 1 | E29: =공종별내역서!F417 -> 0 | F29: =E29*D29 -> 0 | G29: =공종별내역서!H417 -> 0 | H29: =G29*D29 -> 0 | I29: =공종별내역서!J417 -> 0 | J29: =I29*D29 -> 0 | K29: =E29+G29+I29 -> 0 | L29: =F29+H29+J29 -> 0 | N29: 010802 | P29: 0108 | R29: 3
A30: 0109 9.지석골천 | D30: 1 | E30: =F31+F32 -> 0 | F30: =E30*D30 -> 0 | G30: =H31+H32 -> 0 | H30: =G30*D30 -> 0 | I30: =J31+J32 -> 0 | J30: =I30*D30 -> 0 | K30: =E30+G30+I30 -> 0 | L30: =F30+H30+J30 -> 0 | N30: 0109 | P30: 01 | R30: 2
A31: 010901 1) 전기 인입공사 | D31: 1 | E31: =공종별내역서!F440 -> 0 | F31: =E31*D31 -> 0 | G31: =공종별내역서!H440 -> 0 | H31: =G31*D31 -> 0 | I31: =공종별내역서!J440 -> 0 | J31: =I31*D31 -> 0 | K31: =E31+G31+I31 -> 0 | L31: =F31+H31+J31 -> 0 | N31: 010901 | P31: 0109 | R31: 3
A32: 010902 2) 조명 설비공사 | D32: 1 | E32: =공종별내역서!F463 -> 0 | F32: =E32*D32 -> 0 | G32: =공종별내역서!H463 -> 0 | H32: =G32*D32 -> 0 | I32: =공종별내역서!J463 -> 0 | J32: =I32*D32 -> 0 | K32: =E32+G32+I32 -> 0 | L32: =F32+H32+J32 -> 0 | N32: 010902 | P32: 0109 | R32: 3
A33: 0110 10.밧세실천 | D33: 1 | E33: =F34+F35 -> 0 | F33: =E33*D33 -> 0 | G33: =H34+H35 -> 0 | H33: =G33*D33 -> 0 | I33: =J34+J35 -> 0 | J33: =I33*D33 -> 0 | K33: =E33+G33+I33 -> 0 | L33: =F33+H33+J33 -> 0 | N33: 0110 | P33: 01 | R33: 2
A34: 011001 1) 전기 인입공사 | D34: 1 | E34: =공종별내역서!F486 -> 0 | F34: =E34*D34 -> 0 | G34: =공종별내역서!H486 -> 0 | H34: =G34*D34 -> 0 | I34: =공종별내역서!J486 -> 0 | J34: =I34*D34 -> 0 | K34: =E34+G34+I34 -> 0 | L34: =F34+H34+J34 -> 0 | N34: 011001 | P34: 0110 | R34: 3
A35: 011002 2) 조명 설비공사 | D35: 1 | E35: =공종별내역서!F509 -> 0 | F35: =E35*D35 -> 0 | G35: =공종별내역서!H509 -> 0 | H35: =G35*D35 -> 0 | I35: =공종별내역서!J509 -> 0 | J35: =I35*D35 -> 0 | K35: =E35+G35+I35 -> 0 | L35: =F35+H35+J35 -> 0 | N35: 011002 | P35: 0110 | R35: 3
A36: 0111 11.승방리천 | D36: 1 | E36: =F37+F38 -> 0 | F36: =E36*D36 -> 0 | G36: =H37+H38 -> 0 | H36: =G36*D36 -> 0 | I36: =J37+J38 -> 0 | J36: =I36*D36 -> 0 | K36: =E36+G36+I36 -> 0 | L36: =F36+H36+J36 -> 0 | N36: 0111 | P36: 01 | R36: 2
A37: 011101 1) 전기 인입공사 | D37: 1 | E37: =공종별내역서!F532 -> 0 | F37: =E37*D37 -> 0 | G37: =공종별내역서!H532 -> 0 | H37: =G37*D37 -> 0 | I37: =공종별내역서!J532 -> 0 | J37: =I37*D37 -> 0 | K37: =E37+G37+I37 -> 0 | L37: =F37+H37+J37 -> 0 | N37: 011101 | P37: 0111 | R37: 3
A38: 011102 2) 조명 설비공사 | D38: 1 | E38: =공종별내역서!F555 -> 0 | F38: =E38*D38 -> 0 | G38: =공종별내역서!H555 -> 0 | H38: =G38*D38 -> 0 | I38: =공종별내역서!J555 -> 0 | J38: =I38*D38 -> 0 | K38: =E38+G38+I38 -> 0 | L38: =F38+H38+J38 -> 0 | N38: 011102 | P38: 0111 | R38: 3
A39: 0112 12.회선동천 | D39: 1 | E39: =F40+F41 -> 0 | F39: =E39*D39 -> 0 | G39: =H40+H41 -> 0 | H39: =G39*D39 -> 0 | I39: =J40+J41 -> 0 | J39: =I39*D39 -> 0 | K39: =E39+G39+I39 -> 0 | L39: =F39+H39+J39 -> 0 | N39: 0112 | P39: 01 | R39: 2
A40: 011201 1) 전기 인입공사 | D40: 1 | E40: =공종별내역서!F578 -> 0 | F40: =E40*D40 -> 0 | G40: =공종별내역서!H578 -> 0 | H40: =G40*D40 -> 0 | I40: =공종별내역서!J578 -> 0 | J40: =I40*D40 -> 0 | K40: =E40+G40+I40 -> 0 | L40: =F40+H40+J40 -> 0 | N40: 011201 | P40: 0112 | R40: 3
...

Sheet 공종별내역서
A1: [ 2024년 공주시 소하천 스마트 계측관리시스템 구축사업 실시설계용역(전기) ]
A2: 품 명 | B2: 규 격 | C2: 단위 | D2: 수량 | E2: 재 료 비 | G2: 노 무 비 | I2: 경 비 | K2: 합 계 | M2: 비 고 | N2: 품목코드 | O2: 변수 | P2: 설정 | Q2: 공종코드 | R2: 일위 | S2: 단산 | T2: 자재 | U2: 손료적용 | V2: 손료저장 | W2: 적용율 | X2: JUK1 | Y2: JUK2 | Z2: JUK3 | AA2: JUK4 | AB2: JUK5 | AC2: JUK6 | AD2: JUK7 | AE2: JUK8 | AF2: JUK9 | AG2: JUK10 | AH2: JUK11 | AI2: JUK12 | AJ2: JUK13 | AK2: JUK14 | AL2: JUK15 | AM2: JUK16 | AN2: JUK17 | AO2: JUK18 | AP2: JUK19 | AQ2: JUK20 | AR2: 자재구분 | AS2: 공종구분 | AT2: 공종레벨 | AU2: 공종+자재 | AV2: 고유번호
E3: 단 가 | F3: 금 액 | G3: 단 가 | H3: 금 액 | I3: 단 가 | J3: 금 액 | K3: 단 가 | L3: 금 액
A4: 010101 1) 전기 인입공사 | Q4: 010101
A5: 0.6/1kV 난연 전력 케이블(F-CV) | B5: 1C 16㎟ x 4 (옥외) | C5: m | D5: 80 | M5: 호표 1 | N5: 4548405A47858F4DD3E346BE1AE29 | Q5: 010101 | R5: T | S5: F | T5: F | AU5: 0101014548405A47858F4DD3E346BE1AE29 | AV5: 4
A6: 난연 비닐 절연 접지용전선(F-GV) | B6: 0.6/1kV 16㎟ (옥외) | C6: m | D6: 10 | M6: 호표 2 | N6: 4548405A479686BC76064AB9B4FBD | Q6: 010101 | R6: T | S6: F | T6: F | AU6: 0101014548405A479686BC76064AB9B4FBD | AV6: 5
A7: 폴리에틸렌 전선관-매입 | B7: PE 54㎜ (옥외) | C7: M | D7: 26 | M7: 호표 3 | N7: 4548405A47A08D291C824C2BBED84 | Q7: 010101 | R7: T | S7: F | T7: F | AU7: 0101014548405A47A08D291C824C2BBED84 | AV7: 840
A8: 경질비닐PVC전선관-매입 | B8: HI 16 mm (옥외) | C8: m | D8: 2 | M8: 호표 4 | N8: 4548405A47A08D2BC9164244CEF3F | Q8: 010101 | R8: T | S8: F | T8: F | AU8: 0101014548405A47A08D2BC9164244CEF3F | AV8: 7
A9: 볼라드 설치 | B9: U 스텐 볼라드 150Φ | C9: 개소 | D9: 1 | M9: 호표 5 | N9: 424B470C4CE989E921354B1C6AF | Q9: 010101 | R9: T | S9: F | T9: F | AU9: 010101424B470C4CE989E921354B1C6AF | AV9: 44
A10: 볼라드 기초설치 | B10: 300 x 300 x 300 | C10: 개소 | D10: 2 | M10: 호표 6 | N10: 424B470C4CE989E9202E440F468 | Q10: 010101 | R10: T | S10: F | T10: F | AU10: 010101424B470C4CE989E9202E440F468 | AV10: 43
A11: TM/TC반 기초설치 | B11: 900 x 900 x 500 | C11: 개소 | D11: 1 | M11: 호표 7 | N11: 424B470C4CE989E9202E440F73C | Q11: 010101 | R11: T | S11: F | T11: F | AU11: 010101424B470C4CE989E9202E440F73C | AV11: 39
A12: 접지봉 | B12: 16Φ×1800 mm - 3EA | C12: 개소 | D12: 1 | M12: 호표 8 | N12: 4548405A47EE88B8B6EF491385467 | Q12: 010101 | R12: T | S12: F | T12: F | AU12: 0101014548405A47EE88B8B6EF491385467 | AV12: 40
A13: 터파기및되메우기 | B13: 0.6M | C13: m | D13: 10 | M13: 호표 9 | N13: 424B470C4CE989E921354B3F1D6 | Q13: 010101 | R13: T | S13: F | T13: F | AU13: 010101424B470C4CE989E921354B3F1D6 | AV13: 8
A14: 경고테이프 | B14: 매설표지시트 | C14: m | D14: 10 | M14: 호표 10 | N14: 424B470C4CE989E921354B1C7B6 | Q14: 010101 | R14: T | S14: F | T14: F | AU14: 010101424B470C4CE989E921354B1C7B6 | AV14: 864
A15: 가공인입 | C15: 개소 | D15: 1 | M15: 호표 11 | N15: 424B470C4CE989E921354B2E837 | Q15: 010101 | R15: T | S15: F | T15: F | AU15: 010101424B470C4CE989E921354B2E837 | AV15: 12
A26: [ 합 계 ] | N26: TOTAL
A27: 010102 2) 조명 설비공사 | Q27: 010102
A28: 0.6/1kV 난연 전력 케이블(F-CV) | B28: 2C 4㎟ (옥외) | C28: m | D28: 13.9 | M28: 호표 12 | N28: 4548405A47858F4DD3E04967B748D | Q28: 010102 | R28: T | S28: F | T28: F | AU28: 0101024548405A47858F4DD3E04967B748D | AV28: 25
A29: 0.6/1kV 난연 전력 케이블(F-CV) | B29: 3C 2.5㎟ (옥외) | C29: m | D29: 7 | M29: 호표 13 | N29: 4548405A47858F4DD3E14BD05A3ED | Q29: 010102 | R29: T | S29: F | T29: F | AU29: 0101024548405A47858F4DD3E14BD05A3ED | AV29: 26
A30: 난연 비닐 절연 접지용전선(F-GV) | B30: 0.6/1kV 50㎟ (옥외) | C30: m | D30: 15 | M30: 호표 14 | N30: 4548405A479686BC76064AB9B42E5 | Q30: 010102 | R30: T | S30: F | T30: F | AU30: 0101024548405A479686BC76064AB9B42E5 | AV30: 22
A31: 난연 비닐 절연 접지용전선(F-GV) | B31: 0.6/1kV 6㎟ (옥외) | C31: m | D31: 5 | M31: 호표 15 | N31: 4548405A479686BC76064AB9B4912 | Q31: 010102 | R31: T | S31: F | T31: F | AU31: 0101024548405A479686BC76064AB9B4912 | AV31: 24
A32: 난연 비닐 절연 접지용전선(F-GV) | B32: 0.6/1kV 4㎟ (옥외) | C32: m | D32: 13.9 | M32: 호표 16 | N32: 4548405A479686BC76064AB9B480D | Q32: 010102 | R32: T | S32: F | T32: F | AU32: 0101024548405A479686BC76064AB9B480D | AV32: 23
A33: 폴리에틸렌 전선관-매입 | B33: PE 54㎜ (옥외) | C33: M | D33: 6.3 | M33: 호표 3 | N33: 4548405A47A08D291C824C2BBED84 | Q33: 010102 | R33: T | S33: F | T33: F | AU33: 0101024548405A47A08D291C824C2BBED84 | AV33: 973
A34: 폴리에틸렌 전선관-매입 | B34: PE 36㎜ (옥외) | C34: m | D34: 6.3 | M34: 호표 17 | N34: 4548405A47A08D291C824C2BBEFB3 | Q34: 010102 | R34: T | S34: F | T34: F | AU34: 0101024548405A47A08D291C824C2BBEFB3 | AV34: 41
A35: 경질비닐PVC전선관-매입 | B35: HI 28 mm (옥외) | C35: m | D35: 2 | M35: 호표 18 | N35: 4548405A47A08D2BC9164244CE997 | Q35: 010102 | R35: T | S35: F | T35: F | AU35: 0101024548405A47A08D2BC9164244CE997 | AV35: 31
A36: 경질비닐PVC전선관-매입 | B36: HI 16 mm (옥외) | C36: m | D36: 2 | M36: 호표 4 | N36: 4548405A47A08D2BC9164244CEF3F | Q36: 010102 | R36: T | S36: F | T36: F | AU36: 0101024548405A47A08D2BC9164244CEF3F | AV36: 30
A37: 풀박스(천정면)-노출 | B37: 150 x 150 x1 00 | C37: EA | D37: 1 | M37: 호표 19 | N37: 4548405A472387D0499C4ACB830EA | Q37: 010102 | R37: T | S37: F | T37: F | AU37: 0101024548405A472387D0499C4ACB830EA | AV37: 35
A38: 보안등기구설치 | B38: LED 50W | C38: 본 | D38: 1 | M38: 호표 20 | N38: 4548405A472387D2779C4A80954D3 | Q38: 010102 | R38: T | S38: F | T38: F | AU38: 0101024548405A472387D2779C4A80954D3 | AV38: 16
A39: 등기구암대설치 | B39: 1등용 | C39: 대 | D39: 1 | M39: 호표 21 | N39: 4548405A472387D2779C4A80953CF | Q39: 010102 | R39: T | S39: F | T39: F | AU39: 0101024548405A472387D2779C4A80953CF | AV39: 17
... A48: 경고테이프 | B48: 매설표지시트 | C48: m | D48: 5 | M48: 호표 10 | N48: 424B470C4CE989E921354B1C7B6 | Q48: 010102 | R48: T | S48: F | T48: F | AU48: 010102424B470C4CE989E921354B1C7B6 | AV48: 915
A49: [ 합 계 ] | N49: TOTAL
A50: 010201 1) 전기,통신 인입공사 | Q50: 010201
A51: 0.6/1kV 난연 전력 케이블(F-CV) | B51: 1C 16㎟ x 4 (옥외) | C51: m | D51: 80 | M51: 호표 1 | N51: 4548405A47858F4DD3E346BE1AE29 | Q51: 010201 | R51: T | S51: F | T51: F | AU51: 0102014548405A47858F4DD3E346BE1AE29 | AV51: 50
A52: 난연 비닐 절연 접지용전선(F-GV) | B52: 0.6/1kV 16㎟ (옥외) | C52: m | D52: 10 | M52: 호표 2 | N52: 4548405A479686BC76064AB9B4FBD | Q52: 010201 | R52: T | S52: F | T52: F | AU52: 0102014548405A479686BC76064AB9B4FBD | AV52: 51
A53: 폴리에틸렌 전선관-매입 | B53: PE 54㎜ (옥외) | C53: M | D53: 26 | M53: 호표 3 | N53: 4548405A47A08D291C824C2BBED84 | Q53: 010201 | R53: T | S53: F | T53: F | AU53: 0102014548405A47A08D291C824C2BBED84 | AV53: 841
A54: 경질비닐PVC전선관-매입 | B54: HI 16 mm (옥외) | C54: m | D54: 2 | M54: 호표 4 | N54: 4548405A47A08D2BC9164244CEF3F | Q54: 010201 | R54: T | S54: F | T54: F | AU54: 0102014548405A47A08D2BC9164244CEF3F | AV54: 54
A55: 볼라드 설치 | B55: U 스텐 볼라드 150Φ | C55: 개소 | D55: 1 | M55: 호표 5 | N55: 424B470C4CE989E921354B1C6AF | Q55: 010201 | R55: T | S55: F | T55: F | AU55: 010201424B470C4CE989E921354B1C6AF | AV55: 55
A56: 볼라드 기초설치 | B56: 300 x 300 x 300 | C56: 개소 | D56: 2 | M56: 호표 6 | N56: 424B470C4CE989E9202E440F468 | Q56: 010201 | R56: T | S56: F | T56: F | AU56: 010201424B470C4CE989E9202E440F468 | AV56: 56
A57: TM/TC반 기초설치 | B57: 900 x 900 x 500 | C57: 개소 | D57: 1 | M57: 호표 7 | N57: 424B470C4CE989E9202E440F73C | Q57: 010201 | R57: T | S57: F | T57: F | AU57: 010201424B470C4CE989E9202E440F73C | AV57: 57
A58: 접지봉 | B58: 16Φ×1800 mm - 3EA | C58: 개소 | D58: 1 | M58: 호표 8 | N58: 4548405A47EE88B8B6EF491385467 | Q58: 010201 | R58: T | S58: F | T58: F | AU58: 0102014548405A47EE88B8B6EF491385467 | AV58: 58
...

Sheet 관급내역
A1: 관 급 내 역 서
A2: =[6]관급내역표지!A5 -> 공 사 명 : 2024년 공주시 소하천 스마트 계측관리시스템 구축사업 실시설계용역(전기,계측제어)
A3: 공 종 | B3: 규 격 | C3: 수 | D3: 단 | E3: 금 액 | I3: G2B (물품식별번호) | K3: 비고
C4: 량 | D4: 위 | E4: 단가 | G4: 합계
A5: 1. 전기시설 | C5: 1 | D5: 식
A6: 보안등기구 | B6: LED 50W | C6: 19 | D6: EA | K6: 현장하차도
A7: 보안등 암대 | B7: 가로등주부속자재 | C7: 19 | D7: 대 | K7: 현장하차도
A8: 빛차광막 | B8: 가로등주부속자재 | C8: 19 | D8: 대 | K8: 현장하차도
A9: 가로등자동점멸기 | B9: 양방향점멸기 | C9: 19 | D9: 대 | K9: 현장하차도
A10: * 조달수수료 | B10: 자재비의 0.54% | C10: 0.54 | D10: %
A24: 합 계 | C24: 1 | D24: 식 | E24: =SUM(E6:F10) -> 0 | G24: =SUM(G6:H10) -> 0

Sheet 중기단가목록
A1: 중 기 단 가 목 록
A2: [ 2024년 공주시 소하천 스마트 계측관리시스템 구축사업 실시설계용역(전기) ]
A3: 코 드 | B3: 품 명 | C3: 규 격 | D3: 단위 | E3: 재 료 비 | F3: 노 무 비 | G3: 경 비 | H3: 합 계 | I3: 번 호 | J3: 비 고 | K3: START

Sheet 중기단가산출서
A1: 중 기 단 가 산 출 서
A2: [ 2024년 공주시 소하천 스마트 계측관리시스템 구축사업 실시설계용역(전기) ]
A3: 산 출 내 역 | B3: 재 료 비 | C3: 노 무 비 | D3: 경 비 | E3: 합 계 | F3: 비 고 | G3: START | H3: 코드 | I3: 품명 | J3: 규격 | K3: 단위 | L3: 수량
A4: ( )
A6: 총 계 | E6: 0

Sheet  공사설정 
A1: 이 Sheet는 수정하지 마십시요
A2: 공사구분 | B2: D
A3: 확정내역 | B3: 원내역
A4: 자재단가적용 | B4: 5
A5: 경비단가적용 | B5: 5
A6: 품목코드형식 | B6: XXXX-XXXX-XXXXXXXXX
A7: 내역금액소수점처리 | B7: C | C7: 1
A8: 일위대가내역소수점처리 | B8: C | C8: 2
A9: 단가명 | B9: 가격정보 | C9: 물가자료 | D9: 물가정보 | E9: 조사가격 | F9: 조사가격 | G9: TTTTT
A10: 환율 | B10: 1153.3 | C10: 0 | D10: 0
A11: 시간당작업량 | B11: R | C11: 4
A12: 1회 사이클시간 | B12: R | C12: 4
A13: 시간당 작업사이클 | B13: R | C13: 3
A14: 일반변수 | B14: C | C14: 5
A15: 시간당 노임산출 계수 | B15: A | C15: 1/8*16/12*25/20 | D15: 1/8*16/12*25/20 | E15: 1/8*16/12*25/20 | F15: 1
A16: 재료비 할증 계수 | B16: 1.11 | C16: 1.12
A17: 노무비 할증 계수 | B17: 1 | C17: 1.5 | D17: 1.16 | E17: 1.6 | F17: 1.6 | G17: 1.6 | H17: 1.94 | I17: 1.94 | J17: 1.94 | K17: 1 | L17: 1 | M17: 1
A18: 경비 할증 계수 | B18: 1.25 | C18: 1.071
A19: 내역,일위대가 품명,규격,단위 따로적용
A21: 코드 | B21: 공종구분명 | C21: 원가비목코드
A22: 1 | B22: 작 업 부 산 물 | C22: A3
A23: 2 | B23: 운 반 비 | C23: C1
A24: 3 | B24: 관 급 자 재 비 | C24: DJ
A25: 4 | B25: 사 급 자 재 비 | C25: D3
A26: 5 | B26: ...
A27: 6 | B27: ...
A28: 7 | B28: ...
A29: 8 | B29: ...
A30: 9 | B30: ...

Sheet Sheet1
