Workbook
Name _B22: [1]일위대가!$A$1400:$IV$1413=[1]일위대가!$A$1400
Name _K02: [1]일위대가!$A$732:$IV$745=[1]일위대가!$A$732
Name _O03: [1]일위대가!$A$1516:$IV$1529=[1]일위대가!$A$1516
Name _Order1: 255
Name _Order2: 255
Name _Regression_Int: 1
Name AccessDatabase: "C:\My Documents\북부수도사업소\전원차단장치\전원차~1\전원차단장치 내역서 03월06일.mdb"
Name fact: #REF!
Name HTML_CodePage: 949
Name HTML_Control: {"'단계별시설공사비'!$A$3:$K$51"}
Name HTML_Description: ""
Name HTML_Email: ""
Name HTML_Header: "사업비총괄"
Name HTML_LastUpdate: "01-06-17"
Name HTML_LineAfter: FALSE
Name HTML_LineBefore: FALSE
Name HTML_Name: "김정호"
Name HTML_OBDlg2: TRUE
Name HTML_OBDlg4: TRUE
Name HTML_OS: 0
Name HTML_PathFile: "C:\My Documents\6.htm"
Name HTML_Title: "비용산출"
Name LP___4: #REF!
Name MACRO20: [2]!Macro2
Name PEE: [3]DATA!$N$4:$P$12
Name PRINT_TILTES: #REF!
Name solver_drv: 1
Name solver_est: 1
Name solver_itr: 100
Name solver_lin: 0
Name solver_num: 0
Name solver_nwt: 1
Name solver_pre: 0.000001
Name solver_scl: 0
Name solver_sho: 0
Name solver_tim: 100
Name solver_tol: 0.05
Name solver_typ: 1
Name solver_val: 0
Name 가설공사비: #REF!
Name 간접노무비: #REF!
Name 간접재료비: #REF!
Name 경비: #REF!
Name 관급자재비: #REF!
Name 기타경비: #REF!
Name 낙찰내역: {"'단계별시설공사비'!$A$3:$K$51"}
Name 노무비: [4]노무비!$C$2:$G$117
Name 노임: #REF!
Name 단가: #REF!
Name 단가: #REF!
Name 단가1: #REF!
Name 단가2: #REF!
Name 단가3: #REF!
Name 단가비교표: [4]단가비교표!#REF!
Name 도급공사비: #REF!
Name ㅁㅁ: '[5]단가 '!$B$3:$N$103
Name 부가가치세: #REF!
Name 산재보험료: #REF!
Name 선관: #REF!
Name 안전관리비: #REF!

Sheet 원가계산서
B1: 공 사 원 가 계 산 서
B2: 공사명 : 2024년 공주시 소하천 스마트 계측관리시스템 구축사업 (전기,계측제어)
B3: 비 목 | E3: 금 액 | F3: 구 성 비 | G3: 비 고
A4: A1 | B4: 순 공 사 원 가 | C4: 재 료 비 | D4: 직 접 재 료 비 | E4: =TRUNC(공종별집계표!F5, 0) -> 0
A5: A2 | D5: 간 접 재 료 비 | E5: 0
A6: A3 | D6: 작업설, 부산물(△) | E6: 0
A7: AS | D7: [ 소 계 ] | E7: =TRUNC(E4+E5-E6, 0) -> 0
A8: B1 | C8: 노 무 비 | D8: 직 접 노 무 비 | E8: =TRUNC(공종별집계표!H5, 0) -> 0
A9: B2 | D9: 간 접 노 무 비 | E9: =TRUNC(E8*0.191, 0) -> 0 | F9: 직접노무비 * 19.1%
A10: BS | D10: [ 소 계 ] | E10: =TRUNC(E8+E9, 0) -> 0
A11: C2 | C11: 경 비 | D11: 기 계 경 비 | E11: =TRUNC(공종별집계표!J5, 0) -> 0
A12: C4 | D12: 산 재 보 험 료 | E12: =TRUNC(E10*0.0356, 0) -> 0 | F12: 노무비 * 3.56%
A13: C5 | D13: 고 용 보 험 료 | E13: =TRUNC(E10*0.0101, 0) -> 0 | F13: 노무비 * 1.01%
A14: C6 | D14: 국민 건강 보험료 | E14: =TRUNC(E8*0.03595, 0) -> 0 | F14: 직접노무비 * 3.595%
A15: C7 | D15: 국민 연금 보험료 | E15: =TRUNC(E8*0.0475, 0) -> 0 | F15: 직접노무비 * 4.75%
A16: CB | D16: 노인장기요양보험료 | E16: =TRUNC(E14*0.1314, 0) -> 0 | F16: 건강보험료 * 13.14%
A17: C8 | D17: 퇴직 공제 부금비 | E17: =TRUNC(E8*0.023, 0) -> 0 | F17: 직접노무비 * 2.3%
A18: CA | D18: 산업안전보건관리비 | E18: 0 | F18: (재료비+직노+도급자관급) * 2.07%
A19: CC | D19: 법정부담금 | E19: =TRUNC(E20+E21, 0) -> 0
A20: CD | D20: 석면분담금 | E20: =TRUNC(E10*0.00006, 0) -> 0 | F20: 노무비 * 0.006%
A21: CE | D21: 임금채권부담금 | E21: =TRUNC(E10*0.0009, 0) -> 0 | F21: 노무비 * 0.09%
A22: CG | D22: 기 타 경 비 | E22: =TRUNC((E7+E10)*0.055, 0) -> 0 | F22: (재료비+노무비) * 5.5%
A23: CS | D23: [ 소 계 ] | E23: =TRUNC(E11+E12+E13+E14+E15+E17+E18+E16+E19+E22, 0) -> 0
A24: S1 | B24: 계 | E24: =TRUNC(E7+E10+E23, 0) -> 0
A25: D1 | B25: 일 반 관 리 비 | E25: =TRUNC(E24*0.065, 0) -> 0 | F25: 계 * 6.5%
A26: D2 | B26: 이 윤 | E26: 0 | F26: (노무비+경비+일반관리비) * 14.57%
A27: D9 | B27: 공 급 가 액 | E27: =TRUNC(E24+E25+E26, 0) -> 0
A28: DA | B28: 전기공사손해배상공제 | E28: 0 | F28: 순계약금액(공급가액+도급자관급)*0.26477%
A29: DB | B29: 부 가 가 치 세 | E29: =TRUNC((E27+E28)*0.1, 0) -> 0 | F29: 공급가액 * 10%
A30: DH | B30: 도 급 액 | E30: 0
A31: DK | B31: 관 급 자 재 비 | E31: 0 | G31: <부가세포함>
A32: DL | B32: 한 전 수 탁 비 | E32: 0 | G32: <부가세포함>
A33: S2 | B33: 총 공 사 비 | E33: 0

Sheet 공종별집계표
A1: 공 종 별 집 계 표
A2: [ 2024년 공주시 소하천 스마트 계측관리시스템 구축사업 (전기,계측제어) ]
A3: 품 명 | B3: 규 격 | C3: 단위 | D3: 수량 | E3: 재 료 비 | G3: 노 무 비 | I3: 경 비 | K3: 합 계 | M3: 비 고 | N3: 공종코드 | O3: 변수 | P3: 상위공종 | Q3: 공종구분 | R3: 공종레벨 | S3: 공종소계 | T3: 원가계산서 연결금액
E4: 단 가 | F4: 금 액 | G4: 단 가 | H4: 금 액 | I4: 단 가 | J4: 금 액 | K4: 단 가 | L4: 금 액
A5: 01 2024년 공주시 소하천 스마트 계측관리시스템 구축사업 실시설계용역(전기) | D5: 1 | E5: =F6+F9+F12+F15+F18+F21+F24+F27+F30+F33+F36+F39+F42+F45+F48+F51+F54+F57+F60 -> 0 | F5: =E5*D5 -> 0 | G5: =H6+H9+H12+H15+H18+H21+H24+H27+H30+H33+H36+H39+H42+H45+H48+H51+H54+H57+H60 -> 0 | H5: =G5*D5 -> 0 | I5: =J6+J9+J12+J15+J18+J21+J24+J27+J30+J33+J36+J39+J42+J45+J48+J51+J54+J57+J60 -> 0 | J5: =I5*D5 -> 0 | K5: =E5+G5+I5 -> 0 | L5: =F5+H5+J5 -> 0 | N5: 01 | R5: 1
A6: 0101 1.여사골천 | D6: 1 | E6: =F7+F8 -> 0 | F6: =E6*D6 -> 0 | G6: =H7+H8 -> 0 | H6: =G6*D6 -> 0 | I6: =J7+J8 -> 0 | J6: =I6*D6 -> 0 | K6: =E6+G6+I6 -> 0 | L6: =F6+H6+J6 -> 0 | N6: 0101 | P6: 01 | R6: 2
A7: 010101 1) 전기 인입공사 | D7: 1 | E7: =공종별내역서!F26 -> 0 | F7: =E7*D7 -> 0 | G7: =공종별내역서!H26 -> 0 | H7: =G7*D7 -> 0 | I7: =공종별내역서!J26 -> 0 | J7: =I7*D7 -> 0 | K7: =E7+G7+I7 -> 0 | L7: =F7+H7+J7 -> 0 | N7: 010101 | P7: 0101 | R7: 3
A8: 010102 2) 조명 설비공사 | D8: 1 | E8: =공종별내역서!F49 -> 0 | F8: =E8*D8 -> 0 | G8: =공종별내역서!H49 -> 0 | H8: =G8*D8 -> 0 | I8: =공종별내역서!J49 -> 0 | J8: =I8*D8 -> 0 | K8: =E8+G8+I8 -> 0 | L8: =F8+H8+J8 -> 0 | N8: 010102 | P8: 0101 | R8: 3
A9: 0102 2.달월천 | D9: 1 | E9: =F10+F11 -> 0 | F9: =E9*D9 -> 0 | G9: =H10+H11 -> 0 | H9: =G9*D9 -> 0 | I9: =J10+J11 -> 0 | J9: =I9*D9 -> 0 | K9: =E9+G9+I9 -> 0 | L9: =F9+H9+J9 -> 0 | N9: 0102 | P9: 01 | R9: 2
A10: 010201 1) 전기,통신 인입공사 | D10: 1 | E10: =공종별내역서!F72 -> 0 | F10: =E10*D10 -> 0 | G10: =공종별내역서!H72 -> 0 | H10: =G10*D10 -> 0 | I10: =공종별내역서!J72 -> 0 | J10: =I10*D10 -> 0 | K10: =E10+G10+I10 -> 0 | L10: =F10+H10+J10 -> 0 | N10: 010201 | P10: 0102 | R10: 3
A11: 010202 2) 조명 설비공사 | D11: 1 | E11: =공종별내역서!F118 -> 0 | F11: =E11*D11 -> 0 | G11: =공종별내역서!H118 -> 0 | H11: =G11*D11 -> 0 | I11: =공종별내역서!J118 -> 0 | J11: =I11*D11 -> 0 | K11: =E11+G11+I11 -> 0 | L11: =F11+H11+J11 -> 0 | N11: 010202 | P11: 0102 | R11: 3
A12: 0103 3.노동천 | D12: 1 | E12: =F13+F14 -> 0 | F12: =E12*D12 -> 0 | G12: =H13+H14 -> 0 | H12: =G12*D12 -> 0 | I12: =J13+J14 -> 0 | J12: =I12*D12 -> 0 | K12: =E12+G12+I12 -> 0 | L12: =F12+H12+J12 -> 0 | N12: 0103 | P12: 01 | R12: 2
A13: 010301 1) 전기 인입공사 | D13: 1 | E13: =공종별내역서!F141 -> 0 | F13: =E13*D13 -> 0 | G13: =공종별내역서!H141 -> 0 | H13: =G13*D13 -> 0 | I13: =공종별내역서!J141 -> 0 | J13: =I13*D13 -> 0 | K13: =E13+G13+I13 -> 0 | L13: =F13+H13+J13 -> 0 | N13: 010301 | P13: 0103 | R13: 3
A14: 010302 2) 조명 설비공사 | D14: 1 | E14: =공종별내역서!F164 -> 0 | F14: =E14*D14 -> 0 | G14: =공종별내역서!H164 -> 0 | H14: =G14*D14 -> 0 | I14: =공종별내역서!J164 -> 0 | J14: =I14*D14 -> 0 | K14: =E14+G14+I14 -> 0 | L14: =F14+H14+J14 -> 0 | N14: 010302 | P14: 0103 | R14: 3
A15: 0104 4.가느니천 | D15: 1 | E15: =F16+F17 -> 0 | F15: =E15*D15 -> 0 | G15: =H16+H17 -> 0 | H15: =G15*D15 -> 0 | I15: =J16+J17 -> 0 | J15: =I15*D15 -> 0 | K15: =E15+G15+I15 -> 0 | L15: =F15+H15+J15 -> 0 | N15: 0104 | P15: 01 | R15: 2
A16: 010401 1) 전기 인입공사 | D16: 1 | E16: =공종별내역서!F187 -> 0 | F16: =E16*D16 -> 0 | G16: =공종별내역서!H187 -> 0 | H16: =G16*D16 -> 0 | I16: =공종별내역서!J187 -> 0 | J16: =I16*D16 -> 0 | K16: =E16+G16+I16 -> 0 | L16: =F16+H16+J16 -> 0 | N16: 010401 | P16: 0104 | R16: 3
A17: 010402 2) 조명 설비공사 | D17: 1 | E17: =공종별내역서!F210 -> 0 | F17: =E17*D17 -> 0 | G17: =공종별내역서!H210 -> 0 | H17: =G17*D17 -> 0 | I17: =공종별내역서!J210 -> 0 | J17: =I17*D17 -> 0 | K17: =E17+G17+I17 -> 0 | L17: =F17+H17+J17 -> 0 | N17: 010402 | P17: 0104 | R17: 3
A18: 0105 5.탄향천 | D18: 1 | E18: =F19+F20 -> 0 | F18: =E18*D18 -> 0 | G18: =H19+H20 -> 0 | H18: =G18*D18 -> 0 | I18: =J19+J20 -> 0 | J18: =I18*D18 -> 0 | K18: =E18+G18+I18 -> 0 | L18: =F18+H18+J18 -> 0 | N18: 0105 | P18: 01 | R18: 2
A19: 010501 1) 전기 인입공사 | D19: 1 | E19: =공종별내역서!F233 -> 0 | F19: =E19*D19 -> 0 | G19: =공종별내역서!H233 -> 0 | H19: =G19*D19 -> 0 | I19: =공종별내역서!J233 -> 0 | J19: =I19*D19 -> 0 | K19: =E19+G19+I19 -> 0 | L19: =F19+H19+J19 -> 0 | N19: 010501 | P19: 0105 | R19: 3
A20: 010502 2) 감시 및 조명 설비공사 | D20: 1 | E20: =공종별내역서!F256 -> 0 | F20: =E20*D20 -> 0 | G20: =공종별내역서!H256 -> 0 | H20: =G20*D20 -> 0 | I20: =공종별내역서!J256 -> 0 | J20: =I20*D20 -> 0 | K20: =E20+G20+I20 -> 0 | L20: =F20+H20+J20 -> 0 | N20: 010502 | P20: 0105 | R20: 3
A21: 0106 6.반선말천 | D21: 1 | E21: =F22+F23 -> 0 | F21: =E21*D21 -> 0 | G21: =H22+H23 -> 0 | H21: =G21*D21 -> 0 | I21: =J22+J23 -> 0 | J21: =I21*D21 -> 0 | K21: =E21+G21+I21 -> 0 | L21: =F21+H21+J21 -> 0 | N21: 0106 | P21: 01 | R21: 2
A22: 010601 1) 전기 인입공사 | D22: 1 | E22: =공종별내역서!F279 -> 0 | F22: =E22*D22 -> 0 | G22: =공종별내역서!H279 -> 0 | H22: =G22*D22 -> 0 | I22: =공종별내역서!J279 -> 0 | J22: =I22*D22 -> 0 | K22: =E22+G22+I22 -> 0 | L22: =F22+H22+J22 -> 0 | N22: 010601 | P22: 0106 | R22: 3
A23: 010602 2) 조명 설비공사 | D23: 1 | E23: =공종별내역서!F302 -> 0 | F23: =E23*D23 -> 0 | G23: =공종별내역서!H302 -> 0 | H23: =G23*D23 -> 0 | I23: =공종별내역서!J302 -> 0 | J23: =I23*D23 -> 0 | K23: =E23+G23+I23 -> 0 | L23: =F23+H23+J23 -> 0 | N23: 010602 | P23: 0106 | R23: 3
A24: 0107 7.장골천 | D24: 1 | E24: =F25+F26 -> 0 | F24: =E24*D24 -> 0 | G24: =H25+H26 -> 0 | H24: =G24*D24 -> 0 | I24: =J25+J26 -> 0 | J24: =I24*D24 -> 0 | K24: =E24+G24+I24 -> 0 | L24: =F24+H24+J24 -> 0 | N24: 0107 | P24: 01 | R24: 2
A25: 010701 1) 전기 인입공사 | D25: 1 | E25: =공종별내역서!F325 -> 0 | F25: =E25*D25 -> 0 | G25: =공종별내역서!H325 -> 0 | H25: =G25*D25 -> 0 | I25: =공종별내역서!J325 -> 0 | J25: =I25*D25 -> 0 | K25: =E25+G25+I25 -> 0 | L25: =F25+H25+J25 -> 0 | N25: 010701 | P25: 0107 | R25: 3
A26: 010702 2) 조명 설비공사 | D26: 1 | E26: =공종별내역서!F348 -> 0 | F26: =E26*D26 -> 0 | G26: =공종별내역서!H348 -> 0 | H26: =G26*D26 -> 0 | I26: =공종별내역서!J348 -> 0 | J26: =I26*D26 -> 0 | K26: =E26+G26+I26 -> 0 | L26: =F26+H26+J26 -> 0 | N26: 010702 | P26: 0107 | R26: 3
A27: 0108 8.중대천 | D27: 1 | E27: =F28+F29 -> 0 | F27: =E27*D27 -> 0 | G27: =H28+H29 -> 0 | H27: =G27*D27 -> 0 | I27: =J28+J29 -> 0 | J27: =I27*D27 -> 0 | K27: =E27+G27+I27 -> 0 | L27: =F27+H27+J27 -> 0 | N27: 0108 | P27: 01 | R27: 2
A28: 010801 1) 전기 인입공사 | D28: 1 | E28: =공종별내역서!F371 -> 0 | F28: =E28*D28 -> 0 | G28: =공종별내역서!H371 -> 0 | H28: =G28*D28 -> 0 | I28: =공종별내역서!J371 -> 0 | J28: =I28*D28 -> 0 | K28: =E28+G28+I28 -> 0 | L28: =F28+H28+J28 -> 0 | N28: 010801 | P28: 0108 | R28: 3
A29: 010802 2) 조명 설비공사 | D29: 1 | E29: =공종별내역서!F417 -> 0 | F29: =E29*D29 -> 0 | G29: =공종별내역서!H417 -> 0 | H29: =G29*D29 -> 0 | I29: =공종별내역서!J417 -> 0 | J29: =I29*D29 -> 0 | K29: =E29+G29+I29 -> 0 | L29: =F29+H29+J29 -> 0 | N29: 010802 | P29: 0108 | R29: 3
A30: 0109 9.지석골천 | D30: 1 | E30: =F31+F32 -> 0 | F30: =E30*D30 -> 0 | G30: =H31+H32 -> 0 | H30: =G30*D30 -> 0 | I30: =J31+J32 -> 0 | J30: =I30*D30 -> 0 | K30: =E30+G30+I30 -> 0 | L30: =F30+H30+J30 -> 0 | N30: 0109 | P30: 01 | R30: 2
A31: 010901 1) 전기 인입공사 | D31: 1 | E31: =공종별내역서!F440 -> 0 | F31: =E31*D31 -> 0 | G31: =공종별내역서!H440 -> 0 | H31: =G31*D31 -> 0 | I31: =공종별내역서!J440 -> 0 | J31: =I31*D31 -> 0 | K31: =E31+G31+I31 -> 0 | L31: =F31+H31+J31 -> 0 | N31: 010901 | P31: 0109 | R31: 3
A32: 010902 2) 조명 설비공사 | D32: 1 | E32: =공종별내역서!F463 -> 0 | F32: =E32*D32 -> 0 | G32: =공종별내역서!H463 -> 0 | H32: =G32*D32 -> 0 | I32: =공종별내역서!J463 -> 0 | J32: =I32*D32 -> 0 | K32: =E32+G32+I32 -> 0 | L32: =F32+H32+J32 -> 0 | N32: 010902 | P32: 0109 | R32: 3
A33: 0110 10.밧세실천 | D33: 1 | E33: =F34+F35 -> 0 | F33: =E33*D33 -> 0 | G33: =H34+H35 -> 0 | H33: =G33*D33 -> 0 | I33: =J34+J35 -> 0 | J33: =I33*D33 -> 0 | K33: =E33+G33+I33 -> 0 | L33: =F33+H33+J33 -> 0 | N33: 0110 | P33: 01 | R33: 2
A34: 011001 1) 전기 인입공사 | D34: 1 | E34: =공종별내역서!F486 -> 0 | F34: =E34*D34 -> 0 | G34: =공종별내역서!H486 -> 0 | H34: =G34*D34 -> 0 | I34: =공종별내역서!J486 -> 0 | J34: =I34*D34 -> 0 | K34: =E34+G34+I34 -> 0 | L34: =F34+H34+J34 -> 0 | N34: 011001 | P34: 0110 | R34: 3
A35: 011002 2) 조명 설비공사 | D35: 1 | E35: =공종별내역서!F509 -> 0 | F35: =E35*D35 -> 0 | G35: =공종별내역서!H509 -> 0 | H35: =G35*D35 -> 0 | I35: =공종별내역서!J509 -> 0 | J35: =I35*D35 -> 0 | K35: =E35+G35+I35 -> 0 | L35: =F35+H35+J35 -> 0 | N35: 011002 | P35: 0110 | R35: 3
A36: 0111 11.승방리천 | D36: 1 | E36: =F37+F38 -> 0 | F36: =E36*D36 -> 0 | G36: =H37+H38 -> 0 | H36: =G36*D36 -> 0 | I36: =J37+J38 -> 0 | J36: =I36*D36 -> 0 | K36: =E36+G36+I36 -> 0 | L36: =F36+H36+J36 -> 0 | N36: 0111 | P36: 01 | R36: 2
A37: 011101 1) 전기 인입공사 | D37: 1 | E37: =공종별내역서!F532 -> 0 | F37: =E37*D37 -> 0 | G37: =공종별내역서!H532 -> 0 | H37: =G37*D37 -> 0 | I37: =공종별내역서!J532 -> 0 | J37: =I37*D37 -> 0 | K37: =E37+G37+I37 -> 0 | L37: =F37+H37+J37 -> 0 | N37: 011101 | P37: 0111 | R37: 3
A38: 011102 2) 조명 설비공사 | D38: 1 | E38: =공종별내역서!F555 -> 0 | F38: =E38*D38 -> 0 | G38: =공종별내역서!H555 -> 0 | H38: =G38*D38 -> 0 | I38: =공종별내역서!J555 -> 0 | J38: =I38*D38 -> 0 | K38: =E38+G38+I38 -> 0 | L38: =F38+H38+J38 -> 0 | N38: 011102 | P38: 0111 | R38: 3
A39: 0112 12.회선동천 | D39: 1 | E39: =F40+F41 -> 0 | F39: =E39*D39 -> 0 | G39: =H40+H41 -> 0 | H39: =G39*D39 -> 0 | I39: =J40+J41 -> 0 | J39: =I39*D39 -> 0 | K39: =E39+G39+I39 -> 0 | L39: =F39+H39+J39 -> 0 | N39: 0112 | P39: 01 | R39: 2
A40: 011201 1) 전기 인입공사 | D40: 1 | E40: =공종별내역서!F578 -> 0 | F40: =E40*D40 -> 0 | G40: =공종별내역서!H578 -> 0 | H40: =G40*D40 -> 0 | I40: =공종별내역서!J578 -> 0 | J40: =I40*D40 -> 0 | K40: =E40+G40+I40 -> 0 | L40: =F40+H40+J40 -> 0 | N40: 011201 | P40: 0112 | R40: 3
A41: 011202 2) 조명 설비공사 | D41: 1 | E41: =공종별내역서!F601 -> 0 | F41: =E41*D41 -> 0 | G41: =공종별내역서!H601 -> 0 | H41: =G41*D41 -> 0 | I41: =공종별내역서!J601 -> 0 | J41: =I41*D41 -> 0 | K41: =E41+G41+I41 -> 0 | L41: =F41+H41+J41 -> 0 | N41: 011202 | P41: 0112 | R41: 3
A42: 0113 13.오실곡천 | D42: 1 | E42: =F43+F44 -> 0 | F42: =E42*D42 -> 0 | G42: =H43+H44 -> 0 | H42: =G42*D42 -> 0 | I42: =J43+J44 -> 0 | J42: =I42*D42 -> 0 | K42: =E42+G42+I42 -> 0 | L42: =F42+H42+J42 -> 0 | N42: 0113 | P42: 01 | R42: 2
A43: 011301 1) 전기 인입공사 | D43: 1 | E43: =공종별내역서!F624 -> 0 | F43: =E43*D43 -> 0 | G43: =공종별내역서!H624 -> 0 | H43: =G43*D43 -> 0 | I43: =공종별내역서!J624 -> 0 | J43: =I43*D43 -> 0 | K43: =E43+G43+I43 -> 0 | L43: =F43+H43+J43 -> 0 | N43: 011301 | P43: 0113 | R43: 3
A44: 011302 2) 조명 설비공사 | D44: 1 | E44: =공종별내역서!F647 -> 0 | F44: =E44*D44 -> 0 | G44: =공종별내역서!H647 -> 0 | H44: =G44*D44 -> 0 | I44: =공종별내역서!J647 -> 0 | J44: =I44*D44 -> 0 | K44: =E44+G44+I44 -> 0 | L44: =F44+H44+J44 -> 0 | N44: 011302 | P44: 0113 | R44: 3
A45: 0114 14.건넝골천 | D45: 1 | E45: =F46+F47 -> 0 | F45: =E45*D45 -> 0 | G45: =H46+H47 -> 0 | H45: =G45*D45 -> 0 | I45: =J46+J47 -> 0 | J45: =I45*D45 -> 0 | K45: =E45+G45+I45 -> 0 | L45: =F45+H45+J45 -> 0 | N45: 0114 | P45: 01 | R45: 2
A46: 011401 1) 전기 인입공사 | D46: 1 | E46: =공종별내역서!F670 -> 0 | F46: =E46*D46 -> 0 | G46: =공종별내역서!H670 -> 0 | H46: =G46*D46 -> 0 | I46: =공종별내역서!J670 -> 0 | J46: =I46*D46 -> 0 | K46: =E46+G46+I46 -> 0 | L46: =F46+H46+J46 -> 0 | N46: 011401 | P46: 0114 | R46: 3
A47: 011402 2) 조명 설비공사 | D47: 1 | E47: =공종별내역서!F693 -> 0 | F47: =E47*D47 -> 0 | G47: =공종별내역서!H693 -> 0 | H47: =G47*D47 -> 0 | I47: =공종별내역서!J693 -> 0 | J47: =I47*D47 -> 0 | K47: =E47+G47+I47 -> 0 | L47: =F47+H47+J47 -> 0 | N47: 011402 | P47: 0114 | R47: 3
A48: 0115 15.시어골천 | D48: 1 | E48: =F49+F50 -> 0 | F48: =E48*D48 -> 0 | G48: =H49+H50 -> 0 | H48: =G48*D48 -> 0 | I48: =J49+J50 -> 0 | J48: =I48*D48 -> 0 | K48: =E48+G48+I48 -> 0 | L48: =F48+H48+J48 -> 0 | N48: 0115 | P48: 01 | R48: 2
A49: 011501 1) 전기 인입공사 | D49: 1 | E49: =공종별내역서!F716 -> 0 | F49: =E49*D49 -> 0 | G49: =공종별내역서!H716 -> 0 | H49: =G49*D49 -> 0 | I49: =공종별내역서!J716 -> 0 | J49: =I49*D49 -> 0 | K49: =E49+G49+I49 -> 0 | L49: =F49+H49+J49 -> 0 | N49: 011501 | P49: 0115 | R49: 3
A50: 011502 2) 조명 설비공사 | D50: 1 | E50: =공종별내역서!F739 -> 0 | F50: =E50*D50 -> 0 | G50: =공종별내역서!H739 -> 0 | H50: =G50*D50 -> 0 | I50: =공종별내역서!J739 -> 0 | J50: =I50*D50 -> 0 | K50: =E50+G50+I50 -> 0 | L50: =F50+H50+J50 -> 0 | N50: 011502 | P50: 0115 | R50: 3
A51: 0116 16.물안주천 | D51: 1 | E51: =F52+F53 -> 0 | F51: =E51*D51 -> 0 | G51: =H52+H53 -> 0 | H51: =G51*D51 -> 0 | I51: =J52+J53 -> 0 | J51: =I51*D51 -> 0 | K51: =E51+G51+I51 -> 0 | L51: =F51+H51+J51 -> 0 | N51: 0116 | P51: 01 | R51: 2
A52: 011601 1) 전기 인입공사 | D52: 1 | E52: =공종별내역서!F762 -> 0 | F52: =E52*D52 -> 0 | G52: =공종별내역서!H762 -> 0 | H52: =G52*D52 -> 0 | I52: =공종별내역서!J762 -> 0 | J52: =I52*D52 -> 0 | K52: =E52+G52+I52 -> 0 | L52: =F52+H52+J52 -> 0 | N52: 011601 | P52: 0116 | R52: 3
A53: 011602 2) 조명 설비공사 | D53: 1 | E53: =공종별내역서!F785 -> 0 | F53: =E53*D53 -> 0 | G53: =공종별내역서!H785 -> 0 | H53: =G53*D53 -> 0 | I53: =공종별내역서!J785 -> 0 | J53: =I53*D53 -> 0 | K53: =E53+G53+I53 -> 0 | L53: =F53+H53+J53 -> 0 | N53: 011602 | P53: 0116 | R53: 3
A54: 0117 17.성황당천 | D54: 1 | E54: =F55+F56 -> 0 | F54: =E54*D54 -> 0 | G54: =H55+H56 -> 0 | H54: =G54*D54 -> 0 | I54: =J55+J56 -> 0 | J54: =I54*D54 -> 0 | K54: =E54+G54+I54 -> 0 | L54: =F54+H54+J54 -> 0 | N54: 0117 | P54: 01 | R54: 2
A55: 011701 1) 전기 인입공사 | D55: 1 | E55: =공종별내역서!F808 -> 0 | F55: =E55*D55 -> 0 | G55: =공종별내역서!H808 -> 0 | H55: =G55*D55 -> 0 | I55: =공종별내역서!J808 -> 0 | J55: =I55*D55 -> 0 | K55: =E55+G55+I55 -> 0 | L55: =F55+H55+J55 -> 0 | N55: 011701 | P55: 0117 | R55: 3
A56: 011702 2) 조명 설비공사 | D56: 1 | E56: =공종별내역서!F831 -> 0 | F56: =E56*D56 -> 0 | G56: =공종별내역서!H831 -> 0 | H56: =G56*D56 -> 0 | I56: =공종별내역서!J831 -> 0 | J56: =I56*D56 -> 0 | K56: =E56+G56+I56 -> 0 | L56: =F56+H56+J56 -> 0 | N56: 011702 | P56: 0117 | R56: 3
A57: 0118 18.위령탑천 | D57: 1 | E57: =F58+F59 -> 0 | F57: =E57*D57 -> 0 | G57: =H58+H59 -> 0 | H57: =G57*D57 -> 0 | I57: =J58+J59 -> 0 | J57: =I57*D57 -> 0 | K57: =E57+G57+I57 -> 0 | L57: =F57+H57+J57 -> 0 | N57: 0118 | P57: 01 | R57: 2
A58: 011801 1) 전기 인입공사 | D58: 1 | E58: =공종별내역서!F854 -> 0 | F58: =E58*D58 -> 0 | G58: =공종별내역서!H854 -> 0 | H58: =G58*D58 -> 0 | I58: =공종별내역서!J854 -> 0 | J58: =I58*D58 -> 0 | K58: =E58+G58+I58 -> 0 | L58: =F58+H58+J58 -> 0 | N58: 011801 | P58: 0118 | R58: 3
A59: 011802 2) 조명 설비공사 | D59: 1 | E59: =공종별내역서!F900 -> 0 | F59: =E59*D59 -> 0 | G59: =공종별내역서!H900 -> 0 | H59: =G59*D59 -> 0 | I59: =공종별내역서!J900 -> 0 | J59: =I59*D59 -> 0 | K59: =E59+G59+I59 -> 0 | L59: =F59+H59+J59 -> 0 | N59: 011802 | P59: 0118 | R59: 3
A60: 0119 19.신기동천 | D60: 1 | E60: =F61+F62 -> 0 | F60: =E60*D60 -> 0 | G60: =H61+H62 -> 0 | H60: =G60*D60 -> 0 | I60: =J61+J62 -> 0 | J60: =I60*D60 -> 0 | K60: =E60+G60+I60 -> 0 | L60: =F60+H60+J60 -> 0 | N60: 0119 | P60: 01 | R60: 2
A61: 011901 1) 전기 인입공사 | D61: 1 | E61: =공종별내역서!F923 -> 0 | F61: =E61*D61 -> 0 | G61: =공종별내역서!H923 -> 0 | H61: =G61*D61 -> 0 | I61: =공종별내역서!J923 -> 0 | J61: =I61*D61 -> 0 | K61: =E61+G61+I61 -> 0 | L61: =F61+H61+J61 -> 0 | N61: 011901 | P61: 0119 | R61: 3
A62: 011902 2) 조명 설비공사 | D62: 1 | E62: =공종별내역서!F946 -> 0 | F62: =E62*D62 -> 0 | G62: =공종별내역서!H946 -> 0 | H62: =G62*D62 -> 0 | I62: =공종별내역서!J946 -> 0 | J62: =I62*D62 -> 0 | K62: =E62+G62+I62 -> 0 | L62: =F62+H62+J62 -> 0 | N62: 011902 | P62: 0119 | R62: 3
A67: [ 합 계 ] | F67: =F5 -> 0 | H67: =H5 -> 0 | J67: =J5 -> 0 | L67: =L5 -> 0

Sheet 공종별내역서
A1: [ 2024년 공주시 소하천 스마트 계측관리시스템 구축사업 실시설계용역(전기) ]
A2: 품 명 | B2: 규 격 | C2: 단위 | D2: 수량 | E2: 재 료 비 | G2: 노 무 비 | I2: 경 비 | K2: 합 계 | M2: 비 고 | N2: 품목코드 | O2: 변수 | P2: 설정 | Q2: 공종코드 | R2: 일위 | S2: 단산 | T2: 자재 | U2: 손료적용 | V2: 손료저장 | W2: 적용율 | X2: JUK1 | Y2: JUK2 | Z2: JUK3 | AA2: JUK4 | AB2: JUK5 | AC2: JUK6 | AD2: JUK7 | AE2: JUK8 | AF2: JUK9 | AG2: JUK10 | AH2: JUK11 | AI2: JUK12 | AJ2: JUK13 | AK2: JUK14 | AL2: JUK15 | AM2: JUK16 | AN2: JUK17 | AO2: JUK18 | AP2: JUK19 | AQ2: JUK20 | AR2: 자재구분 | AS2: 공종구분 | AT2: 공종레벨 | AU2: 공종+자재 | AV2: 고유번호
E3: 단 가 | F3: 금 액 | G3: 단 가 | H3: 금 액 | I3: 단 가 | J3: 금 액 | K3: 단 가 | L3: 금 액
A4: 010101 1) 전기 인입공사 | Q4: 010101
A5: 0.6/1kV 난연 전력 케이블(F-CV) | B5: 1C 16㎟ x 4 (옥외) | C5: m | D5: 80 | M5: 호표 1 | N5: 4548405A47858F4DD3E346BE1AE29 | Q5: 010101 | R5: T | S5: F | T5: F | AU5: 0101014548405A47858F4DD3E346BE1AE29 | AV5: 4
A6: 난연 비닐 절연 접지용전선(F-GV) | B6: 0.6/1kV 16㎟ (옥외) | C6: m | D6: 10 | M6: 호표 2 | N6: 4548405A479686BC76064AB9B4FBD | Q6: 010101 | R6: T | S6: F | T6: F | AU6: 0101014548405A479686BC76064AB9B4FBD | AV6: 5
A7: 폴리에틸렌 전선관-매입 | B7: PE 54㎜ (옥외) | C7: M | D7: 26 | M7: 호표 3 | N7: 4548405A47A08D291C824C2BBED84 | Q7: 010101 | R7: T | S7: F | T7: F | AU7: 0101014548405A47A08D291C824C2BBED84 | AV7: 840
A8: 경질비닐PVC전선관-매입 | B8: HI 16 mm (옥외) | C8: m | D8: 2 | M8: 호표 4 | N8: 4548405A47A08D2BC9164244CEF3F | Q8: 010101 | R8: T | S8: F | T8: F | AU8: 0101014548405A47A08D2BC9164244CEF3F | AV8: 7
A9: 볼라드 설치 | B9: U 스텐 볼라드 150Φ | C9: 개소 | D9: 1 | M9: 호표 5 | N9: 424B470C4CE989E921354B1C6AF | Q9: 010101 | R9: T | S9: F | T9: F | AU9: 010101424B470C4CE989E921354B1C6AF | AV9: 44
A10: 볼라드 기초설치 | B10: 300 x 300 x 300 | C10: 개소 | D10: 2 | M10: 호표 6 | N10: 424B470C4CE989E9202E440F468 | Q10: 010101 | R10: T | S10: F | T10: F | AU10: 010101424B470C4CE989E9202E440F468 | AV10: 43
A11: TM/TC반 기초설치 | B11: 900 x 900 x 500 | C11: 개소 | D11: 1 | M11: 호표 7 | N11: 424B470C4CE989E9202E440F73C | Q11: 010101 | R11: T | S11: F | T11: F | AU11: 010101424B470C4CE989E9202E440F73C | AV11: 39
A12: 접지봉 | B12: 16Φ×1800 mm - 3EA | C12: 개소 | D12: 1 | M12: 호표 8 | N12: 4548405A47EE88B8B6EF491385467 | Q12: 010101 | R12: T | S12: F | T12: F | AU12: 0101014548405A47EE88B8B6EF491385467 | AV12: 40
A13: 터파기및되메우기 | B13: 0.6M | C13: m | D13: 10 | M13: 호표 9 | N13: 424B470C4CE989E921354B3F1D6 | Q13: 010101 | R13: T | S13: F | T13: F | AU13: 010101424B470C4CE989E921354B3F1D6 | AV13: 8
A14: 경고테이프 | B14: 매설표지시트 | C14: m | D14: 10 | M14: 호표 10 | N14: 424B470C4CE989E921354B1C7B6 | Q14: 010101 | R14: T | S14: F | T14: F | AU14: 010101424B470C4CE989E921354B1C7B6 | AV14: 864
A15: 가공인입 | C15: 개소 | D15: 1 | M15: 호표 11 | N15: 424B470C4CE989E921354B2E837 | Q15: 010101 | R15: T | S15: F | T15: F | AU15: 010101424B470C4CE989E921354B2E837 | AV15: 12
A26: [ 합 계 ] | N26: TOTAL
A27: 010102 2) 조명 설비공사 | Q27: 010102
A28: 0.6/1kV 난연 전력 케이블(F-CV) | B28: 2C 4㎟ (옥외) | C28: m | D28: 13.9 | M28: 호표 12 | N28: 4548405A47858F4DD3E04967B748D | Q28: 010102 | R28: T | S28: F | T28: F | AU28: 0101024548405A47858F4DD3E04967B748D | AV28: 25
A29: 0.6/1kV 난연 전력 케이블(F-CV) | B29: 3C 2.5㎟ (옥외) | C29: m | D29: 7 | M29: 호표 13 | N29: 4548405A47858F4DD3E14BD05A3ED | Q29: 010102 | R29: T | S29: F | T29: F | AU29: 0101024548405A47858F4DD3E14BD05A3ED | AV29: 26
A30: 난연 비닐 절연 접지용전선(F-GV) | B30: 0.6/1kV 50㎟ (옥외) | C30: m | D30: 15 | M30: 호표 14 | N30: 4548405A479686BC76064AB9B42E5 | Q30: 010102 | R30: T | S30: F | T30: F | AU30: 0101024548405A479686BC76064AB9B42E5 | AV30: 22
A31: 난연 비닐 절연 접지용전선(F-GV) | B31: 0.6/1kV 6㎟ (옥외) | C31: m | D31: 5 | M31: 호표 15 | N31: 4548405A479686BC76064AB9B4912 | Q31: 010102 | R31: T | S31: F | T31: F | AU31: 0101024548405A479686BC76064AB9B4912 | AV31: 24
A32: 난연 비닐 절연 접지용전선(F-GV) | B32: 0.6/1kV 4㎟ (옥외) | C32: m | D32: 13.9 | M32: 호표 16 | N32: 4548405A479686BC76064AB9B480D | Q32: 010102 | R32: T | S32: F | T32: F | AU32: 0101024548405A479686BC76064AB9B480D | AV32: 23
A33: 폴리에틸렌 전선관-매입 | B33: PE 54㎜ (옥외) | C33: M | D33: 6.3 | M33: 호표 3 | N33: 4548405A47A08D291C824C2BBED84 | Q33: 010102 | R33: T | S33: F | T33: F | AU33: 0101024548405A47A08D291C824C2BBED84 | AV33: 973
A34: 폴리에틸렌 전선관-매입 | B34: PE 36㎜ (옥외) | C34: m | D34: 6.3 | M34: 호표 17 | N34: 4548405A47A08D291C824C2BBEFB3 | Q34: 010102 | R34: T | S34: F | T34: F | AU34: 0101024548405A47A08D291C824C2BBEFB3 | AV34: 41
A35: 경질비닐PVC전선관-매입 | B35: HI 28 mm (옥외) | C35: m | D35: 2 | M35: 호표 18 | N35: 4548405A47A08D2BC9164244CE997 | Q35: 010102 | R35: T | S35: F | T35: F | AU35: 0101024548405A47A08D2BC9164244CE997 | AV35: 31
A36: 경질비닐PVC전선관-매입 | B36: HI 16 mm (옥외) | C36: m | D36: 2 | M36: 호표 4 | N36: 4548405A47A08D2BC9164244CEF3F | Q36: 010102 | R36: T | S36: F | T36: F | AU36: 0101024548405A47A08D2BC9164244CEF3F | AV36: 30
A37: 풀박스(천정면)-노출 | B37: 150 x 150 x1 00 | C37: EA | D37: 1 | M37: 호표 19 | N37: 4548405A472387D0499C4ACB830EA | Q37: 010102 | R37: T | S37: F | T37: F | AU37: 0101024548405A472387D0499C4ACB830EA | AV37: 35
A38: 보안등기구설치 | B38: LED 50W | C38: 본 | D38: 1 | M38: 호표 20 | N38: 4548405A472387D2779C4A80954D3 | Q38: 010102 | R38: T | S38: F | T38: F | AU38: 0101024548405A472387D2779C4A80954D3 | AV38: 16
A39: 등기구암대설치 | B39: 1등용 | C39: 대 | D39: 1 | M39: 호표 21 | N39: 4548405A472387D2779C4A80953CF | Q39: 010102 | R39: T | S39: F | T39: F | AU39: 0101024548405A472387D2779C4A80953CF | AV39: 17
... A48: 경고테이프 | B48: 매설표지시트 | C48: m | D48: 5 | M48: 호표 10 | N48: 424B470C4CE989E921354B1C7B6 | Q48: 010102 | R48: T | S48: F | T48: F | AU48: 010102424B470C4CE989E921354B1C7B6 | AV48: 915
A49: [ 합 계 ] | N49: TOTAL
A50: 010201 1) 전기,통신 인입공사 | Q50: 010201
A51: 0.6/1kV 난연 전력 케이블(F-CV) | B51: 1C 16㎟ x 4 (옥외) | C51: m | D51: 80 | M51: 호표 1 | N51: 4548405A47858F4DD3E346BE1AE29 | Q51: 010201 | R51: T | S51: F | T51: F | AU51: 0102014548405A47858F4DD3E346BE1AE29 | AV51: 50
A52: 난연 비닐 절연 접지용전선(F-GV) | B52: 0.6/1kV 16㎟ (옥외) | C52: m | D52: 10 | M52: 호표 2 | N52: 4548405A479686BC76064AB9B4FBD | Q52: 010201 | R52: T | S52: F | T52: F | AU52: 0102014548405A479686BC76064AB9B4FBD | AV52: 51
A53: 폴리에틸렌 전선관-매입 | B53: PE 54㎜ (옥외) | C53: M | D53: 26 | M53: 호표 3 | N53: 4548405A47A08D291C824C2BBED84 | Q53: 010201 | R53: T | S53: F | T53: F | AU53: 0102014548405A47A08D291C824C2BBED84 | AV53: 841
A54: 경질비닐PVC전선관-매입 | B54: HI 16 mm (옥외) | C54: m | D54: 2 | M54: 호표 4 | N54: 4548405A47A08D2BC9164244CEF3F | Q54: 010201 | R54: T | S54: F | T54: F | AU54: 0102014548405A47A08D2BC9164244CEF3F | AV54: 54
A55: 볼라드 설치 | B55: U 스텐 볼라드 150Φ | C55: 개소 | D55: 1 | M55: 호표 5 | N55: 424B470C4CE989E921354B1C6AF | Q55: 010201 | R55: T | S55: F | T55: F | AU55: 010201424B470C4CE989E921354B1C6AF | AV55: 55
A56: 볼라드 기초설치 | B56: 300 x 300 x 300 | C56: 개소 | D56: 2 | M56: 호표 6 | N56: 424B470C4CE989E9202E440F468 | Q56: 010201 | R56: T | S56: F | T56: F | AU56: 010201424B470C4CE989E9202E440F468 | AV56: 56
A57: TM/TC반 기초설치 | B57: 900 x 900 x 500 | C57: 개소 | D57: 1 | M57: 호표 7 | N57: 424B470C4CE989E9202E440F73C | Q57: 010201 | R57: T | S57: F | T57: F | AU57: 010201424B470C4CE989E9202E440F73C | AV57: 57
A58: 접지봉 | B58: 16Φ×1800 mm - 3EA | C58: 개소 | D58: 1 | M58: 호표 8 | N58: 4548405A47EE88B8B6EF491385467 | Q58: 010201 | R58: T | S58: F | T58: F | AU58: 0102014548405A47EE88B8B6EF491385467 | AV58: 58
A59: 터파기및되메우기 | B59: 0.6M | C59: m | D59: 10 | M59: 호표 9 | N59: 424B470C4CE989E921354B3F1D6 | Q59: 010201 | R59: T | S59: F | T59: F | AU59: 010201424B470C4CE989E921354B3F1D6 | AV59: 59
A60: 경고테이프 | B60: 매설표지시트 | C60: m | D60: 10 | M60: 호표 10 | N60: 424B470C4CE989E921354B1C7B6 | Q60: 010201 | R60: T | S60: F | T60: F | AU60: 010201424B470C4CE989E921354B1C7B6 | AV60: 862
A61: 가공인입 | C61: 개소 | D61: 1 | M61: 호표 11 | N61: 424B470C4CE989E921354B2E837 | Q61: 010201 | R61: T | S61: F | T61: F | AU61: 010201424B470C4CE989E921354B2E837 | AV61: 65
A72: [ 합 계 ] | N72: TOTAL
A73: 010202 2) 조명 설비공사 | Q73: 010202
A74: 0.6/1kV 난연 전력 케이블(F-CV) | B74: 2C 4㎟ (옥외) | C74: m | D74: 38.9 | M74: 호표 12 | N74: 4548405A47858F4DD3E04967B748D | Q74: 010202 | R74: T | S74: F | T74: F | AU74: 0102024548405A47858F4DD3E04967B748D | AV74: 67
A75: 0.6/1kV 난연 전력 케이블(F-CV) | B75: 3C 2.5㎟ (옥외) | C75: m | D75: 7 | M75: 호표 13 | N75: 4548405A47858F4DD3E14BD05A3ED | Q75: 010202 | R75: T | S75: F | T75: F | AU75: 0102024548405A47858F4DD3E14BD05A3ED | AV75: 68
A76: 난연 비닐 절연 접지용전선(F-GV) | B76: 0.6/1kV 50㎟ (옥외) | C76: m | D76: 15 | M76: 호표 14 | N76: 4548405A479686BC76064AB9B42E5 | Q76: 010202 | R76: T | S76: F | T76: F | AU76: 0102024548405A479686BC76064AB9B42E5 | AV76: 69
A77: 난연 비닐 절연 접지용전선(F-GV) | B77: 0.6/1kV 6㎟ (옥외) | C77: m | D77: 5 | M77: 호표 15 | N77: 4548405A479686BC76064AB9B4912 | Q77: 010202 | R77: T | S77: F | T77: F | AU77: 0102024548405A479686BC76064AB9B4912 | AV77: 70
A78: 난연 비닐 절연 접지용전선(F-GV) | B78: 0.6/1kV 4㎟ (옥외) | C78: m | D78: 38.9 | M78: 호표 16 | N78: 4548405A479686BC76064AB9B480D | Q78: 010202 | R78: T | S78: F | T78: F | AU78: 0102024548405A479686BC76064AB9B480D | AV78: 71
A79: 폴리에틸렌 전선관-매입 | B79: PE 54㎜ (옥외) | C79: M | D79: 6.3 | M79: 호표 3 | N79: 4548405A47A08D291C824C2BBED84 | Q79: 010202 | R79: T | S79: F | T79: F | AU79: 0102024548405A47A08D291C824C2BBED84 | AV79: 974
A80: 폴리에틸렌 전선관-매입 | B80: PE 36㎜ (옥외) | C80: m | D80: 11.3 | M80: 호표 17 | N80: 4548405A47A08D291C824C2BBEFB3 | Q80: 010202 | R80: T | S80: F | T80: F | AU80: 0102024548405A47A08D291C824C2BBEFB3 | AV80: 73
A81: 경질비닐PVC전선관-매입 | B81: HI 28 mm (옥외) | C81: m | D81: 2 | M81: 호표 18 | N81: 4548405A47A08D2BC9164244CE997 | Q81: 010202 | R81: T | S81: F | T81: F | AU81: 0102024548405A47A08D2BC9164244CE997 | AV81: 75
A82: 경질비닐PVC전선관-매입 | B82: HI 16 mm (옥외) | C82: m | D82: 2 | M82: 호표 4 | N82: 4548405A47A08D2BC9164244CEF3F | Q82: 010202 | R82: T | S82: F | T82: F | AU82: 0102024548405A47A08D2BC9164244CEF3F | AV82: 76
A83: 케이블 덕트 | B83: W100 x 100H x 2.0t | C83: m | D83: 20 | M83: 호표 29 | N83: 4548405A47F88E1D438B41C23A295 | Q83: 010202 | R83: T | S83: F | T83: F | AU83: 0102024548405A47F88E1D438B41C23A295 | AV83: 77
A84: 케이블 덕트 Horizontal Elbow | B84: W100 x 100H x 2.0t | C84: EA | D84: 1 | M84: 호표 30 | N84: 4548405A47F88E1D438B41C23A294 | Q84: 010202 | R84: T | S84: F | T84: F | AU84: 0102024548405A47F88E1D438B41C23A294 | AV84: 78
A85: 천정지지대 | B85: 100㎜ | C85: 개소 | D85: 14 | M85: 호표 31 | N85: 424B470C4CE989E921354B2E563 | Q85: 010202 | R85: T | S85: F | T85: F | AU85: 010202424B470C4CE989E921354B2E563 | AV85: 79
... A97: 경고테이프 | B97: 매설표지시트 | C97: m | D97: 5 | M97: 호표 10 | N97: 424B470C4CE989E921354B1C7B6 | Q97: 010202 | R97: T | S97: F | T97: F | AU97: 010202424B470C4CE989E921354B1C7B6 | AV97: 914
A118: [ 합 계 ] | N118: TOTAL
A119: 010301 1) 전기 인입공사 | Q119: 010301
A120: 0.6/1kV 난연 전력 케이블(F-CV) | B120: 1C 16㎟ x 4 (옥외) | C120: m | D120: 72 | M120: 호표 1 | N120: 4548405A47858F4DD3E346BE1AE29 | Q120: 010301 | R120: T | S120: F | T120: F | AU120: 0103014548405A47858F4DD3E346BE1AE29 | AV120: 94
A121: 난연 비닐 절연 접지용전선(F-GV) | B121: 0.6/1kV 16㎟ (옥외) | C121: m | D121: 10 | M121: 호표 2 | N121: 4548405A479686BC76064AB9B4FBD | Q121: 010301 | R121: T | S121: F | T121: F | AU121: 0103014548405A479686BC76064AB9B4FBD | AV121: 95
A122: 폴리에틸렌 전선관-매입 | B122: PE 54㎜ (옥외) | C122: M | D122: 22 | M122: 호표 3 | N122: 4548405A47A08D291C824C2BBED84 | Q122: 010301 | R122: T | S122: F | T122: F | AU122: 0103014548405A47A08D291C824C2BBED84 | AV122: 842
A123: 경질비닐PVC전선관-매입 | B123: HI 16 mm (옥외) | C123: m | D123: 2 | M123: 호표 4 | N123: 4548405A47A08D2BC9164244CEF3F | Q123: 010301 | R123: T | S123: F | T123: F | AU123: 0103014548405A47A08D2BC9164244CEF3F | AV123: 98
A124: 볼라드 설치 | B124: U 스텐 볼라드 150Φ | C124: 개소 | D124: 2 | M124: 호표 5 | N124: 424B470C4CE989E921354B1C6AF | Q124: 010301 | R124: T | S124: F | T124: F | AU124: 010301424B470C4CE989E921354B1C6AF | AV124: 99
A125: 볼라드 기초설치 | B125: 300 x 300 x 300 | C125: 개소 | D125: 4 | M125: 호표 6 | N125: 424B470C4CE989E9202E440F468 | Q125: 010301 | R125: T | S125: F | T125: F | AU125: 010301424B470C4CE989E9202E440F468 | AV125: 100
A126: TM/TC반 기초설치 | B126: 900 x 900 x 500 | C126: 개소 | D126: 1 | M126: 호표 7 | N126: 424B470C4CE989E9202E440F73C | Q126: 010301 | R126: T | S126: F | T126: F | AU126: 010301424B470C4CE989E9202E440F73C | AV126: 101
A127: 접지봉 | B127: 16Φ×1800 mm - 3EA | C127: 개소 | D127: 1 | M127: 호표 8 | N127: 4548405A47EE88B8B6EF491385467 | Q127: 010301 | R127: T | S127: F | T127: F | AU127: 0103014548405A47EE88B8B6EF491385467 | AV127: 102
A128: 터파기및되메우기 | B128: 0.6M | C128: m | D128: 4 | M128: 호표 9 | N128: 424B470C4CE989E921354B3F1D6 | Q128: 010301 | R128: T | S128: F | T128: F | AU128: 010301424B470C4CE989E921354B3F1D6 | AV128: 103
A129: 터파기및되메우기 | B129: 1.2M | C129: M | D129: 4 | M129: 호표 32 | N129: 424B470C4CE989E921354B3F1D7 | Q129: 010301 | R129: T | S129: F | T129: F | AU129: 010301424B470C4CE989E921354B3F1D7 | AV129: 865
A130: 경고테이프 | B130: 매설표지시트 | C130: m | D130: 8 | M130: 호표 10 | N130: 424B470C4CE989E921354B1C7B6 | Q130: 010301 | R130: T | S130: F | T130: F | AU130: 010301424B470C4CE989E921354B1C7B6 | AV130: 866
A131: 도로횡단부컷팅파쇄복구구간 | B131: 30cm미만 | C131: m | D131: 4 | M131: 호표 33 | N131: 424B470C4CE989E921354B3F1D2 | Q131: 010301 | R131: T | S131: F | T131: F | AU131: 010301424B470C4CE989E921354B3F1D2 | AV131: 104
A132: 폐아스콘운반및처리(토목공사분) | B132: 운반/처리 | C132: TON | D132: 1.7 | M132: 호표 34 | N132: 424B470C4CE989E921354B3FBDB | Q132: 010301 | R132: T | S132: F | T132: F | AU132: 010301424B470C4CE989E921354B3FBDB | AV132: 107
A133: 가공인입 | C133: 개소 | D133: 1 | M133: 호표 11 | N133: 424B470C4CE989E921354B2E837 | Q133: 010301 | R133: T | S133: F | T133: F | AU133: 010301424B470C4CE989E921354B2E837 | AV133: 109
A141: [ 합 계 ] | N141: TOTAL
A142: 010302 2) 조명 설비공사 | Q142: 010302
A143: 0.6/1kV 난연 전력 케이블(F-CV) | B143: 2C 4㎟ (옥외) | C143: m | D143: 13.9 | M143: 호표 12 | N143: 4548405A47858F4DD3E04967B748D | Q143: 010302 | R143: T | S143: F | T143: F | AU143: 0103024548405A47858F4DD3E04967B748D | AV143: 111
A144: 0.6/1kV 난연 전력 케이블(F-CV) | B144: 3C 2.5㎟ (옥외) | C144: m | D144: 7 | M144: 호표 13 | N144: 4548405A47858F4DD3E14BD05A3ED | Q144: 010302 | R144: T | S144: F | T144: F | AU144: 0103024548405A47858F4DD3E14BD05A3ED | AV144: 112
A145: 난연 비닐 절연 접지용전선(F-GV) | B145: 0.6/1kV 50㎟ (옥외) | C145: m | D145: 15 | M145: 호표 14 | N145: 4548405A479686BC76064AB9B42E5 | Q145: 010302 | R145: T | S145: F | T145: F | AU145: 0103024548405A479686BC76064AB9B42E5 | AV145: 113
A146: 난연 비닐 절연 접지용전선(F-GV) | B146: 0.6/1kV 6㎟ (옥외) | C146: m | D146: 5 | M146: 호표 15 | N146: 4548405A479686BC76064AB9B4912 | Q146: 010302 | R146: T | S146: F | T146: F | AU146: 0103024548405A479686BC76064AB9B4912 | AV146: 114
A147: 난연 비닐 절연 접지용전선(F-GV) | B147: 0.6/1kV 4㎟ (옥외) | C147: m | D147: 13.9 | M147: 호표 16 | N147: 4548405A479686BC76064AB9B480D | Q147: 010302 | R147: T | S147: F | T147: F | AU147: 0103024548405A479686BC76064AB9B480D | AV147: 115
A148: 폴리에틸렌 전선관-매입 | B148: PE 54㎜ (옥외) | C148: M | D148: 11.3 | M148: 호표 3 | N148: 4548405A47A08D291C824C2BBED84 | Q148: 010302 | R148: T | S148: F | T148: F | AU148: 0103024548405A47A08D291C824C2BBED84 | AV148: 975
A149: 폴리에틸렌 전선관-매입 | B149: PE 36㎜ (옥외) | C149: m | D149: 6.3 | M149: 호표 17 | N149: 4548405A47A08D291C824C2BBEFB3 | Q149: 010302 | R149: T | S149: F | T149: F | AU149: 0103024548405A47A08D291C824C2BBEFB3 | AV149: 117
A150: 경질비닐PVC전선관-매입 | B150: HI 28 mm (옥외) | C150: m | D150: 2 | M150: 호표 18 | N150: 4548405A47A08D2BC9164244CE997 | Q150: 010302 | R150: T | S150: F | T150: F | AU150: 0103024548405A47A08D2BC9164244CE997 | AV150: 119
A151: 경질비닐PVC전선관-매입 | B151: HI 16 mm (옥외) | C151: m | D151: 2 | M151: 호표 4 | N151: 4548405A47A08D2BC9164244CEF3F | Q151: 010302 | R151: T | S151: F | T151: F | AU151: 0103024548405A47A08D2BC9164244CEF3F | AV151: 120
A152: 풀박스(천정면)-노출 | B152: 150 x 150 x1 00 | C152: EA | D152: 1 | M152: 호표 19 | N152: 4548405A472387D0499C4ACB830EA | Q152: 010302 | R152: T | S152: F | T152: F | AU152: 0103024548405A472387D0499C4ACB830EA | AV152: 124
A153: 보안등기구설치 | B153: LED 50W | C153: 본 | D153: 1 | M153: 호표 20 | N153: 4548405A472387D2779C4A80954D3 | Q153: 010302 | R153: T | S153: F | T153: F | AU153: 0103024548405A472387D2779C4A80954D3 | AV153: 127
A154: 등기구암대설치 | B154: 1등용 | C154: 대 | D154: 1 | M154: 호표 21 | N154: 4548405A472387D2779C4A80953CF | Q154: 010302 | R154: T | S154: F | T154: F | AU154: 0103024548405A472387D2779C4A80953CF | AV154: 128
... A163: 경고테이프 | B163: 매설표지시트 | C163: m | D163: 5 | M163: 호표 10 | N163: 424B470C4CE989E921354B1C7B6 | Q163: 010302 | R163: T | S163: F | T163: F | AU163: 010302424B470C4CE989E921354B1C7B6 | AV163: 913
A164: [ 합 계 ] | N164: TOTAL
A165: 010401 1) 전기 인입공사 | Q165: 010401
A166: 0.6/1kV 난연 전력 케이블(F-CV) | B166: 1C 16㎟ x 4 (옥외) | C166: m | D166: 80 | M166: 호표 1 | N166: 4548405A47858F4DD3E346BE1AE29 | Q166: 010401 | R166: T | S166: F | T166: F | AU166: 0104014548405A47858F4DD3E346BE1AE29 | AV166: 138
A167: 난연 비닐 절연 접지용전선(F-GV) | B167: 0.6/1kV 16㎟ (옥외) | C167: m | D167: 10 | M167: 호표 2 | N167: 4548405A479686BC76064AB9B4FBD | Q167: 010401 | R167: T | S167: F | T167: F | AU167: 0104014548405A479686BC76064AB9B4FBD | AV167: 139
A168: 폴리에틸렌 전선관-매입 | B168: PE 54㎜ (옥외) | C168: M | D168: 26 | M168: 호표 3 | N168: 4548405A47A08D291C824C2BBED84 | Q168: 010401 | R168: T | S168: F | T168: F | AU168: 0104014548405A47A08D291C824C2BBED84 | AV168: 843
A169: 경질비닐PVC전선관-매입 | B169: HI 16 mm (옥외) | C169: m | D169: 2 | M169: 호표 4 | N169: 4548405A47A08D2BC9164244CEF3F | Q169: 010401 | R169: T | S169: F | T169: F | AU169: 0104014548405A47A08D2BC9164244CEF3F | AV169: 142
A170: TM/TC반 기초설치 | B170: 900 x 900 x 500 | C170: 개소 | D170: 1 | M170: 호표 7 | N170: 424B470C4CE989E9202E440F73C | Q170: 010401 | R170: T | S170: F | T170: F | AU170: 010401424B470C4CE989E9202E440F73C | AV170: 145
A171: 접지봉 | B171: 16Φ×1800 mm - 3EA | C171: 개소 | D171: 1 | M171: 호표 8 | N171: 4548405A47EE88B8B6EF491385467 | Q171: 010401 | R171: T | S171: F | T171: F | AU171: 0104014548405A47EE88B8B6EF491385467 | AV171: 146
A172: 터파기및되메우기 | B172: 0.6M | C172: m | D172: 10 | M172: 호표 9 | N172: 424B470C4CE989E921354B3F1D6 | Q172: 010401 | R172: T | S172: F | T172: F | AU172: 010401424B470C4CE989E921354B3F1D6 | AV172: 147
A173: 경고테이프 | B173: 매설표지시트 | C173: m | D173: 10 | M173: 호표 10 | N173: 424B470C4CE989E921354B1C7B6 | Q173: 010401 | R173: T | S173: F | T173: F | AU173: 010401424B470C4CE989E921354B1C7B6 | AV173: 868
A174: 가공인입 | C174: 개소 | D174: 1 | M174: 호표 11 | N174: 424B470C4CE989E921354B2E837 | Q174: 010401 | R174: T | S174: F | T174: F | AU174: 010401424B470C4CE989E921354B2E837 | AV174: 153
...

Sheet 관급내역
A1: 관 급 내 역 서
A2: =[6]관급내역표지!A5 -> 공 사 명 : 2024년 공주시 소하천 스마트 계측관리시스템 구축사업 실시설계용역(전기,계측제어)
A3: 공 종 | B3: 규 격 | C3: 수 | D3: 단 | E3: 금 액 | I3: G2B (물품식별번호) | K3: 비고
C4: 량 | D4: 위 | E4: 단가 | G4: 합계
A5: 1. 전기시설 | C5: 1 | D5: 식
A6: 보안등기구 | B6: LED 50W | C6: 19 | D6: EA | K6: 현장하차도
A7: 보안등 암대 | B7: 가로등주부속자재 | C7: 19 | D7: 대 | K7: 현장하차도
A8: 빛차광막 | B8: 가로등주부속자재 | C8: 19 | D8: 대 | K8: 현장하차도
A9: 가로등자동점멸기 | B9: 양방향점멸기 | C9: 19 | D9: 대 | K9: 현장하차도
A10: * 조달수수료 | B10: 자재비의 0.54% | C10: 0.54 | D10: %
A24: 합 계 | C24: 1 | D24: 식 | E24: =SUM(E6:F10) -> 0 | G24: =SUM(G6:H10) -> 0

Sheet 중기단가목록
A1: 중 기 단 가 목 록
A2: [ 2024년 공주시 소하천 스마트 계측관리시스템 구축사업 실시설계용역(전기) ]
A3: 코 드 | B3: 품 명 | C3: 규 격 | D3: 단위 | E3: 재 료 비 | F3: 노 무 비 | G3: 경 비 | H3: 합 계 | I3: 번 호 | J3: 비 고 | K3: START

Sheet 중기단가산출서
A1: 중 기 단 가 산 출 서
A2: [ 2024년 공주시 소하천 스마트 계측관리시스템 구축사업 실시설계용역(전기) ]
A3: 산 출 내 역 | B3: 재 료 비 | C3: 노 무 비 | D3: 경 비 | E3: 합 계 | F3: 비 고 | G3: START | H3: 코드 | I3: 품명 | J3: 규격 | K3: 단위 | L3: 수량
A4: ( )
A6: 총 계 | E6: 0

Sheet  공사설정 
A1: 이 Sheet는 수정하지 마십시요
A2: 공사구분 | B2: D
A3: 확정내역 | B3: 원내역
A4: 자재단가적용 | B4: 5
A5: 경비단가적용 | B5: 5
A6: 품목코드형식 | B6: XXXX-XXXX-XXXXXXXXX
A7: 내역금액소수점처리 | B7: C | C7: 1
A8: 일위대가내역소수점처리 | B8: C | C8: 2
A9: 단가명 | B9: 가격정보 | C9: 물가자료 | D9: 물가정보 | E9: 조사가격 | F9: 조사가격 | G9: TTTTT
A10: 환율 | B10: 1153.3 | C10: 0 | D10: 0
A11: 시간당작업량 | B11: R | C11: 4
A12: 1회 사이클시간 | B12: R | C12: 4
A13: 시간당 작업사이클 | B13: R | C13: 3
A14: 일반변수 | B14: C | C14: 5
A15: 시간당 노임산출 계수 | B15: A | C15: 1/8*16/12*25/20 | D15: 1/8*16/12*25/20 | E15: 1/8*16/12*25/20 | F15: 1
A16: 재료비 할증 계수 | B16: 1.11 | C16: 1.12
A17: 노무비 할증 계수 | B17: 1 | C17: 1.5 | D17: 1.16 | E17: 1.6 | F17: 1.6 | G17: 1.6 | H17: 1.94 | I17: 1.94 | J17: 1.94 | K17: 1 | L17: 1 | M17: 1
A18: 경비 할증 계수 | B18: 1.25 | C18: 1.071
A19: 내역,일위대가 품명,규격,단위 따로적용
A21: 코드 | B21: 공종구분명 | C21: 원가비목코드
A22: 1 | B22: 작 업 부 산 물 | C22: A3
A23: 2 | B23: 운 반 비 | C23: C1
A24: 3 | B24: 관 급 자 재 비 | C24: DJ
A25: 4 | B25: 사 급 자 재 비 | C25: D3
A26: 5 | B26: ...
A27: 6 | B27: ...
A28: 7 | B28: ...
A29: 8 | B29: ...
A30: 9 | B30: ...

Sheet Sheet1
