Workbook
Name _: '[1]본선 토공 분배표'!#REF!
Name _\D: #REF!
Name _\X: #REF!
Name _\Z: [2]결과조달!$GU$5658:$IV$7860
Name _15A: [3]금액내역서!$D$3:$D$10
Name _1P1_: '[4]Sheet1 (2)'!#REF!
Name _1P1_: '[4]Sheet1 (2)'!#REF!
Name _1P1_: '[4]Sheet1 (2)'!#REF!
Name _1P1_: '[4]Sheet1 (2)'!#REF!
Name _1공장: #REF!
Name _2: #N/A
Name _2공장: #REF!
Name _3공장: #REF!
Name _A: #REF!
Name _A701804: #REF!
Name _A701804: #REF!
Name _A701804: #REF!
Name _av1: '[5]공사비예산서(토목분)'!#REF!
Name _ELL1: #REF!
Name _ELL2: #REF!
Name _G640768: #REF!
Name _G640768: #REF!
Name _G640768: #REF!
Name _H71223: #REF!
Name _H71223: #REF!
Name _H71223: #REF!
Name _JJ1: [7]중기사용료!#REF!
Name _JJ1: [7]중기사용료!#REF!
Name _JJ1: [7]중기사용료!#REF!
Name _JJ10: [7]중기사용료!#REF!
Name _JJ100: [7]중기사용료!#REF!
Name _JJ101: [7]중기사용료!#REF!
Name _JJ102: [7]중기사용료!#REF!
Name _JJ103: [7]중기사용료!#REF!
Name _JJ104: [7]중기사용료!#REF!
Name _JJ105: [7]중기사용료!#REF!
Name _JJ106: [7]중기사용료!#REF!
Name _JJ107: [7]중기사용료!#REF!
Name _JJ108: [7]중기사용료!#REF!
Name _JJ109: [7]중기사용료!#REF!
Name _JJ11: [7]중기사용료!#REF!
Name _JJ110: [7]중기사용료!#REF!
Name _JJ111: [7]중기사용료!#REF!
Name _JJ112: [7]중기사용료!#REF!
Name _JJ113: [7]중기사용료!#REF!
Name _JJ114: [7]중기사용료!#REF!
Name _JJ115: [7]중기사용료!#REF!
Name _JJ116: [7]중기사용료!#REF!
Name _JJ117: [7]중기사용료!#REF!
Name _JJ118: [7]중기사용료!#REF!
Name _JJ119: [7]중기사용료!#REF!
Name _JJ12: [7]중기사용료!#REF!
Name _JJ120: [7]중기사용료!#REF!
Name _JJ121: [7]중기사용료!#REF!
Name _JJ122: [7]중기사용료!#REF!
Name _JJ123: [7]중기사용료!#REF!
Name _JJ124: [7]중기사용료!#REF!
Name _JJ125: [7]중기사용료!#REF!
Name _JJ126: [7]중기사용료!#REF!
Name _JJ127: [7]중기사용료!#REF!

Sheet 요약서
A3: 설 계 요 약 서
A4: ○ 용 역 명 : | C4: =표지!W3 -> 하송제 등 16개소 하천시설물 정기안전점검용역
A5: ○ 용역개요 : | C5: 제방 14개소, 수문 1개소, 보도교 1개소 정기안전점검용역
A6: ○ 용역기간 : | C6: 전체 4개월(120일)
A7: ○ 용역금액 : | C7: 구 분 | E7: 전 체
C8: 도급예정액 | E8: =내역서!F3 -> #REF!
C9: 1. 공 급 가 액 | E9: =내역서!F4 -> #REF!
C10: 2. 부가가치세 | E10: =내역서!F10 -> #REF!

Sheet 표지
A1: 2026. 10 | G1: 설계자 | J1: 심사자 | M1: 과 장 | P1: 국 장 | S1: 청 장
A3: 2026 년 | W3: 하송제 등 16개소 하천시설물 정기안전점검용역
A6: =W3&" 설계예산서" -> 하송제 등 16개소 하천시설물 정기안전점검용역 설계예산서
C11: ㅇ 과업개요 | O11: ㅇ 과업금액
C13: - 정기안전점검 각 1식 | O13: 도급예정액 | Q13: =내역서!F3 -> #REF! | T13: 원정
C14: · 제방 14개소
C15: · 수문 1개소 | O15: 1. 공 급 가 액 | Q15: =내역서!F4 -> #REF! | T15: 원정
C16: · 보도교 1개소
O17: 2. 부가가치세 | Q17: =내역서!F10 -> #REF! | T17: 원정
A21: =A1 -> 2026. 10 | G21: 설계자 | J21: 심사자 | M21: 과 장 | P21: 국 장 | S21: 청 장
A23: =A3 -> 2026 년
A25: =W3&" 설계서" -> 하송제 등 16개소 하천시설물 정기안전점검용역 설계서
K37: 기후에너지환경부
A39: 원주지방환경청
A43: =A23 -> 2026 년
A47: =W3 -> 하송제 등 16개소 하천시설물 정기안전점검용역
K59: 기후에너지환경부
A61: 원주지방환경청

Sheet 예정공정표
B2: Ⅵ 예 정 공 정 표
B4: 공 정 | C4: 보할 (%) | D4: 착공30일 | E4: 착공60일 | F4: 착공90일 | G4: 착공120일 | H4: 비 고
B5: 자료조사 및 계획수립 | C5: =SUM(D5:G5) -> 10 | D5: 10
B6: 현장조사 | C6: 40 | E6: 20 | F6: 20
B7: 조사결과 분석 및 정리 | C7: 20 | E7: 10 | F7: 10
B8: 보고서 작성 (심의자료 포함) | C8: 30 | E8: 10 | F8: 10 | G8: 10
B9: 공 정(%) | C9: =SUM(D9:G9) -> 100 | D9: =SUM(D5:D7) -> 10 | E9: =SUM(E5:E8) -> 40 | F9: =SUM(F6:F8) -> 40 | G9: =SUM(G5:G8) -> 10
B10: 누 계 | D10: =D9 -> 10 | E10: =D10+E9 -> 50 | F10: =F9+E10 -> 90 | G10: =G9+F10 -> 100

Sheet 내역서
A1: 공 종 · 명 칭 | B1: 규 격 | C1: 수 량 | D1: 단위 | E1: 단 가 | F1: 금 액 | G1: 비 고
A2: =표지!W3 -> 하송제 등 16개소 하천시설물 정기안전점검용역
A3: 도급예정액 | F3: =F4+F10 -> #REF!
A4: 1. 공 급 가 액 | F4: =SUM(F5:F9) -> #REF!
A5: 가. 직접인건비 | C5: 1 | D5: 식 | F5: =#REF! -> #REF!
A6: 나. 직 접 경 비 | C6: 1 | D6: 식 | F6: =#REF! -> #REF!
A7: 다. 제 경 비 | B7: 직접인건비×110% | C7: 1 | D7: 식 | F7: =#REF! -> #REF!
A8: 라. 기 술 료 | B8: (직접인건비+제경비)× 20% | C8: 1 | D8: 식 | F8: =#REF! -> #REF!
A9: 마. 산업안전보건관리비 | C9: 1 | D9: 식 | F9: =#REF! -> #REF! | G9: p.s
A10: 2. 부 가 가 치 세 | C10: 1 | D10: 식 | F10: =ROUNDDOWN(F4*0.1,1) -> #REF!
