Workbook
Name 경비소계: '원가계산서 (건축)'!$G$28
Name 공급가: '원가계산서 (건축)'!$G$32
Name 공사기간: '원가계산서 (건축)'!$AD$14
Name 관급자재: '원가계산서 (건축)'!$G$35
Name 노무비소계: '원가계산서 (건축)'!$G$11
Name 노무비요율: '원가계산서 (건축)'!$G$41:$H$41
Name 노무비요율2: '원가계산서 (건축)'!$E$42:$G$42
Name 노무비요율3: '원가계산서 (건축)'!$E$41:$G$41
Name 노무비요율4: '원가계산서 (건축)'!$E$40:$G$40
Name 단수정리: '원가계산서 (건축)'!$G$41
Name 대상액1: '원가계산서 (건축)'!$AD$13
Name 도급: '원가계산서 (건축)'!$G$34
Name 도급자관급: '원가계산서 (건축)'!$G$36
Name 부가: '원가계산서 (건축)'!$G$33
Name 순공사비: '원가계산서 (건축)'!$G$5,'원가계산서 (건축)'!$G$9,'원가계산서 (건축)'!$G$12
Name 순공사비계: '원가계산서 (건축)'!$G$29
Name 이_윤: '원가계산서 (건축)'!$G$31
Name 일반관리: '원가계산서 (건축)'!$G$30
Name 재료비소계: '원가계산서 (건축)'!$G$8
Name 총공사비: '원가계산서 (건축)'!$G$38

Sheet 총괄표(가로)
A1: 설계일 | B1: 46043 | F1: 조사자 | K1: 설계자 | P1: 심사자 | U1: 담당자 | Z1: 담담당 | AE1: 과과장
B6: 2026 | E6: 년도
A8: ='총괄표(세로)'!E6 -> 봉포항 활어회센터 해체공사 (폐기물처리비)
A10: 설계예산서
C12: ▣ | D12: 공사명 | G12: : | H12: =A8 -> 봉포항 활어회센터 해체공사 (폐기물처리비)
C14: ▣ | D14: 공사개요 | G14: :
H15: 1) | I15: =IF(I22="","",I22) -> 건축공사 | N15: : | O15: 1 식
H16: =IF(H23="","",H23) | I16: =IF(I23="","",I23) | N16: =IF(H16="","",":") | O16: =IF(H16="","","1 식")
H17: =H24 | I17: =I24 | N17: =IF(H17="","",":") | O17: =IF(H17="","","1 식")
H18: =H25 | I18: =I25 | N18: =IF(H18="","",":") | O18: =IF(H18="","","1 식")
H19: =H26 | I19: =I26 | N19: =IF(H19="","",":") | O19: =IF(H19="","","1 식")
H20: =H27 | I20: =I27 | N20: =IF(H20="","",":") | O20: =IF(H20="","","1 식")
C21: ▣ | D21: 공사금액 | G21: :
G22: =[0]!총공사비 -> 223974000 | H22: 1) | I22: =IF(집계표!A6="02. 기계설비공사","건축·기계설비공사","건축공사") -> 건축공사 | N22: : | O22: =IF(G22=0,"","일금"&NUMBERSTRING(G22,1)&"원정. (￦"&TEXT(G22,"#,##0")&"- )") -> 일금이억이천삼백구십칠만사천원정. (￦223,974,000- )
G23: =IF('총괄표(세로)'!H20="","",'총괄표(세로)'!H20) | H23: =IF(G23="","","2)") | I23: ='총괄표(세로)'!J20 | N23: =IF(G23="","",":") | O23: =IF(G23="","","일금"&NUMBERSTRING(G23,1)&"원정. (￦"&TEXT(G23,"#,##0")&"- )")
G24: =IF('총괄표(세로)'!H21="","",'총괄표(세로)'!H21) | H24: =IF(G24="","","3)") | I24: ='총괄표(세로)'!J21 | N24: =IF(G24="","",":") | O24: =IF(G24="","","일금"&NUMBERSTRING(G24,1)&"원정. (￦"&TEXT(G24,"#,##0")&"- )")
G25: =IF('총괄표(세로)'!H22="","",'총괄표(세로)'!H22) | H25: =IF(G25="","","4)") | I25: ='총괄표(세로)'!J22 | N25: =IF(G25="","",":") | O25: =IF(G25="","","일금"&NUMBERSTRING(G25,1)&"원정. (￦"&TEXT(G25,"#,##0")&"- )")
G26: =IF('총괄표(세로)'!H23="","",'총괄표(세로)'!H23) | H26: =IF(G26="","","5)") | I26: ='총괄표(세로)'!J23 | N26: =IF(G26="","",":") | O26: =IF(G26="","","일금"&NUMBERSTRING(G26,1)&"원정. (￦"&TEXT(G26,"#,##0")&"- )")
G27: =IF('총괄표(세로)'!H24="","",'총괄표(세로)'!H24) | H27: =IF(G27="","","6)") | I27: ='총괄표(세로)'!J24 | N27: =IF(G27="","",":") | O27: =IF(G27="","","일금"&NUMBERSTRING(G27,1)&"원정. (￦"&TEXT(G27,"#,##0")&"- )")
B29: =SUM(G22:G27) -> 223974000 | C29: ▣ | D29: 총공사비 | G29: : | H29: =IF(B29=0,"","일금"&NUMBERSTRING(B29,1)&"원정 (￦"&TEXT(B29,"#,##0")&"-)") -> 일금이억이천삼백구십칠만사천원정 (￦223,974,000-)

Sheet 총괄표(세로)
B1: 과장
AF3: 2026 년도
B6: 담당 | E6: 봉포항 활어회센터 해체공사 (폐기물처리비)
E8: 설계예산서
B11: 담당자
J12: ※ | K12: 공사개요
I13: ○ | J13: 공사명 | M13: : | N13: 봉포항 활어회센터 해체공사 (폐기물처리비)
I14: ○ | J14: 위치 | M14: :
I15: ○ | J15: 공사내용 | M15: :
B16: 심사자
J18: ※ | K18: 사업비
H19: =[0]!총공사비 -> 223974000 | I19: ○ | J19: =IF(집계표!A6="02. 기계설비공사","건축·기계설비공사","건축공사") -> 건축공사 | O19: : | P19: =IF(H19=0,"","일금 "&NUMBERSTRING(H19,1)&"원정 (￦"&TEXT(H19,"#,##0")&"- )") -> 일금 이억이천삼백구십칠만사천원정 (￦223,974,000- ) | AH19: =MID([1]집계표!A5,4,3)&"·"&MID([1]집계표!A6,4,5)&"공사" -> ·공사
I20: =IF(H20="","","○") | J20: =IF(H20="","","전기공사") | O20: =IF(H20="","",":") | P20: =IF(H20=0,"","일금 "&NUMBERSTRING(H20,1)&"원정 (￦"&TEXT(H20,"#,##0")&"- )")
B21: 조사자 | I21: =IF(H21="","","○") | J21: =IF(H21="","","통신공사") | O21: =IF(H21="","",":") | P21: =IF(H21=0,"","일금 "&NUMBERSTRING(H21,1)&"원정 (￦"&TEXT(H21,"#,##0")&"- )")
I22: =IF(H22="","","○") | J22: =IF(H22="","","소방공사") | O22: =IF(H22="","",":") | P22: =IF(H22=0,"","일금 "&NUMBERSTRING(H22,1)&"원정 (￦"&TEXT(H22,"#,##0")&"- )")
I23: =IF(H23="","","○") | J23: =IF(H23="","","토목공사") | O23: =IF(H23="","",":") | P23: =IF(H23=0,"","일금 "&NUMBERSTRING(H23,1)&"원정 (￦"&TEXT(H23,"#,##0")&"- )")
I24: =IF(H24="","","○") | J24: =IF(H24="","","00공사") | O24: =IF(H24="","",":") | P24: =IF(H24=0,"","일금 "&NUMBERSTRING(H24,1)&"원정 (￦"&TEXT(H24,"#,##0")&"- )")
B26: 설계자 | H26: =SUM(H19:H25) -> 223974000 | I26: =IF(H26="","","○") -> ○ | J26: 총공사비 | M26: =IF(H26="","",":") -> : | N26: =IF(H26=0,"","일금 "&NUMBERSTRING(H26,1)&"원정 (￦"&TEXT(H26,"#,##0")&"- )") -> 일금 이억이천삼백구십칠만사천원정 (￦223,974,000- )

Sheet 원가계산서 (건축)
A1: 공 사 원 가 계 산 서 ( 건 축 )
A3: Project: 봉포항 활어회센터 해체공사 (폐기물처리비) | W3: ="금액 : "&NUMBERSTRING(G38,1)&"원정"&"( \ "&TEXT(G38,"#,##0")&" )" -> 금액 : 이억이천삼백구십칠만사천원정( \ 223,974,000 )
A4: 비목 | G4: 금액 | H4: 구성비 | Q4: 비고 | Y4: 재료비 | AC4: 구분 | AD4: 기준
A5: 순 공 사 비 | C5: 재료비 | E5: 직접재료비 | G5: =집계표!F27 -> 0 | Y5: 노무비 | AC5: 간접노무비
E6: 간접재료비 | Y6: 경비 | AC6: 기타경비
E7: 작업설, 부산물(△) | Y7: 관급자재 | Z7: =SUMIF(집계표!P3:P24,"g",집계표!M3:M24) -> 0 | AC7: 일반관리비
E8: [소계] | G8: =SUM(G5:G7) -> 0 | Y8: 대관업무수수료 | AC8: 이윤
C9: 노무비 | E9: 직접노무비 | G9: =집계표!H27 -> 0
E10: 간접노무비 | G10: =TRUNC(G9*AD5%) -> 0 | H10: =IF(AD5="","","직접노무비 * "&AD5&"%") | Q10: 직접공사비 기준 | Y10: 2026.01.01 기준 | AC10: 직접공사비 | AD10: =SUM(G5,G9,G12) -> 203613028 | AE10: =IF(AD10<1000000000,40,(IF(AD10<5000000000,50,300))) +IF(공사기간<=6,6,IF(공사기간<=12,12,36)) -> 46
E11: [소계] | G11: =SUM(G9:G10) -> 0 | Y11: 적용기준 | Z11: 적용요율 | AC11: 추정가격 (공급가액) | AD11: =공급가 -> 203613028 | AE11: =IF(AD11>=10000000000,5, IF(AD11>=5000000000,4, IF(AD11>=3000000000,3, IF(AD11>=500000000,2, 1))))+IF(공사기간<=6,6,IF(공사기간<=12,12,36)) -> 7
C12: 경 비 | E12: 기계경비 | G12: =집계표!J27 -> 203613028 | Y12: 산재보험료 | AC12: 추정금액 (총공사비) | AD12: =SUM(G34,G36) -> 223974000
E13: 산재보험료 | G13: =TRUNC(G11*Z12%) -> 0 | H13: =IF(Z12="","","노무비 * "&Z12&"%") | Q13: 모든 건설공사에 적용 | Y13: 고용보험료 | AC13: 대상액1 | AD13: =재료비소계+G9+도급자관급 -> 0
E14: 고용보험료 | G14: =TRUNC(G11*Z13%) -> 0 | H14: =IF(Z13="","","노무비 * "&Z13&"%") | Q14: 추정금액 기준 | Y14: 건강보험(1개월이상) | AC14: 공사기간 (개월) | AE14: =TRUNC(공사기간/12,2) -> 0
E15: 국민건강보험료 | G15: =TRUNC(G9*Z14%) -> 0 | H15: =IF(Z14="","","직접노무비 * "&Z14&"%") | Q15: 1개월 이상인 모든 공사에 적용 | Y15: 연금보험(1개월이상) | AC15: 연면적
E16: 국민연금보험료 | G16: =TRUNC(G9*Z15%) -> 0 | H16: =IF(Z15="","","직접노무비 * "&Z15&"%") | Q16: 1개월 이상인 모든 공사에 적용 | Y16: 노인장기요양보험(1개월이상)
E17: 노인장기요양보험료 | G17: =TRUNC(G15*Z16%) -> 0 | H17: =IF(Z16="","","건강보험료 * "&Z16&"%") | Q17: 1개월 이상인 모든 공사에 적용 | Y17: 퇴직공제부금 (추정금액 1억이상) | AC17: 공사규모(직접공사비) | AD17: 공사기간 | AE17: 간접노무비 | AF17: 기타경비
E18: 퇴직공제부금비 | G18: =TRUNC(G9*Z17%) -> 0 | H18: =IF(Z17="","","직접노무비 * "&Z17&"%") | Q18: 추정금액 1억 이상인 공사에 적용 | Y18: 산업안전보건관리비 | AB18: 46 | AC18: 10억미만 | AD18: 6 | AE18: 15 | AF18: 4.6
E19: 산업안전보건관리비 | G19: =MIN(G20:G21) -> 0 | H19: =IF(G19=G20,H20,H21) | Y19: 기타경비 | AB19: 52 | AC19: 10억미만 | AD19: 12 | AE19: 15.2 | AF19: 4.7
E20: (비교값) 소계제외 | G20: =TRUNC((G8+G9+도급자관급/1.1054)*Z18%) -> 0 | H20: =IF(Z18="","","(재료비+직노+관급자재비/1.1054) * "&Z18&"%") | Q20: =IF(Z18="","",IF(G19=G20,"←최소값적용","")) | X20: =도급+도급자관급 -> 223974000 | Y20: 환경보전비 | AA20: 0.3 | AB20: 76 | AC20: 10억미만 | AD20: 36 | AE20: 15.4 | AF20: 5
E21: (비교값) 소계제외 | G21: =TRUNC((G8+G9)*Z18%*1.2) -> 0 | H21: =IF(Z18="","","(재료비+직노) * "&Z18&"% * 1.2 ") | Q21: =IF(Z18="","",IF(G19=G21,"←최소값적용","")) | Y21: 하도급지급보증서발급수수료 | AB21: 56 | AC21: 10억~50억미만 | AD21: 6 | AE21: 14.7 | AF21: 4.7
E22: 건설안전관리비 | G22: =IF(AE14<1,"",TRUNC((재료비소계+G9)*Z22%)) | H22: =IF(AE14<1,"","(재료비+직노) * "&Z22&"%") | Y22: 공사이행보증수수료 | AB22: 62 | AC22: 10억~50억미만 | AD22: 12 | AE22: 14.9 | AF22: 4.8
E23: 기타경비 | G23: =TRUNC((G8+G11)*AD6%) -> 0 | H23: =IF(AD6="","","(재료비+노무비) * "&AD6&"%") | Q23: 직접공사비 기준 | Y23: 건설기계대여대금 지급보증액 발급금액 | AB23: 86 | AC23: 10억~50억미만 | AD23: 36 | AE23: 15.1 | AF23: 5.1
E24: 환경보전비 | G24: =TRUNC((G8+G9+G12)*Z20%) -> 0 | H24: =IF(Z20="","","(재료비+직노+기계경비) * "&Z20&"%") | AB24: 306 | AC24: 50억~300억 | AD24: 6 | AE24: 14.8 | AF24: 5.1
E25: 하도급지급보증수수료 | G25: =TRUNC((G8+G9+G12)*Z21%) -> 0 | H25: =IF(Z21=0,"","(재료비+직노+기계경비) * "&Z21&"%") | Q25: 추정가격 기준 | Y25: 간접비율(공급가액) | Z25: =공급가/SUM(G5,G9,G12)-1 -> 0 | AB25: 312 | AC25: 50억~300억 | AD25: 12 | AE25: 15 | AF25: 5.2
E26: 건설기계대여대금 지급보증서발급수수료 | G26: =TRUNC((G8+G9+G12)*Z23%) -> 0 | H26: =IF(Z23=0,"","(재료비+직노+기계경비) * "&Z23&"%") | AB26: 336 | AC26: 50억~300억 | AD26: 36 | AE26: 15.2 | AF26: 5.5
E27: 공사이행보증수수료 | G27: =IF(AE14<1,"",VLOOKUP((IF(AD10>=50000000000,5,IF(AD10>=25000000000,4,IF(AD10>=12000000000,3,IF(AD10>=7000000000,2,1))))),AB55:AG59,6,1)) | H27: =IF(AE14<1,"",VLOOKUP((IF(AD10>=50000000000,5,IF(AD10>=25000000000,4,IF(AD10>=12000000000,3,IF(AD10>=7000000000,2,1))))),AB54:AG59,3,1)) | Q27: 직접공사비 기준
E28: [소계] | G28: =SUM(G12:G27)-G20-G21 -> 203613028 | AC28: 공사규모(추정가격) | AD28: 공사기간 | AE28: 일반과리비 | AF28: 이윤
A29: 계 | G29: =SUM(G28,G11,G8) -> 203613028 | AB29: 7 | AC29: 5억미만 | AD29: 6 | AE29: 8 | AF29: 15
B30: 일반관리비 | G30: =TRUNC(G29*AD7%) -> 0 | H30: =IF(AD7="","","계 * "&AD7&"%") | Q30: 추정가격 기준 | AB30: 13 | AC30: 5억미만 | AD30: 12 | AE30: 8 | AF30: 15
B31: 이윤 | G31: =TRUNC((G11+G28+G30)*AD8%) -> 0 | H31: =IF(AD8="","","(노무비+경비+일반관리비) * "&AD8&"%") | Q31: 추정가격 기준 | AB31: 37 | AC31: 5억미만 | AD31: 36 | AE31: 8 | AF31: 15
B32: 공급가액 | F32: 공급가액 | G32: =SUM(G29:G31) -> 203613028 | AB32: 8 | AC32: 5억~30억 | AD32: 6 | AE32: 8 | AF32: 15
B33: 부가가치세 | F33: 부가가치세 | G33: =TRUNC(공급가*10%) -> 20361302 | H33: 공급가액 * 10% | AB33: 14 | AC33: 5억~30억 | AD33: 12 | AE33: 8 | AF33: 15
B34: 도급액 | F34: 도급액 | G34: =ROUNDDOWN(TRUNC(SUM(G32:G33)),-3) -> 223974000 | AB34: 38 | AC34: 5억~30억 | AD34: 36 | AE34: 8 | AF34: 15
B35: 관급자재비 | F35: 관급자재비 | G35: =SUM(G36:G37) -> 0 | AB35: =3+AD35 -> 9 | AC35: 30억~50억 | AD35: 6 | AE35: 8 | AF35: 15
C36: 관급자재비(도급자설치) | H36: 안전관리비 계상에 적용 | AB36: =3+AD36 -> 15 | AC36: 30억~50억 | AD36: 12 | AE36: 8 | AF36: 15
C37: 관급자재비(관급자설치) | H37: 안전관리비 계상에서 제외 | AB37: =3+AD37 -> 39 | AC37: 30억~50억 | AD37: 36 | AE37: 8 | AF37: 15
B38: 총공사비 | F38: 총공사비 | G38: =ROUNDDOWN(SUM(G34:G35),-3) -> 223974000 | H38: 천단위미만 절사 | AB38: =4+AD38 -> 10 | AC38: 50억~100억 | AD38: 6 | AE38: 6.5 | AF38: 12
AB39: =4+AD39 -> 16 | AC39: 50억~100억 | AD39: 12 | AE39: 6.5 | AF39: 12
E40: 노무비요율 | G40: 1 | AB40: =4+AD40 -> 40 | AC40: 50억~100억 | AD40: 36 | AE40: 6.5 | AF40: 12
AB41: =5+AD41 -> 11 | AC41: 100억~300억 | AD41: 6 | AE41: 6.5 | AF41: 12
AB42: =5+AD42 -> 17 | AC42: 100억~300억 | AD42: 12 | AE42: 6.5 | AF42: 12
E43: 총 공사비 | G43: ='총괄표(세로)'!H26 -> 223974000 | AB43: =5+AD43 -> 41 | AC43: 100억~300억 | AD43: 36 | AE43: 6.5 | AF43: 12
E44: 목표액
E45: 차이 | G45: =G43-G44 -> 223974000 | AC45: 건설안전관리비 (연면적기준)
AC46: 안전점검 대가 | AD46: 전체 | AE46: 정기점검 | AF46: 초기점검
AC47: 5천미만 | AD47: 0.52 | AE47: 0.35 | AF47: 0.17
AC48: 5천~1만 | AD48: 0.34 | AE48: 0.24 | AF48: 0.1
AC49: 1만~3만 | AD49: 0.16 | AE49: 0.11 | AF49: 0.05
AC50: 3만~5만 | AD50: 0.13 | AE50: 0.09 | AF50: 0.04
AC51: 5만~10만 | AD51: 0.11 | AE51: 0.08 | AF51: 0.03
AC53: 공사이행보증수수료
AC54: 공사규모(직접공사비) | AD54: 공사기간
AB55: 1 | AC55: 70억 미만 | AD55: [직공비 * 0.0108%] * 공기(년) | AG55: =TRUNC((AD10*0.0141%)*AE14) -> 0
AB56: 2 | AC56: 70억~120억 | AD56: [79만원+(직공비-75억원)x0.0070%]x공기(년) | AG56: =TRUNC((790000+(AD10-7500000000)*0.0059%)*AE14) -> 0
AB57: 3 | AC57: 120억~250억 | AD57: [116만원+(직공비-130억원)x0.0059%]x공기(년) | AG57: =TRUNC((1160000+(AD10-13000000000)*0.0059%)*AE14) -> 0
AB58: 4 | AC58: 250억~500억 | AD58: [186만원+(직공비-250억원)x0.0048%]x공기(년) | AG58: =TRUNC((1860000+(AD10-25000000000)*0.0048%)*AE14) -> 0
AB59: 5 | AC59: 500억이상 | AD59: [306만원+(직공비-500억원)x0.0040%]x공기(년) | AG59: =TRUNC((3060000+(AD10-50000000000)*0.004%)*AE14) -> 0

Sheet 집계표
A1: 집 계 표
A2: Project: 봉포항 활어회센터 해체공사 (폐기물처리비)
A3: 분 류 명 | B3: 규 격 | C3: 단위 | D3: 수량 | E3: 재 료 비 | G3: 노 무 비 | I3: 경 비 | K3: 합 계 | M3: 비 고
E4: 단가 | F4: 금액 | G4: 단가 | H4: 금액 | I4: 단가 | J4: 금액 | K4: 단가 | L4: 금액
A5: 01. 건축공사 | C5: 식 | D5: 1 | E5: =TRUNC(공종별집계표!G27,0) -> 0 | F5: =D5*E5 -> 0 | G5: =TRUNC(공종별집계표!I27,0) -> 0 | H5: =D5*G5 -> 0 | I5: =TRUNC(공종별집계표!K27,0) -> 203613028 | J5: =D5*I5 -> 203613028 | K5: =E5+G5+I5 -> 203613028 | L5: =F5+H5+J5 -> 203613028 | N5: 10 | O5: S
A27: < 계 > | F27: =SUMIF(O5:O26,"=S",F5:F26) -> 0 | H27: =SUMIF(O5:O26,"=S",H5:H26) -> 0 | J27: =SUMIF(O5:O26,"=S",J5:J26) -> 203613028 | L27: =SUMIF(O5:O26,"=S",L5:L26) -> 203613028

Sheet 공종별집계표
B1: 공 종 별 집 계 표
B2: Project: 봉포항 활어회센터 해체공사 (폐기물처리비)
B3: 분 류 명 | C3: 규 격 | D3: 단위 | E3: 수량 | F3: 재 료 비 | H3: 노 무 비 | J3: 경 비 | L3: 합 계 | N3: 비 고
F4: 단가 | G4: 금액 | H4: 단가 | I4: 금액 | J4: 단가 | K4: 금액 | L4: 단가 | M4: 금액
B5: 건축공사
B6: 1. 본동 | D6: 식 | E6: 1 | F6: =F7 -> 0 | G6: =E6*F6 -> 0 | H6: =H7 -> 0 | I6: =E6*H6 -> 0 | J6: =J7 -> 199270488 | K6: =E6*J6 -> 199270488 | L6: =F6+H6+J6 -> 199270488 | M6: =G6+I6+K6 -> 199270488 | O6: 1001!!!!!!!!!! | P6: S
B7: 1.1. 폐기물처리비 | D7: 식 | E7: 1 | F7: =TRUNC('건축공사 내역'!H27,0) -> 0 | G7: =E7*F7 -> 0 | H7: =TRUNC('건축공사 내역'!J27,0) -> 0 | I7: =E7*H7 -> 0 | J7: =TRUNC('건축공사 내역'!L27,0) -> 199270488 | K7: =E7*J7 -> 199270488 | L7: =F7+H7+J7 -> 199270488 | M7: =G7+I7+K7 -> 199270488 | O7: 100123!!!!!!!!
B8: 2. 화장실 | D8: 식 | E8: 1 | F8: =F9 -> 0 | G8: =E8*F8 -> 0 | H8: =H9 -> 0 | I8: =E8*H8 -> 0 | J8: =J9 -> 4233440 | K8: =E8*J8 -> 4233440 | L8: =F8+H8+J8 -> 4233440 | M8: =G8+I8+K8 -> 4233440 | O8: 1002!!!!!!!!!! | P8: S
B9: 2.1. 폐기물처리비 | D9: 식 | E9: 1 | F9: =TRUNC('건축공사 내역'!H50,0) -> 0 | G9: =E9*F9 -> 0 | H9: =TRUNC('건축공사 내역'!J50,0) -> 0 | I9: =E9*H9 -> 0 | J9: =TRUNC('건축공사 내역'!L50,0) -> 4233440 | K9: =E9*J9 -> 4233440 | L9: =F9+H9+J9 -> 4233440 | M9: =G9+I9+K9 -> 4233440 | O9: 100223!!!!!!!!
B10: 3. 창고 | D10: 식 | E10: 1 | F10: =F11 -> 0 | G10: =E10*F10 -> 0 | H10: =H11 -> 0 | I10: =E10*H10 -> 0 | J10: =J11 -> 38463 | K10: =E10*J10 -> 38463 | L10: =F10+H10+J10 -> 38463 | M10: =G10+I10+K10 -> 38463 | O10: 1003!!!!!!!!!! | P10: S
B11: 3.1. 폐기물처리비 | D11: 식 | E11: 1 | F11: =TRUNC('건축공사 내역'!H73,0) -> 0 | G11: =E11*F11 -> 0 | H11: =TRUNC('건축공사 내역'!J73,0) -> 0 | I11: =E11*H11 -> 0 | J11: =TRUNC('건축공사 내역'!L73,0) -> 38463 | K11: =E11*J11 -> 38463 | L11: =F11+H11+J11 -> 38463 | M11: =G11+I11+K11 -> 38463 | O11: 100323!!!!!!!!
B12: 4. 해수펌프실 | D12: 식 | E12: 1 | F12: =F13 -> 0 | G12: =E12*F12 -> 0 | H12: =H13 -> 0 | I12: =E12*H12 -> 0 | J12: =J13 -> 70637 | K12: =E12*J12 -> 70637 | L12: =F12+H12+J12 -> 70637 | M12: =G12+I12+K12 -> 70637 | O12: 1004!!!!!!!!!! | P12: S
B13: 4.1. 폐기물처리비 | D13: 식 | E13: 1 | F13: =TRUNC('건축공사 내역'!H96,0) -> 0 | G13: =E13*F13 -> 0 | H13: =TRUNC('건축공사 내역'!J96,0) -> 0 | I13: =E13*H13 -> 0 | J13: =TRUNC('건축공사 내역'!L96,0) -> 70637 | K13: =E13*J13 -> 70637 | L13: =F13+H13+J13 -> 70637 | M13: =G13+I13+K13 -> 70637 | O13: 100423!!!!!!!!
A27: 10 | B27: < 계 > | G27: =SUMIF(P5:P26,"=S",G5:G26) -> 0 | I27: =SUMIF(P5:P26,"=S",I5:I26) -> 0 | K27: =SUMIF(P5:P26,"=S",K5:K26) -> 203613028 | M27: =SUMIF(P5:P26,"=S",M5:M26) -> 203613028 | O27: 10

Sheet 건축공사 내역
A1: 내 역 서 | C1: 내 역 서(BILL OF ESTIMATE)
C2: Project: 봉포항 활어회센터 해체공사 (폐기물처리비) - 건축공사
A3: 공종 | B3: 코드 | C3: 품 명 | D3: 규 격 | E3: 단위 | F3: 수량 | G3: 재 료 비 | I3: 노 무 비 | K3: 경 비 | M3: 합 계 | O3: 비 고
G4: 단가 | H4: 금액 | I4: 단가 | J4: 금액 | K4: 단가 | L4: 금액 | M4: 단가 | N4: 금액
C5: 1.1. 본동 - 폐기물처리비
A6: 0123!!!!!!!! | B6: AAD150103010 | C6: 폐콘크리트 | D6: 이물질이 없는 순수한 폐콘크리트 | E6: 톤 | F6: 122.942 | G6: =TRUNC(일위대가목록!E5,0) -> 0 | H6: =TRUNC(F6*G6,0) -> 0 | I6: =TRUNC(일위대가목록!F5,0) -> 0 | J6: =TRUNC(F6*I6,0) -> 0 | K6: =TRUNC(일위대가목록!G5,0) -> 29396 | L6: =TRUNC(F6*K6,0) -> 3614003 | M6: =G6+I6+K6 -> 29396 | N6: =H6+J6+L6 -> 3614003 | O6: =일위대가목록!A5 -> 제 1호표 | P6: S | BB6: U
A7: 0123!!!!!!!! | B7: AAD150103020 | C7: 폐아스팔트콘크리트 | D7: 이물질이 없는 순수한 폐아스팔트콘크리트 | E7: TON | F7: 1196.996 | G7: 0 | H7: =TRUNC(F7*G7,0) -> 0 | I7: 0 | J7: =TRUNC(F7*I7,0) -> 0 | K7: =TRUNC(단가대비표!P6,0) -> 31002 | L7: =TRUNC(F7*K7,0) -> 37109269 | M7: =G7+I7+K7 -> 31002 | N7: =H7+J7+L7 -> 37109269 | P7: S | BB7: X
A8: 0123!!!!!!!! | B8: AAD150103030 | C8: 건설폐재류 | D8: 가연성이 제거된 재활용이 가능한 혼합물 | E8: TON | F8: 1829.52 | G8: 0 | H8: =TRUNC(F8*G8,0) -> 0 | I8: 0 | J8: =TRUNC(F8*I8,0) -> 0 | K8: =TRUNC(단가대비표!P7,0) -> 48021 | L8: =TRUNC(F8*K8,0) -> 87855379 | M8: =G8+I8+K8 -> 48021 | N8: =H8+J8+L8 -> 87855379 | P8: S | BB8: X
A9: 0123!!!!!!!! | B9: AAD150104100 | C9: 혼합건설폐기물 | D9: 불연성 건설폐기물에 가연성 5% 이하 혼합 | E9: TON | F9: 33.498 | G9: 0 | H9: =TRUNC(F9*G9,0) -> 0 | I9: 0 | J9: =TRUNC(F9*I9,0) -> 0 | K9: =TRUNC(단가대비표!P8,0) -> 168424 | L9: =TRUNC(F9*K9,0) -> 5641867 | M9: =G9+I9+K9 -> 168424 | N9: =H9+J9+L9 -> 5641867 | P9: S | BB9: X
A10: 0123!!!!!!!! | B10: AAD150105200 | C10: 혼합건설폐기물 | D10: 그 밖의 건설폐기물에 가연성 5% 이하 혼합 | E10: TON | F10: 4.674 | G10: 0 | H10: =TRUNC(F10*G10,0) -> 0 | I10: 0 | J10: =TRUNC(F10*I10,0) -> 0 | K10: =TRUNC(단가대비표!P9,0) -> 173154 | L10: =TRUNC(F10*K10,0) -> 809321 | M10: =G10+I10+K10 -> 173154 | N10: =H10+J10+L10 -> 809321 | P10: S | BB10: X
A11: 0123!!!!!!!! | B11: AAD150105301 | C11: 혼합건설폐기물 | D11: 가연성 폐기물, 소각 | E11: TON | F11: 8.705 | G11: 0 | H11: =TRUNC(F11*G11,0) -> 0 | I11: 0 | J11: =TRUNC(F11*I11,0) -> 0 | K11: =TRUNC(단가대비표!P10,0) -> 280000 | L11: =TRUNC(F11*K11,0) -> 2437400 | M11: =G11+I11+K11 -> 280000 | N11: =H11+J11+L11 -> 2437400 | P11: S | BB11: X
A12: 0123!!!!!!!! | B12: AAD151106210 | C12: 건설폐재류 운반비 | D12: 15톤 덤프트럭, 30km | E12: TON | F12: 3149.458 | G12: 0 | H12: =TRUNC(F12*G12,0) -> 0 | I12: 0 | J12: =TRUNC(F12*I12,0) -> 0 | K12: =TRUNC(단가대비표!P11,0) -> 18600 | L12: =TRUNC(F12*K12,0) -> 58579918 | M12: =G12+I12+K12 -> 18600 | N12: =H12+J12+L12 -> 58579918 | P12: S | BB12: X
A13: 0123!!!!!!!! | B13: AAD151106510 | C13: 혼합건설폐기물 운반비 | D13: 16톤 암롤트럭, 30km | E13: TON | F13: 46.878 | G13: 0 | H13: =TRUNC(F13*G13,0) -> 0 | I13: 0 | J13: =TRUNC(F13*I13,0) -> 0 | K13: =TRUNC(단가대비표!P12,0) -> 68760 | L13: =TRUNC(F13*K13,0) -> 3223331 | M13: =G13+I13+K13 -> 68760 | N13: =H13+J13+L13 -> 3223331 | P13: S | BB13: X
B27: 100123!!!!!!!! | C27: < 계 > | H27: =TRUNC(SUMIF(P6:P26,"=S",H6:H26),0) -> 0 | J27: =TRUNC(SUMIF(P6:P26,"=S",J6:J26),0) -> 0 | L27: =TRUNC(SUMIF(P6:P26,"=S",L6:L26),0) -> 199270488 | N27: =TRUNC(SUMIF(P6:P26,"=S",N6:N26),0) -> 199270488
C28: 2.1. 화장실 - 폐기물처리비
A29: 0223!!!!!!!! | B29: AAD150103030 | C29: 건설폐재류 | D29: 가연성이 제거된 재활용이 가능한 혼합물 | E29: TON | F29: 22.052 | G29: 0 | H29: =TRUNC(F29*G29,0) -> 0 | I29: 0 | J29: =TRUNC(F29*I29,0) -> 0 | K29: =TRUNC(단가대비표!P7,0) -> 48021 | L29: =TRUNC(F29*K29,0) -> 1058959 | M29: =G29+I29+K29 -> 48021 | N29: =H29+J29+L29 -> 1058959 | P29: S | BB29: X
A30: 0223!!!!!!!! | B30: AAD150104100 | C30: 혼합건설폐기물 | D30: 불연성 건설폐기물에 가연성 5% 이하 혼합 | E30: TON | F30: 3.949 | G30: 0 | H30: =TRUNC(F30*G30,0) -> 0 | I30: 0 | J30: =TRUNC(F30*I30,0) -> 0 | K30: =TRUNC(단가대비표!P8,0) -> 168424 | L30: =TRUNC(F30*K30,0) -> 665106 | M30: =G30+I30+K30 -> 168424 | N30: =H30+J30+L30 -> 665106 | P30: S | BB30: X
A31: 0223!!!!!!!! | B31: AAD150105200 | C31: 혼합건설폐기물 | D31: 그 밖의 건설폐기물에 가연성 5% 이하 혼합 | E31: TON | F31: 5.708 | G31: 0 | H31: =TRUNC(F31*G31,0) -> 0 | I31: 0 | J31: =TRUNC(F31*I31,0) -> 0 | K31: =TRUNC(단가대비표!P9,0) -> 173154 | L31: =TRUNC(F31*K31,0) -> 988363 | M31: =G31+I31+K31 -> 173154 | N31: =H31+J31+L31 -> 988363 | P31: S | BB31: X
A32: 0223!!!!!!!! | B32: AAD150105301 | C32: 혼합건설폐기물 | D32: 가연성 폐기물, 소각 | E32: TON | F32: 1.281 | G32: 0 | H32: =TRUNC(F32*G32,0) -> 0 | I32: 0 | J32: =TRUNC(F32*I32,0) -> 0 | K32: =TRUNC(단가대비표!P10,0) -> 280000 | L32: =TRUNC(F32*K32,0) -> 358680 | M32: =G32+I32+K32 -> 280000 | N32: =H32+J32+L32 -> 358680 | P32: S | BB32: X
A33: 0223!!!!!!!! | B33: AAD151106210 | C33: 건설폐재류 운반비 | D33: 15톤 덤프트럭, 30km | E33: TON | F33: 22.052 | G33: 0 | H33: =TRUNC(F33*G33,0) -> 0 | I33: 0 | J33: =TRUNC(F33*I33,0) -> 0 | K33: =TRUNC(단가대비표!P11,0) -> 18600 | L33: =TRUNC(F33*K33,0) -> 410167 | M33: =G33+I33+K33 -> 18600 | N33: =H33+J33+L33 -> 410167 | P33: S | BB33: X
A34: 0223!!!!!!!! | B34: AAD151106510 | C34: 혼합건설폐기물 운반비 | D34: 16톤 암롤트럭, 30km | E34: TON | F34: 10.939 | G34: 0 | H34: =TRUNC(F34*G34,0) -> 0 | I34: 0 | J34: =TRUNC(F34*I34,0) -> 0 | K34: =TRUNC(단가대비표!P12,0) -> 68760 | L34: =TRUNC(F34*K34,0) -> 752165 | M34: =G34+I34+K34 -> 68760 | N34: =H34+J34+L34 -> 752165 | P34: S | BB34: X
B50: 100223!!!!!!!! | C50: < 계 > | H50: =TRUNC(SUMIF(P29:P49,"=S",H29:H49),0) -> 0 | J50: =TRUNC(SUMIF(P29:P49,"=S",J29:J49),0) -> 0 | L50: =TRUNC(SUMIF(P29:P49,"=S",L29:L49),0) -> 4233440 | N50: =TRUNC(SUMIF(P29:P49,"=S",N29:N49),0) -> 4233440
C51: 3.1. 창고 - 폐기물처리비
A52: 0323!!!!!!!! | B52: AAD150105200 | C52: 혼합건설폐기물 | D52: 그 밖의 건설폐기물에 가연성 5% 이하 혼합 | E52: TON | F52: 0.159 | G52: 0 | H52: =TRUNC(F52*G52,0) -> 0 | I52: 0 | J52: =TRUNC(F52*I52,0) -> 0 | K52: =TRUNC(단가대비표!P9,0) -> 173154 | L52: =TRUNC(F52*K52,0) -> 27531 | M52: =G52+I52+K52 -> 173154 | N52: =H52+J52+L52 -> 27531 | P52: S | BB52: X
A53: 0323!!!!!!!! | B53: AAD151106510 | C53: 혼합건설폐기물 운반비 | D53: 16톤 암롤트럭, 30km | E53: TON | F53: 0.159 | G53: 0 | H53: =TRUNC(F53*G53,0) -> 0 | I53: 0 | J53: =TRUNC(F53*I53,0) -> 0 | K53: =TRUNC(단가대비표!P12,0) -> 68760 | L53: =TRUNC(F53*K53,0) -> 10932 | M53: =G53+I53+K53 -> 68760 | N53: =H53+J53+L53 -> 10932 | P53: S | BB53: X
B73: 100323!!!!!!!! | C73: < 계 > | H73: =TRUNC(SUMIF(P52:P72,"=S",H52:H72),0) -> 0 | J73: =TRUNC(SUMIF(P52:P72,"=S",J52:J72),0) -> 0 | L73: =TRUNC(SUMIF(P52:P72,"=S",L52:L72),0) -> 38463 | N73: =TRUNC(SUMIF(P52:P72,"=S",N52:N72),0) -> 38463
C74: 4.1. 해수펌프실 - 폐기물처리비
A75: 0423!!!!!!!! | B75: AAD150105200 | C75: 혼합건설폐기물 | D75: 그 밖의 건설폐기물에 가연성 5% 이하 혼합 | E75: TON | F75: 0.292 | G75: 0 | H75: =TRUNC(F75*G75,0) -> 0 | I75: 0 | J75: =TRUNC(F75*I75,0) -> 0 | K75: =TRUNC(단가대비표!P9,0) -> 173154 | L75: =TRUNC(F75*K75,0) -> 50560 | M75: =G75+I75+K75 -> 173154 | N75: =H75+J75+L75 -> 50560 | P75: S | BB75: X
A76: 0423!!!!!!!! | B76: AAD151106510 | C76: 혼합건설폐기물 운반비 | D76: 16톤 암롤트럭, 30km | E76: TON | F76: 0.292 | G76: 0 | H76: =TRUNC(F76*G76,0) -> 0 | I76: 0 | J76: =TRUNC(F76*I76,0) -> 0 | K76: =TRUNC(단가대비표!P12,0) -> 68760 | L76: =TRUNC(F76*K76,0) -> 20077 | M76: =G76+I76+K76 -> 68760 | N76: =H76+J76+L76 -> 20077 | P76: S | BB76: X
B96: 100423!!!!!!!! | C96: < 계 > | H96: =TRUNC(SUMIF(P75:P95,"=S",H75:H95),0) -> 0 | J96: =TRUNC(SUMIF(P75:P95,"=S",J75:J95),0) -> 0 | L96: =TRUNC(SUMIF(P75:P95,"=S",L75:L95),0) -> 70637 | N96: =TRUNC(SUMIF(P75:P95,"=S",N75:N95),0) -> 70637

Sheet 일위대가목록
A1: 일위대가 목록
A2: Project: 봉포항 활어회센터 해체공사 (폐기물처리비)
A3: 호표 | B3: 품 명 | C3: 규 격 | D3: 단위 | E3: 재 료 비 | F3: 노 무 비 | G3: 경 비 | H3: 합 계 | L3: 품셈목록
A5: 제 1호표 | B5: 폐콘크리트 | C5: 이물질이 없는 순수한 폐콘크리트 | D5: 톤 | E5: =TRUNC(일위대가!H5,0) -> 0 | F5: =TRUNC(일위대가!J5,0) -> 0 | G5: =TRUNC(일위대가!L5,0) -> 29396 | H5: =E5+F5+G5 -> 29396 | I5: 10 | K5: AAD150103010

Sheet 일위대가
B1: 일위대가표
B2: Project: 봉포항 활어회센터 해체공사 (폐기물처리비) | AA2: ='원가계산서 (건축)'!G43 -> 223974000
B3: 코드 | C3: 품 명 | D3: 규 격 | E3: 단위 | F3: 수량 | G3: 재 료 비 | I3: 노 무 비 | K3: 경 비 | M3: 합 계 | N3: 비 고 | Z3: 수량
G4: 단가 | H4: 금액 | I4: 단가 | J4: 금액 | K4: 단가 | L4: 금액 | Z4: ='원가계산서 (건축)'!G40 -> 1
A5: AAD150103010 | B5: 제 1호표 | C5: 폐콘크리트 | D5: 이물질이 없는 순수한 폐콘크리트 | E5: 톤 | H5: =TRUNC(SUMIF(O6:O6,"=S",H6:H6),0) -> 0 | J5: =TRUNC(SUMIF(O6:O6,"=S",J6:J6),0) -> 0 | L5: =TRUNC(SUMIF(O6:O6,"=S",L6:L6),0) -> 29396 | M5: =H5+J5+L5 -> 29396
B6: AAD150103010 | C6: 폐콘크리트 - 25-2/4삭제 | D6: 이물질이 없는 순수한 폐콘크리트 | E6: TON | F6: =IF(E6="","",(IF(E6="인",TRUNC(Z6*$Z$4,6),Z6))) -> 1 | G6: 0 | H6: =TRUNC(F6*G6,1) -> 0 | I6: 0 | J6: =TRUNC(F6*I6,1) -> 0 | K6: =TRUNC(단가대비표!P5,1) -> 29396 | L6: =TRUNC(F6*K6,1) -> 29396 | M6: =H6+J6+L6 -> 29396 | O6: S | Z6: 1 | BB6: X
F7: =IF(E7="","",(IF(E7="인",TRUNC(Z7*$Z$4,6),Z7)))
F8: =IF(E8="","",(IF(E8="인",TRUNC(Z8*$Z$4,6),Z8)))
F9: =IF(E9="","",(IF(E9="인",TRUNC(Z9*$Z$4,6),Z9)))
F10: =IF(E10="","",(IF(E10="인",TRUNC(Z10*$Z$4,6),Z10)))
F11: =IF(E11="","",(IF(E11="인",TRUNC(Z11*$Z$4,6),Z11)))
F12: =IF(E12="","",(IF(E12="인",TRUNC(Z12*$Z$4,6),Z12)))
F13: =IF(E13="","",(IF(E13="인",TRUNC(Z13*$Z$4,6),Z13)))
F14: =IF(E14="","",(IF(E14="인",TRUNC(Z14*$Z$4,6),Z14)))
F15: =IF(E15="","",(IF(E15="인",TRUNC(Z15*$Z$4,6),Z15)))
F16: =IF(E16="","",(IF(E16="인",TRUNC(Z16*$Z$4,6),Z16)))
F17: =IF(E17="","",(IF(E17="인",TRUNC(Z17*$Z$4,6),Z17)))
F18: =IF(E18="","",(IF(E18="인",TRUNC(Z18*$Z$4,6),Z18)))
... F25: =IF(E25="","",(IF(E25="인",TRUNC(Z25*$Z$4,6),Z25)))

Sheet 단가대비표
A1: 단 가 대 비 표
A2: Project: 봉포항 활어회센터 해체공사 (폐기물처리비) | S2: ='원가계산서 (건축)'!G43 -> 223974000
A3: 구분 | B3: 코드 | C3: 품 명 | D3: 규 격 | E3: 단위 | F3: 가격정보 | H3: 거래가격 | J3: 유통물가 | L3: 물가자료 | N3: 조사가격 | P3: 적용단가 | Q3: 비 고
F4: Cost | G4: Page | H4: Cost | I4: Page | J4: Cost | K4: Page | L4: Cost | M4: Page | N4: Cost | O4: Page
A5: 자재비 | B5: AAD150103010 | C5: 폐콘크리트 - 25-2/4삭제 | D5: 이물질이 없는 순수한 폐콘크리트 | E5: TON | F5: 0 | H5: 0 | J5: 0 | L5: 0 | N5: 29396 | P5: 29396 | R5: 00
A6: 경비 | B6: AAD150103020 | C6: 폐아스팔트콘크리트 | D6: 이물질이 없는 순수한 폐아스팔트콘크리트 | E6: TON | F6: 0 | H6: 0 | J6: 0 | L6: 0 | N6: 31002 | P6: 31002 | R6: 00
A7: 경비 | B7: AAD150103030 | C7: 건설폐재류 | D7: 가연성이 제거된 재활용이 가능한 혼합물 | E7: TON | F7: 0 | H7: 0 | J7: 0 | L7: 0 | N7: 48021 | P7: 48021 | R7: 00
A8: 경비 | B8: AAD150104100 | C8: 혼합건설폐기물 | D8: 불연성 건설폐기물에 가연성 5% 이하 혼합 | E8: TON | F8: 0 | H8: 0 | J8: 0 | L8: 0 | N8: 168424 | P8: 168424 | R8: 00
A9: 경비 | B9: AAD150105200 | C9: 혼합건설폐기물 | D9: 그 밖의 건설폐기물에 가연성 5% 이하 혼합 | E9: TON | F9: 0 | H9: 0 | J9: 0 | L9: 0 | N9: 173154 | P9: 173154 | R9: 00
A10: 경비 | B10: AAD150105301 | C10: 혼합건설폐기물 | D10: 가연성 폐기물, 소각 | E10: TON | F10: 0 | H10: 0 | J10: 0 | L10: 0 | N10: 280000 | P10: 280000 | R10: 00
A11: 경비 | B11: AAD151106210 | C11: 건설폐재류 운반비 | D11: 15톤 덤프트럭, 30km | E11: TON | F11: 0 | H11: 0 | J11: 0 | L11: 0 | N11: 18600 | P11: 18600 | R11: 00
A12: 경비 | B12: AAD151106510 | C12: 혼합건설폐기물 운반비 | D12: 16톤 암롤트럭, 30km | E12: TON | F12: 0 | H12: 0 | J12: 0 | L12: 0 | N12: 68760 | P12: 68760 | R12: 00
