Workbook

Sheet 총괄표
A1: 총줄수-> | B1: 29 | C1: 2.0 | D1: [ 수도권매립지 야생화단지 CCTV 지중화공사 ]-총괄표 | AA1: 연속견적가로형식
A2: 번호 | B2: 공종코드 | C2: … | D2: 공 종 명 | E2: 규격 | F2: 단위 | G2: 수량 | H2: 재료비 | J2: 노무비 | M2: 경비 | P2: 계 | Q2: 비고
H3: 단가 | I3: 금액 | J3: 수량 | K3: 단가 | L3: 금액 | M3: 단가 | N3: 금액 | O3: 단가
B4: 공종줄 | D4: [수도권매립지야생화단지개방사업정보통신공사]
B5: 001 | D5: 1. CCTV설비공사 | F5: 식 | G5: 1 | H5: =내역서!I55 -> 0 | I5: =G5*H5 -> 0 | K5: =내역서!L55 -> 0 | L5: =G5*K5 -> 0 | M5: =내역서!N55 -> 0 | N5: =G5*M5 -> 0 | P5: =SUM(I5,L5,N5) -> 0
I6: =G6*H6 -> 0 | L6: =G6*K6 -> 0 | N6: =G6*M6 -> 0 | P6: =SUM(I6,L6,N6) -> 0
I7: =G7*H7 -> 0 | L7: =G7*K7 -> 0 | N7: =G7*M7 -> 0 | P7: =SUM(I7,L7,N7) -> 0
I8: =G8*H8 -> 0 | L8: =G8*K8 -> 0 | N8: =G8*M8 -> 0 | P8: =SUM(I8,L8,N8) -> 0
I9: =G9*H9 -> 0 | L9: =G9*K9 -> 0 | N9: =G9*M9 -> 0 | P9: =SUM(I9,L9,N9) -> 0
I10: =G10*H10 -> 0 | L10: =G10*K10 -> 0 | N10: =G10*M10 -> 0 | P10: =SUM(I10,L10,N10) -> 0
I11: =G11*H11 -> 0 | L11: =G11*K11 -> 0 | N11: =G11*M11 -> 0 | P11: =SUM(I11,L11,N11) -> 0
I12: =G12*H12 -> 0 | L12: =G12*K12 -> 0 | N12: =G12*M12 -> 0 | P12: =SUM(I12,L12,N12) -> 0
I13: =G13*H13 -> 0 | L13: =G13*K13 -> 0 | N13: =G13*M13 -> 0 | P13: =SUM(I13,L13,N13) -> 0
I14: =G14*H14 -> 0 | L14: =G14*K14 -> 0 | N14: =G14*M14 -> 0 | P14: =SUM(I14,L14,N14) -> 0
I15: =G15*H15 -> 0 | L15: =G15*K15 -> 0 | N15: =G15*M15 -> 0 | P15: =SUM(I15,L15,N15) -> 0
I16: =G16*H16 -> 0 | L16: =G16*K16 -> 0 | N16: =G16*M16 -> 0 | P16: =SUM(I16,L16,N16) -> 0
I17: =G17*H17 -> 0 | L17: =G17*K17 -> 0 | N17: =G17*M17 -> 0 | P17: =SUM(I17,L17,N17) -> 0
... I28: =G28*H28 -> 0 | L28: =G28*K28 -> 0 | N28: =G28*M28 -> 0 | P28: =SUM(I28,L28,N28) -> 0
C29: Total | D29: ( 합 계 ) | I29: =TRUNC(SUM(I4:I28)) -> 0 | L29: =TRUNC(SUM(L4:L28)) -> 0 | N29: =TRUNC(SUM(N4:N28)) -> 0 | P29: =TRUNC(SUM(P4:P28)) -> 0
G33: =IF(H33*I33/100+0.0005 <1, TRUNC(H33*I33/100, 3), TRUNC(H33*I33/100+0.0005, J33)) -> 0

Sheet 내역서
A1: 총줄수-> | B1: 55 | C1: 2.0 | D1: [ 수도권매립지 야생화단지 CCTV 지중화공사 ]-내역서
A2: 번호 | B2: 공종코드 | C2: 코드 | D2: 명 칭 | E2: 규 격 | F2: 단위 | G2: 수량 | H2: 재료비 | J2: 노무비 | M2: 경비 | P2: 계 | Q2: 비고
H3: 단가 | I3: 금액 | J3: 수량 | K3: 단가 | L3: 금액 | M3: 단가 | N3: 금액 | O3: 단가
B4: 공종줄 | D4: 1.CCTV설비공사
A5: 59753067014 | B5: 001 | C5: 3913170630174624 | D5: 폴리에틸렌 전선관(지중) | E5: PE 28㎜ | F5: m | G5: 1631 | I5: =TRUNC(G5*H5) -> 0 | J5: =#REF! -> #REF! | L5: =TRUNC(G5*K5) -> 0 | N5: =TRUNC(G5*M5) -> 0 | P5: =SUM(I5,L5,N5) -> 0
A6: A0500000000 | B6: 001 | C6: RENT000000000002 | D6: [ 배관 부속재 ] | E6: 전선관의 15 % | F6: 식 | G6: 1 | I6: =TRUNC(G6*H6) -> 0 | J6: 1 | L6: =TRUNC(G6*K6) -> 0 | N6: =TRUNC(G6*M6) -> 0 | P6: =SUM(I6,L6,N6) -> 0
A7: E1450927202 | B7: 001 | C7: 2612152420683696 | D7: 접지용비닐절연전선(F-GV) | E7: 4㎟ | F7: m | G7: 648 | I7: =TRUNC(G7*H7) -> 0 | J7: =#REF! -> #REF! | L7: =TRUNC(G7*K7) -> 0 | N7: =TRUNC(G7*M7) -> 0 | P7: =SUM(I7,L7,N7) -> 0
A8: E1450287522 | B8: 001 | C8: 2612162920683903 | D8: 폴리에틸렌 난연케이블 | E8: 0.6/1kv F-CV 2C×4㎟ | F8: m | G8: 618 | I8: =TRUNC(G8*H8) -> 0 | J8: =#REF! -> #REF! | L8: =TRUNC(G8*K8) -> 0 | N8: =TRUNC(G8*M8) -> 0 | P8: =SUM(I8,L8,N8) -> 0
A9: MM525000002 | B9: 001 | C9: 2612163720177109 | D9: 광케이블(옥외용) | E9: SM 9/125, 4c | F9: m | G9: 993 | I9: =TRUNC(G9*H9) -> 0 | J9: =#REF! -> #REF! | L9: =TRUNC(G9*K9) -> 0 | N9: =TRUNC(G9*M9) -> 0 | P9: =SUM(I9,L9,N9) -> 0
A10: MM068308881 | B10: 001 | C10: 391115ZZ701Z0003 | D10: 광분배함 | E10: 8PORT | F10: EA | G10: 7 | I10: =TRUNC(G10*H10) -> 0 | J10: =#REF! -> #REF! | L10: =TRUNC(G10*K10) -> 0 | N10: =TRUNC(G10*M10) -> 0 | P10: =SUM(I10,L10,N10) -> 0
A11: MM068308882 | B11: 001 | C11: 391115ZZ701Z0004 | D11: 광점퍼코드 | E11: 싱글모드,SC-LC-2C,3M | F11: EA | G11: 14 | I11: =TRUNC(G11*H11) -> 0 | J11: =#REF! -> #REF! | L11: =TRUNC(G11*K11) -> 0 | N11: =TRUNC(G11*M11) -> 0 | P11: =SUM(I11,L11,N11) -> 0
A12: MM068308883 | B12: 001 | C12: 391115ZZ701Z0005 | D12: 네트워크스위치 | E12: TP8포트 PoE,1G/2.5G SFP2포트,산업용 | F12: EA | G12: 4 | I12: =TRUNC(G12*H12) -> 0 | J12: =#REF! -> #REF! | L12: =TRUNC(G12*K12) -> 0 | N12: =TRUNC(G12*M12) -> 0 | P12: =SUM(I12,L12,N12) -> 0
A13: MM068308879 | B13: 001 | C13: 391115ZZ701Z0001 | D13: CCTV | E13: 돔형 | F13: EA | G13: 8 | I13: =TRUNC(G13*H13) -> 0 | J13: =#REF! -> #REF! | L13: =TRUNC(G13*K13) -> 0 | N13: =TRUNC(G13*M13) -> 0 | P13: =SUM(I13,L13,N13) -> 0
A14: MM068318575 | B14: 001 | C14: 391115ZZ701Z0007 | D14: 송수신기 | F14: EA | G14: 6 | I14: =TRUNC(G14*H14) -> 0 | J14: =#REF! -> #REF! | L14: =TRUNC(G14*K14) -> 0 | N14: =TRUNC(G14*M14) -> 0 | P14: =SUM(I14,L14,N14) -> 0
A15: 56959000011 | B15: 001 | C15: EAZ800010000 | D15: 터파기(기계90%,인력10%) | E15: 보통토사 | F15: ㎥ | G15: 365.2 | I15: =TRUNC(G15*H15) -> 0 | J15: =#REF! -> #REF! | L15: =TRUNC(G15*K15) -> 0 | N15: =TRUNC(G15*M15) -> 0 | P15: =SUM(I15,L15,N15) -> 0
A16: 56959000012 | B16: 001 | C16: EAZ800020000 | D16: 되메우기(기계90%,인력10%) | E16: 보통토사 | F16: ㎥ | G16: 365.2 | I16: =TRUNC(G16*H16) -> 0 | J16: =#REF! -> #REF! | L16: =TRUNC(G16*K16) -> 0 | N16: =TRUNC(G16*M16) -> 0 | P16: =SUM(I16,L16,N16) -> 0
A17: 56940220101 | B17: 001 | C17: ABB105100000 | D17: 아스팔트 포장 컷팅 | E17: 터파기 별도 계상 | F17: m | G17: 334.4 | I17: =TRUNC(G17*H17) -> 0 | J17: =#REF! -> #REF! | L17: =TRUNC(G17*K17) -> 0 | N17: =TRUNC(G17*M17) -> 0 | P17: =SUM(I17,L17,N17) -> 0
A18: 56940220111 | B18: 001 | C18: ABB105300000 | D18: 아스팔트 포장 파괴 | E18: 터파기 별도 계상 | F18: ㎡ | G18: 131.2 | I18: =TRUNC(G18*H18) -> 0 | J18: =#REF! -> #REF! | L18: =TRUNC(G18*K18) -> 0 | N18: =TRUNC(G18*M18) -> 0 | P18: =SUM(I18,L18,N18) -> 0
A19: 56959000013 | B19: 001 | C19: EAZ800030000 | D19: 아스콘포장복구 | E19: 소규모 | F19: ㎡ | G19: 131.2 | I19: =TRUNC(G19*H19) -> 0 | J19: =#REF! -> #REF! | L19: =TRUNC(G19*K19) -> 0 | N19: =TRUNC(G19*M19) -> 0 | P19: =SUM(I19,L19,N19) -> 0
A20: 56959000014 | B20: 001 | C20: EAZ800040000 | D20: 건설폐기물처리 | E20: 폐아스콘 | F20: ton | G20: 17.1 | I20: =TRUNC(G20*H20) -> 0 | J20: =#REF! -> #REF! | L20: =TRUNC(G20*K20) -> 0 | N20: =TRUNC(G20*M20) -> 0 | P20: =SUM(I20,L20,N20) -> 0
A21: 56959000015 | B21: 001 | C21: EAZ800050000 | D21: 잔디 떼채취 | E21: 평떼 | F21: ㎡ | G21: 454.8 | I21: =TRUNC(G21*H21) -> 0 | J21: =#REF! -> #REF! | L21: =TRUNC(G21*K21) -> 0 | N21: =TRUNC(G21*M21) -> 0 | P21: =SUM(I21,L21,N21) -> 0
A22: 56959000016 | B22: 001 | C22: EAZ800060000 | D22: 잔디 떼붙임 | E22: 평떼 | F22: ㎡ | G22: 454.8 | I22: =TRUNC(G22*H22) -> 0 | J22: =#REF! -> #REF! | L22: =TRUNC(G22*K22) -> 0 | N22: =TRUNC(G22*M22) -> 0 | P22: =SUM(I22,L22,N22) -> 0
D23: WARNING TAPE(경고테이프) | E23: 300 x 250 | F23: m | G23: 922 | I23: =TRUNC(G23*H23) -> 0 | J23: =#REF! -> #REF! | P23: =SUM(I23,L23,N23) -> 0
A24: A0100000000 | B24: 001 | C24: RENT000000000003 | D24: [ 소모 잡자재 ] | E24: 전선, 전선관의 2 % | F24: 식 | G24: 1 | I24: =H24 -> 0 | J24: 1 | L24: =TRUNC(G24*K24) -> 0 | N24: =TRUNC(G24*M24) -> 0 | P24: =SUM(I24,L24,N24) -> 0
D25: 노 무 비 | E25: 통신내선공 | F25: 인 | G25: 99.392 | L25: =TRUNC(G25*K25) -> 0 | N25: =TRUNC(G25*M25) -> 0 | P25: =SUM(I25,L25,N25) -> 0
A26: 56900017016 | B26: 001 | C26: L001010101000075 | D26: 노 무 비 | E26: 내선전공 | F26: 인 | G26: 5.301 | I26: =TRUNC(G26*H26) -> 0 | J26: =#REF! -> #REF! | L26: =TRUNC(G26*K26) -> 0 | N26: =TRUNC(G26*M26) -> 0 | P26: =SUM(I26,L26,N26) -> 0
A27: 56900017076 | B27: 001 | C27: L001010101000078 | D27: 노 무 비 | E27: 저압케이블전공 | F27: 인 | G27: 9.424 | I27: =TRUNC(G27*H27) -> 0 | J27: =#REF! -> #REF! | L27: =TRUNC(G27*K27) -> 0 | N27: =TRUNC(G27*M27) -> 0 | P27: =SUM(I27,L27,N27) -> 0
A28: 56900017114 | B28: 001 | C28: L001010101000087 | D28: 노 무 비 | E28: 통신설비공 | F28: 인 | G28: 6.05 | I28: =TRUNC(G28*H28) -> 0 | J28: =#REF! -> #REF! | L28: =TRUNC(G28*K28) -> 0 | N28: =TRUNC(G28*M28) -> 0 | P28: =SUM(I28,L28,N28) -> 0
A29: 56900017112 | B29: 001 | C29: L001010501000112 | D29: 노 무 비 | E29: 통신관련산업기사 | F29: 인 | G29: 3 | I29: =TRUNC(G29*H29) -> 0 | J29: =#REF! -> #REF! | L29: =TRUNC(G29*K29) -> 0 | N29: =TRUNC(G29*M29) -> 0 | P29: =SUM(I29,L29,N29) -> 0
A30: 56900017011 | B30: 001 | C30: L001010201000092 | D30: 노 무 비 | E30: 광케이블설치사 | F30: 인 | G30: 9.163 | I30: =TRUNC(G30*H30) -> 0 | J30: =#REF! -> #REF! | L30: =TRUNC(G30*K30) -> 0 | N30: =TRUNC(G30*M30) -> 0 | P30: =SUM(I30,L30,N30) -> 0
A31: 56900017841 | B31: 001 | C31: L001010101010002 | D31: 노 무 비 | E31: 인부 | F31: 인 | G31: 1.61 | I31: =TRUNC(G31*H31) -> 0 | J31: =#REF! -> #REF! | L31: =TRUNC(G31*K31) -> 0 | N31: =TRUNC(G31*M31) -> 0 | P31: =SUM(I31,L31,N31) -> 0
A32: 56900017041 | B32: 001 | C32: L001010101000002 | D32: 노 무 비 | E32: 보통인부 | F32: 인 | G32: 3.88 | I32: =TRUNC(G32*H32) -> 0 | J32: =#REF! -> #REF! | L32: =TRUNC(G32*K32) -> 0 | N32: =TRUNC(G32*M32) -> 0 | P32: =SUM(I32,L32,N32) -> 0
A33: 56900017118 | B33: 001 | C33: L001010101000003 | D33: 노 무 비 | E33: 특별인부 | F33: 인 | G33: 0 | I33: =TRUNC(G33*H33) -> 0 | J33: =#REF! -> #REF! | L33: =TRUNC(G33*K33) -> 0 | N33: =TRUNC(G33*M33) -> 0 | P33: =SUM(I33,L33,N33) -> 0
A34: 56900017142 | B34: 001 | C34: L001010201000093 | D34: 노 무 비 | E34: H/W시험사 | F34: 인 | G34: 1.44 | I34: =TRUNC(G34*H34) -> 0 | J34: =#REF! -> #REF! | L34: =TRUNC(G34*K34) -> 0 | N34: =TRUNC(G34*M34) -> 0 | P34: =SUM(I34,L34,N34) -> 0
D35: 노 무 비 | E35: 통신케이블공 | F35: 인 | G35: 0.461 | L35: =TRUNC(G35*K35) -> 0 | N35: =TRUNC(G35*M35) -> 0 | P35: =SUM(I35,L35,N35) -> 0
A36: A0300000000 | B36: 001 | C36: RENT000000000006 | D36: [ 공 구 손 료 ] | E36: 노무비의 3 % | F36: 식 | G36: 1 | I36: =H36 -> 0 | J36: 1 | L36: =TRUNC(G36*K36) -> 0 | N36: =TRUNC(G36*M36) -> 0 | P36: =SUM(I36,L36,N36) -> 0
I37: =TRUNC(G37*H37) -> 0 | L37: =TRUNC(G37*K37) -> 0 | N37: =TRUNC(G37*M37) -> 0 | P37: =SUM(I37,L37,N37) -> 0
I38: =TRUNC(G38*H38) -> 0 | L38: =TRUNC(G38*K38) -> 0 | N38: =TRUNC(G38*M38) -> 0 | P38: =SUM(I38,L38,N38) -> 0
I39: =TRUNC(G39*H39) -> 0 | L39: =TRUNC(G39*K39) -> 0 | N39: =TRUNC(G39*M39) -> 0 | P39: =SUM(I39,L39,N39) -> 0
I40: =TRUNC(G40*H40) -> 0 | L40: =TRUNC(G40*K40) -> 0 | N40: =TRUNC(G40*M40) -> 0 | P40: =SUM(I40,L40,N40) -> 0
...

Sheet 일위노임
A1: 총줄수-> | B1: 29 | D1: [ 수도권매립지야생화단지개방사업정보통신공사 ] - 일위노임 산출근거(2026년 하반기 노임) | AA1: 보통인부 | AB1: 포장공
A2: 번호 | B2: 공종코드 | C2: 코드 | D2: 명 칭 | E2: 규 격 | F2: 단위 | G2: 수량 | K2: 코드 | L2: 공량산출 | P2: 단 위 단 가 산 출 | S2: 품셈근거 | T2: 비고
G3: 결정수량 | H3: 할증 | I3: 산출수량 | J3: 재할% | L3: 명칭 | M3: 품셈 | N3: 할증% | O3: 공량 | P3: 단가 | Q3: 단위단가 | R3: 단위계
B4: 공종줄 | D4: [ 제 5호 ] 아스콘포장복구 소규모 [㎡]
B5: 800 | C5: 391115ZZ701Z0014 | D5: 품셈 산출근거 | E5: 소규모 | F5: 식 | G5: 1 | H5: =IF(I5<>0,G5-I5,"") -> 0 | I5: 1 | K5: 56900017041 | L5: 보통인부 | M5: 0.06 | N5: 100 | O5: =IF(I5*M5=0,"",I5*M5*(N5/100)) -> 0.06 | AA5: =O5 -> 0.06
B6: 800 | C6: 391115ZZ701Z0014 | G6: 1 | H6: =IF(I6<>0,G6-I6,"") -> 0 | I6: 1 | K6: 56900017123 | L6: 포장공 | M6: 0.02 | N6: 100 | O6: =IF(I6*M6=0,"",I6*M6*(N6/100)) -> 0.02 | AB6: =O6 -> 0.02
B7: 800 | C7: L001010101000002 | D7: 노 무 비 | E7: 보통인부 | F7: 인 | G7: =IF(H7*I7/100 <1, TRUNC(H7*I7/100, 옵션!$E$13), TRUNC(H7*I7/100, 옵션!$E$13)) -> 0.06 | H7: =옵션!$B$13 -> 100 | I7: =SUM(AA5:AA6) -> 0.06 | O7: =IF(I7*M7=0,"",I7*M7*(N7/100)) | AA7: =SUM(AA5:AA6) -> 0.06 | AB7: =SUM(AB5:AB6) -> 0.02
B8: 800 | C8: L001010101000019 | D8: 노 무 비 | E8: 포장공 | F8: 인 | G8: =IF(H8*I8/100 <1, TRUNC(H8*I8/100, 옵션!$E$13), TRUNC(H8*I8/100, 옵션!$E$13)) -> 0.02 | H8: =옵션!$B$13 -> 100 | I8: =SUM(AB5:AB6) -> 0.02 | O8: =IF(I8*M8=0,"",I8*M8*(N8/100))
B9: 공종줄 | D9: [ 제 7호 ] 잔디 떼채취 평떼 [㎡]
B10: 800 | C10: 391115ZZ701Z0015 | D10: 품셈 산출근거 | E10: 평떼 | F10: 식 | G10: 1 | H10: =IF(I10<>0,G10-I10,"") -> 0 | I10: 1 | K10: 56900017041 | L10: 보통인부 | M10: 0.06 | N10: 100 | O10: =IF(I10*M10=0,"",I10*M10*(N10/100)) -> 0.06 | AA10: =O10 -> 0.06
B11: 800 | C11: L001010101000002 | D11: 노 무 비 | E11: 보통인부 | F11: 인 | G11: =IF(H11*I11/100 <1, TRUNC(H11*I11/100, 옵션!$E$13), TRUNC(H11*I11/100, 옵션!$E$13)) -> 0.06 | H11: =옵션!$B$13 -> 100 | I11: =SUM(AA10:AA10) -> 0.06 | O11: =IF(I11*M11=0,"",I11*M11*(N11/100)) | AA11: =SUM(AA10:AA10) -> 0.06
B12: 공종줄 | D12: [ 제 8호 ] 잔디 떼붙임 평떼 [㎡]
B13: 800 | C13: 391115ZZ701Z0015 | D13: 품셈 산출근거 | E13: 평떼 | F13: 식 | G13: 1 | H13: =IF(I13<>0,G13-I13,"") -> 0 | I13: 1 | K13: 56900017041 | L13: 보통인부 | M13: 0.0067 | N13: 100 | O13: =IF(I13*M13=0,"",I13*M13*(N13/100)) -> 0.0067 | AA13: =O13 -> 0.0067
B14: 800 | C14: 391115ZZ701Z0015 | G14: 1 | H14: =IF(I14<>0,G14-I14,"") -> 0 | I14: 1 | K14: 56900017041 | L14: 보통인부 | M14: 0.0267 | N14: 100 | O14: =IF(I14*M14=0,"",I14*M14*(N14/100)) -> 0.0267 | AA14: =O14 -> 0.0267
B15: 800 | C15: L001010101000002 | D15: 노 무 비 | E15: 보통인부 | F15: 인 | G15: =IF(H15*I15/100 <1, TRUNC(H15*I15/100, 옵션!$E$13), TRUNC(H15*I15/100, 옵션!$E$13)) -> 0.0334 | H15: =옵션!$B$13 -> 100 | I15: =SUM(AA13:AA14) -> 0.0334 | O15: =IF(I15*M15=0,"",I15*M15*(N15/100)) | AA15: =SUM(AA13:AA14) -> 0.0334
B16: 공종줄 | D16: [ 제 9호 ] 인력터파기 보통토사0-1m [㎥]
B17: 800 | C17: 391115ZZ701Z0013 | D17: 품셈 산출근거 | E17: 보통토사0-1m | F17: 식 | G17: 1 | H17: =IF(I17<>0,G17-I17,"") -> 0 | I17: 1 | K17: 56900017041 | L17: 보통인부 | M17: 0.2 | N17: 100 | O17: =IF(I17*M17=0,"",I17*M17*(N17/100)) -> 0.2 | AA17: =O17 -> 0.2
B18: 800 | C18: L001010101000002 | D18: 노 무 비 | E18: 보통인부 | F18: 인 | G18: =IF(H18*I18/100 <1, TRUNC(H18*I18/100, 옵션!$E$13), TRUNC(H18*I18/100, 옵션!$E$13)) -> 0.2 | H18: =옵션!$B$13 -> 100 | I18: =SUM(AA17:AA17) -> 0.2 | O18: =IF(I18*M18=0,"",I18*M18*(N18/100)) | AA18: =SUM(AA17:AA17) -> 0.2
B19: 공종줄 | D19: [ 제 10호 ] 인력되메우기 보통토사0-1m [㎥]
B20: 800 | C20: 391115ZZ701Z0013 | D20: 품셈 산출근거 | E20: 보통토사0-1m | F20: 식 | G20: 1 | H20: =IF(I20<>0,G20-I20,"") -> 0 | I20: 1 | K20: 56900017041 | L20: 보통인부 | M20: 0.1 | N20: 100 | O20: =IF(I20*M20=0,"",I20*M20*(N20/100)) -> 0.1 | AA20: =O20 -> 0.1
B21: 800 | C21: L001010101000002 | D21: 노 무 비 | E21: 보통인부 | F21: 인 | G21: =IF(H21*I21/100 <1, TRUNC(H21*I21/100, 옵션!$E$13), TRUNC(H21*I21/100, 옵션!$E$13)) -> 0.1 | H21: =옵션!$B$13 -> 100 | I21: =SUM(AA20:AA20) -> 0.1 | O21: =IF(I21*M21=0,"",I21*M21*(N21/100)) | AA21: =SUM(AA20:AA20) -> 0.1

Sheet 합산자재
A1: 총줄수-> | B1: 55 | C1: [ 수도권매립지야생화단지개방사업정보통신공사 ] - 합산자재목록
A2: 번호 | B2: … | C2: 코드 | D2: 명 칭 | E2: 규 격 | F2: 단위 | G2: 수량 | H2: 재료비 | I2: 노무비 | J2: 경비 | K2: 지급비 | L2: 계 | M2: 비고
C4: 3913170630174624 | D4: 폴리에틸렌 전선관(지중) | E4: PE 28㎜ | F4: m | H4: =TRUNC(#REF!*옵션!$D$11) -> #REF! | L4: =SUM(H4,I4,J4) -> #REF!
C5: 2612152420683696 | D5: 접지용비닐절연전선(F-GV) | E5: 4㎟ | F5: m | H5: =TRUNC(#REF!*옵션!$D$11) -> #REF! | L5: =SUM(H5,I5,J5) -> #REF!
C6: 2612162920683903 | D6: 폴리에틸렌 난연케이블 | E6: 0.6/1kv F-CV 2C×4㎟ | F6: m | H6: =TRUNC(#REF!*옵션!$D$11) -> #REF! | L6: =SUM(H6,I6,J6) -> #REF!
C7: 2612163720177109 | D7: 광케이블(옥외용) | E7: SM 9/125, 4c | F7: m | H7: =TRUNC(#REF!*옵션!$D$11) -> #REF! | L7: =SUM(H7,I7,J7) -> #REF!
C8: 391115ZZ701Z0001 | D8: CCTV | E8: 돔형 | F8: EA | H8: =TRUNC(#REF!*옵션!$D$11) -> #REF! | L8: =SUM(H8,I8,J8) -> #REF!
C9: CC5658280002 | D9: 건설폐기물처리비 | E9: 폐콘크리트 | F9: ton | H9: =#REF! -> #REF! | I9: =#REF! -> #REF! | J9: =#REF! -> #REF! | L9: =SUM(H9,I9,J9) -> #REF!
C10: 391115ZZ701Z0003 | D10: 광분배함 | E10: 8PORT | F10: EA | H10: =TRUNC(#REF!*옵션!$D$11) -> #REF! | L10: =SUM(H10,I10,J10) -> #REF!
C11: 391115ZZ701Z0004 | D11: 광점퍼코드 | E11: 싱글모드,SC-LC-2C,3M | F11: EA | H11: =TRUNC(#REF!*옵션!$D$11) -> #REF! | L11: =SUM(H11,I11,J11) -> #REF!
C12: 391115ZZ701Z0005 | D12: 네트워크스위치 | E12: TP8포트 PoE,1G/2.5G SFP2포트,산업용 | F12: EA | H12: =TRUNC(#REF!*옵션!$D$11) -> #REF! | L12: =SUM(H12,I12,J12) -> #REF!
C13: 391115ZZ701Z0006 | D13: 노 무 비 | E13: 조경공 | F13: 인 | H13: =TRUNC(#REF!*옵션!$D$11) -> #REF! | L13: =SUM(H13,I13,J13) -> #REF!
C14: 391115ZZ701Z0007 | D14: 송수신기 | F14: EA | H14: =TRUNC(#REF!*옵션!$D$11) -> #REF! | L14: =SUM(H14,I14,J14) -> #REF!
C15: 391115ZZ701Z0008 | D15: 아스콘포장/기층 | E15: T=7.5cm | F15: ㎡ | H15: =TRUNC(#REF!*옵션!$D$11) -> #REF! | L15: =SUM(H15,I15,J15) -> #REF!
C16: 391115ZZ701Z0009 | D16: 아스콘포장/표층 | E16: T=5.0cm | F16: ㎡ | H16: =TRUNC(#REF!*옵션!$D$11) -> #REF! | L16: =SUM(H16,I16,J16) -> #REF!
C17: 391115ZZ701Z0010 | D17: 트럭 | E17: 2.5 TON | F17: 분 | H17: =TRUNC(#REF!*옵션!$D$11) -> #REF! | L17: =SUM(H17,I17,J17) -> #REF!
C18: CC5658280011 | D18: 폐기물 상차비 | E18: 중간처리 대상, 24ton 덤프트럭 | F18: ton | H18: =#REF! -> #REF! | I18: =#REF! -> #REF! | J18: =#REF! -> #REF! | L18: =SUM(H18,I18,J18) -> #REF!
C19: CC5658280012 | D19: 폐기물 운반비 | E19: 중간처리 대상, 24ton 덤프트럭 | F19: ton | H19: =#REF! -> #REF! | I19: =#REF! -> #REF! | J19: =#REF! -> #REF! | L19: =SUM(H19,I19,J19) -> #REF!
C20: CDC221100000 | D20: 아스팔트포장 깨기 | E20: T=30cm미만 양호 | F20: m3 | H20: =#REF! -> #REF! | I20: =#REF! -> #REF! | J20: =#REF! -> #REF! | L20: =SUM(H20,I20,J20) -> #REF!
C21: CDC221200000 | D21: 포장절단/아스팔트 | E21: - | F21: m | H21: =#REF! -> #REF! | I21: =#REF! -> #REF! | J21: =#REF! -> #REF! | L21: =SUM(H21,I21,J21) -> #REF!
C22: ECA565826042 | D22: 기계터파기 | E22: 보통토사(0.6㎥) | F22: ㎥ | H22: =#REF! -> #REF! | I22: =#REF! -> #REF! | J22: =#REF! -> #REF! | L22: =SUM(H22,I22,J22) -> #REF! | M22: 종합적산701
C23: ECA565826051 | D23: 기계되메우기 | E23: 보통토사(0.6㎥) | F23: ㎥ | H23: =#REF! -> #REF! | I23: =#REF! -> #REF! | J23: =#REF! -> #REF! | L23: =SUM(H23,I23,J23) -> #REF! | M23: 종합적산701
C24: ECA565826046 | D24: 플레이트콤팩터 | E24: 1.5TON | F24: 분 | H24: =#REF! -> #REF! | I24: =#REF! -> #REF! | J24: =#REF! -> #REF! | L24: =SUM(H24,I24,J24) -> #REF! | M24: 종합적산714
C25: ECA565826049 | D25: 진동롤러(핸드가이드식) | E25: 0.7 TON | F25: 분 | H25: =#REF! -> #REF! | I25: =#REF! -> #REF! | J25: =#REF! -> #REF! | L25: =SUM(H25,I25,J25) -> #REF! | M25: 종합적산711
C26: L001010101000075 | D26: 노 무 비 | E26: 내선전공 | F26: 인 | I26: =TRUNC(#REF!) -> #REF! | L26: =SUM(H26,I26,J26) -> #REF!
C27: L001010101000078 | D27: 노 무 비 | E27: 저압케이블전공 | F27: 인 | I27: =TRUNC(#REF!) -> #REF! | L27: =SUM(H27,I27,J27) -> #REF!
C28: L001010101000087 | D28: 노 무 비 | E28: 통신설비공 | F28: 인 | I28: =TRUNC(#REF!) -> #REF! | L28: =SUM(H28,I28,J28) -> #REF!
C29: L001010501000112 | D29: 노 무 비 | E29: 통신관련산업기사 | F29: 인 | I29: =TRUNC(#REF!) -> #REF! | L29: =SUM(H29,I29,J29) -> #REF!
C30: L001010201000092 | D30: 노 무 비 | E30: 광케이블설치사 | F30: 인 | I30: =TRUNC(#REF!) -> #REF! | L30: =SUM(H30,I30,J30) -> #REF!
C31: L001010101010002 | D31: 노 무 비 | E31: 인부 | F31: 인 | I31: =TRUNC(#REF!) -> #REF! | L31: =SUM(H31,I31,J31) -> #REF!
C32: L001010101000002 | D32: 노 무 비 | E32: 보통인부 | F32: 인 | I32: =TRUNC(#REF!) -> #REF! | L32: =SUM(H32,I32,J32) -> #REF!
C33: L001010101000003 | D33: 노 무 비 | E33: 특별인부 | F33: 인 | I33: =TRUNC(#REF!) -> #REF! | L33: =SUM(H33,I33,J33) -> #REF!
C34: L001010201000093 | D34: 노 무 비 | E34: H/W시험사 | F34: 인 | I34: =TRUNC(#REF!) -> #REF! | L34: =SUM(H34,I34,J34) -> #REF!
C35: L001010101000019 | D35: 노 무 비 | E35: 포장공 | F35: 인 | I35: =TRUNC(#REF!) -> #REF! | L35: =SUM(H35,I35,J35) -> #REF!
C36: L001010101000086 | D36: 노 무 비 | E36: 통신내선공 | F36: 인 | I36: =TRUNC(#REF!) -> #REF! | L36: =SUM(H36,I36,J36) -> #REF!
L37: =SUM(H37,I37,J37) -> 0
L38: =SUM(H38,I38,J38) -> 0
L39: =SUM(H39,I39,J39) -> 0
L40: =SUM(H40,I40,J40) -> 0
L41: =SUM(H41,I41,J41) -> 0
...

Sheet 옵션
B1: 재료비 | C1: 노무비 | D1: 경비 | F1: 계
A2: 총 급 액 | B2: =총괄표!I29 -> 0 | C2: =총괄표!L29 -> 0 | D2: =총괄표!N29 -> 0 | F2: =SUM(B2,C2,D2) -> 0
A3: 관급 자재비 | F3: =SUM(B3,C3,D3) -> 0 | H3: 금액조정이 안되나요?
H6: 이지테크에서 변환할 때 2번 옵션을 지정하여 다시 해보세요
H9: 시트를 삭제할 때 에러가 뜨면 1번 옵션으로 하면 됩니다.
B10: 적용율(%) | C10: 끝자리 | D10: 적용율(%)/100 | E10: 일위대가소수
A11: 전체자재 적용율(%)(공종/일위대가) | B11: 100 | C11: 1 | D11: =$B$11/100 -> 1
A12: 전체노임 적용율(%)(공종) | B12: 100 | C12: 1 | D12: =$B$12/100 -> 1 | E12: 2 | H12: 2번 옵션으로 변환했을 때에는 결과값이 다를 수 있습니다.
A13: 전체노임 적용율(%)(일위대가) | B13: 100 | C13: 1 | D13: =$B$13/100 -> 1 | E13: 5
A20: *(그룹별 자재 단가 추가 할증)* | B20: 적용율(%) | D20: 적용율(%)/100
A21: Cable(CAB) 할증(%) | B21: =B11 -> 100 | D21: =$B$21/100 -> 1
A22: Wire (WIR) 할증(%) | B22: =B11 -> 100 | D22: =$B$22/100 -> 1
A23: Pipe (PIP) 할증(%) | B23: =B11 -> 100 | D23: =$B$23/100 -> 1
A24: 제 4그룹 할증(%) | B24: =B11 -> 100 | D24: =$B$24/100 -> 1
A25: 제 5그룹 할증(%) | B25: =B11 -> 100 | D25: =$B$25/100 -> 1
A30: *(그룹별 노임 추가 할증)* | B30: 적용율(%) | C30: 자동부속재(전기) | D30: 자동부속재(통신)
A31: 배관부속재(%) | B31: 15 | C31: 15 | D31: 20
A32: CD관부속재(%) | B32: 40 | C32: 40 | D32: 40
A33: 소모잡자재(%) | B33: 2 | H33: 본 파일은 이지테크에서 2번 옵션으로 만들었습니다.
A34: 방폭할증(%)
A35: 고소할증(%) | B35: 2
A36: 공구손료(%) | B36: 3
A40: *(공종별 노임 적용율(%))* | B40: 적용율(%) | C40: 소수자릿수
A41: 1. CCTV설비공사 | B41: 100 | C41: 3

Sheet 목차
A1: 총줄수-> | B1: 32 | D1: [ 수도권매립지야생화단지개방사업정보통신공사 ]
A2: 번호 | B2: 공종코드 | C2: … | D2: 구 분 | E2: 내 용 | F2: 단위 | G2: 수량 | H2: 비 고
D4: 전체 집계표* | E4: 1. CCTV설비공사 | F4: 식 | G4: 1 | H4: 전체집계표* - 1
D5: 기본 산출서* | E5: 1. CCTV설비공사 | F5: 식 | G5: 1 | H5: 기본산출서* - 1
D6: 목록별 산출서* | E6: 1. CCTV설비공사 | F6: 식 | G6: 1 | H6: 목록별산출서* - 4

Sheet 기본산출서
A1: 총줄수-> | B1: 276 | C1: 1.CCTV설비공사
B2: 2.0 | F2: 전선관 | G2: 접지전선 | H2: 케이블 | I2: 광케이블 | J2: 아스팔트 | K2: 아스팔트 | L2: CCTV | M2: 광분배함 | N2: 광점퍼코드 | O2: 네트워크스위치 | Q2: 건설폐기물처리 | R2: 되메우기(기계90%,인력10%) | S2: 아스콘포장복구 | T2: 잔디떼붙임 | U2: 잔디떼채취 | V2: 터파기(기계90%,인력10%)
C3: No | D3: 산 출 목 록 / 산 출 수 식 | E3: 단위/계 | F3: (지중) | G3: F-GV | H3: F-CV | I3: 옥외 | J3: 포장 | K3: 포장 | P3: 송수신기철거(50%)
F4: PE28c | G4: 4_㎟ | H4: 4_㎟/2c | I4: 4c | J4: 컷팅 | K4: 파괴 | L4: 돔형지급자재 | M4: 8PORT | N4: 싱글모드,SC-LC-2C,3M | O4: TP8포트PoE | Q4: 폐아스콘 | R4: 보통토사 | S4: 소규모 | T4: 평떼 | U4: 평떼 | V4: 보통토사
D5: ▣ 기존CCTV → CCTV4
C6: 1 | E6: =IF(egTextCal(D6)<>0, egTextCal(D6),"") -> #NAME?
D7: 광케이블 SM 9/125 4C (PE 28C-지중) | F7: 1 | I7: 1
C8: 2 | D8: =#REF! -> #REF! | E8: =IF(egTextCal(D8)<>0, egTextCal(D8),"") -> #NAME? | F8: =IF(E8*F7<>0,E8*F7, ) -> #NAME? | I8: =IF(E8*I7<>0,E8*I7, ) -> #NAME? | CA8: =F8 -> #NAME? | CD8: =I8 -> #NAME?
D9: 네트워크스위치 TP8포트 PoE | O9: 1
C10: 3 | D10: =#REF! -> #REF! | E10: =IF(egTextCal(D10)<>0, egTextCal(D10),"") -> #NAME? | O10: =IF(E10*O9<>0,E10*O9, ) -> #NAME? | CJ10: =O10 -> #NAME?
D11: 광분배함 8PORT | M11: 1
C12: 4 | D12: =#REF! -> #REF! | E12: =IF(egTextCal(D12)<>0, egTextCal(D12),"") -> #NAME? | M12: =IF(E12*M11<>0,E12*M11, ) -> #NAME? | CH12: =M12 -> #NAME?
D13: 광점퍼코드 싱글모드,SC-LC-2C,3M | N13: 1
C14: 5 | D14: =#REF! -> #REF! | E14: =IF(egTextCal(D14)<>0, egTextCal(D14),"") -> #NAME? | N14: =IF(E14*N13<>0,E14*N13, ) -> #NAME? | CI14: =N14 -> #NAME?
D15: CCTV 돔형 | L15: 1
C16: 6 | D16: =#REF! -> #REF! | E16: =IF(egTextCal(D16)<>0, egTextCal(D16),"") -> #NAME? | L16: =IF(E16*L15<>0,E16*L15, ) -> #NAME? | CG16: =L16 -> #NAME?
D17: 송수신기 | P17: 1
C18: 7 | D18: =#REF! -> #REF! | E18: =IF(egTextCal(D18)<>0, egTextCal(D18),"") -> #NAME? | P18: =IF(E18*P17<>0,E18*P17, ) -> #NAME? | CK18: =P18 -> #NAME?
D19: ☞ 토사구간
C20: 8 | E20: =IF(egTextCal(D20)<>0, egTextCal(D20),"") -> #NAME?
D21: 터파기(기계90%,인력10%) 보통토사 | V21: 1
C22: 9 | D22: =#REF! -> #REF! | E22: =IF(egTextCal(D22)<>0, egTextCal(D22),"") -> #NAME? | V22: =IF(E22*V21<>0,E22*V21, ) -> #NAME? | CQ22: =V22 -> #NAME?
D23: 되메우기(기계90%,인력10%) 보통토사 | R23: 1
C24: 10 | D24: =#REF! -> #REF! | E24: =IF(egTextCal(D24)<>0, egTextCal(D24),"") -> #NAME? | R24: =IF(E24*R23<>0,E24*R23, ) -> #NAME? | CM24: =R24 -> #NAME?
D25: 잔디 떼채취 평떼 | U25: 1
C26: 11 | D26: =#REF! -> #REF! | E26: =IF(egTextCal(D26)<>0, egTextCal(D26),"") -> #NAME? | U26: =IF(E26*U25<>0,E26*U25, ) -> #NAME? | CP26: =U26 -> #NAME?
D27: 잔디 떼붙임 평떼 | T27: 1
C28: 12 | D28: =#REF! -> #REF! | E28: =IF(egTextCal(D28)<>0, egTextCal(D28),"") -> #NAME? | T28: =IF(E28*T27<>0,E28*T27, ) -> #NAME? | CO28: =T28 -> #NAME?
D29: ☞ 아스콘구간
C30: 13 | E30: =IF(egTextCal(D30)<>0, egTextCal(D30),"") -> #NAME?
D31: 터파기(기계90%,인력10%) 보통토사 | V31: 1
C32: 14 | D32: =#REF! -> #REF! | E32: =IF(egTextCal(D32)<>0, egTextCal(D32),"") -> #NAME? | V32: =IF(E32*V31<>0,E32*V31, ) -> #NAME? | CQ32: =V32 -> #NAME?
D33: 되메우기(기계90%,인력10%) 보통토사 | R33: 1
C34: 15 | D34: =#REF! -> #REF! | E34: =IF(egTextCal(D34)<>0, egTextCal(D34),"") -> #NAME? | R34: =IF(E34*R33<>0,E34*R33, ) -> #NAME? | CM34: =R34 -> #NAME?
D35: 아스팔트 포장 컷팅 터파기 별도 계상 | J35: 1
C36: 16 | D36: =#REF! -> #REF! | E36: =IF(egTextCal(D36)<>0, egTextCal(D36),"") -> #NAME? | J36: =IF(E36*J35<>0,E36*J35, ) -> #NAME? | CE36: =J36 -> #NAME?
D37: 아스팔트 포장 파괴 터파기 별도 계상 | K37: 1
C38: 17 | D38: =#REF! -> #REF! | E38: =IF(egTextCal(D38)<>0, egTextCal(D38),"") -> #NAME? | K38: =IF(E38*K37<>0,E38*K37, ) -> #NAME? | CF38: =K38 -> #NAME?
D39: 아스콘포장복구 소규모 | S39: 1
C40: 18 | D40: =#REF! -> #REF! | E40: =IF(egTextCal(D40)<>0, egTextCal(D40),"") -> #NAME? | S40: =IF(E40*S39<>0,E40*S39, ) -> #NAME? | CN40: =S40 -> #NAME?
...
