Workbook
Name 건설기계운전사: 노임단가!$K$6
Name 내역서: #REF!
Name 보통인부: 노임단가!$K$8
Name 일반기계운전사: 노임단가!$K$9
Name 특별인부: 노임단가!$K$7
Name 화물차운전사: 노임단가!$K$5

Sheet 갑지
A1: 과 장 | D1: 팀 장 | F1: 심사자 | H1: 설계자 | J1: 설 계 | K1: 2026년 월 일 | L1: 결 재
J2: 심 사 | K2: 2026년 월 일 | L2: 월 일
A5: 설 계 서
B7: □ 공 사 명 : 2026년 야외정원 소나무 생육환경 개선공사
B8: 구 분 | E8: 금 액 | K8: 비 고
B9: 총 공 사 비 | E9: =CONCATENATE(" 일금 ",NUMBERSTRING(I9,1),"원정") -> 일금 사천오백만원정 | I9: =원가계산서!D36 -> 45000000
B10: 도급비 | C10: 공급가액 | E10: =CONCATENATE(" 일금 ",NUMBERSTRING(I10,1),"원정") -> 일금 사천구십만구천구십일원정 | I10: =원가계산서!D30 -> 40909091
C11: 부가가치세 | E11: =CONCATENATE(" 일금 ",NUMBERSTRING(I11,1),"원정") -> 일금 사백구만구백구원정 | I11: =원가계산서!D31 -> 4090909
C12: 계 | E12: =CONCATENATE(" 일금 ",NUMBERSTRING(I12,1),"원정") -> 일금 사천오백만원정 | I12: =원가계산서!D32 -> 45000000
B13: 관 급 자 재 | E13: =CONCATENATE(" 일금 ",NUMBERSTRING(I13,1),"원정") -> 일금 영원정 | I13: =원가계산서!D35 -> 0
B15: □ 공 사 개 요
B16: 1. 수관솎기 | D16: : B20cm이하 2주, B21~30cm 88주, B31~40cm 10주
B17: 2. 부 대 공 | D17: : 교통정리원/보험료 2인, 현수막 2개소
B18: 3. 폐 기 물 | D18: : 임목폐기물운반 19.55m3, 임목폐기물처리비 11.73ton

Sheet 원가계산서
A1: 공 사 원 가 계 산 서
A2: =갑지!B7 -> □ 공 사 명 : 2026년 야외정원 소나무 생육환경 개선공사
A3: 비 목 | C3: 구 분 | D3: 금 액 | E3: 구 성 비 | F3: 비 고 | G3: 공사비요율
A4: 순 공 사 원 가 | B4: 재료비 | C4: 직접재료비 | D4: =내역서!G5 -> 263070
C5: 작업설,부산물등(△) | D5: 0
C6: [소계] | D6: =D4+D5 -> 263070
B7: 노무비 | C7: 직접노무비 | D7: =내역서!I5 -> 22226482
C8: 간접노무비 | D8: =ROUNDDOWN(D7*($G8),2) -> 4089672.7 | E8: 직접노무비 x 18.4% | G8: 0.184
C9: [소계] | D9: =D7+D8 -> 26316155
B10: 경 비 | C10: 산출경비 | D10: =내역서!K5 -> 1564569
C11: 산재보험료 | D11: =INT(D9*($G11)) -> 936855 | E11: 노무비 x 3.56% | G11: 0.0356
C12: 고용보험료 | D12: =INT(D9*($G12)) -> 265793 | E12: 노무비 x 1.01% | F12: 7등급 미만 | G12: 0.0101
C13: 국민건강보험료 | D13: 0 | E13: 직접노무비 x 3.545% | F13: 1개월미만 제외 | G13: 0.03595
C14: 국민연금보험료 | D14: 0 | E14: 직접노무비 x 4.5% | F14: 1개월미만 제외 | G14: 0.0475
C15: 노인장기요양보험료 | D15: 0 | E15: 건강보험료 x 12.95% | F15: 1개월미만 제외 | G15: 0.1314
C16: 퇴직공제부금비 | D16: 0 | E16: 직접노무비 x 2.3% | F16: 1억미만 제외 | G16: 0.023
C17: 산업안전보건관리비 | D17: =MIN(J17,J22) -> 465533 | E17: (재료비+직노+도급자관급/1.1) x 2.07% | G17: 0.0207 | I17: (재료비+직노+도급자관급/1.1) x 2.07% | J17: =INT((D6+D7+D33/1.1)*($G17)) -> 465533
C18: 안전관리비 | D18: =내역서!M18 -> 484632
C19: 환경보전비 | D19: 0 | E19: (재료비+직노+기계경비) x 0.3% | F19: 미사용으로 제외 | G19: 0.003 | J19: =INT((D6+D7+D10)*($G19)) -> 72162
C20: 건설하도급대금지급 보증서 발급수수료 | D20: 0 | E20: (재료비+직노+기계경비) x 0.081% | F20: 전문공사적용제외 | G20: 0.00081
C21: 건설기계대여대금 지급보증서 발급수수료 | D21: 0 | E21: (재료비+직노+기계경비) x 0.16% | F21: 1억미만 5개월미만 제외 | G21: 0.0016
C22: 기타경비 | D22: =ROUNDDOWN((D6+D9)*($G22),2) -> 1302382 | E22: (재료비+노무비) x 4.9% | G22: 0.049 | I22: (재+직노)*2.07%*1.2 | J22: =INT((D6+D7)*($G17)*1.2) -> 558640
C23: 석면부담금 | D23: =INT(D9*($G23)) -> 1578 | E23: 노무비 x 0.006% | G23: 6e-05
C24: 임금채권부담금 | D24: =INT(D9*($G24)) -> 23684 | E24: 노무비 x 0.09% | G24: 0.0009
C25: [소계] | D25: =ROUNDUP((D10+D11+D12+D13+D14+D15+D16+D17+D18+D19+D20+D21+D22+D23+D24),0) -> 5045026
A26: 계 | D26: =D6+D9+D25 -> 31624251
A27: 일 반 관 리 비 | D27: =INT(D26*($G27)) -> 2529940 | E27: 계 x 8.0% | G27: 0.08
A28: 이 윤 | D28: =INT(D9+D25+D27)*(15%)-INT(22622/1.1) -> 5063103 | E28: (노무비+경비+일반관리비) x 15.0% | G28: =D28/(D9+D25+D27) -> 0.1493932
A29: 폐기물처리비 | D29: =내역서!M23 -> 1691798
A30: 공 급 가 액 | D30: =INT(D26+D27+D28+D29) -> 40909091
A31: 부 가 가 치 세 | D31: =ROUND(D30*($G31),0) -> 4090909 | E31: 공급가액 x 10.00% | G31: 0.1
A32: 도급액 | D32: =ROUNDDOWN(D30+D31,0) -> 45000000
A33: 도급자관급자재비 | D33: 0
A34: 관급자관급자재비 | D34: 0
A35: 관급자재합계 | D35: =D33+D34 -> 0
A36: [총 공 사 비] | D36: =D32+D35 -> 45000000

Sheet 내역서
A1: 내 역 서
A2: =갑지!B7 -> □ 공 사 명 : 2026년 야외정원 소나무 생육환경 개선공사
A3: 공 종 명 | B3: 규 격 | C3: 수량 | D3: 단위 | F3: 재 료 비 | H3: 노 무 비 | J3: 경 비 | L3: 합 계 | N3: 비 고
F4: 단 가 | G4: 금 액 | H4: 단 가 | I4: 금 액 | J4: 단 가 | K4: 금 액 | L4: 단 가 | M4: 금 액
A5: 순공사비 계 | C5: 1 | D5: 식 | G5: =TRUNC(G10,0) -> 263070 | I5: =TRUNC(I10,0) -> 22226482 | K5: =TRUNC(K10,0) -> 1564569 | M5: =G5+I5+K5 -> 24054121
A10: 1. 수관솎기 | G10: =TRUNC(G11+G12+G13+G14+G15+G16,0) -> 263070 | I10: =TRUNC(I11+I12+I13+I14+I15+I16,0) -> 22226482 | K10: =TRUNC(K11+K12+K13+K14+K15+K16,0) -> 1564569 | M10: =G10+I10+K10 -> 24054121
A11: 수관솎기 | B11: =일위대가목록!B5 -> 인력작업, B20cm이하 | C11: =수량산출서!D6+수량산출서!D8+수량산출서!D12 -> 1 | D11: =일위대가목록!D5 -> 주 | E11: =일위대가목록!E5 -> 0 | F11: =일위대가목록!F5 -> 0 | G11: =TRUNC(F11*C11,0) -> 0 | H11: =일위대가목록!H5 -> 108465 | I11: =TRUNC(H11*C11,0) -> 108465 | J11: =일위대가목록!J5 -> 3253 | K11: =TRUNC(J11*C11,0) -> 3253 | L11: =F11+H11+J11 -> 111718 | M11: =G11+I11+K11 -> 111718 | N11: 일위 1호표
A12: 수관솎기 | B12: =일위대가목록!B6 -> 인력작업, B21-30cm | C12: =수량산출서!E6+수량산출서!E8+수량산출서!E12 -> 69 | D12: =일위대가목록!D6 -> 주 | E12: =일위대가목록!E6 -> 0 | F12: =일위대가목록!F6 -> 0 | G12: =TRUNC(F12*C12,0) -> 0 | H12: =일위대가목록!H6 -> 212454 | I12: =TRUNC(H12*C12,0) -> 14659326 | J12: =일위대가목록!J6 -> 6373 | K12: =TRUNC(J12*C12,0) -> 439737 | L12: =F12+H12+J12 -> 218827 | M12: =G12+I12+K12 -> 15099063 | N12: 일위 2호표
A13: 수관솎기 | B13: =일위대가목록!B7 -> 인력작업, B31-40cm | C13: =수량산출서!F6+수량산출서!F8+수량산출서!F12 -> 3 | D13: =일위대가목록!D7 -> 주 | E13: =일위대가목록!E7 -> 0 | F13: =일위대가목록!F7 -> 0 | G13: =TRUNC(F13*C13,0) -> 0 | H13: =일위대가목록!H7 -> 356697 | I13: =TRUNC(H13*C13,0) -> 1070091 | J13: =일위대가목록!J7 -> 10700 | K13: =TRUNC(J13*C13,0) -> 32100 | L13: =F13+H13+J13 -> 367397 | M13: =G13+I13+K13 -> 1102191 | N13: 일위 3호표
A14: 수관솎기 | B14: =일위대가목록!B8 -> 장비작업, B20cm이하 | C14: =수량산출서!D7+수량산출서!D9+수량산출서!D10+수량산출서!D11+수량산출서!D13+수량산출서!D14 -> 1 | D14: =일위대가목록!D8 -> 주 | E14: =일위대가목록!E8 -> 0 | F14: =일위대가목록!F8 -> 5923 | G14: =TRUNC(F14*C14,0) -> 5923 | H14: =일위대가목록!H8 -> 112239 | I14: =TRUNC(H14*C14,0) -> 112239 | J14: =일위대가목록!J8 -> 23581 | K14: =TRUNC(J14*C14,0) -> 23581 | L14: =F14+H14+J14 -> 141743 | M14: =G14+I14+K14 -> 141743 | N14: 일위 4호표
A15: 수관솎기 | B15: =일위대가목록!B9 -> 장비작업, B21-30cm | C15: =수량산출서!E7+수량산출서!E9+수량산출서!E10+수량산출서!E11+수량산출서!E13+수량산출서!E14 -> 19 | D15: =일위대가목록!D9 -> 주 | E15: =일위대가목록!E9 -> 0 | F15: =일위대가목록!F9 -> 7321 | G15: =TRUNC(F15*C15,0) -> 139099 | H15: =일위대가목록!H9 -> 199031 | I15: =TRUNC(H15*C15,0) -> 3781589 | J15: =일위대가목록!J9 -> 30957 | K15: =TRUNC(J15*C15,0) -> 588183 | L15: =F15+H15+J15 -> 237309 | M15: =G15+I15+K15 -> 4508871 | N15: 일위 5호표
A16: 수관솎기 | B16: =일위대가목록!B10 -> 장비작업, B31-40cm | C16: =수량산출서!F7+수량산출서!F9+수량산출서!F10+수량산출서!F11+수량산출서!F13+수량산출서!F14 -> 7 | D16: =일위대가목록!D10 -> 주 | E16: =일위대가목록!E10 -> 0 | F16: =일위대가목록!F10 -> 16864 | G16: =TRUNC(F16*C16,0) -> 118048 | H16: =일위대가목록!H10 -> 356396 | I16: =TRUNC(H16*C16,0) -> 2494772 | J16: =일위대가목록!J10 -> 68245 | K16: =TRUNC(J16*C16,0) -> 477715 | L16: =F16+H16+J16 -> 441505 | M16: =G16+I16+K16 -> 3090535 | N16: 일위 6호표
A18: 2. 부대공 | G18: =TRUNC(G19+G20+G21,0) -> 0 | I18: =TRUNC(I19+I20+I21,0) -> 0 | K18: =TRUNC(K19+K20+K21,0) -> 484632 | M18: =G18+I18+K18 -> 484632
A19: 교통정리원 | B19: 교통정리원 | C19: 2 | D19: =일위대가목록!D11 -> 인 | E19: =일위대가목록!E11 -> 0 | F19: =일위대가목록!F11 -> 0 | G19: =TRUNC(F19*C19,0) -> 0 | H19: =일위대가목록!H11 -> 0 | I19: =TRUNC(H19*C19,0) -> 0 | J19: =일위대가목록!J11 -> 176930 | K19: =TRUNC(J19*C19,0) -> 353860 | L19: =F19+H19+J19 -> 176930 | M19: =G19+I19+K19 -> 353860 | N19: 일위 7호표
A20: 교통정리원보험료 | B20: =일위대가목록!B12 -> 인건비의 20% | C20: =C19 -> 2 | D20: =일위대가목록!D12 -> 인 | E20: =일위대가목록!E12 -> 0 | F20: =일위대가목록!F12 -> 0 | G20: =TRUNC(F20*C20,0) -> 0 | H20: =일위대가목록!H12 -> 0 | I20: =TRUNC(H20*C20,0) -> 0 | J20: =일위대가목록!J12 -> 35386 | K20: =TRUNC(J20*C20,0) -> 70772 | L20: =F20+H20+J20 -> 35386 | M20: =G20+I20+K20 -> 70772 | N20: 일위 8호표
A21: 현수막 | B21: =일위대가목록!B13 -> 3000×800 | C21: 2 | D21: =일위대가목록!D13 -> 개소 | E21: =일위대가목록!E13 -> 0 | F21: =일위대가목록!F13 -> 0 | G21: =TRUNC(F21*C21,0) -> 0 | H21: =일위대가목록!H13 -> 0 | I21: =TRUNC(H21*C21,0) -> 0 | J21: =일위대가목록!J13 -> 30000 | K21: =TRUNC(J21*C21,0) -> 60000 | L21: =F21+H21+J21 -> 30000 | M21: =G21+I21+K21 -> 60000 | N21: 일위 9호표
A23: 3. 폐기물처리 | G23: =TRUNC(G24+G25,0) -> 0 | I23: =TRUNC(I24+I25,0) -> 0 | K23: =TRUNC(K24+K25,0) -> 1691798 | M23: =G23+I23+K23 -> 1691798
A24: 임목폐기물 운반비 | B24: =일위대가목록!B14 -> DT(15TON),L=34.4km | C24: =TRUNC(C25/0.6,2) -> 19.55 | D24: =일위대가목록!D14 -> M3 | E24: =일위대가목록!E14 -> 0 | F24: =일위대가목록!F14 -> 0 | G24: =TRUNC(F24*C24,0) -> 0 | H24: =일위대가목록!H14 -> 0 | I24: =TRUNC(H24*C24,0) -> 0 | J24: =일위대가목록!J14 -> 20537 | K24: =TRUNC(J24*C24,0) -> 401498 | L24: =F24+H24+J24 -> 20537 | M24: =G24+I24+K24 -> 401498 | N24: 일위 10호표
A25: 임목폐기물 처리비 | B25: =일위대가목록!B15 -> 임목폐기물 | C25: =수량산출서!I39 -> 11.73 | D25: =일위대가목록!D15 -> Ton | E25: =일위대가목록!E15 -> 0 | F25: =일위대가목록!F15 -> 0 | G25: =TRUNC(F25*C25,0) -> 0 | H25: =일위대가목록!H15 -> 0 | I25: =TRUNC(H25*C25,0) -> 0 | J25: =일위대가목록!J15 -> 110000 | K25: =TRUNC(J25*C25,0) -> 1290300 | L25: =F25+H25+J25 -> 110000 | M25: =G25+I25+K25 -> 1290300 | N25: 일위 11호표
A31: 수관솎기 | B31: =일위대가목록!#REF! -> #REF! | C31: =수량산출서!G6+수량산출서!G8+수량산출서!G12 -> 0 | D31: =일위대가목록!#REF! -> #REF! | E31: =일위대가목록!#REF! -> #REF! | F31: =일위대가목록!#REF! -> #REF! | G31: =TRUNC(F31*C31,0) -> #REF! | H31: =일위대가목록!#REF! -> #REF! | I31: =TRUNC(H31*C31,0) -> #REF! | J31: =일위대가목록!#REF! -> #REF! | K31: =TRUNC(J31*C31,0) -> #REF! | L31: =F31+H31+J31 -> #REF! | M31: =G31+I31+K31 -> #REF! | N31: 일위 4호표
A32: 수관솎기 | B32: =일위대가목록!#REF! -> #REF! | C32: =수량산출서!G7+수량산출서!G9+수량산출서!G10+수량산출서!G11+수량산출서!G13+수량산출서!G14 -> 0 | D32: =일위대가목록!#REF! -> #REF! | E32: =일위대가목록!#REF! -> #REF! | F32: =일위대가목록!#REF! -> #REF! | G32: =TRUNC(F32*C32,0) -> #REF! | H32: =일위대가목록!#REF! -> #REF! | I32: =TRUNC(H32*C32,0) -> #REF! | J32: =일위대가목록!#REF! -> #REF! | K32: =TRUNC(J32*C32,0) -> #REF! | L32: =F32+H32+J32 -> #REF! | M32: =G32+I32+K32 -> #REF! | N32: 일위 8호표

Sheet 일위대가목록
A1: 일 위 대 가 목 록
A2: =갑지!B7 -> □ 공 사 명 : 2026년 야외정원 소나무 생육환경 개선공사
A3: 공 종 | B3: 규 격 | C3: 수 량 | D3: 단위 | F3: 재 료 비 | H3: 노 무 비 | J3: 경 비 | K3: 합 계 | L3: 비 고
A5: =일위대가호표!A5 -> No.1 수관솎기 | B5: =일위대가호표!B5 -> 인력작업, B20cm이하 | C5: =일위대가호표!C5 -> 1 | D5: =일위대가호표!D5 -> 주 | E5: =일위대가호표!E5 -> 0 | F5: =일위대가호표!F5 -> 0 | G5: =일위대가호표!G5 -> 0 | H5: =일위대가호표!H5 -> 108465 | ... J5: =일위대가호표!J5 -> 3253 | K5: =F5+H5+J5 -> 111718
A6: =일위대가호표!A11 -> No.2 수관솎기 | B6: =일위대가호표!B11 -> 인력작업, B21-30cm | C6: =일위대가호표!C11 -> 1 | D6: =일위대가호표!D11 -> 주 | E6: =일위대가호표!E11 -> 0 | F6: =일위대가호표!F11 -> 0 | G6: =일위대가호표!G11 -> 0 | H6: =일위대가호표!H11 -> 212454 | ... J6: =일위대가호표!J11 -> 6373 | K6: =F6+H6+J6 -> 218827
A7: =일위대가호표!A17 -> No.3 수관솎기 | B7: =일위대가호표!B17 -> 인력작업, B31-40cm | C7: =일위대가호표!C17 -> 1 | D7: =일위대가호표!D17 -> 주 | E7: =일위대가호표!E17 -> 0 | F7: =일위대가호표!F17 -> 0 | G7: =일위대가호표!G17 -> 0 | H7: =일위대가호표!H17 -> 356697 | ... J7: =일위대가호표!J17 -> 10700 | K7: =F7+H7+J7 -> 367397
A8: =일위대가호표!A23 -> No.4 수관솎기 | B8: =일위대가호표!B23 -> 장비작업, B20cm이하 | C8: =일위대가호표!C23 -> 1 | D8: =일위대가호표!D23 -> 주 | E8: =일위대가호표!E23 -> 0 | F8: =일위대가호표!F23 -> 5923 | G8: =일위대가호표!G23 -> 0 | H8: =일위대가호표!H23 -> 112239 | ... J8: =일위대가호표!J23 -> 23581 | K8: =F8+H8+J8 -> 141743
A9: =일위대가호표!A30 -> No.5 수관솎기 | B9: =일위대가호표!B30 -> 장비작업, B21-30cm | C9: =일위대가호표!C30 -> 1 | D9: =일위대가호표!D30 -> 주 | E9: =일위대가호표!E30 -> 0 | F9: =일위대가호표!F30 -> 7321 | G9: =일위대가호표!G30 -> 0 | H9: =일위대가호표!H30 -> 199031 | ... J9: =일위대가호표!J30 -> 30957 | K9: =F9+H9+J9 -> 237309
A10: =일위대가호표!A37 -> No.6 수관솎기 | B10: =일위대가호표!B37 -> 장비작업, B31-40cm | C10: =일위대가호표!C37 -> 1 | D10: =일위대가호표!D37 -> 주 | E10: =일위대가호표!E37 -> 0 | F10: =일위대가호표!F37 -> 16864 | G10: =일위대가호표!G37 -> 0 | H10: =일위대가호표!H37 -> 356396 | ... J10: =일위대가호표!J37 -> 68245 | K10: =F10+H10+J10 -> 441505
A11: =일위대가호표!A44 -> No.7 교통정리원 | B11: =일위대가호표!B44 -> 보행안전도우미 | C11: =일위대가호표!C44 -> 1 | D11: =일위대가호표!D44 -> 인 | E11: =일위대가호표!E44 -> 0 | F11: =일위대가호표!F44 -> 0 | G11: =일위대가호표!G44 -> 0 | H11: =일위대가호표!H44 -> 0 | ... J11: =일위대가호표!J44 -> 176930 | K11: =F11+H11+J11 -> 176930
A12: =일위대가호표!A47 -> No.8 교통정리원보험료 | B12: =일위대가호표!B47 -> 인건비의 20% | C12: =일위대가호표!C47 -> 1 | D12: =일위대가호표!D47 -> 인 | E12: =일위대가호표!E47 -> 0 | F12: =일위대가호표!F47 -> 0 | G12: =일위대가호표!G47 -> 0 | H12: =일위대가호표!H47 -> 0 | ... J12: =일위대가호표!J47 -> 35386 | K12: =F12+H12+J12 -> 35386
A13: =일위대가호표!A50 -> No.9 현수막 | B13: =일위대가호표!B50 -> 3000×800 | C13: =일위대가호표!C50 -> 1 | D13: =일위대가호표!D50 -> 개소 | E13: =일위대가호표!E50 -> 0 | F13: =일위대가호표!F50 -> 0 | G13: =일위대가호표!G50 -> 0 | H13: =일위대가호표!H50 -> 0 | ... J13: =일위대가호표!J50 -> 30000 | K13: =F13+H13+J13 -> 30000
A14: =일위대가호표!A53 -> No.10 임목폐기물 운반비 | B14: =일위대가호표!B53 -> DT(15TON),L=34.4km | C14: =일위대가호표!C53 -> 1 | D14: =일위대가호표!D53 -> M3 | E14: =일위대가호표!E53 -> 0 | F14: =일위대가호표!F53 -> 0 | G14: =일위대가호표!G53 -> 0 | H14: =일위대가호표!H53 -> 0 | ... J14: =일위대가호표!J53 -> 20537 | K14: =F14+H14+J14 -> 20537
A15: =일위대가호표!A56 -> No.11 임목폐기물 처리비 | B15: =일위대가호표!B56 -> 임목폐기물 | C15: =일위대가호표!C56 -> 1 | D15: =일위대가호표!D56 -> Ton | E15: =일위대가호표!E56 -> 0 | F15: =일위대가호표!F56 -> 0 | G15: =일위대가호표!G56 -> 0 | H15: =일위대가호표!H56 -> 0 | ... J15: =일위대가호표!J56 -> 110000 | K15: =F15+H15+J15 -> 110000
K16: =F16+H16+J16 -> 0
K17: =F17+H17+J17 -> 0
K18: =F18+H18+J18 -> 0
K19: =F19+H19+J19 -> 0
K20: =F20+H20+J20 -> 0
K21: =F21+H21+J21 -> 0
K22: =F22+H22+J22 -> 0
K23: =F23+H23+J23 -> 0
K24: =F24+H24+J24 -> 0
K25: =F25+H25+J25 -> 0
K26: =F26+H26+J26 -> 0
K27: =F27+H27+J27 -> 0
... K31: =F31+H31+J31 -> 0

Sheet 일위대가호표
A1: 일 위 대 가 호 표
A2: =갑지!B7 -> □ 공 사 명 : 2026년 야외정원 소나무 생육환경 개선공사
A3: 공 종 | B3: 규 격 | C3: 수 량 | D3: 단위 | E3: 재 료 비 | G3: 노 무 비 | I3: 경 비 | K3: 합 계 | M3: 비 고
E4: 단 가 | F4: 금 액 | G4: 단 가 | H4: 금 액 | I4: 단 가 | J4: 금 액 | K4: 단 가 | L4: 금 액
A5: No.1 수관솎기 | B5: 인력작업, B20cm이하 | C5: 1 | D5: 주 | F5: =TRUNC(F6+F7+F8+F9,0) -> 0 | H5: =TRUNC(H6+H7+H8+H9,0) -> 108465 | J5: =TRUNC(J6+J7+J8+J9,0) -> 3253 | L5: =F5+H5+J5 -> 111718 | M5: 수목진료표준품셈 2-8-5
A6: 나무의사 | B6: 0.030 × 80% × 130% | C6: =0.03*0.8*1.3 -> 0.0312 | D6: 인 | F6: =TRUNC(E6*C6,1) -> 0 | G6: =노임단가!$K$34 -> 326359 | H6: =TRUNC(G6*C6,1) -> 10182.4 | J6: =TRUNC(I6*C6,1) -> 0 | K6: =E6+G6+I6 -> 326359 | L6: =F6+H6+J6 -> 10182.4
A7: 수목치료기술자 | B7: 0.300 × 80% × 130% | C7: =0.3*0.8*1.3 -> 0.312 | D7: 인 | F7: =TRUNC(E7*C7,1) -> 0 | G7: =노임단가!$K$35 -> 238447 | H7: =TRUNC(G7*C7,1) -> 74395.4 | J7: =TRUNC(I7*C7,1) -> 0 | K7: =E7+G7+I7 -> 238447 | L7: =F7+H7+J7 -> 74395.4
A8: 보통인부 | B8: 0.133 × 80% × 130% | C8: =0.133*0.8*1.3 -> 0.13832 | D8: 인 | F8: =TRUNC(E8*C8,1) -> 0 | G8: =보통인부 -> 172698 | H8: =TRUNC(G8*C8,1) -> 23887.5 | J8: =TRUNC(I8*C8,1) -> 0 | K8: =E8+G8+I8 -> 172698 | L8: =F8+H8+J8 -> 23887.5
A9: 공구손료 | B9: 노무비의 3% | C9: 0.03 | D9: 식 | F9: =TRUNC(E9*C9,1) -> 0 | H9: =TRUNC(G9*C9,1) -> 0 | I9: =H6+H7+H8 -> 108465.3 | J9: =TRUNC(I9*C9,1) -> 3253.9 | K9: =E9+G9+I9 -> 108465.3 | L9: =F9+H9+J9 -> 3253.9
A11: No.2 수관솎기 | B11: 인력작업, B21-30cm | C11: 1 | D11: 주 | F11: =TRUNC(F12+F13+F14+F15,0) -> 0 | H11: =TRUNC(H12+H13+H14+H15,0) -> 212454 | J11: =TRUNC(J12+J13+J14+J15,0) -> 6373 | L11: =F11+H11+J11 -> 218827 | M11: 수목진료표준품셈 2-8-5
A12: 나무의사 | B12: 0.045 × 80% × 130% | C12: =0.045*0.8*1.3 -> 0.0468 | D12: 인 | F12: =TRUNC(E12*C12,1) -> 0 | G12: =노임단가!$K$34 -> 326359 | H12: =TRUNC(G12*C12,1) -> 15273.6 | J12: =TRUNC(I12*C12,1) -> 0 | K12: =E12+G12+I12 -> 326359 | L12: =F12+H12+J12 -> 15273.6
A13: 수목치료기술자 | B13: 0.630 × 80% × 130% | C13: =0.63*0.8*1.3 -> 0.6552 | D13: 인 | F13: =TRUNC(E13*C13,1) -> 0 | G13: =노임단가!$K$35 -> 238447 | H13: =TRUNC(G13*C13,1) -> 156230.4 | J13: =TRUNC(I13*C13,1) -> 0 | K13: =E13+G13+I13 -> 238447 | L13: =F13+H13+J13 -> 156230.4
A14: 보통인부 | B14: 0.228 × 80% × 130% | C14: =0.228*0.8*1.3 -> 0.23712 | D14: 인 | F14: =TRUNC(E14*C14,1) -> 0 | G14: =보통인부 -> 172698 | H14: =TRUNC(G14*C14,1) -> 40950.1 | J14: =TRUNC(I14*C14,1) -> 0 | K14: =E14+G14+I14 -> 172698 | L14: =F14+H14+J14 -> 40950.1
A15: 공구손료 | B15: 노무비의 3% | C15: 0.03 | D15: 식 | F15: =TRUNC(E15*C15,1) -> 0 | H15: =TRUNC(G15*C15,1) -> 0 | I15: =H12+H13+H14 -> 212454.1 | J15: =TRUNC(I15*C15,1) -> 6373.6 | K15: =E15+G15+I15 -> 212454.1 | L15: =F15+H15+J15 -> 6373.6
A17: No.3 수관솎기 | B17: 인력작업, B31-40cm | C17: 1 | D17: 주 | F17: =TRUNC(F18+F19+F20+F21,0) -> 0 | H17: =TRUNC(H18+H19+H20+H21,0) -> 356697 | J17: =TRUNC(J18+J19+J20+J21,0) -> 10700 | L17: =F17+H17+J17 -> 367397 | M17: 수목진료표준품셈 2-8-5
A18: 나무의사 | B18: 0.075 × 80% × 130% | C18: =0.075*0.8*1.3 -> 0.078 | D18: 인 | F18: =TRUNC(E18*C18,1) -> 0 | G18: =노임단가!$K$34 -> 326359 | H18: =TRUNC(G18*C18,1) -> 25456 | J18: =TRUNC(I18*C18,1) -> 0 | K18: =E18+G18+I18 -> 326359 | L18: =F18+H18+J18 -> 25456
A19: 수목치료기술자 | B19: 1.075 × 80% × 130% | C19: =1.075*0.8*1.3 -> 1.118 | D19: 인 | F19: =TRUNC(E19*C19,1) -> 0 | G19: =노임단가!$K$35 -> 238447 | H19: =TRUNC(G19*C19,1) -> 266583.7 | J19: =TRUNC(I19*C19,1) -> 0 | K19: =E19+G19+I19 -> 238447 | L19: =F19+H19+J19 -> 266583.7
A20: 보통인부 | B20: 0.360 × 80% × 130% | C20: =0.36*0.8*1.3 -> 0.3744 | D20: 인 | F20: =TRUNC(E20*C20,1) -> 0 | G20: =보통인부 -> 172698 | H20: =TRUNC(G20*C20,1) -> 64658.1 | J20: =TRUNC(I20*C20,1) -> 0 | K20: =E20+G20+I20 -> 172698 | L20: =F20+H20+J20 -> 64658.1
A21: 공구손료 | B21: 노무비의 3% | C21: 0.03 | D21: 식 | F21: =TRUNC(E21*C21,1) -> 0 | H21: =TRUNC(G21*C21,1) -> 0 | I21: =H18+H19+H20 -> 356697.8 | J21: =TRUNC(I21*C21,1) -> 10700.9 | K21: =E21+G21+I21 -> 356697.8 | L21: =F21+H21+J21 -> 10700.9
A23: No.4 수관솎기 | B23: 장비작업, B20cm이하 | C23: 1 | D23: 주 | F23: =TRUNC(F24+F25+F26+F27+F28,0) -> 5923 | H23: =TRUNC(H24+H25+H26+H27+H28,0) -> 112239 | J23: =TRUNC(J24+J25+J26+J27+J28,0) -> 23581 | L23: =F23+H23+J23 -> 141743 | M23: 수목진료표준품셈 2-8-5
A24: 나무의사 | B24: 0.030 × 80% | C24: =0.03*0.8 -> 0.024 | D24: 인 | F24: =TRUNC(E24*C24,1) -> 0 | G24: =노임단가!$K$34 -> 326359 | H24: =TRUNC(G24*C24,1) -> 7832.6 | J24: =TRUNC(I24*C24,1) -> 0 | K24: =E24+G24+I24 -> 326359 | L24: =F24+H24+J24 -> 7832.6
A25: 수목치료기술자 | B25: 0.300 × 80% | C25: =0.3*0.8 -> 0.24 | D25: 인 | F25: =TRUNC(E25*C25,1) -> 0 | G25: =노임단가!$K$35 -> 238447 | H25: =TRUNC(G25*C25,1) -> 57227.2 | J25: =TRUNC(I25*C25,1) -> 0 | K25: =E25+G25+I25 -> 238447 | L25: =F25+H25+J25 -> 57227.2
A26: 보통인부 | B26: 0.133 × 80% | C26: =0.133*0.8 -> 0.1064 | D26: 인 | F26: =TRUNC(E26*C26,1) -> 0 | G26: =보통인부 -> 172698 | H26: =TRUNC(G26*C26,1) -> 18375 | J26: =TRUNC(I26*C26,1) -> 0 | K26: =E26+G26+I26 -> 172698 | L26: =F26+H26+J26 -> 18375
A27: 고소작업차(5ton) | B27: 0.72 × 80% | C27: =0.72*0.8 -> 0.576 | D27: hr | E27: =건설기계목록!$E$6 -> 10283 | F27: =TRUNC(E27*C27,1) -> 5923 | G27: =건설기계목록!$F$6 -> 50008 | H27: =TRUNC(G27*C27,1) -> 28804.6 | I27: =건설기계목록!$G$6 -> 36594 | J27: =TRUNC(I27*C27,1) -> 21078.1 | K27: =E27+G27+I27 -> 96885 | L27: =F27+H27+J27 -> 55805.7
A28: 공구손료 | B28: 노무비의 3% | C28: 0.03 | D28: 식 | F28: =TRUNC(E28*C28,1) -> 0 | H28: =TRUNC(G28*C28,1) -> 0 | I28: =H24+H25+H26 -> 83434.8 | J28: =TRUNC(I28*C28,1) -> 2503 | K28: =E28+G28+I28 -> 83434.8 | L28: =F28+H28+J28 -> 2503
A30: No.5 수관솎기 | B30: 장비작업, B21-30cm | C30: 1 | D30: 주 | F30: =TRUNC(F31+F32+F33+F34+F35,0) -> 7321 | H30: =TRUNC(H31+H32+H33+H34+H35,0) -> 199031 | J30: =TRUNC(J31+J32+J33+J34+J35,0) -> 30957 | L30: =F30+H30+J30 -> 237309 | M30: 수목진료표준품셈 2-8-5
A31: 나무의사 | B31: 0.045 × 80% | C31: =0.045*0.8 -> 0.036 | D31: 인 | F31: =TRUNC(E31*C31,1) -> 0 | G31: =노임단가!$K$34 -> 326359 | H31: =TRUNC(G31*C31,1) -> 11748.9 | J31: =TRUNC(I31*C31,1) -> 0 | K31: =E31+G31+I31 -> 326359 | L31: =F31+H31+J31 -> 11748.9
A32: 수목치료기술자 | B32: 0.630 × 80% | C32: =0.63*0.8 -> 0.504 | D32: 인 | F32: =TRUNC(E32*C32,1) -> 0 | G32: =노임단가!$K$35 -> 238447 | H32: =TRUNC(G32*C32,1) -> 120177.2 | J32: =TRUNC(I32*C32,1) -> 0 | K32: =E32+G32+I32 -> 238447 | L32: =F32+H32+J32 -> 120177.2
A33: 보통인부 | B33: 0.228 × 80% | C33: =0.228*0.8 -> 0.1824 | D33: 인 | F33: =TRUNC(E33*C33,1) -> 0 | G33: =보통인부 -> 172698 | H33: =TRUNC(G33*C33,1) -> 31500.1 | J33: =TRUNC(I33*C33,1) -> 0 | K33: =E33+G33+I33 -> 172698 | L33: =F33+H33+J33 -> 31500.1
A34: 고소작업차(5ton) | B34: 0.89 × 80% | C34: =0.89*0.8 -> 0.712 | D34: hr | E34: =건설기계목록!$E$6 -> 10283 | F34: =TRUNC(E34*C34,1) -> 7321.4 | G34: =건설기계목록!$F$6 -> 50008 | H34: =TRUNC(G34*C34,1) -> 35605.6 | I34: =건설기계목록!$G$6 -> 36594 | J34: =TRUNC(I34*C34,1) -> 26054.9 | K34: =E34+G34+I34 -> 96885 | L34: =F34+H34+J34 -> 68981.9
A35: 공구손료 | B35: 노무비의 3% | C35: 0.03 | D35: 식 | F35: =TRUNC(E35*C35,1) -> 0 | H35: =TRUNC(G35*C35,1) -> 0 | I35: =H31+H32+H33 -> 163426.2 | J35: =TRUNC(I35*C35,1) -> 4902.7 | K35: =E35+G35+I35 -> 163426.2 | L35: =F35+H35+J35 -> 4902.7
A37: No.6 수관솎기 | B37: 장비작업, B31-40cm | C37: 1 | D37: 주 | F37: =TRUNC(F38+F39+F40+F41+F42,0) -> 16864 | H37: =TRUNC(H38+H39+H40+H41+H42,0) -> 356396 | J37: =TRUNC(J38+J39+J40+J41+J42,0) -> 68245 | L37: =F37+H37+J37 -> 441505 | M37: 수목진료표준품셈 2-8-5
A38: 나무의사 | B38: 0.075 × 80% | C38: =0.075*0.8 -> 0.06 | D38: 인 | F38: =TRUNC(E38*C38,1) -> 0 | G38: =노임단가!$K$34 -> 326359 | H38: =TRUNC(G38*C38,1) -> 19581.5 | J38: =TRUNC(I38*C38,1) -> 0 | K38: =E38+G38+I38 -> 326359 | L38: =F38+H38+J38 -> 19581.5
A39: 수목치료기술자 | B39: 1.075 × 80% | C39: =1.075*0.8 -> 0.86 | D39: 인 | F39: =TRUNC(E39*C39,1) -> 0 | G39: =노임단가!$K$35 -> 238447 | H39: =TRUNC(G39*C39,1) -> 205064.4 | J39: =TRUNC(I39*C39,1) -> 0 | K39: =E39+G39+I39 -> 238447 | L39: =F39+H39+J39 -> 205064.4
A40: 보통인부 | B40: 0.360 × 80% | C40: =0.36*0.8 -> 0.288 | D40: 인 | F40: =TRUNC(E40*C40,1) -> 0 | G40: =보통인부 -> 172698 | H40: =TRUNC(G40*C40,1) -> 49737 | J40: =TRUNC(I40*C40,1) -> 0 | K40: =E40+G40+I40 -> 172698 | L40: =F40+H40+J40 -> 49737
A41: 고소작업차(5ton) | B41: 2.05 × 80% | C41: =2.05*0.8 -> 1.64 | D41: hr | E41: =건설기계목록!$E$6 -> 10283 | F41: =TRUNC(E41*C41,1) -> 16864.1 | G41: =건설기계목록!$F$6 -> 50008 | H41: =TRUNC(G41*C41,1) -> 82013.1 | I41: =건설기계목록!$G$6 -> 36594 | J41: =TRUNC(I41*C41,1) -> 60014.1 | K41: =E41+G41+I41 -> 96885 | L41: =F41+H41+J41 -> 158891.3
A42: 공구손료 | B42: 노무비의 3% | C42: 0.03 | D42: 식 | F42: =TRUNC(E42*C42,1) -> 0 | H42: =TRUNC(G42*C42,1) -> 0 | I42: =H38+H39+H40 -> 274382.9 | J42: =TRUNC(I42*C42,1) -> 8231.4 | K42: =E42+G42+I42 -> 274382.9 | L42: =F42+H42+J42 -> 8231.4
A44: No.7 교통정리원 | B44: 보행안전도우미 | C44: 1 | D44: 인 | F44: =TRUNC(F45,0) -> 0 | H44: =TRUNC(H45,0) -> 0 | J44: =TRUNC(J45,0) -> 176930 | L44: =F44+H44+J44 -> 176930 | DM44: :B2000-470
A45: 교통정리원 | B45: 보행안전도우미 | C45: 1 | D45: 인 | F45: =TRUNC(C45*E45,0) -> 0 | H45: =TRUNC(C45*G45,0) -> 0 | I45: =노임단가!K36 -> 176930 | J45: =TRUNC(C45*I45,0) -> 176930 | K45: =E45+G45+I45 -> 176930 | L45: =F45+H45+J45 -> 176930 | DM45: W1002
A47: No.8 교통정리원보험료 | B47: 인건비의 20% | C47: 1 | D47: 인 | F47: =TRUNC(F48,0) -> 0 | H47: =TRUNC(H48,0) -> 0 | J47: =TRUNC(J48,0) -> 35386 | L47: =F47+H47+J47 -> 35386 | DM47: :B2000-470
A48: 교통정리원 | B48: 인건비의 20% | C48: 0.2 | D48: 식 | F48: =TRUNC(C48*E48,0) -> 0 | H48: =TRUNC(C48*G48,0) -> 0 | I48: =노임단가!K36 -> 176930 | J48: =TRUNC(C48*I48,0) -> 35386 | K48: =E48+G48+I48 -> 176930 | L48: =F48+H48+J48 -> 35386 | DM48: W1002
A50: No.9 현수막 | B50: 3000×800 | C50: 1 | D50: 개소 | F50: =TRUNC(F51,0) -> 0 | H50: =TRUNC(H51,0) -> 0 | J50: =TRUNC(J51,0) -> 30000 | L50: =F50+H50+J50 -> 30000 | DM50: :B2000-470
A51: 현수막 | C51: 1 | D51: 개소 | F51: =TRUNC(C51*E51,0) -> 0 | H51: =TRUNC(C51*G51,0) -> 0 | I51: =자재단가!P8 -> 30000 | J51: =TRUNC(C51*I51,0) -> 30000 | K51: =E51+G51+I51 -> 30000 | L51: =F51+H51+J51 -> 30000 | DM51: W1002
A53: No.10 임목폐기물 운반비 | B53: DT(15TON),L=34.4km | C53: 1 | D53: M3 | F53: =TRUNC(F54,0) -> 0 | H53: =TRUNC(H54,0) -> 0 | J53: =TRUNC(J54,0) -> 20537 | L53: =F53+H53+J53 -> 20537 | DM53: :B2000-470
A54: 임목폐기물 | B54: 운반비 | C54: 1 | D54: m3 | F54: =TRUNC(C54*E54,0) -> 0 | H54: =TRUNC(C54*G54,0) -> 0 | I54: =단가산출목록!H5 -> 20,537 | J54: =TRUNC(C54*I54,0) -> 20537 | K54: =E54+G54+I54 -> 20537 | L54: =F54+H54+J54 -> 20537 | DM54: W1002
A56: No.11 임목폐기물 처리비 | B56: 임목폐기물 | C56: 1 | D56: Ton | F56: =TRUNC(F57,0) -> 0 | H56: =TRUNC(H57,0) -> 0 | J56: =TRUNC(J57,0) -> 110000 | L56: =F56+H56+J56 -> 110000 | DM56: :B2000-470
A57: 임목폐기물 | B57: 처리비 | C57: 1 | D57: ton | F57: =TRUNC(C57*E57,0) -> 0 | H57: =TRUNC(C57*G57,0) -> 0 | I57: =자재단가!P9 -> 110000 | J57: =TRUNC(C57*I57,0) -> 110000 | K57: =E57+G57+I57 -> 110000 | L57: =F57+H57+J57 -> 110000 | DM57: W1002
A59: No.0 수관솎기 | B59: 인력작업, B41-50cm | C59: 1 | D59: 주 | F59: =TRUNC(F60+F61+F62+F63,0) -> 0 | H59: =TRUNC(H60+H61+H62+H63,0) -> 500128 | J59: =TRUNC(J60+J61+J62+J63,0) -> 15003 | L59: =F59+H59+J59 -> 515131 | M59: 수목진료표준품셈 2-8-5
A60: 나무의사 | B60: 0.150 × 80% × 130% | C60: =0.15*0.8*1.3 -> 0.156 | D60: 인 | F60: =TRUNC(E60*C60,1) -> 0 | G60: =노임단가!$K$34 -> 326359 | H60: =TRUNC(G60*C60,1) -> 50912 | J60: =TRUNC(I60*C60,1) -> 0 | K60: =E60+G60+I60 -> 326359 | L60: =F60+H60+J60 -> 50912
A61: 수목치료기술자 | B61: 1.290 × 80% × 130% | C61: =1.29*0.8*1.3 -> 1.3416 | D61: 인 | F61: =TRUNC(E61*C61,1) -> 0 | G61: =노임단가!$K$35 -> 238447 | H61: =TRUNC(G61*C61,1) -> 319900.4 | J61: =TRUNC(I61*C61,1) -> 0 | K61: =E61+G61+I61 -> 238447 | L61: =F61+H61+J61 -> 319900.4
A62: 보통인부 | B62: 0.720 × 80% × 130% | C62: =0.72*0.8*1.3 -> 0.7488 | D62: 인 | F62: =TRUNC(E62*C62,1) -> 0 | G62: =보통인부 -> 172698 | H62: =TRUNC(G62*C62,1) -> 129316.2 | J62: =TRUNC(I62*C62,1) -> 0 | K62: =E62+G62+I62 -> 172698 | L62: =F62+H62+J62 -> 129316.2
A63: 공구손료 | B63: 노무비의 3% | C63: 0.03 | D63: 식 | F63: =TRUNC(E63*C63,1) -> 0 | H63: =TRUNC(G63*C63,1) -> 0 | I63: =H60+H61+H62 -> 500128.6 | J63: =TRUNC(I63*C63,1) -> 15003.8 | K63: =E63+G63+I63 -> 500128.6 | L63: =F63+H63+J63 -> 15003.8
A65: No.0 수관솎기 | B65: 장비작업, B41-50cm | C65: 1 | D65: 주 | F65: =TRUNC(F66+F67+F68+F69+F70,0) -> 19332 | H65: =TRUNC(H66+H67+H68+H69+H70,0) -> 478729 | J65: =TRUNC(J66+J67+J68+J69+J70,0) -> 80338 | L65: =F65+H65+J65 -> 578399 | M65: 수목진료표준품셈 2-8-5
A66: 나무의사 | B66: 0.150 × 80% | C66: =0.15*0.8 -> 0.12 | D66: 인 | F66: =TRUNC(E66*C66,1) -> 0 | G66: =노임단가!$K$34 -> 326359 | H66: =TRUNC(G66*C66,1) -> 39163 | J66: =TRUNC(I66*C66,1) -> 0 | K66: =E66+G66+I66 -> 326359 | L66: =F66+H66+J66 -> 39163
A67: 수목치료기술자 | B67: 1.290 × 80% | C67: =1.29*0.8 -> 1.032 | D67: 인 | F67: =TRUNC(E67*C67,1) -> 0 | G67: =노임단가!$K$35 -> 238447 | H67: =TRUNC(G67*C67,1) -> 246077.3 | J67: =TRUNC(I67*C67,1) -> 0 | K67: =E67+G67+I67 -> 238447 | L67: =F67+H67+J67 -> 246077.3
A68: 보통인부 | B68: 0.720 × 80% | C68: =0.72*0.8 -> 0.576 | D68: 인 | F68: =TRUNC(E68*C68,1) -> 0 | G68: =보통인부 -> 172698 | H68: =TRUNC(G68*C68,1) -> 99474 | J68: =TRUNC(I68*C68,1) -> 0 | K68: =E68+G68+I68 -> 172698 | L68: =F68+H68+J68 -> 99474
A69: 고소작업차(5ton) | B69: 2.35 × 80% | C69: =2.35*0.8 -> 1.88 | D69: hr | E69: =건설기계목록!$E$6 -> 10283 | F69: =TRUNC(E69*C69,1) -> 19332 | G69: =건설기계목록!$F$6 -> 50008 | H69: =TRUNC(G69*C69,1) -> 94015 | I69: =건설기계목록!$G$6 -> 36594 | J69: =TRUNC(I69*C69,1) -> 68796.7 | K69: =E69+G69+I69 -> 96885 | L69: =F69+H69+J69 -> 182143.7
A70: 공구손료 | B70: 노무비의 3% | C70: 0.03 | D70: 식 | F70: =TRUNC(E70*C70,1) -> 0 | H70: =TRUNC(G70*C70,1) -> 0 | I70: =H66+H67+H68 -> 384714.3 | J70: =TRUNC(I70*C70,1) -> 11541.4 | K70: =E70+G70+I70 -> 384714.3 | L70: =F70+H70+J70 -> 11541.4
A71: No.0 수관솎기 | B71: 장비작업, B20cm이하 | C71: 1 | D71: 주 | F71: =TRUNC(F72+F73+F74+F75+F76,0) -> 7403 | H71: =TRUNC(H72+H73+H74+H75+H76,0) -> 140299 | J71: =TRUNC(J72+J73+J74+J75+J76,0) -> 29476 | L71: =F71+H71+J71 -> 177178 | M71: 수목진료표준품셈 2-8-5
A72: 나무의사 | C72: 0.03 | D72: 인 | F72: =TRUNC(E72*C72,1) -> 0 | G72: =노임단가!$K$34 -> 326359 | H72: =TRUNC(G72*C72,1) -> 9790.7 | J72: =TRUNC(I72*C72,1) -> 0 | K72: =E72+G72+I72 -> 326359 | L72: =F72+H72+J72 -> 9790.7
A73: 수목치료기술자 | C73: 0.3 | D73: 인 | F73: =TRUNC(E73*C73,1) -> 0 | G73: =노임단가!$K$35 -> 238447 | H73: =TRUNC(G73*C73,1) -> 71534.1 | J73: =TRUNC(I73*C73,1) -> 0 | K73: =E73+G73+I73 -> 238447 | L73: =F73+H73+J73 -> 71534.1
A74: 보통인부 | C74: 0.133 | D74: 인 | F74: =TRUNC(E74*C74,1) -> 0 | G74: =보통인부 -> 172698 | H74: =TRUNC(G74*C74,1) -> 22968.8 | J74: =TRUNC(I74*C74,1) -> 0 | K74: =E74+G74+I74 -> 172698 | L74: =F74+H74+J74 -> 22968.8
A75: 고소작업차 | B75: 5ton | C75: 0.72 | D75: hr | E75: =건설기계목록!$E$6 -> 10283 | F75: =TRUNC(E75*C75,1) -> 7403.7 | G75: =건설기계목록!$F$6 -> 50008 | H75: =TRUNC(G75*C75,1) -> 36005.7 | I75: =건설기계목록!$G$6 -> 36594 | J75: =TRUNC(I75*C75,1) -> 26347.6 | K75: =E75+G75+I75 -> 96885 | L75: =F75+H75+J75 -> 69757
A76: 공구손료 | B76: 노무비의 3% | C76: 0.03 | D76: 식 | F76: =TRUNC(E76*C76,1) -> 0 | H76: =TRUNC(G76*C76,1) -> 0 | I76: =H72+H73+H74 -> 104293.6 | J76: =TRUNC(I76*C76,1) -> 3128.8 | K76: =E76+G76+I76 -> 104293.6 | L76: =F76+H76+J76 -> 3128.8
A78: No.0 수관솎기 | B78: 장비작업, B21-30cm | C78: 1 | D78: 주 | F78: =TRUNC(F79+F80+F81+F82+F83,0) -> 9151 | H78: =TRUNC(H79+H80+H81+H82+H83,0) -> 248789 | J78: =TRUNC(J79+J80+J81+J82+J83,0) -> 38697 | L78: =F78+H78+J78 -> 296637 | M78: 수목진료표준품셈 2-8-5
A79: 나무의사 | C79: 0.045 | D79: 인 | F79: =TRUNC(E79*C79,1) -> 0 | G79: =노임단가!$K$34 -> 326359 | H79: =TRUNC(G79*C79,1) -> 14686.1 | J79: =TRUNC(I79*C79,1) -> 0 | K79: =E79+G79+I79 -> 326359 | L79: =F79+H79+J79 -> 14686.1
A80: 수목치료기술자 | C80: 0.63 | D80: 인 | F80: =TRUNC(E80*C80,1) -> 0 | G80: =노임단가!$K$35 -> 238447 | H80: =TRUNC(G80*C80,1) -> 150221.6 | J80: =TRUNC(I80*C80,1) -> 0 | K80: =E80+G80+I80 -> 238447 | L80: =F80+H80+J80 -> 150221.6
A81: 보통인부 | C81: 0.228 | D81: 인 | F81: =TRUNC(E81*C81,1) -> 0 | G81: =보통인부 -> 172698 | H81: =TRUNC(G81*C81,1) -> 39375.1 | J81: =TRUNC(I81*C81,1) -> 0 | K81: =E81+G81+I81 -> 172698 | L81: =F81+H81+J81 -> 39375.1
A82: 고소작업차 | B82: 5ton | C82: 0.89 | D82: hr | E82: =건설기계목록!$E$6 -> 10283 | F82: =TRUNC(E82*C82,1) -> 9151.8 | G82: =건설기계목록!$F$6 -> 50008 | H82: =TRUNC(G82*C82,1) -> 44507.1 | I82: =건설기계목록!$G$6 -> 36594 | J82: =TRUNC(I82*C82,1) -> 32568.6 | K82: =E82+G82+I82 -> 96885 | L82: =F82+H82+J82 -> 86227.5
A83: 공구손료 | B83: 노무비의 3% | C83: 0.03 | D83: 식 | F83: =TRUNC(E83*C83,1) -> 0 | H83: =TRUNC(G83*C83,1) -> 0 | I83: =H79+H80+H81 -> 204282.8 | J83: =TRUNC(I83*C83,1) -> 6128.4 | K83: =E83+G83+I83 -> 204282.8 | L83: =F83+H83+J83 -> 6128.4
A85: No.0 수관솎기 | B85: 장비작업, B31-40cm | C85: 1 | D85: 주 | F85: =TRUNC(F86+F87+F88+F89+F90,0) -> 21080 | H85: =TRUNC(H86+H87+H88+H89+H90,0) -> 445495 | J85: =TRUNC(J86+J87+J88+J89+J90,0) -> 85307 | L85: =F85+H85+J85 -> 551882 | M85: 수목진료표준품셈 2-8-5
A86: 나무의사 | C86: 0.075 | D86: 인 | F86: =TRUNC(E86*C86,1) -> 0 | G86: =노임단가!$K$34 -> 326359 | H86: =TRUNC(G86*C86,1) -> 24476.9 | J86: =TRUNC(I86*C86,1) -> 0 | K86: =E86+G86+I86 -> 326359 | L86: =F86+H86+J86 -> 24476.9
A87: 수목치료기술자 | C87: 1.075 | D87: 인 | F87: =TRUNC(E87*C87,1) -> 0 | G87: =노임단가!$K$35 -> 238447 | H87: =TRUNC(G87*C87,1) -> 256330.5 | J87: =TRUNC(I87*C87,1) -> 0 | K87: =E87+G87+I87 -> 238447 | L87: =F87+H87+J87 -> 256330.5
A88: 보통인부 | C88: 0.36 | D88: 인 | F88: =TRUNC(E88*C88,1) -> 0 | G88: =보통인부 -> 172698 | H88: =TRUNC(G88*C88,1) -> 62171.2 | J88: =TRUNC(I88*C88,1) -> 0 | K88: =E88+G88+I88 -> 172698 | L88: =F88+H88+J88 -> 62171.2
A89: 고소작업차 | B89: 5ton | C89: 2.05 | D89: hr | E89: =건설기계목록!$E$6 -> 10283 | F89: =TRUNC(E89*C89,1) -> 21080.1 | G89: =건설기계목록!$F$6 -> 50008 | H89: =TRUNC(G89*C89,1) -> 102516.4 | I89: =건설기계목록!$G$6 -> 36594 | J89: =TRUNC(I89*C89,1) -> 75017.7 | K89: =E89+G89+I89 -> 96885 | L89: =F89+H89+J89 -> 198614.2
A90: 공구손료 | B90: 노무비의 3% | C90: 0.03 | D90: 식 | F90: =TRUNC(E90*C90,1) -> 0 | H90: =TRUNC(G90*C90,1) -> 0 | I90: =H86+H87+H88 -> 342978.6 | J90: =TRUNC(I90*C90,1) -> 10289.3 | K90: =E90+G90+I90 -> 342978.6 | L90: =F90+H90+J90 -> 10289.3
A92: No.0 교통정리원 보험료 | B92: 인건비의 20% | C92: 1 | D92: 인 | F92: =TRUNC(F93,0) -> 0 | H92: =TRUNC(H93,0) -> 0 | J92: =TRUNC(J93,0) -> 35386 | L92: =F92+H92+J92 -> 35386 | DM92: :B2000-470
A93: 교통정리원 | B93: 인건비의 20% | C93: 0.2 | D93: 식 | F93: =TRUNC(C93*E93,0) -> 0 | H93: =TRUNC(C93*G93,0) -> 0 | I93: =노임단가!K36 -> 176930 | J93: =TRUNC(C93*I93,0) -> 35386 | K93: =E93+G93+I93 -> 176930 | L93: =F93+H93+J93 -> 35386 | DM93: W1002

Sheet 수량산출서
A1: 수 량 산 출 서
A2: ○ 수관솎기
A3: 구 역 | B3: 수 종 | C3: 장비투입 여부 | D3: 수관솎기 | J3: 비 고
D4: B20이하 | E4: B21~30 | F4: B31~40 | G4: B41~50 | H4: B51~60 | I4: 계 | R4: 규 격 | BQ4: 소 계
D5: (주) | E5: (주) | F5: (주) | G5: (주) | H5: (주) | R5: B10 | S5: B11 | T5: B12 | U5: B13 | V5: B14 | W5: B15 | X5: B16 | Y5: B17 | Z5: B18 | AA5: B19 | AB5: B20 | AC5: B21 | AD5: B22 | AE5: B23 | AF5: B24 | AG5: B25 | AH5: B26 | AI5: B27 | AJ5: B28 | AK5: B29 | AL5: B30 | AM5: B31 | AN5: B32 | AO5: B33 | AP5: B34 | AQ5: B35 | AR5: B36 | AS5: B37 | AT5: B38 | AU5: B39 | AV5: B40 | AW5: B41 | AX5: B42 | AY5: B43 | AZ5: B44 | BA5: B45 | BB5: B46 | BC5: B47 | BD5: B48 | BE5: B49 | BF5: B50 | BG5: B51 | BH5: B52 | BI5: B53 | BJ5: B54 | BK5: B55 | BL5: B56 | BM5: B57 | BN5: B58 | BO5: B59 | BP5: B60
A6: 1구역(야외정원) | B6: 소나무 | C6: 인력 | D6: =R6+S6+T6+U6+V6+W6+X6+Y6+Z6+AA6+AB6 -> 1 | E6: =AC6+AD6+AE6+AF6+AG6+AH6+AI6+AJ6+AK6+AL6 -> 39 | G6: =AW6+AX6+AY6+AZ6+BA6+BB6+BC6+BD6+BE6+BF6 -> 0 | H6: =BG6+BH6+BI6+BJ6+BK6+BL6+BM6+BN6+BO6+BP6 -> 0 | I6: =D6+E6+F6+G6+H6 -> 40 | AA6: 1 | AC6: 6 | AD6: 1 | AE6: 6 | AF6: 6 | AG6: 7 | AH6: 6 | AI6: 3 | AJ6: 2 | AK6: 2 | AM6: 2 | AP6: 1 | BQ6: =SUM(R6:BP6) -> 43
B7: 소나무 | C7: 장비 | D7: =R7+S7+T7+U7+V7+W7+X7+Y7+Z7+AA7+AB7 -> 0 | E7: =AC7+AD7+AE7+AF7+AG7+AH7+AI7+AJ7+AK7+AL7 -> 11 | F7: =AM7+AN7+AO7+AP7+AQ7+AR7+AS7+AT7+AU7+AV7 -> 4 | G7: =AW7+AX7+AY7+AZ7+BA7+BB7+BC7+BD7+BE7+BF7 -> 0 | H7: =BG7+BH7+BI7+BJ7+BK7+BL7+BM7+BN7+BO7+BP7 -> 0 | I7: =D7+E7+F7+G7+H7 -> 15 | AC7: 2 | AD7: 1 | AF7: 1 | AG7: 3 | AH7: 2 | AI7: 2 | AM7: 1 | AN7: 3 | BQ7: =SUM(R7:BP7) -> 15
A8: 2구역(야외정원) | B8: 소나무 | C8: 인력 | D8: =R8+S8+T8+U8+V8+W8+X8+Y8+Z8+AA8+AB8 -> 0 | E8: =AC8+AD8+AE8+AF8+AG8+AH8+AI8+AJ8+AK8+AL8 -> 30 | F8: =AM8+AN8+AO8+AP8+AQ8+AR8+AS8+AT8+AU8+AV8 -> 3 | G8: =AW8+AX8+AY8+AZ8+BA8+BB8+BC8+BD8+BE8+BF8 -> 0 | H8: =BG8+BH8+BI8+BJ8+BK8+BL8+BM8+BN8+BO8+BP8 -> 0 | I8: =D8+E8+F8+G8+H8 -> 33 | AC8: 3 | AD8: 3 | AE8: 4 | AF8: 5 | AG8: 3 | AH8: 3 | AI8: 3 | AJ8: 3 | AK8: 3 | AM8: 2 | AQ8: 1 | BQ8: =SUM(R8:BP8) -> 33
B9: 소나무 | C9: 장비 | D9: =R9+S9+T9+U9+V9+W9+X9+Y9+Z9+AA9+AB9 -> 1 | E9: =AC9+AD9+AE9+AF9+AG9+AH9+AI9+AJ9+AK9+AL9 -> 8 | F9: =AM9+AN9+AO9+AP9+AQ9+AR9+AS9+AT9+AU9+AV9 -> 3 | G9: =AW9+AX9+AY9+AZ9+BA9+BB9+BC9+BD9+BE9+BF9 -> 0 | H9: =BG9+BH9+BI9+BJ9+BK9+BL9+BM9+BN9+BO9+BP9 -> 0 | I9: =D9+E9+F9+G9+H9 -> 12 | AB9: 1 | AC9: 2 | AF9: 2 | AH9: 1 | AI9: 3 | AM9: 3 | BQ9: =SUM(R9:BP9) -> 12
A10: CU뒤_좌(야외정원) | B10: 소나무 | C10: 장비 | H10: =BG10+BH10+BI10+BJ10+BK10+BL10+BM10+BN10+BO10+BP10 -> 0 | I10: =D10+E10+F10+G10+H10 -> 0 | Z10: 2 | AA10: 2 | AC10: 2 | AD10: 1 | AE10: 2 | BQ10: =SUM(R10:BP10) -> 9
A11: CU뒤_우(야외정원) | B11: 일본오엽송 | C11: 장비 | H11: =BG11+BH11+BI11+BJ11+BK11+BL11+BM11+BN11+BO11+BP11 -> 0 | I11: =D11+E11+F11+G11+H11 -> 0 | X11: 3 | Y11: 1 | Z11: 1 | BQ11: =SUM(R11:BP11) -> 5
A12: 3구역(LG아트센터) | B12: 장송 | C12: 인력 | H12: =BG12+BH12+BI12+BJ12+BK12+BL12+BM12+BN12+BO12+BP12 -> 0 | I12: =D12+E12+F12+G12+H12 -> 0 | AK12: 1 | AN12: 1 | AO12: 2 | AP12: 2 | AQ12: 3 | AR12: 3 | AS12: 5 | AT12: 3 | AU12: 3 | AV12: 1 | AW12: 3 | AZ12: 2 | BQ12: =SUM(R12:BP12) -> 29
B13: 장송 | C13: 장비 | H13: =BG13+BH13+BI13+BJ13+BK13+BL13+BM13+BN13+BO13+BP13 -> 0 | I13: =D13+E13+F13+G13+H13 -> 0 | AM13: 2 | AN13: 2 | AP13: 3 | AR13: 3 | AT13: 2 | AU13: 1 | AW13: 4 | AZ13: 3 | BB13: 1 | BC13: 1 | BQ13: =SUM(R13:BP13) -> 22
A14: 코오롱미래기술원측 입구(야외정원) | B14: 소나무(조형) | C14: 장비 | H14: =BG14+BH14+BI14+BJ14+BK14+BL14+BM14+BN14+BO14+BP14 -> 0 | I14: =D14+E14+F14+G14+H14 -> 0 | Z14: 2 | AB14: 1 | AC14: 2 | AD14: 2 | AE14: 2 | AG14: 2 | AM14: 2 | BQ14: =SUM(R14:BP14) -> 13
A15: 적용 계 | D15: =D6+D7+D8+D9+D10+D11+D12+D13+D14 -> 2 | E15: =E6+E7+E8+E9+E10+E11+E12+E13+E14 -> 88 | F15: =F6+F7+F8+F9+F10+F11+F12+F13+F14 -> 10 | G15: =G6+G7+G8+G9+G10+G11+G12+G13+G14 -> 0 | H15: =H6+H7+H8+H9+H10+H11+H12+H13+H14 -> 0 | I15: =I6+I7+I8+I9+I10+I11+I12+I13+I14 -> 100 | R15: =SUM(R6:R14) -> 0 | S15: =SUM(S6:S14) -> 0 | T15: =SUM(T6:T14) -> 0 | U15: =SUM(U6:U14) -> 0 | V15: =SUM(V6:V14) -> 0 | W15: =SUM(W6:W14) -> 0 | X15: =SUM(X6:X14) -> 3 | Y15: =SUM(Y6:Y14) -> 1 | ... BQ15: =SUM(BQ6:BQ14) -> 181
A17: ○ 임목폐기물 처리
A18: 구 역 | B18: 규 격 | C18: 산출근거 | I18: 임목폐기물 처리 | J18: 비고
C19: 수목수량(주) x 임목폐기물 중량(kg)= 임목폐기물 총 중량(kg) | I19: (ton)
A20: 1구역 | B20: B20이하 | C20: =D6+D7 -> 1 | D20: x | E20: =임목폐기물산근!B27 -> 19.88 | F20: = | G20: =ROUNDDOWN(C20*E20,3) -> 19.88
B21: B21~30 | C21: =E6+E7 -> 50 | D21: x | E21: =임목폐기물산근!N27 -> 98.18 | F21: = | G21: =ROUNDDOWN(C21*E21,3) -> 4909
B22: B31~40 | C22: =F6+F7 -> 4 | D22: x | E22: =임목폐기물산근!Q27 -> 305.36 | F22: = | G22: =ROUNDDOWN(C22*E22,3) -> 1221.44
B23: 소 계 | C23: =C20+C21+C22 -> 55 | G23: =G20+G21+G22 -> 6150.32 | I23: =ROUNDDOWN(G23/1000,3) -> 6.15
A24: 2구역 | B24: B20이하 | C24: =D8+D9 -> 1 | D24: x | E24: =임목폐기물산근!B27 -> 19.88 | F24: = | G24: =ROUNDDOWN(C24*E24,3) -> 19.88
B25: B21~30 | C25: =E8+E9 -> 38 | D25: x | E25: =임목폐기물산근!N27 -> 98.18 | F25: = | G25: =ROUNDDOWN(C25*E25,3) -> 3730.84
B26: B31~40 | C26: =F8+F9 -> 6 | D26: x | E26: =임목폐기물산근!Q27 -> 305.36 | F26: = | G26: =ROUNDDOWN(C26*E26,3) -> 1832.16
B27: 소 계 | C27: =C24+C25+C26 -> 45 | G27: =G24+G25+G26 -> 5582.88 | I27: =ROUNDDOWN(G27/1000,3) -> 5.582
A28: CU뒷편 | B28: B20이하 | C28: =D10+D11 -> 0 | D28: x | E28: =임목폐기물산근!B27 -> 19.88 | F28: = | G28: =ROUNDDOWN(C28*E28,3) -> 0
B29: B21~30 | C29: =E10+E11 -> 0 | D29: x | E29: =임목폐기물산근!N27 -> 98.18 | F29: = | G29: =ROUNDDOWN(C29*E29,3) -> 0
B30: 소 계 | C30: =C28+C29 -> 0 | G30: =G28+G29 -> 0 | I30: =ROUNDDOWN(G30/1000,3) -> 0
A31: 3구역 | B31: B21~30 | C31: =E12+E13 -> 0 | D31: x | E31: =임목폐기물산근!N27 -> 98.18 | F31: = | G31: =ROUNDDOWN(C31*E31,3) -> 0
B32: B31~40 | C32: =F12+F13 -> 0 | D32: x | E32: =임목폐기물산근!Q27 -> 305.36 | F32: = | G32: =ROUNDDOWN(C32*E32,3) -> 0
B33: B41~50 | C33: =G12+G13 -> 0 | D33: x | E33: =임목폐기물산근!S27 -> 596.42 | F33: = | G33: =ROUNDDOWN(C33*E33,3) -> 0
B34: 소 계 | C34: =C31+C32+C33 -> 0 | G34: =G31+G32+G33 -> 0 | I34: =ROUNDDOWN(G34/1000,3) -> 0
A35: 코오롱측 입구 | B35: B20이하 | C35: =D14 -> 0 | D35: x | E35: =임목폐기물산근!B27 -> 19.88 | F35: = | G35: =ROUNDDOWN(C35*E35,3) -> 0
B36: B21~30 | C36: =E14 -> 0 | D36: x | E36: =임목폐기물산근!N27 -> 98.18 | F36: = | G36: =ROUNDDOWN(C36*E36,3) -> 0
B37: B31~40 | C37: =F14 -> 0 | D37: x | E37: =임목폐기물산근!Q27 -> 305.36 | F37: = | G37: =ROUNDDOWN(C37*E37,3) -> 0
B38: 소 계 | C38: =C35+C36+C37 -> 0 | G38: =G35+G36+G37 -> 0 | I38: =ROUNDDOWN(G38/1000,3) -> 0
A39: 적용 계 | C39: =C23+C27+C30+C34+C38 -> 100 | I39: =TRUNC(I23+I27+I30+I34+I38,2) -> 11.73

Sheet 임목폐기물산근
A1: 임 목 폐 기 물 산 출 근 거
A2: =갑지!B7 -> □ 공 사 명 : 2026년 야외정원 소나무 생육환경 개선공사
A3: 근원직경(cm) | B3: 1 | C3: 2 | D3: 3 | E3: 3 | F3: 4 | G3: 5 | H3: 6 | I3: 7 | J3: 8 | K3: 9 | L3: 10 | M3: 11 | N3: 12 | O3: 13 | P3: 14 | Q3: 15 | R3: 16 | S3: 17
A4: 구분 | B4: 관목 | C4: 관목 | D4: 관목
A5: 수간형상계수(f) | B5: 0.4 | C5: 0.5 | D5: 0.5 | E5: 0.5 | F5: 0.5 | G5: 0.5 | H5: 0.5 | I5: 0.5 | J5: 0.5 | K5: 0.5 | L5: 0.5 | M5: 0.5 | N5: 0.5 | O5: 0.5 | P5: 0.5 | Q5: 0.5 | R5: 0.5 | S5: 0.5
A6: 원 주 율(π) | B6: =PI() -> 3.1415927 | C6: =PI() -> 3.1415927 | D6: =PI() -> 3.1415927 | E6: =PI() -> 3.1415927 | F6: =PI() -> 3.1415927 | G6: =PI() -> 3.1415927 | H6: =PI() -> 3.1415927 | I6: =PI() -> 3.1415927 | ... S6: =PI() -> 3.1415927
A7: 흉고직경(cm) | B7: 2 | C7: 2 | D7: 3 | E7: 3 | F7: 3 | G7: 4 | H7: 5 | I7: 6 | J7: 6 | K7: 7 | L7: 8 | M7: 9 | N7: 10 | O7: 11 | P7: 12 | Q7: 12 | R7: 13 | S7: 14
A8: 수 고(m) | B8: 0.4 | C8: 0.8 | D8: 1.3 | E8: 1.5 | F8: 2 | G8: 2 | H8: 2 | I8: 2.5 | J8: 2.5 | K8: 3 | L8: 3 | M8: 3 | N8: 3.5 | O8: 3.5 | P8: 4 | Q8: 4 | R8: 4 | S8: 4.5
A9: 수목생체단위중량(kg/㎥) | B9: 1250 | C9: 1250 | D9: 1250 | E9: 1250 | F9: 1250 | G9: 1250 | H9: 1250 | I9: 1250 | J9: 1250 | K9: 1250 | L9: 1250 | M9: 1250 | N9: 1250 | O9: 1250 | P9: 1250 | Q9: 1250 | R9: 1250 | S9: 1250
A10: 보 합 율(P,고립) | B10: 1 | C10: 1 | D10: 1 | E10: 1 | F10: 1 | G10: 1 | H10: 1 | I10: 1 | J10: 1 | K10: 1 | L10: 1 | M10: 1 | N10: 1 | O10: 1 | P10: 1 | Q10: 1 | R10: 1 | S10: 1
A11: 뿌리분단위당중량(t/㎥) | B11: 1.3 | C11: 1.3 | D11: 1.3 | E11: 1.3 | F11: 1.3 | G11: 1.3 | H11: 1.3 | I11: 1.3 | J11: 1.3 | K11: 1.3 | L11: 1.3 | M11: 1.3 | N11: 1.3 | O11: 1.3 | P11: 1.3 | Q11: 1.3 | R11: 1.3 | S11: 1.3
A12: 수목의 지상부 중량(kg) | B12: =ROUND(B5*B6*(B7/2)^2*B8*B9*(1+B10)/10000,1) -> 0.1 | C12: =ROUND(C5*C6*(C7/2)^2*C8*C9*(1+C10)/10000,1) -> 0.3 | D12: =ROUND(D5*D6*(D7/2)^2*D8*D9*(1+D10)/10000,1) -> 1.1 | E12: =ROUND(E5*E6*(E7/2)^2*E8*E9*(1+E10)/10000,1) -> 1.3 | F12: =ROUND(F5*F6*(F7/2)^2*F8*F9*(1+F10)/10000,1) -> 1.8 | G12: =ROUND(G5*G6*(G7/2)^2*G8*G9*(1+G10)/10000,1) -> 3.1 | H12: =ROUND(H5*H6*(H7/2)^2*H8*H9*(1+H10)/10000,1) -> 4.9 | I12: =ROUND(I5*I6*(I7/2)^2*I8*I9*(1+I10)/10000,1) -> 8.8 | ... S12: =ROUND(S5*S6*(S7/2)^2*S8*S9*(1+S10)/10000,1) -> 86.6
A13: 수관솎기 부산물(kg) (지상부×30%) | B13: =B12*0.2 -> 0.02 | C13: =C12*0.2 -> 0.06 | D13: =D12*0.2 -> 0.22 | E13: =E12*0.2 -> 0.26 | F13: =F12*0.2 -> 0.36 | G13: =G12*0.2 -> 0.62 | H13: =H12*0.2 -> 0.98 | I13: =I12*0.2 -> 1.76 | ... S13: =S12*0.2 -> 17.32
A14: 수목의 지하부 중량(kg) | B14: =ROUND(((1+1/6)*B6*(2*B3)^3*B11/10^3)*20%,1) -> 0 | C14: =ROUND(((1+1/6)*C6*(2*C3)^3*C11/10^3)*20%,1) -> 0.1 | D14: =ROUND(((1+1/6)*D6*(2*D3)^3*D11/10^3)*20%,1) -> 0.2 | E14: =ROUND(((1+1/6)*E6*(2*E3)^3*E11/10^3)*20%,1) -> 0.2 | F14: =ROUND(((1+1/6)*F6*(2*F3)^3*F11/10^3)*20%,1) -> 0.5 | G14: =ROUND(((1+1/6)*G6*(2*G3)^3*G11/10^3)*20%,1) -> 1 | H14: =ROUND(((1+1/6)*H6*(2*H3)^3*H11/10^3)*20%,1) -> 1.6 | I14: =ROUND(((1+1/6)*I6*(2*I3)^3*I11/10^3)*20%,1) -> 2.6 | ... S14: =ROUND(((1+1/6)*S6*(2*S3)^3*S11/10^3)*20%,1) -> 37.5
A15: 수목의 전체 중량(kg) | B15: =B12+B14 -> 0.1 | C15: =C12+C14 -> 0.4 | D15: =D12+D14 -> 1.3 | E15: =E12+E14 -> 1.5 | F15: =F12+F14 -> 2.3 | G15: =G12+G14 -> 4.1 | H15: =H12+H14 -> 6.5 | I15: =I12+I14 -> 11.4 | ... S15: =S12+S14 -> 124.1
A17: 근원직경(cm) | B17: 18 | C17: 19 | D17: 20 | E17: 21 | F17: 22 | G17: 23 | H17: 24 | I17: 25 | J17: 26 | K17: 27 | L17: 28 | M17: 29 | N17: 30 | O17: 35 | P17: 40 | Q17: 45 | R17: 50 | S17: 55 | T17: 60 | U17: 35
A18: 구분
A19: 수간형상계수(f) | B19: 0.5 | C19: 0.5 | D19: 0.5 | E19: 0.5 | F19: 0.5 | G19: 0.5 | H19: 0.5 | I19: 0.5 | J19: 0.5 | K19: 0.5 | L19: 0.5 | M19: 0.5 | N19: 0.5 | O19: 0.5 | P19: 0.5 | Q19: 0.5 | R19: 0.5 | S19: 0.5 | T19: 0.5 | U19: 0.5
A20: 원 주 율(π) | B20: =PI() -> 3.1415927 | C20: =PI() -> 3.1415927 | D20: =PI() -> 3.1415927 | E20: =PI() -> 3.1415927 | F20: =PI() -> 3.1415927 | G20: =PI() -> 3.1415927 | H20: =PI() -> 3.1415927 | I20: =PI() -> 3.1415927 | ... U20: =PI() -> 3.1415927
A21: 흉고직경(cm) | B21: 15 | C21: 16 | D21: 16 | E21: 17 | F21: 18 | G21: 18 | H21: 19 | I21: 20 | J21: 21 | K21: 22 | L21: 22 | M21: 24 | N21: 25 | O21: 28 | P21: 32 | Q21: 36 | R21: 40 | S21: 45 | T21: 50 | U21: 36
A22: 수 고(m) | B22: 4.5 | C22: 5 | D22: 5 | E22: 5.5 | F22: 5.5 | G22: 5.5 | H22: 6 | I22: 6 | J22: 6 | K22: 6.5 | L22: 7 | M22: 7.5 | N22: 8 | O22: 9 | P22: 10 | Q22: 12 | R22: 14 | S22: 15 | T22: 16 | U22: 12
A23: 수목생체단위중량(kg/㎥) | B23: 1250 | C23: 1250 | D23: 1250 | E23: 1250 | F23: 1250 | G23: 1250 | H23: 1250 | I23: 1250 | J23: 1250 | K23: 1250 | L23: 1250 | M23: 1250 | N23: 1250 | O23: 1250 | P23: 1250 | Q23: 1250 | R23: 1250 | S23: 1250 | T23: 1250 | U23: 1250
A24: 보 합 율(P,고립) | B24: 1 | C24: 1 | D24: 1 | E24: 1 | F24: 1 | G24: 1 | H24: 1 | I24: 1 | J24: 1 | K24: 1 | L24: 1 | M24: 1 | N24: 1 | O24: 1 | P24: 1 | Q24: 1 | R24: 1 | S24: 1 | T24: 1 | U24: 1
A25: 뿌리분단위당중량(t/㎥) | B25: 1.3 | C25: 1.3 | D25: 1.3 | E25: 1.3 | F25: 1.3 | G25: 1.3 | H25: 1.3 | I25: 1.3 | J25: 1.3 | K25: 1.3 | L25: 1.3 | M25: 1.3 | N25: 1.3 | O25: 1.3 | P25: 1.3 | Q25: 1.3 | R25: 1.3 | S25: 1.3 | T25: 1.3 | U25: 1.3
A26: 수목의 지상부 중량(kg) | B26: =ROUND(B19*B20*(B21/2)^2*B22*B23*(1+B24)/10000,1) -> 99.4 | C26: =ROUND(C19*C20*(C21/2)^2*C22*C23*(1+C24)/10000,1) -> 125.7 | D26: =ROUND(D19*D20*(D21/2)^2*D22*D23*(1+D24)/10000,1) -> 125.7 | E26: =ROUND(E19*E20*(E21/2)^2*E22*E23*(1+E24)/10000,1) -> 156 | F26: =ROUND(F19*F20*(F21/2)^2*F22*F23*(1+F24)/10000,1) -> 174.9 | G26: =ROUND(G19*G20*(G21/2)^2*G22*G23*(1+G24)/10000,1) -> 174.9 | H26: =ROUND(H19*H20*(H21/2)^2*H22*H23*(1+H24)/10000,1) -> 212.6 | I26: =ROUND(I19*I20*(I21/2)^2*I22*I23*(1+I24)/10000,1) -> 235.6 | ... U26: =ROUND(U19*U20*(U21/2)^2*U22*U23*(1+U24)/10000,1) -> 1526.8
A27: 수관솎기 부산물(kg) (지상부×30%) | B27: =B26*0.2 -> 19.88 | C27: =C26*0.2 -> 25.14 | D27: =D26*0.2 -> 25.14 | E27: =E26*0.2 -> 31.2 | F27: =F26*0.2 -> 34.98 | G27: =G26*0.2 -> 34.98 | H27: =H26*0.2 -> 42.52 | I27: =I26*0.2 -> 47.12 | ... U27: =U26*0.2 -> 305.36
A28: 수목의 지하부 중량(kg) | B28: =ROUND(((1+1/6)*B20*(2*B17)^3*B25/10^3)*20%,1) -> 44.5 | C28: =ROUND(((1+1/6)*C20*(2*C17)^3*C25/10^3)*20%,1) -> 52.3 | D28: =ROUND(((1+1/6)*D20*(2*D17)^3*D25/10^3)*20%,1) -> 61 | E28: =ROUND(((1+1/6)*E20*(2*E17)^3*E25/10^3)*20%,1) -> 70.6 | F28: =ROUND(((1+1/6)*F20*(2*F17)^3*F25/10^3)*20%,1) -> 81.2 | G28: =ROUND(((1+1/6)*G20*(2*G17)^3*G25/10^3)*20%,1) -> 92.8 | H28: =ROUND(((1+1/6)*H20*(2*H17)^3*H25/10^3)*20%,1) -> 105.4 | I28: =ROUND(((1+1/6)*I20*(2*I17)^3*I25/10^3)*20%,1) -> 119.1 | ... U28: =ROUND(((1+1/6)*U20*(2*U17)^3*U25/10^3)*20%,1) -> 326.9
A29: 수목의 전체 중량(kg) | B29: =B26+B28 -> 143.9 | C29: =C26+C28 -> 178 | D29: =D26+D28 -> 186.7 | E29: =E26+E28 -> 226.6 | F29: =F26+F28 -> 256.1 | G29: =G26+G28 -> 267.7 | H29: =H26+H28 -> 318 | I29: =I26+I28 -> 354.7 | ... U29: =U26+U28 -> 1853.7
A31: 근원직경(cm) | B31: 65 | C31: 70 | D31: 75 | E31: 80 | F31: 85 | G31: 90 | H31: 95 | I31: 100 | J31: 105 | K31: 110 | L31: 115 | M31: 120 | N31: 30 | O31: 35 | P31: 40 | Q31: 45 | R31: 50 | S31: 55 | T31: 60 | U31: 35
A32: 구분
A33: 수간형상계수(f) | B33: 0.5 | C33: 0.5 | D33: 0.5 | E33: 0.5 | F33: 0.5 | G33: 0.5 | H33: 0.5 | I33: 0.5 | J33: 0.5 | K33: 0.5 | L33: 0.5 | M33: 0.5 | N33: 0.5 | O33: 0.5 | P33: 0.5 | Q33: 0.5 | R33: 0.5 | S33: 0.5 | T33: 0.5 | U33: 0.5
A34: 원 주 율(π) | B34: =PI() -> 3.1415927 | C34: =PI() -> 3.1415927 | D34: =PI() -> 3.1415927 | E34: =PI() -> 3.1415927 | F34: =PI() -> 3.1415927 | G34: =PI() -> 3.1415927 | H34: =PI() -> 3.1415927 | I34: =PI() -> 3.1415927 | ... U34: =PI() -> 3.1415927
A35: 흉고직경(cm) | B35: 55 | C35: 60 | D35: 65 | E35: 70 | F35: 75 | G35: 80 | H35: 85 | I35: 90 | J35: 95 | K35: 100 | L35: 105 | M35: 110 | N35: 25 | O35: 28 | P35: 32 | Q35: 36 | R35: 40 | S35: 45 | T35: 50 | U35: 36
A36: 수 고(m) | B36: 16 | C36: 16 | D36: 17 | E36: 17 | F36: 17 | G36: 18 | H36: 18 | I36: 18 | J36: 18 | K36: 18 | L36: 19 | M36: 19 | N36: 8 | O36: 9 | P36: 10 | Q36: 12 | R36: 14 | S36: 15 | T36: 16 | U36: 12
A37: 수목생체단위중량(kg/㎥) | B37: 1250 | C37: 1250 | D37: 1250 | E37: 1250 | F37: 1250 | G37: 1250 | H37: 1250 | I37: 1250 | J37: 1250 | K37: 1250 | L37: 1250 | M37: 1250 | N37: 1250 | O37: 1250 | P37: 1250 | Q37: 1250 | R37: 1250 | S37: 1250 | T37: 1250 | U37: 1250
A38: 보 합 율(P,고립) | B38: 1 | C38: 1 | D38: 1 | E38: 1 | F38: 1 | G38: 1 | H38: 1 | I38: 1 | J38: 1 | K38: 1 | L38: 1 | M38: 1 | N38: 1 | O38: 1 | P38: 1 | Q38: 1 | R38: 1 | S38: 1 | T38: 1 | U38: 1
A39: 뿌리분단위당중량(t/㎥) | B39: 1.3 | C39: 1.3 | D39: 1.3 | E39: 1.3 | F39: 1.3 | G39: 1.3 | H39: 1.3 | I39: 1.3 | J39: 1.3 | K39: 1.3 | L39: 1.3 | M39: 1.3 | N39: 1.3 | O39: 1.3 | P39: 1.3 | Q39: 1.3 | R39: 1.3 | S39: 1.3 | T39: 1.3 | U39: 1.3
A40: 수목의 지상부 중량(kg) | B40: =ROUND(B33*B34*(B35/2)^2*B36*B37*(1+B38)/10000,1) -> 4751.7 | C40: =ROUND(C33*C34*(C35/2)^2*C36*C37*(1+C38)/10000,1) -> 5654.9 | D40: =ROUND(D33*D34*(D35/2)^2*D36*D37*(1+D38)/10000,1) -> 7051.4 | E40: =ROUND(E33*E34*(E35/2)^2*E36*E37*(1+E38)/10000,1) -> 8178 | F40: =ROUND(F33*F34*(F35/2)^2*F36*F37*(1+F38)/10000,1) -> 9388 | G40: =ROUND(G33*G34*(G35/2)^2*G36*G37*(1+G38)/10000,1) -> 11309.7 | H40: =ROUND(H33*H34*(H35/2)^2*H36*H37*(1+H38)/10000,1) -> 12767.6 | I40: =ROUND(I33*I34*(I35/2)^2*I36*I37*(1+I38)/10000,1) -> 14313.9 | ... U40: =ROUND(U33*U34*(U35/2)^2*U36*U37*(1+U38)/10000,1) -> 1526.8
A41: 수관솎기 부산물(kg) (지상부×30%) | B41: =B40*0.2 -> 950.34 | C41: =C40*0.2 -> 1130.98 | D41: =D40*0.2 -> 1410.28 | E41: =E40*0.2 -> 1635.6 | F41: =F40*0.2 -> 1877.6 | G41: =G40*0.2 -> 2261.94 | H41: =H40*0.2 -> 2553.52 | I41: =I40*0.2 -> 2862.78 | ... U41: =U40*0.2 -> 305.36
A42: 수목의 지하부 중량(kg) | B42: =ROUND(((1+1/6)*B34*(2*B31)^3*B39/10^3)*20%,1) -> 2093.6 | C42: =ROUND(((1+1/6)*C34*(2*C31)^3*C39/10^3)*20%,1) -> 2614.9 | D42: =ROUND(((1+1/6)*D34*(2*D31)^3*D39/10^3)*20%,1) -> 3216.2 | E42: =ROUND(((1+1/6)*E34*(2*E31)^3*E39/10^3)*20%,1) -> 3903.3 | F42: =ROUND(((1+1/6)*F34*(2*F31)^3*F39/10^3)*20%,1) -> 4681.8 | G42: =ROUND(((1+1/6)*G34*(2*G31)^3*G39/10^3)*20%,1) -> 5557.6 | H42: =ROUND(((1+1/6)*H34*(2*H31)^3*H39/10^3)*20%,1) -> 6536.3 | I42: =ROUND(((1+1/6)*I34*(2*I31)^3*I39/10^3)*20%,1) -> 7623.6 | ... U42: =ROUND(((1+1/6)*U34*(2*U31)^3*U39/10^3)*20%,1) -> 326.9
A43: 수목의 전체 중량(kg) | B43: =B40+B42 -> 6845.3 | C43: =C40+C42 -> 8269.8 | D43: =D40+D42 -> 10267.6 | E43: =E40+E42 -> 12081.3 | F43: =F40+F42 -> 14069.8 | G43: =G40+G42 -> 16867.3 | H43: =H40+H42 -> 19303.9 | I43: =I40+I42 -> 21937.5 | ... U43: =U40+U42 -> 1853.7
A44: ※'조경설계기준-도시기반시설본부'의 기준에 의하여 산출
A46: ※지상부 중량 산출근거: | B46: k*3.14*(B/2)^2*h*w1*(1+p)
B47: B,h=조경설계기준 참고,(일반적으로 B=근원직경*0.8) | I47: * 전정시 우죽의 실 적재 부피 산출 = 0.5ton/1m3당, 2m3/1ton 적용값 (적사시)
B48: w1=수간의 단위체적당 중량(1250kg/㎥적용) | I48: * 중량의 부피환산 = 우죽 또는 지상부중량x0.33ton 적용한 값임 (집재된 수량 적용시)
B49: p=지엽의 과다에 의한 보합률(임목:0.3, 고립목:1.0) | I49: * 지상부 단위중량 기준: 1250 kg
B50: k=수간형상계수 | I50: * 전정 잔재물량은 전정의 정도 15~50% 수식 변경하여 수식대입
B51: 상수리, 졸참, 회양목, 호랑가시 등 : 1340이상 | I51: >> 예: 약전정 15~20%, 강전정 20~30%, 두목전정 30~50%
B52: 느티, 목련, 쪽동백, 참느릅 : 1300~1340이상 | I52: 일반전정 10%, 소나무정밀전정 20%
B53: 곰솔, 산벗, 단풍, 은행, 향 : 1250~1300이상
B54: 소나무, 침엽수 : 1210~1250
B55: 가문비, 녹, 삼, 왜금송 : 1170~1210

Sheet 단가산출목록
A1: 단 가 산 출 목 록 표 | DE1: 5
DE2: A
A3: 연 번 | B3: 공 종 | C3: 규 격 | D3: 수 량 | E3: 단위 | F3: 재 료 비 | G3: 노 무 비 | H3: 경 비 | I3: 합 계 | J3: 비 고 | DE3: 133
DE4: I
A5: 산근 1호표 | B5: 폐기물운반비 | C5: DT(15TON),L=34.4km | D5: 1 | E5: TON | F5: =단가산출!CX80 -> 0 | G5: =단가산출!CY80 -> 0 | H5: =단가산출!CZ80 -> 20,537 | I5: =F5+G5+H5 -> 20537 | DC5: S0127
DC6: S000-500
DC7: S0148
DC8: SKZ1800
DC9: SKZ1600
DC10: SKZ1500
DC11: SKZ1700
DC12: SKZ1400
DC13: SQE1130
DC14: SQE1131
DC15: SQE1132
DC16: SQE1133
DC17: SQE1134
... DC27: SQE1136

Sheet 단가산출
A1: 단 가 산 출 근 거 | DO1: 5
DO2: A
A3: 산 출 근 거 | CX3: 재료비 | CY3: 노무비 | CZ3: 경 비 | DA3: 합 계 | DO3: 5243
DO4: DA
A5: 산근 1호표 ：폐기물운반비 (DT 15TON,L=34.4km) TON 당 | DM5: :S0127
A6: ◈ 폐기물운반비 (15DT,L=34.4km) ; 톤당 | DA6: =CX6+CY6+CZ6 -> 0
D8: 사용장비 : 덤프트럭(15.0톤) | J8: L | L8: = | N8: =TEXT(34.4,"#,##0.0#######") -> 34.4 | S8: km
D10: f | F10: = | H10: ( | J10: =TEXT(1,"#,##0") -> 1 | L10: / | N10: =TEXT(1.4,"#,##0.00#######") -> 1.40 | S10: ) | U10: = | W10: =TEXT(ROUND((J10/N10),2),"#,##0.00#######") -> 0.71 | AC10: 토량환산계수
D12: L | F12: = | H12: ( | J12: =TEXT(1.4,"#,##0.00#######") -> 1.40 | O12: / | Q12: =TEXT(1,"#,##0") -> 1 | S12: ) | U12: = | W12: =TEXT(ROUND((J12/Q12),1),"#,##0.0#######") -> 1.4 | AB12: 토량환산계수에서의 토량변화율
D14: E | F14: = | H14: =TEXT(0.9,"#,##0.0#######") -> 0.9 | M14: 작업효율 | S14: , | W14: T | Y14: = | AA14: =TEXT(15,"#,##0") -> 15 | AE14: 1회 적재량
D16: rt | G16: = | I16: =TEXT(2.3,"#,##0.000#######") -> 2.300 | P16: 무근콘크리트 단위 중량(t/㎥)
D18: d1 | G18: = | I18: =TEXT(4.1,"#,##0.0#######") -> 4.1 | N18: 선능 - 영동대교 남단(km)
D20: d2 | G20: = | I20: =TEXT(13.9,"#,##0.0#######") -> 13.9 | O20: 영동대교 남단 - 강동대교 남단(km)
D22: d3 | G22: = | I22: =TEXT(9.3,"#,##0.0#######") -> 9.3 | N22: 강동대교 남단 - 퇴계원IC(km)
D24: d4 | G24: = | I24: =TEXT(4.8,"#,##0.0#######") -> 4.8 | N24: 퇴계원IC - 사능(km)
D26: d5 | G26: = | I26: =TEXT(2,"#,##0.0#######") -> 2.0 | N26: 사능 - 송릉리(km)
D28: d6 | G28: = | I28: =TEXT(0.3,"#,##0.0#######") -> 0.3 | N28: 송능리 - 사토장(km)
D30: v1 | G30: = | I30: =TEXT(20,"#,##0.0#######") -> 20.0 | N30: , | P30: v7 | S30: = | U30: =TEXT(25,"#,##0.0#######") -> 25.0 | AA30: 선릉 - 영동대교 남단(km/hr)
D32: v2 | G32: = | I32: =TEXT(50,"#,##0.0#######") -> 50.0 | N32: , | P32: v8 | S32: = | U32: =TEXT(55,"#,##0.0#######") -> 55.0 | AA32: 영동대교 남단 - 강동대교 남단(km/hr)
D34: v3 | G34: = | I34: =TEXT(50,"#,##0.0#######") -> 50.0 | N34: , | P34: v9 | S34: = | U34: =TEXT(55,"#,##0.0#######") -> 55.0 | AA34: 강동대교 남단 - 퇴계원IC(km/hr)
D36: v4 | G36: = | I36: =TEXT(20,"#,##0.0#######") -> 20.0 | N36: , | P36: v10 | T36: = | V36: =TEXT(25,"#,##0.0#######") -> 25.0 | AB36: 퇴계원IC - 사능(km/hr)
D38: v5 | G38: = | I38: =TEXT(15,"#,##0.0#######") -> 15.0 | N38: , | P38: v11 | T38: = | V38: =TEXT(20,"#,##0.0#######") -> 20.0 | AB38: 사능 - 송릉리(km/hr)
D40: v6 | G40: = | I40: =TEXT(7,"#,##0.0#######") -> 7.0 | M40: , | O40: v12 | S40: = | U40: =TEXT(8,"#,##0.0#######") -> 8.0 | Z40: 송능리 - 사토장(km/hr)
D42: t3 | G42: = | I42: =TEXT(0.8,"#,##0.0#######") -> 0.8 | N42: 적하시간(t1과동일)
D44: t4 | G44: = | I44: =TEXT(0.42,"#,##0.00#######") -> 0.42 | O44: 적재 대기 시간(0.42분)
D46: t5 | G46: = | I46: =TEXT(3.77,"#,##0.00#######") -> 3.77 | O46: 덮개 벗기고 씌우는 시간
D48: Cms | H48: = | J48: =TEXT(16,"#,##0.0#######") -> 16.0 | P48: 적재기계의 1회 사이클 시간(초)
D50: Es | G50: = | I50: =TEXT(0.45,"#,##0.00#######") -> 0.45 | O50: 적재기계의 작업효율
D52: q | F52: = | H52: =TEXT(0.4,"#,##0.0#######") -> 0.4 | M52: 적재기계의 바켓용량(㎥)
D54: k | F54: = | H54: =TEXT(0.55,"#,##0.00#######") -> 0.55 | N54: 바켓계수
D56: Qt | G56: = | I56: (T | L56: / | N56: rt) | R56: * | T56: L | V56: = | X56: =TEXT(ROUND((AA14/I16)*W12,2),"#,##0.00#######") -> 9.13 | AD56: (흐트러진 상태의 덤프트럭 1회 적재량(㎥))
D58: n | F58: = | H58: Qt | K58: / | M58: (q | P58: * | R58: k) | U58: = | W58: =TEXT(ROUND(X56/(H52*H54),1),"#,##0.0#######") -> 41.5 | AC58: (적재 소요회수(회/대))
D60: t1 | G60: = | I60: Cms | M60: * | O60: n | Q60: / | S60: ( | U60: =TEXT(60,"#,##0") -> 60 | X60: * | Z60: Es) | AD60: = | AF60: =TEXT(ROUND(J48*W58/(U60*I50),2),"#,##0.00#######") -> 24.59 | AM60: (적재시간(분))
D62: t2 | G62: = | I62: (d1 | M62: / | O62: v1 | R62: + | T62: d2 | W62: / | Y62: v2 | AB62: + | AD62: d3 | AG62: / | AI62: v3 | AL62: + | AN62: d4 | AQ62: / | AS62: v4 | AV62: + | AX62: d5 | BA62: / | BC62: v5 | BF62: + | BH62: d6 | BK62: / | BM62: v6 | BP62: + | BR62: d1 | BU62: / | BW62: v7 | BZ62: + | CB62: d2 | CE62: / | CG62: v8 | CJ62: + | CL62: d3 | CO62: / | CQ62: v9 | CT62: + | CV62: d4 | CX62: / | CZ62: v10 | DE62: + | DG62: d5 | DJ62: / | DL62: v11 | DP62: + | DR62: d6 | DU62: / | DW62: v12 | EA62: ) | EC62: * | EE62: =TEXT(60,"#,##0") -> 60 | EH62: = | EJ62: =TEXT(ROUND((I18/I30+I20/I32+I22/I34+I24/I36+I26/I38+I28/I40+I18/U30+I20/U32+I22/U34+I24/V36+I26/V38+I28/U40)*EE62,2),"#,##0.00#######") -> 120.03
D64: CM | G64: = | I64: t1 | L64: + | N64: t2 | Q64: + | S64: t3 | V64: + | X64: t4 | AA64: + | AC64: t5 | AF64: = | AH64: =TEXT(ROUND(AF60+EJ62+I42+I44+I46,2),"#,##0.00#######") -> 149.61 | AP64: (1회사이클시간(분))
D66: Q | F66: = | H66: =TEXT(60,"#,##0") -> 60 | K66: * | M66: Qt | P66: * | R66: f | T66: * | V66: E | X66: / | Z66: CM | AC66: = | AE66: =TEXT(ROUND(H66*X56*W10*H14/AH64,2),"#,##0.00#######") -> 2.34 | AK66: ㎥/HR
D68: Q1 | G68: = | I68: Q | K68: * | M68: =TEXT(2.3,"#,##0.0#######") -> 2.3 | Q68: = | S68: =TEXT(ROUND(AE66*M68,2),"#,##0.00#######") -> 5.38 | Y68: 톤/HR
E70: 재료비 : | K70: =TEXT(TRUNC(건설기계!$F$10,0),"#,##0") -> 36,870 | R70: / | T70: Q1 | W70: = | Y70: =TEXT(ROUNDDOWN(K70/S68*(AH64-AF60)/AH64,1),"#,##0.0#######") -> 5,726.7 | CZ70: =TEXT(Y70,"#,###.0") -> 5,726.7 | DA70: =CX70+CY70+CZ70 -> 5726.7 | DM70: D0602-0150
E72: 노무비 : | K72: =TEXT(TRUNC(건설기계!$H$10,0),"#,##0") -> 59,025 | R72: / | T72: Q1 | W72: = | Y72: =TEXT(ROUNDDOWN(K72/S68,1),"#,##0.0#######") -> 10,971.1 | CZ72: =TEXT(Y72,"#,###.0") -> 10,971.1 | DA72: =CX72+CY72+CZ72 -> 10971.1 | DM72: D0602-0150
E74: 경 비 : | K74: =TEXT(TRUNC(건설기계!$J$10,0),"#,##0") -> 20,659 | R74: / | T74: Q1 | W74: = | Y74: =TEXT(ROUNDDOWN(K74/S68,1),"#,##0.0#######") -> 3,839.9 | CZ74: =TEXT(Y74,"#,###.0") -> 3,839.9 | DA74: =CX74+CY74+CZ74 -> 3839.9 | DM74: D0602-0150
A76: ------------------------------------------------------------
B78: 합 | F78: 계 | CX78: =TEXT(TRUNC(CX70+CX72+CX74,1),"#,###.0") -> .0 | CY78: =TEXT(TRUNC(CY70+CY72+CY74,1),"#,###.0") -> .0 | CZ78: =TEXT(TRUNC(CZ70+CZ72+CZ74,1),"#,###.0") -> 20,537.7 | DA78: =CX78+CY78+CZ78 -> 20537.7
A80: 계 | CX80: =TEXT(TRUNC(CX78,0),"#,##0") -> 0 | CY80: =TEXT(TRUNC(CY78,0),"#,##0") -> 0 | CZ80: =TEXT(TRUNC(CZ78,0),"#,##0") -> 20,537 | DA80: =TEXT(CX80+CY80+CZ80,"#,##0") -> 20,537

Sheet 건설기계목록
A1: 건 설 기 계 목 록 표 | DO1: 5
DO2: A
A3: 공 종 | B3: 규 격 | C3: 수 량 | D3: 단위 | E3: 재 료 비 | F3: 노 무 비 | G3: 경 비 | H3: 합 계 | I3: 비 고 | DO3: 70
DO4: I
A5: 덤프트럭 | B5: 15 ton | C5: 1 | D5: 시간 | E5: =건설기계!F10 -> 36870 | F5: =건설기계!H10 -> 59025 | G5: =건설기계!J10 -> 20659 | H5: =E5+F5+G5 -> 116554 | DM5: D2502-0025
A6: 고소작업차 | B6: 5 ton | C6: 1 | D6: 시간 | E6: =건설기계!F17 -> 10283 | F6: =건설기계!H17 -> 50008 | G6: =건설기계!J17 -> 36594 | H6: =E6+F6+G6 -> 96885
H7: =E7+F7+G7 -> 0 | DM7: D2702-0020
H8: =E8+F8+G8 -> 0 | DM8: D2702-0020
H9: =E9+F9+G9 -> 0 | DM9: D3201-0003
H10: =E10+F10+G10 -> 0 | DM10: D3201-0003
H11: =E11+F11+G11 -> 0 | DM11: D3430-0300
H12: =E12+F12+G12 -> 0 | DM12: D3430-0400
H13: =E13+F13+G13 -> 0 | DM13: D3430-0400
H14: =E14+F14+G14 -> 0 | DM14: D4205-0020
H15: =E15+F15+G15 -> 0 | DM15: D4205-0045
H16: =E16+F16+G16 -> 0 | DM16: D4430-0400
H17: =E17+F17+G17 -> 0 | DM17: D4611-0350
H18: =E18+F18+G18 -> 0 | DM18: D5205-0035
... H27: =E27+F27+G27 -> 0 | DM27: D7360-0055
H28: =E28+F28+G28 -> 0
H29: =E29+F29+G29 -> 0
H30: =E30+F30+G30 -> 0 | DM30: D000-0110
H31: =E31+F31+G31 -> 0

Sheet 건설기계
A1: 건 설 기 계 손 료 | DK1: 5
DK2: A
A3: 구 분 | B3: 규 격 | C3: 수량 | D3: 단위 | E3: 재 료 비 | G3: 노 무 비 | I3: 경 비 | K3: 합 계 | M3: 비 고 | O3: 2026년 기준단가 | P3: 2025년 기준단가 | Q3: 기계손료 기존단가 | S3: 기준단가 상승률 | T3: 상승률 평균 | DK3: 438
E4: 단 가 | F4: 금 액 | G4: 단 가 | H4: 금 액 | I4: 단 가 | J4: 금 액 | K4: 단 가 | L4: 금 액 | T4: =SUM(S5:S42)/COUNT(S5:S42) -> 1.0193528 | DK4: M
A5: ：덤프트럭 (15 ton)
A6: 경 유 | B6: 경 유 | C6: 15.9 | D6: ℓ | E6: =자재단가!P7 -> 1680.38 | F6: =TRUNC(C6*E6,1) -> 26718 | G6: 0 | H6: =TRUNC(C6*G6,1) -> 0 | I6: 0 | J6: =TRUNC(C6*I6,1) -> 0 | K6: =E6+G6+I6 -> 1680.38 | L6: =F6+H6+J6 -> 26718 | DI6: :D0602-0240
A7: 잡 품 | B7: 주연료비의 % | C7: 38 | D7: % | E7: =F6 -> 26718 | F7: =TRUNC(C7/100*E7,1) -> 10152.8 | G7: 0 | H7: =TRUNC(C7/100*G7,1) -> 0 | I7: 0 | J7: =TRUNC(C7/100*I7,1) -> 0 | K7: =E7+G7+I7 -> 26718 | L7: =F7+H7+J7 -> 10152.8 | DI7: M0000-101
A8: 건설기계운전사 | C8: 1 | D8: 인 | E8: 0 | F8: =TRUNC(C8*E8,1) -> 0 | G8: =TRUNC(노임단가!K6*16/12*1/8*25/20,0) -> 59025 | H8: =TRUNC(C8*G8,1) -> 59025 | I8: 0 | J8: =TRUNC(C8*I8,1) -> 0 | K8: =E8+G8+I8 -> 59025 | L8: =F8+H8+J8 -> 59025 | DI8: %RAN*MM | DJ8: 1
A9: 기계손료 | B9: 상각비:900/정비비:700/관리비:679 | C9: =2279*10^-7*1000 -> 0.2279 | E9: 0 | F9: =TRUNC(C9*E9,1) -> 0 | G9: 0 | H9: =TRUNC(C9*G9,1) -> 0 | I9: =IF(Q9=P9,O9) -> 90653 | J9: =TRUNC(C9*I9,1) -> 20659.8 | K9: =E9+G9+I9 -> 90653 | L9: =F9+H9+J9 -> 20659.8 | M9: 0602-0150 | O9: =VLOOKUP(M9,건설기계기초자료!$D$3:$F$624,2,0) -> 90653 | P9: 88973 | Q9: 88973 | S9: =O9/P9 -> 1.0188821 | DI9: W1048
A10: 계 | F10: =ROUNDDOWN(SUM(F6:F9),0) -> 36870 | H10: =ROUNDDOWN(SUM(H6:H9),0) -> 59025 | J10: =ROUNDDOWN(SUM(J6:J9),0) -> 20659 | L10: =F10+H10+J10 -> 116554 | DI10: %SON-LYO | DJ10: 2637
DI11: %SON-LYO | DJ11: 2637
A12: ：고소작업차 (5 ton)
A13: 경 유 | B13: 경 유 | C13: 5.1 | D13: ℓ | E13: =자재단가!P7 -> 1680.38 | F13: =TRUNC(C13*E13,1) -> 8569.9 | G13: 0 | H13: =TRUNC(C13*G13,1) -> 0 | I13: 0 | J13: =TRUNC(C13*I13,1) -> 0 | K13: =E13+G13+I13 -> 1680.38 | L13: =F13+H13+J13 -> 8569.9 | DI13: :D2502-0025
A14: 잡 품 | B14: 주연료비의 % | C14: 20 | D14: % | E14: =F13 -> 8569.9 | F14: =TRUNC(C14/100*E14,1) -> 1713.9 | G14: 0 | H14: =TRUNC(C14/100*G14,1) -> 0 | I14: 0 | J14: =TRUNC(C14/100*I14,1) -> 0 | K14: =E14+G14+I14 -> 8569.9 | L14: =F14+H14+J14 -> 1713.9 | DI14: M0000-101
A15: 화물차운전사 | C15: 1 | D15: 인 | E15: 0 | F15: =TRUNC(C15*E15,1) -> 0 | G15: =TRUNC(노임단가!K5*16/12*1/8*25/20,0) -> 50008 | H15: =TRUNC(C15*G15,1) -> 50008 | I15: 0 | J15: =TRUNC(C15*I15,1) -> 0 | K15: =E15+G15+I15 -> 50008 | L15: =F15+H15+J15 -> 50008 | DI15: %RAN*MM | DJ15: 1
A16: 기계손료 | B16: 상각비:1286/정비비:357/관리비:955 | C16: =2598*10^-7*1000 -> 0.2598 | E16: 0 | F16: =TRUNC(C16*E16,1) -> 0 | G16: 0 | H16: =TRUNC(C16*G16,1) -> 0 | I16: =IF(Q16=P16,O16) -> 140857 | J16: =TRUNC(C16*I16,1) -> 36594.6 | K16: =E16+G16+I16 -> 140857 | L16: =F16+H16+J16 -> 36594.6 | M16: 2106-0005 | O16: =VLOOKUP(M16,건설기계기초자료!$D$3:$F$624,2,0) -> 140857 | P16: 138119 | Q16: 138119 | S16: =O16/P16 -> 1.0198235 | DI16: W1048
A17: 계 | F17: =ROUNDDOWN(SUM(F13:F16),0) -> 10283 | H17: =ROUNDDOWN(SUM(H13:H16),0) -> 50008 | J17: =ROUNDDOWN(SUM(J13:J16),0) -> 36594 | L17: =F17+H17+J17 -> 96885 | DI17: %SON-LYO | DJ17: 1457

Sheet 건설기계기초자료
B1: 건 설 기 계 기 초 자 료 | DQ1: 5
DQ2: A
A3: 연번 | B3: 명 칭 | D3: 분류번호 | E3: 가 격 (2026년 1월 기준) | F3: 가 격 (2025년 1월 기준)
A5: 1 | B5: 불도저 | C5: 무한궤도 | D5: 0101-0007 | E5: 76547 | F5: 73892
A6: 2 | D6: 0101-0010 | E6: 168668 | F6: 161250
A7: 3 | D7: 0101-0012 | E7: 188714 | F7: 185580
A8: 4 | D8: 0101-0019 | E8: 198150 | F8: 189332
A9: 5 | D9: 0101-0032 | E9: 263682 | F9: 256354
A10: 6 | C10: 타이어 | D10: 0102-0015 | E10: 160229 | F10: 154841
A11: 7 | D11: 0102-0028 | E11: 296070 | F11: 286114
A12: 8 | D12: 0102-0033 | E12: 375317 | F12: 362697
A13: 9 | B13: 유압식리퍼 | D13: 0103-0016 | E13: 13948 | F13: 13479
A14: 10 | D14: 0103-0019 | E14: 17626 | F14: 17033
A15: 11 | D15: 0103-0023 | E15: 19537 | F15: 18880
A16: 12 | D16: 0103-0027 | E16: 22753 | F16: 21988
A17: 13 | D17: 0103-0032 | E17: 27634 | F17: 26705
A18: 14 | B18: 습지불도저 | D18: 0121-0004 | E18: 44766 | F18: 43260
A19: 15 | D19: 0121-0013 | E19: 167666 | F19: 162028
A20: 16 | B20: 굴삭기 | C20: 무한궤도 | D20: 0201-0012 | E20: 45070 | F20: 44250
A21: 17 | D21: 0201-0020 | E21: 66538 | F21: 64267
A22: 18 | D22: 0201-0040 | E22: 84000 | F22: 82625
A23: 19 | D23: 0201-0060 | E23: 112342 | F23: 109310
A24: 20 | D24: 0201-0070 | E24: 117766 | F24: 115116
A25: 21 | D25: 0201-0080 | E25: 129586 | F25: 127443
A26: 22 | D26: 0201-0100 | E26: 142069 | F26: 138873
A27: 23 | D27: 0201-0120 | E27: 180927 | F27: 176857
A28: 24 | D28: 0201-0200 | E28: 310684 | F28: 303694
A29: 25 | C29: 타이어 | D29: 0211-0018 | E29: 69333 | F29: 68088
A30: 26 | D30: 0211-0060 | E30: 119000 | F30: 116118
A31: 27 | D31: 0211-0080 | E31: 141171 | F31: 135400
A32: 28 | D32: 0211-0100 | E32: 144360 | F32: 140633
A33: 29 | B33: 습지굴삭기 | C33: 무한궤도 | D33: 0221-0040 | E33: 100270 | F33: 97533
A34: 30 | D34: 0221-0070 | E34: 161647 | F34: 157234
A35: 31 | B35: 대형브레이커 | D35: 0230-0002 | E35: 4559 | F35: 4434
A36: 32 | D36: 0230-0004 | E36: 8352 | F36: 8125
A37: 33 | D37: 0230-0006 | E37: 14174 | F37: 13787
A38: 34 | D38: 0230-0007 | E38: 17289 | F38: 16817
A39: 35 | D39: 0230-0008 | E39: 22649 | F39: 22031
A40: 36 | D40: 0230-0010 | E40: 28692 | F40: 27909
A41: 37 | B41: 유압식진동콤팩터 | C41: 굴삭기부착용 | D41: 0240-0007 | E41: 11706 | F41: 11386
A42: 38 | B42: 압쇄기 | C42: 펄퍼라이저 | D42: 0250-0080 | E42: 24021 | F42: 23365
A43: 39 | D43: 0250-0100 | E43: 28567 | F43: 27787
A44: 40 | B44: 트랜처 | D44: 0260-0355 | E44: 264015 | F44: 256808
A45: 41 | B45: 로더 | C45: 무한궤도 | D45: 0301-0057 | E45: 47372 | F45: 46183
A46: 42 | D46: 0301-0075 | E46: 61939 | F46: 60384
A47: 43 | D47: 0301-0095 | E47: 75898 | F47: 73993
A48: 44 | D48: 0301-0115 | E48: 89931 | F48: 87673
A49: 45 | D49: 0301-0134 | E49: 102635 | F49: 100059
A50: 46 | D50: 0301-0153 | E50: 114736 | F50: 111856
A51: 47 | D51: 0301-0172 | E51: 125845 | F51: 122686
A52: 48 | D52: 0301-0287 | E52: 199275 | F52: 194272
A53: 49 | C53: 타이어 | D53: 0302-0025 | E53: 30197 | F53: 29626
A54: 50 | D54: 0302-0057 | E54: 35999 | F54: 34714
A55: 51 | D55: 0302-0095 | E55: 46576 | F55: 45060
A56: 52 | D56: 0302-0134 | E56: 91620 | F56: 89443
A57: 53 | D57: 0302-0172 | E57: 117351 | F57: 114868
A58: 54 | D58: 0302-0229 | E58: 130266 | F58: 125961
A59: 55 | D59: 0302-0287 | E59: 152668 | F59: 149385
A60: 56 | D60: 0302-0350 | E60: 185595 | F60: 181315
A61: 57 | D61: 0302-0500 | E61: 315000 | F61: 310000
A62: 58 | B62: 스크레이퍼 | C62: 자주식 | D62: 0406-0054 | E62: 100891 | F62: 98358
A63: 59 | D63: 0406-0115 | E63: 187686 | F63: 182974
A64: 60 | D64: 0406-0161 | E64: 248434 | F64: 242197
A65: 61 | D65: 0406-0206 | E65: 314346 | F65: 306453
A66: 62 | C66: 피견인식 | D66: 0407-0054 | E66: 33526 | F66: 32684
A67: 63 | D67: 0407-0092 | E67: 43636 | F67: 42540
A68: 64 | D68: 0407-0107 | E68: 58435 | F68: 56968
A69: 65 | D69: 0407-0161 | E69: 81197 | F69: 79158
A70: 66 | D70: 0407-0206 | E70: 115346 | F70: 112450
A71: 67 | B71: 모터그레이더 | C71: 일반용 | D71: 0502-0036 | E71: 310687 | F71: 300000
A72: 68 | C72: 사리도 | D72: 0503-0036 | E72: 264846 | F72: 255940
A73: 69 | B73: 덤프트럭 | D73: 0602-0025 | E73: 21982 | F73: 21572
A74: 70 | D74: 0602-0045 | E74: 25662 | F74: 25185
A75: 71 | D75: 0602-0060 | E75: 28043 | F75: 27521
A76: 72 | D76: 0602-0080 | E76: 37391 | F76: 36694
A77: 73 | D77: 0602-0105 | E77: 52810 | F77: 51844
A78: 74 | D78: 0602-0150 | E78: 90653 | F78: 88973
A79: 75 | D79: 0602-0200 | E79: 127336 | F79: 124965
A80: 76 | D80: 0602-0240 | E80: 147825 | F80: 145014
A81: 77 | D81: 0602-0320 | E81: 211060 | F81: 207130
A82: 78 | B82: 덤프트럭자동덮개시설 | D82: 0610-0150 | E82: 1634 | F82: 1604
A83: 79 | D83: 0610-0200 | E83: 1765 | F83: 1732
A84: 80 | D84: 0610-0240 | E84: 1896 | F84: 1861
A85: 81 | B85: 머캐덤롤러 | C85: 자주식 | D85: 1106-0010 | E85: 57150 | F85: 55074
A86: 82 | D86: 1106-0012 | E86: 71351 | F86: 68759
A87: 83 | D87: 1106-0015 | E87: 80027 | F87: 77120
A88: 84 | B88: 탠덤롤러 | C88: 자주식 | D88: 1206-0008 | E88: 48513 | F88: 46748
A89: 85 | D89: 1206-0010 | E89: 50412 | F89: 48577
A90: 86 | D90: 1206-0014 | E90: 58137 | F90: 56012
A91: 87 | C91: 진동자주식 | D91: 1209-0001 | E91: 11005 | F91: 10637
A92: 88 | D92: 1209-0002 | E92: 19858 | F92: 19194
A93: 89 | D93: 1209-0004 | E93: 45119 | F93: 43611
A94: 90 | D94: 1209-0006 | E94: 66255 | F94: 64039
A95: 91 | D95: 1209-0007 | E95: 85196 | F95: 82347
A96: 92 | D96: 1209-0008 | E96: 89707 | F96: 86708
A97: 93 | D97: 1209-0013 | E97: 150735 | F97: 145695
A98: 94 | B98: 진동롤러 | C98: 핸드가이드식 | D98: 1305-0007 | E98: 6966 | F98: 6733
A99: 95 | C99: 자주식 | D99: 1306-0025 | E99: 18453 | F99: 17893
A100: 96 | D100: 1306-0044 | E100: 21592 | F100: 20937
A101: 97 | D101: 1306-0060 | E101: 64243 | F101: 61410
...

Sheet 건설기계적용기준
DL1: S_1EXCHANGE | DM1: M0000-001
B2: ◈ ◈ 적 용 기 준 ◈ ◈ | DL2: S_VOLATILE | DM2: M0000-100
DL3: S_LIGHTOIL | DM3: M0000-101
B4: ▣ 환 율 | DL4: S_HEAVYOIL | DM4: M9372007
B5: 1 달러($) : 1434.9원 | D5: (2026.1.2. 기준) | DL5: S_DRIVER | DM5: W1048
DL6: S_1DRIVER | DM6: W1049
B7: ▣ 유 류 대 | DL7: S_2DRIVER | DM7: W1050
B8: 휘 발 유 : 1,695.83 원 | J8: 휘발유 | K8: 1865.42 | L8: =ROUNDDOWN(K8/1.1,2) -> 1695.83 | DL8: S_FOREMAN | DM8: W1047
B9: 경 유 : 1,680.38 원 | J9: 경유 | K9: 1848.42 | L9: =ROUNDDOWN(K9/1.1,2) -> 1680.38 | DL9: S_LABCGYESU | DM9: 16/12 * 1/8 * 25/20
DL10: S_2LABCGYESU | DM10: 16/12 * 1/8 * 25/20
B11: ▣ 노 무 비 | DL11: S_3LABCGYESU | DM11: 16/12 * 1/8 * 25/20
B12: ⊙ 노임산출계수(보통) | DL12: S_GYESUDEC | DM12: 0
B13: 건설기계운전사 : 283,297 x 16/12 x 1/8 x 25/20 = 59,020원 | K13: =건설기계운전사 -> 283323 | L13: =ROUNDDOWN(K13*16/12/8*25/20,0) -> 59025 | DL13: S_LABJARISU | DM13: 0
B14: 화물차 운전사 : 238,936 x 16/12 x 1/8 x 25/20 = 49,778원 | K14: =화물차운전사 -> 240042 | L14: =ROUNDDOWN(K14*16/12/8*25/20,0) -> 50008 | DL14: S_K_SONLYO | DM14: 10^-7*1000
B15: 일반기계운전사 : 173,995 x 16/12 x 1/8 x 25/20 = 36,248원 | K15: =노임단가!E9 -> 173995 | L15: =ROUNDDOWN(K15*16/12/8*25/20,0) -> 36248 | DL15: S_JB_METHOD | DM15: 2
DL16: S_JB_AMTDEC | DM16: 1
DL17: S_JB_RES_RMK | DM17: 0
DL18: S_JB_JBK_RMK | DM18: 1
DL19: S_JB_HP_FIRST | DM19: 기손
DL20: S_JB_HP_LAST | DM20: 호표
DL21: S_JB_LNK_MODE | DM21: 2

Sheet 노임단가
A1: 노 임 단 가 | DM1: 5
DM2: A
A3: 번호 | B3: 직 종 명 | C3: 단위 | D3: 건 설 협 회 | F3: 조 달 청 | H3: 기타단가 | I3: 단 가 | J3: 낙찰율(%) | K3: 단 가 | L3: 비 고 | O3: 건설부문 시중노임 | Q3: 공표일 | DM3: 38
D4: 2026 하반기 | E4: 2026년 상반기 | F4: 상반기 | G4: 하반기 | O4: 번 호 | P4: 직 종 명 | Q4: 20260901 | R4: 20260101 | S4: 20250901 | DM4: L
A5: 1049 | B5: 화물차운전사 | C5: 인 | D5: =VLOOKUP(A5,$O$5:$Q$140,3,0) -> 240042 | E5: =VLOOKUP(A5,$O$5:$S$140,4,0) -> 238936 | F5: 0 | G5: 0 | H5: 0 | I5: =D5 -> 240042 | J5: 0 | K5: =IF(J5=0,I5,TRUNC(J5/100*I5,0)) -> 240042 | O5: 1001 | P5: 작업반장 | Q5: 218316 | R5: 215907 | S5: 214661 | DK5: W1049
A6: 1048 | B6: 건설기계운전사 | C6: 인 | D6: =VLOOKUP(A6,$O$5:$Q$140,3,0) -> 283323 | E6: =VLOOKUP(A6,$O$5:$S$140,4,0) -> 283297 | F6: 0 | G6: 0 | H6: 0 | I6: =D6 -> 283323 | J6: 0 | K6: =IF(J6=0,I6,TRUNC(J6/100*I6,0)) -> 283323 | O6: 1002 | P6: 보통인부 | Q6: 172698 | R6: 172068 | S6: 171037 | DK6: W1048
A7: 1003 | B7: 특별인부 | C7: 인 | D7: =VLOOKUP(A7,$O$5:$Q$140,3,0) -> 228717 | E7: =VLOOKUP(A7,$O$5:$S$140,4,0) -> 226122 | F7: 0 | G7: 0 | H7: 0 | I7: =D7 -> 228717 | J7: 0 | K7: =IF(J7=0,I7,TRUNC(J7/100*I7,0)) -> 228717 | O7: 1003 | P7: 특별인부 | Q7: 228717 | R7: 226122 | S7: 224490 | DK7: W1003
A8: 1002 | B8: 보통인부 | C8: 인 | D8: =VLOOKUP(A8,$O$5:$Q$140,3,0) -> 172698 | E8: =VLOOKUP(A8,$O$5:$S$140,4,0) -> 172068 | F8: 0 | G8: 0 | H8: 0 | I8: =D8 -> 172698 | J8: 0 | K8: =IF(J8=0,I8,TRUNC(J8/100*I8,0)) -> 172698 | O8: 1004 | P8: 조력공 | Q8: 181496 | R8: 179028 | S8: 179958 | DK8: W1002
A9: 1050 | B9: 일반기계운전사 | C9: 인 | D9: =VLOOKUP(A9,$O$5:$Q$140,3,0) -> - | E9: =VLOOKUP(A9,$O$5:$S$140,4,0) -> 173995 | F9: 0 | G9: 0 | H9: 0 | I9: =D9 -> - | J9: 0 | K9: =IF(J9=0,I9,TRUNC(J9/100*I9,0)) -> - | O9: 1005 | P9: 제도사 | Q9: 242423 | R9: 237324 | S9: 239200 | DK9: W1050
A10: 1019 | B10: 포 장 공 | C10: 인 | D10: =VLOOKUP(A10,$O$5:$Q$140,3,0) -> 274873 | E10: =VLOOKUP(A10,$O$5:$S$140,4,0) -> 273308 | F10: 0 | G10: 0 | H10: 0 | I10: =D10 -> 274873 | J10: 0 | K10: =IF(J10=0,I10,TRUNC(J10/100*I10,0)) -> 274873 | O10: 1006 | P10: 비계공 | Q10: 284440 | R10: 281939 | S10: 279613 | DK10: W1019
A11: 1013 | B11: 콘크리트공 | C11: 인 | D11: =VLOOKUP(A11,$O$5:$Q$140,3,0) -> 276285 | E11: =VLOOKUP(A11,$O$5:$S$140,4,0) -> 273540 | F11: 0 | G11: 0 | H11: 0 | I11: =D11 -> 276285 | J11: 0 | K11: =IF(J11=0,I11,TRUNC(J11/100*I11,0)) -> 276285 | O11: 1007 | P11: 형틀목공 | Q11: 275379 | R11: 275790 | S11: 273074 | DK11: W1013
A12: 1029 | B12: 도 장 공 | C12: 인 | D12: =VLOOKUP(A12,$O$5:$Q$140,3,0) -> 268225 | E12: =VLOOKUP(A12,$O$5:$S$140,4,0) -> 263017 | F12: 0 | G12: 0 | H12: 0 | I12: =D12 -> 268225 | J12: 0 | K12: =IF(J12=0,I12,TRUNC(J12/100*I12,0)) -> 268225 | O12: 1008 | P12: 철근공 | Q12: 268932 | R12: 268187 | S12: 265818 | DK12: W1029
A13: 1006 | B13: 비 계 공 | C13: 인 | D13: =VLOOKUP(A13,$O$5:$Q$140,3,0) -> 284440 | E13: =VLOOKUP(A13,$O$5:$S$140,4,0) -> 281939 | F13: 0 | G13: 0 | H13: 0 | I13: =D13 -> 284440 | J13: 0 | K13: =IF(J13=0,I13,TRUNC(J13/100*I13,0)) -> 284440 | O13: 1009 | P13: 철공 | Q13: 243870 | R13: 239808 | S13: 237686 | DK13: W1006
A14: 1007 | B14: 형틀목공 | C14: 인 | D14: =VLOOKUP(A14,$O$5:$Q$140,3,0) -> 275379 | E14: =VLOOKUP(A14,$O$5:$S$140,4,0) -> 275790 | F14: 0 | G14: 0 | H14: 0 | I14: =D14 -> 275379 | J14: 0 | K14: =IF(J14=0,I14,TRUNC(J14/100*I14,0)) -> 275379 | O14: 1010 | P14: 철판공 | Q14: 220901 | R14: 221481 | S14: 219862 | DK14: W1007
A15: 1017 | B15: 할 석 공 | C15: 인 | D15: =VLOOKUP(A15,$O$5:$Q$140,3,0) -> 246224 | E15: =VLOOKUP(A15,$O$5:$S$140,4,0) -> 241932 | F15: 0 | G15: 0 | H15: 0 | I15: =D15 -> 246224 | J15: 0 | K15: =IF(J15=0,I15,TRUNC(J15/100*I15,0)) -> 246224 | O15: 1011 | P15: 철골공 | Q15: 255172 | R15: 252641 | S15: 251511 | DK15: W1017
A16: 1015 | B16: 착 암 공 | C16: 인 | D16: =VLOOKUP(A16,$O$5:$Q$140,3,0) -> 223246 | E16: =VLOOKUP(A16,$O$5:$S$140,4,0) -> 222306 | F16: 0 | G16: 0 | H16: 0 | I16: =D16 -> 223246 | J16: 0 | K16: =IF(J16=0,I16,TRUNC(J16/100*I16,0)) -> 223246 | O16: 1012 | P16: 용접공 | Q16: 286330 | R16: 282536 | S16: 280178 | DK16: W1015
... A26: 1021 | B26: 조 적 공 | C26: 인 | D26: =VLOOKUP(A26,$O$5:$Q$140,3,0) -> 273229 | E26: =VLOOKUP(A26,$O$5:$S$140,4,0) -> 270807 | F26: 0 | G26: 0 | H26: 0 | I26: =D26 -> 273229 | J26: 0 | K26: =IF(J26=0,I26,TRUNC(J26/100*I26,0)) -> 273229 | O26: 1022 | P26: 견출공 | Q26: 254875 | R26: 250903 | S26: 247938 | DK26: W1021
A27: 49 | B27: 용접원 | C27: 인 | D27: =VLOOKUP(A27,$O$5:$Q$140,3,0) -> 0 | E27: =VLOOKUP(A27,$O$5:$S$140,4,0) -> 120717 | F27: 0 | G27: 0 | H27: 0 | I27: =D27 -> 0 | J27: 0 | K27: =IF(J27=0,I27,TRUNC(J27/100*I27,0)) -> 0 | L27: 제조업 | O27: 1023 | P27: 건축목공 | Q27: 282990 | R27: 277642 | S27: 283068 | DK27: W1-1071
A28: 31 | B28: 건설중급기술자 | C28: 인 | D28: =VLOOKUP(A28,$O$5:$Q$140,3,0) -> 0 | E28: =VLOOKUP(A28,$O$5:$S$140,4,0) -> 295138 | F28: 0 | G28: 0 | H28: 0 | I28: =D28 -> 0 | J28: 0 | K28: =IF(J28=0,I28,TRUNC(J28/100*I28,0)) -> 0 | L28: 엔지니어링 | O28: 1024 | P28: 창호공 | Q28: 248547 | R28: 247188 | S28: 250287 | DK28: W1-1176
A29: 32 | B29: 건설초급기술자 | C29: 인 | D29: =VLOOKUP(A29,$O$5:$Q$140,3,0) -> 0 | E29: =VLOOKUP(A29,$O$5:$S$140,4,0) -> 235459 | F29: 0 | G29: 0 | H29: 0 | I29: =D29 -> 0 | J29: 0 | K29: =IF(J29=0,I29,TRUNC(J29/100*I29,0)) -> 0 | L29: 엔지니어링 | O29: 1025 | P29: 유리공 | Q29: 258602 | R29: 253539 | S29: 250389 | DK29: W0-0179
A30: 5007 | B30: 코 킹 공 | C30: 인 | D30: =VLOOKUP(A30,$O$5:$Q$140,3,0) -> 212439 | E30: =VLOOKUP(A30,$O$5:$S$140,4,0) -> 209131 | F30: 0 | G30: 0 | H30: 0 | I30: =D30 -> 212439 | J30: 0 | K30: =IF(J30=0,I30,TRUNC(J30/100*I30,0)) -> 212439 | O30: 1026 | P30: 방수공 | Q30: 233163 | R30: 228286 | S30: 226204 | DK30: W0-0180
A31: 1033 | B31: 석 공 | C31: 인 | D31: =VLOOKUP(A31,$O$5:$Q$140,3,0) -> 270694 | E31: =VLOOKUP(A31,$O$5:$S$140,4,0) -> 268908 | F31: 0 | G31: 0 | H31: 0 | I31: =D31 -> 270694 | J31: 0 | K31: =IF(J31=0,I31,TRUNC(J31/100*I31,0)) -> 270694 | O31: 1027 | P31: 미장공 | Q31: 279102 | R31: 277276 | S31: 278998 | DK31: W1051
A32: 33 | B32: 초급숙련기술자(기타) | C32: 인 | D32: =VLOOKUP(A32,$O$5:$Q$140,3,0) -> 0 | E32: =VLOOKUP(A32,$O$5:$S$140,4,0) -> 218142 | I32: =D32 -> 0 | K32: =IF(J32=0,I32,TRUNC(J32/100*I32,0)) -> 0 | L32: 엔지니어링 | O32: 1028 | P32: 타일공 | Q32: 294379 | R32: 290939 | S32: 286589 | DK32: W1052
A33: 1034 | B33: 줄눈공 | C33: 인 | D33: =VLOOKUP(A33,$O$5:$Q$140,3,0) -> 212390 | E33: =VLOOKUP(A33,$O$5:$S$140,4,0) -> 211653 | I33: =D33 -> 212390 | K33: =IF(J33=0,I33,TRUNC(J33/100*I33,0)) -> 212390 | L33: 엔지니어링 | O33: 1029 | P33: 도장공 | Q33: 268225 | R33: 263017 | S33: 258362
B34: 나무의사 | C34: 인 | D34: 326359 | E34: 319646 | I34: =D34 -> 326359 | K34: =IF(J34=0,I34,TRUNC(J34/100*I34,0)) -> 326359 | O34: 1030 | P34: 내장공 | Q34: 258904 | R34: 256883 | S34: 255231
B35: 수목치료기술자 | C35: 인 | D35: 238447 | E35: 233543 | I35: =D35 -> 238447 | K35: =IF(J35=0,I35,TRUNC(J35/100*I35,0)) -> 238447 | O35: 1031 | P35: 도배공 | Q35: 229833 | R35: 227614 | S35: 226042
A36: 5013 | B36: 교통정리원 | C36: 인 | D36: =VLOOKUP(A36,$O$5:$Q$140,3,0) -> 176930 | E36: =VLOOKUP(A36,$O$5:$S$140,4,0) -> 173784 | I36: =D36 -> 176930 | K36: =IF(J36=0,I36,TRUNC(J36/100*I36,0)) -> 176930 | O36: 1032 | P36: 연마공 | Q36: 208207 | R36: - | S36: 210772
O37: 1033 | P37: 석공 | Q37: 270694 | R37: 268908 | S37: 267532
O38: 1034 | P38: 줄눈공 | Q38: 212390 | R38: 211653 | S38: 207796
O39: 1035 | P39: 판넬조립공 | Q39: 246986 | R39: 243121 | S39: 240735
O40: 1036 | P40: 지붕잇기공 | Q40: - | R40: 233250 | S40: 229958
O41: 1037 | P41: 벌목부 | Q41: 257444 | R41: 253243 | S41: 248140
O42: 1038 | P42: 조경공 | Q42: 235843 | R42: 235204 | S42: 227176
O43: 1039 | P43: 배관공 | Q43: 249073 | R43: 247897 | S43: 239439
O44: 1040 | P44: 배관공(수도) | Q44: 260673 | R44: 262580 | S44: 257390
O45: 1041 | P45: 보일러공 | Q45: 240647 | R45: 240120 | S45: -
O46: 1042 | P46: 위생공 | Q46: 221435 | R46: 218908 | S46: 220650
O47: 1043 | P47: 덕트공 | Q47: 208140 | R47: 202472 | S47: 205696
O48: 1044 | P48: 보온공 | Q48: 222151 | R48: 217012 | S48: 214975
O49: 1045 | P49: 인력운반공 | Q49: 183687 | R49: 180193 | S49: 181753
O50: 1046 | P50: 궤도공 | Q50: 220821 | R50: 218933 | S50: -
O51: 1047 | P51: 건설기계조장 | Q51: - | R51: 210909 | S51: -
O52: 1048 | P52: 건설기계운전사 | Q52: 283323 | R52: 283297 | S52: 279824
O53: 1049 | P53: 화물차운전사 | Q53: 240042 | R53: 238936 | S53: 240685
O54: 1050 | P54: 일반기계운전사 | Q54: - | R54: 173995 | S54: 172387
O55: 1051 | P55: 기계설비공 | Q55: 242647 | R55: 241698 | S55: 241550
O56: 1052 | P56: 준설선선장 | Q56: - | R56: - | S56: -
O57: 1053 | P57: 준설선기관사 | Q57: - | R57: - | S57: -
O58: 1054 | P58: 준설선운전사 | Q58: - | R58: - | S58: -
O59: 1055 | P59: 선원 | Q59: - | R59: - | S59: -
O60: 1056 | P60: 플랜트배관공 | Q60: 327442 | R60: 320480 | S60: 324800
O61: 1057 | P61: 플랜트제관공 | Q61: 268949 | R61: 266029 | S61: 260644
O62: 1058 | P62: 플랜트용접공 | Q62: 289745 | R62: 292640 | S62: 301090
O63: 1059 | P63: 플랜트특수용접공 | Q63: 334739 | R63: - | S63: 337247
O64: 1060 | P64: 플랜트기계설치공 | Q64: 234041 | R64: 230376 | S64: 238846
O65: 1061 | P65: 플랜트특별인부 | Q65: 215601 | R65: 213074 | S65: 220283
O66: 1062 | P66: 플랜트케이블전공 | Q66: 263300 | R66: 264269 | S66: 262679
O67: 1063 | P67: 플랜트계장공 | Q67: 204167 | R67: 204377 | S67: 202691
O68: 1064 | P68: 플랜트덕트공 | Q68: - | R68: - | S68: -
O69: 1065 | P69: 플랜트보온공 | Q69: 252567 | R69: 250140 | S69: 247756
O70: 1066 | P70: 제철축로공 | Q70: 365714 | R70: 362985 | S70: 358786
O71: 1067 | P71: 비파괴시험공 | Q71: 220565 | R71: 214553 | S71: 216404
O72: 1068 | P72: 특급품질관리원 | Q72: 200971 | R72: 199588 | S72: 198613
O73: 1069 | P73: 고급품질관리원 | Q73: 199200 | R73: 197788 | S73: 195243
O74: 1070 | P74: 중급품질관리원 | Q74: 179012 | R74: 177841 | S74: 175633
O75: 1071 | P75: 초급품질관리원 | Q75: 150049 | R75: 149081 | S75: 147438
O76: 1072 | P76: 지적기사 | Q76: 283066 | R76: 275711 | S76: 274286
O77: 1073 | P77: 지적산업기사 | Q77: 251236 | R77: 245000 | S77: 242724
O78: 1074 | P78: 지적기능사 | Q78: 175118 | R78: 178874 | S78: 180875
O79: 1075 | P79: 내선전공 | Q79: 276108 | R79: 273676 | S79: 273539
O80: 1076 | P80: 특고압케이블전공 | Q80: 444519 | R80: 440616 | S80: 439248
... O98: 2003 | P98: S/W시험사 | Q98: 446560 | R98: 446358 | S98: 446000
O99: 3001 | P99: 도편수 | Q99: 533333 | R99: - | S99: -
O100: 3002 | P100: 드잡이공 | Q100: - | R100: - | S100: -
O101: 3003 | P101: 한식목공 | Q101: 353383 | R101: 342273 | S101: 350828
O102: 3004 | P102: 한식목공조공 | Q102: - | R102: 243009 | S102: -
O103: 3005 | P103: 한식석공 | Q103: 403594 | R103: 386079 | S103: 392588
O104: 3006 | P104: 한식미장공 | Q104: - | R104: 321230 | S104: 339830
O105: 3007 | P105: 한식와공 | Q105: 374046 | R105: 333250 | S105: 347811
O106: 3008 | P106: 한식와공조공 | Q106: - | R106: 278180 | S106: 274659
O107: 3009 | P107: 목조각공 | Q107: - | R107: - | S107: -
O108: 3010 | P108: 석조각공 | Q108: - | R108: - | S108: -
O109: 3011 | P109: 특수화공 | Q109: - | R109: 324326 | S109: -
O110: 3012 | P110: 화공 | Q110: 300798 | R110: 322920 | S110: 313333
O111: 3013 | P111: 드잡이공편수 | Q111: - | R111: - | S111: -
O112: 3014 | P112: 한식미장공편수 | Q112: 395789 | R112: - | S112: -
O113: 3015 | P113: 한식와공편수 | Q113: - | R113: - | S113: -
O114: 3016 | P114: 한식단청공편수 | Q114: - | R114: 286887 | S114: -
O115: 3017 | P115: 한식석공조공 | Q115: - | R115: 321250 | S115: 320000
O116: 3018 | P116: 한식미장공조공 | Q116: - | R116: 250000 | S116: 247982
O117: 4001 | P117: 원자력플랜트전공 | Q117: 238957 | R117: 221727 | S117: 237846
O118: 4002 | P118: 원자력용접공 | Q118: 220497 | R118: 217203 | S118: 211525
O119: 4003 | P119: 원자력기계설치공 | Q119: 244723 | R119: 229770 | S119: 231539
O120: 4004 | P120: 원자력품질관리사 | Q120: 287101 | R120: 285759 | S120: 284862
O121: 5001 | P121: 통신관련기사 | Q121: 324979 | R121: 320449 | S121: 318479
O122: 5002 | P122: 통신관련산업기사 | Q122: 304662 | R122: 304509 | S122: 303262
O123: 5003 | P123: 통신관련기능사 | Q123: 250000 | R123: 249822 | S123: 249360
O124: 5004 | P124: 전기공사기사 | Q124: 339070 | R124: 335319 | S124: 333866
O125: 5005 | P125: 전기공사산업기사 | Q125: 298573 | R125: 294135 | S125: 292729
O126: 5006 | P126: 변전전공 | Q126: 485593 | R126: 485075 | S126: 483274
...

Sheet 자재단가
A1: 자 재 단 가 | CI1: 5
Q2: (단위:원, VAT별도) | CI2: A
A3: 품 명 | B3: 규 격 | C3: 단위 | D3: 가 격 정 보 | F3: 물 가 자 료 | H3: 물 가 정 보 | J3: 거 래 가 격 | L3: 유 통 물 가 | N3: 단 가 | O3: 낙찰율(%) | P3: 적 용 단 가 | Q3: 비 고 | CI3: 164
D4: 단 가 | E4: Page | F4: 단 가 | G4: Page | H4: 단 가 | I4: Page | J4: 단 가 | K4: Page | L4: 단 가 | M4: Page | CI4: S
A5: 환 율 | B5: 1$ | C5: 원 | D5: 1434.9 | E5: 서울외국환 | N5: =MIN(D5,F5,H5,J5,L5) -> 1434.9 | O5: 0 | P5: =IF(O5=0,N5,TRUNC(O5/100*N5,0)) -> 1434.9 | Q5: 1월2일 매매기준율 | CG5: M0000-001
A6: 휘 발 유 | B6: 보통 | C6: ℓ | D6: =건설기계적용기준!L8 -> 1695.83 | E6: 석유공사 | N6: =MIN(D6,F6,H6,J6,L6) -> 1695.83 | O6: 0 | P6: =IF(O6=0,N6,TRUNC(O6/100*N6,0)) -> 1695.83 | Q6: 부가세제외 | CG6: M0000-100
A7: 경 유 | B7: 자동차용 | C7: ℓ | D7: =건설기계적용기준!L9 -> 1680.38 | E7: 석유공사 | N7: =MIN(D7,F7,H7,J7,L7) -> 1680.38 | O7: 0 | P7: =IF(O7=0,N7,TRUNC(O7/100*N7,0)) -> 1680.38 | Q7: 부가세제외 | CG7: M0000-101
A8: 현수막 | B8: 3000×800 | C8: 개 | D8: 30000 | N8: =MIN(D8,F8,H8,J8,L8) -> 30000 | O8: 0 | P8: =IF(O8=0,N8,TRUNC(O8/100*N8,0)) -> 30000 | Q8: 공장상차도
A9: 임목폐기물처리비 | B9: 임목폐기물 | C9: Ton | D9: 110000 | N9: =MIN(D9,F9,H9,J9,L9) -> 110000 | O9: 0 | P9: =IF(O9=0,N9,TRUNC(O9/100*N9,0)) -> 110000 | Q9: 공장상차도
