Workbook
Name _box01: #REF!
Name a: BlankMacro1
Name AA: BlankMacro1
Name aaa: BlankMacro1
Name aaaaa: BlankMacro1
Name ab: #REF!
Name as: #REF!
Name b: #REF!
Name B2XK35: #REF!
Name box: #REF!
Name CG: #REF!
Name CN: #REF!
Name d: BlankMacro1
Name DB작업공수: #REF!
Name DC: #REF!
Name EA: #REF!
Name GG: #REF!
Name gkdah: #REF!
Name JG: #REF!
Name JN: #REF!
Name ListPrice범위: #REF!
Name L서버: #REF!
Name L서버내용: #REF!
Name L서버번호: #REF!
Name OPENVIEW: #REF!
Name OV: #REF!
Name PRINT: #REF!
Name product: #REF!
Name Projects: #REF!
Name REF_6: #REF!
Name REF_F: #REF!
Name REF_G: #REF!
Name REF_H: #REF!
Name REF_J: #REF!
Name REF_L: #REF!
Name REF_O: #REF!
Name REF_Q: #REF!
Name sd: #REF!
Name SERVER: #REF!
Name sido: #REF!
Name SM: #REF!
Name startA: #REF!
Name stEg: #REF!
Name stEv: #REF!
Name stJh: #REF!
Name stMh: #REF!
Name stPe: #REF!
Name stTr: #REF!
Name SVR: #REF!
Name SVRAG: #REF!
Name SVRDESC: #REF!
Name swprice: 설계갑지!swprice
Name TG: #REF!
Name VA: #REF!
Name VB: #REF!
Name VC: #REF!
Name VD: #REF!
Name VE: #REF!
Name willow3500: #REF!
Name XXX: #REF!

Sheet 갑지
A1: 2026 년 10월 설계 | D1: 담당자 | F1: 과 장 | H1: 부 장 | J1: 본부장
A3: 2026년
A5: 제주하수처리구역 차집관로 정비공사(1공구) 폐기물처리용역 설 계 내 역 서
D8: ○ 용 역 위 치 : 제주시 도두동 일원
D10: ○ 용 역 개 요
D11: · 폐콘크리트류 | G11: 922 | H11: Ton
D12: · 폐아스콘(파취) | G12: 1911 | H12: Ton
D13: · 폐아스콘(절삭) | G13: 1058 | H13: Ton
B15: ◎ 총 용 역 비 | D15: =": 금 "&FIXED(M15,0)&"원 ( 금 "&NUMBERSTRING(M15,1)&"원 )" -> : 금 146,771,000원 ( 금 일억사천육백칠십칠만일천원 ) | M15: =+원가계산서!F32 -> 146771000
B16: ◎ 공 급 가 액 | D16: =": 금 "&FIXED(M16,0)&"원 ( 금 "&NUMBERSTRING(M16,1)&"원 )" -> : 금 133,428,195원 ( 금 일억삼천삼백사십이만팔천일백구십오원 ) | M16: =+원가계산서!F30 -> 133428195
B17: ◎ 부가가치세 | D17: =": 금 "&FIXED(M17,0)&"원 ( 금 "&NUMBERSTRING(M17,1)&"원 )" -> : 금 13,342,820원 ( 금 일천삼백삼십사만이천팔백이십원 ) | M17: =+원가계산서!F31 -> 13342820

Sheet 설계갑지
A1: 2021년 월 일 | C1: 담 당 자 | E1: 과 장 | G1: 부 장 | I1: 본 부 장
A5: 도두하수처리구역 하수관로 정비사업 폐기물처리용역(용담3공구)
A6: 설 계 내 역 서
C8: ○ 용 역 개 요 | E8: 폐아스콘류 | G8: =#REF! -> #REF! | I8: TON
E9: 폐콘크리트류 | G9: =#REF! -> #REF! | I9: TON
C10: ="○ 총 공 사 비 : " -> ○ 총 공 사 비 : | E10: ="일금 "&NUMBERSTRING(K10,1)&"원정(\"&TEXT(K10,"#,###")&")" -> #REF! | K10: =#REF! -> #REF!
C11: ="○ 공 급 가 액 : " -> ○ 공 급 가 액 : | E11: ="일금 "&NUMBERSTRING(K11,1)&"원정(\"&TEXT(K11,"#,###")&")" -> #REF! | K11: =#REF! -> #REF!
C12: ="○ 부가가치세 : " -> ○ 부가가치세 : | E12: ="일금 "&NUMBERSTRING(K12,1)&"원정(\"&TEXT(K12,"#,###")&")" -> #REF! | K12: =#REF! -> #REF!
E17: 제주특별자치도 [상하수도본부]

Sheet 원가계산서
B1: 용 역 원 가 계 산 서
B2: 용역명 : 제주하수처리구역 차집관로 정비공사(1공구) 폐기물처리용역
B3: 구분 | F3: 금 액 | G3: 요 율 | H3: 산 출 근 거 | I3: 비 고
B4: 순 공 사 원 가 | C4: 재 료 비 | D4: 직접재료비 | E4: 1
D5: 간접재료비 | E5: 2
D6: 소계 | E6: A
C7: 노 무 비 | D7: 직접노무비 | E7: 3
D8: 간접노무비 | E8: 4
D9: 소계 | E9: B
C10: 경 비 | D10: 산출경비 | E10: 5 | F10: =+예산내역서!F4 -> 27926433
D11: 산재보험료 | E11: 6
D12: 고용보험료 | E12: 7
D13: 건강보험료 | E13: 8
D14: 연금보험료 | E14: 9
D15: 산업안전보건관리비 | E15: 10
D16: 노인장기요양보험료 | E16: 11
D17: 퇴직공제부금비 | E17: 12
D18: 건설기계대여대금지급보증서발급금액 | E18: 13
D19: 하도급대금지급보증수수료 | E19: 14
D20: 공사이행보증수수료 | E20: 15
D21: 환경보전비 | E21: 16
D22: 가설건물 | E22: 17
... D24: 기타경비 | E24: 19
D25: 소계 | E25: C | F25: =SUM(F10:F24) -> 27926433
D26: 순공사비원가 | E26: D | F26: =F4+F7+F25 -> 27926433 | H26: (A + B + C)
D27: 일반관리비 | E27: E
D28: 이윤 | E28: F
D29: 폐기물처리수수료 | E29: G | F29: =+예산내역서!F34 -> 105501762
D30: 총원가 | E30: H | F30: =SUM(F26:F29) -> 133428195 | H30: D + E + F + G
D31: 부가가치세 | E31: I | F31: =ROUND(F30*G31,0) -> 13342820 | G31: 0.1 | H31: G + H
D32: 도급액 | E32: J | F32: =TRUNC(SUM(F30:F31),-3) -> 146771000 | H32: 천미만 절삭
D33: 총용역비 | E33: L | F33: =F32 -> 146771000

Sheet 예산내역서
A1: 예 산 내 역 서
A2: 공 종 | B2: 규 격 | C2: 수 량 | D2: 단위 | E2: 합 계 | G2: 재 료 비 | I2: 노 무 비 | K2: 경 비 | M2: 비 고
E3: 단 가 | F3: 금 액 | G3: 단 가 | H3: 금 액 | I3: 단 가 | J3: 금 액 | K3: 단 가 | L3: 금 액
A4: *. 폐기물 운반비 | C4: 0 | E4: =G4+I4+K4 -> 0 | F4: =H4+J4+L4 -> 27926433 | G4: 0 | H4: =SUM(H5:H9) -> 0 | I4: 0 | J4: =SUM(J5:J9) -> 0 | K4: 0 | L4: =SUM(L5:L9) -> 27926433
A5: 폐기물운반(아스콘굴착) | B5: 현장→중간처리업체 | C5: =+수량!C5 -> 813 | D5: ㎥ | E5: =G5+I5+K5 -> 14641 | F5: =H5+J5+L5 -> 11903133 | G5: =[21]단가산출!CY46 -> 0 | H5: =TRUNC(C5*G5,0) -> 0 | I5: =[21]단가산출!CZ46 -> 0 | J5: =TRUNC(C5*I5,0) -> 0 | K5: =+단가산출목록!H5 -> 14,641 | L5: =TRUNC(C5*K5,0) -> 11903133 | M5: 산근 1호표
A6: 폐기물운반(아스콘절삭) | B6: 현장→중간처리업체 | C6: =+수량!C7 -> 450 | D6: ㎥ | E6: =G6+I6+K6 -> 22762 | F6: =H6+J6+L6 -> 10242900 | G6: =[21]단가산출!CY83 -> 0 | H6: =TRUNC(C6*G6,0) -> 0 | I6: =[21]단가산출!CZ83 -> 0 | J6: =TRUNC(C6*I6,0) -> 0 | K6: =+단가산출목록!H6 -> 22,762 | L6: =TRUNC(C6*K6,0) -> 10242900 | M6: 산근 2호표
A7: 폐기물운반(콘크리트) | B7: 현장→중간처리업체 | C7: =+수량!C9+수량!C11 -> 400 | D7: ㎥ | E7: =G7+I7+K7 -> 14451 | F7: =H7+J7+L7 -> 5780400 | G7: =[21]단가산출!CY126 -> 0 | H7: =TRUNC(C7*G7,0) -> 0 | I7: =[21]단가산출!CZ126 -> 0 | J7: =TRUNC(C7*I7,0) -> 0 | K7: =+단가산출목록!H7 -> 14,451 | L7: =TRUNC(C7*K7,0) -> 5780400 | M7: 산근 3호표
A8: 폐기물운반(건설폐재류) | B8: 현장→중간처리업체 | C8: 0 | D8: ㎥ | E8: =G8+I8+K8 -> 20133 | F8: =H8+J8+L8 -> 0 | G8: =[21]단가산출!CY165 -> 0 | H8: =TRUNC(C8*G8,0) -> 0 | I8: =[21]단가산출!CZ165 -> 0 | J8: =TRUNC(C8*I8,0) -> 0 | K8: =+단가산출목록!H8 -> 20,133 | L8: =TRUNC(C8*K8,0) -> 0 | M8: 산근 4호표
A9: 폐기물운반(혼합폐기물) | B9: 현장→중간처리업체 | C9: 0 | D9: ㎥ | E9: =G9+I9+K9 -> 17626 | F9: =H9+J9+L9 -> 0 | G9: =[21]단가산출!CY204 -> 0 | H9: =TRUNC(C9*G9,0) -> 0 | I9: =[21]단가산출!CZ204 -> 0 | J9: =TRUNC(C9*I9,0) -> 0 | K9: =+단가산출목록!H9 -> 17,626 | L9: =TRUNC(C9*K9,0) -> 0 | M9: 산근 5호표
A34: *. 폐기물 처리비 | C34: 0 | E34: =G34+I34+K34 -> 0 | F34: =H34+J34+L34 -> 105501762 | G34: 0 | H34: =SUM(H35:H39) -> 0 | I34: 0 | J34: =SUM(J35:J39) -> 0 | K34: 0 | L34: =SUM(L35:L39) -> 105501762
A35: 폐기물 처리비 | B35: 폐아스팔트콘크리트 | C35: 1911 | D35: Ton | E35: =G35+I35+K35 -> 32034 | F35: =H35+J35+L35 -> 61216974 | G35: =[21]견적.표준시장단가!K5 -> 0 | H35: =TRUNC(C35*G35,0) -> 0 | I35: =[21]견적.표준시장단가!L5 -> 0 | J35: =TRUNC(C35*I35,0) -> 0 | K35: =+처리비단가!M5 -> 32034 | L35: =C35*K35 -> 61216974
A36: 폐기물 처리비 | B36: 아스콘 절삭 | C36: 1058 | D36: Ton | E36: =G36+I36+K36 -> 15384 | F36: =H36+J36+L36 -> 16276272 | G36: =[21]견적.표준시장단가!K6 -> 0 | H36: =TRUNC(C36*G36,0) -> 0 | I36: =[21]견적.표준시장단가!L6 -> 0 | J36: =TRUNC(C36*I36,0) -> 0 | K36: =+처리비단가!M6 -> 15384 | L36: =C36*K36 -> 16276272
A37: 폐기물 처리비 | B37: 폐콘크리트 | C37: =57+865 -> 922 | D37: Ton | E37: =G37+I37+K37 -> 30378 | F37: =H37+J37+L37 -> 28008516 | G37: =[21]견적.표준시장단가!K7 -> 0 | H37: =TRUNC(C37*G37,0) -> 0 | I37: =[21]견적.표준시장단가!L7 -> 0 | J37: =TRUNC(C37*I37,0) -> 0 | K37: =+처리비단가!M7 -> 30378 | L37: =C37*K37 -> 28008516
A38: 폐기물 처리비 | B38: 건설폐재류 | C38: 0 | D38: Ton | E38: =G38+I38+K38 -> 0 | F38: =H38+J38+L38 -> 0 | G38: =[21]견적.표준시장단가!K8 -> 0 | H38: =TRUNC(C38*G38,0) -> 0 | I38: =[21]견적.표준시장단가!L8 -> 0 | J38: =TRUNC(C38*I38,0) -> 0 | K38: =+처리비단가!M8 -> 0 | L38: =TRUNC(C38*K38,0) -> 0
A39: 폐기물 처리비 | B39: 혼합폐기물 | C39: 0 | D39: ㎥ | E39: =G39+I39+K39 -> 0 | F39: =H39+J39+L39 -> 0 | G39: =[21]견적.표준시장단가!K9 -> 0 | H39: =TRUNC(C39*G39,0) -> 0 | I39: =[21]견적.표준시장단가!L9 -> 0 | J39: =TRUNC(C39*I39,0) -> 0 | K39: =+처리비단가!M9 -> 0 | L39: =TRUNC(C39*K39,0) -> 0

Sheet 수량
A1: 수 량 산 출 서
A2: 규 격 | B2: 단위 | C2: 계 | D2: 도두 차집관로 | E2: 도리 차집관로 | F2: 도두 중계펌프장 | G2: 접합정 | H2: 우선시공분 | I2: 공통공사 | J2: 비 고
A5: 폐아스콘 | B5: M3 | C5: =ROUND(SUM(D5:I5),0) -> 813 | D5: 209.43 | E5: 586.47 | F5: 1.9 | G5: 15.18 | J5: 단위중량 2.35ton/m3
B6: TON | C6: =ROUND(SUM(D6:I6),0) -> 1911 | D6: =D5*2.35 -> 492.1605 | E6: =E5*2.35 -> 1378.2045 | F6: =F5*2.35 -> 4.465 | G6: =G5*2.35 -> 35.673
A7: 폐아스콘 (절삭) | B7: M3 | C7: =ROUND(SUM(D7:I7),0) -> 450 | D7: 124.51 | E7: 325.58
B8: TON | C8: =ROUND(SUM(D8:I8),0) -> 1058 | D8: =D7*2.35 -> 292.5985 | E8: =E7*2.35 -> 765.113
A9: 폐콘크리트 (무근) | B9: M3 | C9: =ROUND(SUM(D9:I9),0) -> 376 | D9: 217.7825 | E9: 14.145125 | F9: 30.102 | G9: 28.228 | I9: 86
B10: TON | C10: =ROUND(SUM(D10:I10),0) -> 865 | D10: =D9*2.3 -> 500.89975 | E10: =E9*2.3 -> 32.533787 | F10: =F9*2.3 -> 69.2346 | G10: =G9*2.3 -> 64.9244 | H10: =H9*2.3 -> 0 | I10: =I9*2.3 -> 197.8
A11: 폐콘크리트 (철근) | B11: M3 | C11: =ROUND(SUM(D11:I11),0) -> 24 | F11: 0.12 | I11: 23.93
B12: TON | C12: =ROUNDDOWN(SUM(D12:I12),0) -> 57 | F12: 0.288 | I12: 57.432 | J12: =F12/F11 -> 2.4
A13: 합 계 | B13: M3 | C13: =ROUND(SUM(D13:I13),0) -> 1663 | D13: =+D5+D7+D9+D11 -> 551.7225 | E13: =+E5+E7+E9+E11 -> 926.19512 | F13: =+F5+F7+F9+F11 -> 32.122 | G13: =+G5+G7+G9+G11 -> 43.408 | H13: =+H5+H7+H9+H11 -> 0 | I13: =+I5+I7+I9+I11 -> 109.93
B14: TON | C14: =ROUND(SUM(D14:I14),0) -> 3891 | D14: =+D6+D8+D10+D12 -> 1285.6587 | E14: =+E6+E8+E10+E12 -> 2175.8513 | F14: =+F6+F8+F10+F12 -> 73.9876 | G14: =+G6+G8+G10+G12 -> 100.5974 | H14: =+H6+H8+H10+H12 -> 0 | I14: =+I6+I8+I10+I12 -> 255.232

Sheet 단가산출목록
A1: 단 가 산 출 목 록 표
A3: 공 종 | B3: 규 격 | C3: 수 량 | D3: 단위 | E3: 합 계 | F3: 재 료 비 | G3: 노 무 비 | H3: 경 비 | I3: 비 고
A5: 폐기물운반(아스콘굴착) | B5: 현장→중간처리업체 | C5: 1 | D5: ㎥ | E5: =F5+G5+H5 -> 14641 | F5: =[21]단가산출!CY46 -> 0 | G5: =[21]단가산출!CZ46 -> 0 | H5: =+단가산출!DA46 -> 14,641 | I5: 산근 1호표
A6: 폐기물운반(아스콘절삭) | B6: 현장→중간처리업체 | C6: 1 | D6: ㎥ | E6: =F6+G6+H6 -> 22762 | F6: =[21]단가산출!CY83 -> 0 | G6: =[21]단가산출!CZ83 -> 0 | H6: =+단가산출!DA83 -> 22,762 | I6: 산근 2호표
A7: 폐기물운반(콘크리트) | B7: 현장→중간처리업체 | C7: 1 | D7: ㎥ | E7: =F7+G7+H7 -> 14451 | F7: =[21]단가산출!CY126 -> 0 | G7: =[21]단가산출!CZ126 -> 0 | H7: =+단가산출!DA126 -> 14,451 | I7: 산근 3호표
A8: 폐기물운반(건설폐재류) | B8: 현장→중간처리업체 | C8: 1 | D8: ㎥ | E8: =F8+G8+H8 -> 20133 | F8: =[21]단가산출!CY165 -> 0 | G8: =[21]단가산출!CZ165 -> 0 | H8: =+단가산출!DA165 -> 20,133 | I8: 산근 4호표
A9: 폐기물운반(혼합폐기물) | B9: 현장→중간처리업체 | C9: 1 | D9: ㎥ | E9: =F9+G9+H9 -> 17626 | F9: =[21]단가산출!CY204 -> 0 | G9: =[21]단가산출!CZ204 -> 0 | H9: =+단가산출!DA204 -> 17,626 | I9: 산근 5호표

Sheet 단가산출
A1: 단 가 산 출 근 거 | DO1: 5
DO2: A
A3: 산 출 근 거 | CX3: 합 계 | CY3: 재료비 | CZ3: 노무비 | DA3: 경 비 | DO3: 205
DO4: DA
A5: 산근 1 호표 ：폐기물운반(아스콘굴착) (현장→중간처리업체) ㎥ 당 | DM5: :S-SCRAP-0010 | DN5: "◈ 폐기물운반(아스콘굴착) 현장→중간처리업체 ; ㎥당"&C_&C_ "1. 운반 (덤프트럭 24ton) "&C_&C_ L = 15.0"km"&C_&C_ K = 0.55, E = 0.9, f = 1/1.50 =&C_&C_ Cms = 18"sec", Es = 0.45&C_&C_ q = 24 / 2.35 * 1.5 = "㎥"&C_&C_ N = q / (0.7 * K) = "회" &C_&C_ t1 = Cms * N / (60 * Es) =&C_&C_ t2 = (?L * 2) / 35 * 60 = "min"&C_&C_ t3 = 0.80, t4 = 0.15, t5 = 0.50"(자동덮게시설)"&C_&C_ "건설표준품셈 8-1-3 7.운반기계의 유류 산정에 따라 적사시간이"&C_&C_ "10분을 초과할 경우 주행거리에 해당하는 유류만 계상"&C_&C_ Cm = t1 + t2 + t3 + t4 + t5 = "min"&C_&C_ T0 = (t2 + t3 + t4) / Cm =&C_&C_ Q = (60 * q * f * E) / Cm = "㎥/hr"&C_&C_ "재 료 비:"[D0602-0240] / Q * T0 =&C_&C_ "노 무 비:"[D0602-0240] / Q = &C_&C_ "경 비:"([D0602-0240]+[D0610-0240]) / Q = &C_&C_ /-&C_&C_ ++>
A6: ◈ 폐기물운반(아스콘굴착) 현장→중간처리업체 ; ㎥당
A8: 1. 운반 (덤프트럭 24ton)
F10: L | H10: = | J10: =TEXT(11.2,"#,##0.0#######") -> 11.2 | O10: km
F12: K | H12: = | J12: =TEXT(0.55,"#,##0.00#######") -> 0.55 | O12: , | Q12: E | S12: = | U12: =TEXT(0.9,"#,##0.0#######") -> 0.9 | Y12: , | AA12: f | AC12: = | AE12: =TEXT(1,"#,##0") -> 1 | AG12: / | AI12: =TEXT(1.5,"#,##0.00#######") -> 1.50 | AN12: = | AP12: =TEXT(ROUND(AE12/AI12,2),"#,##0.00#######") -> 0.67
F14: Cms | J14: = | L14: =TEXT(18,"#,##0") -> 18 | O14: sec | U14: , | X14: Es | AA14: = | AC14: =TEXT(0.45,"#,##0.00#######") -> 0.45
F16: q | H16: = | J16: =TEXT(24,"#,##0") -> 24 | M16: / | O16: =TEXT(2.35,"#,##0.00#######") -> 2.35 | T16: * | V16: =TEXT(1.5,"#,##0.0#######") -> 1.5 | Z16: = | AB16: =TEXT(ROUND(J16/O16*V16,2),"#,##0.00#######") -> 15.32 | AI16: ㎥
F18: N | H18: = | J18: q | L18: / | N18: ( | P18: =TEXT(0.7,"#,##0.0#######") -> 0.7 | T18: * | V18: K) | Y18: = | AA18: =TEXT(ROUND(AB16/(P18*J12),2),"#,##0.00#######") -> 39.79 | AH18: 회
F20: t1 | I20: = | K20: Cms | O20: * | Q20: N | S20: / | U20: ( | W20: =TEXT(60,"#,##0") -> 60 | Z20: * | AB20: Es) | AF20: = | AH20: =TEXT(ROUND(L14*AA18/(W20*AC14),2),"#,##0.00#######") -> 26.53
F22: t2 | I22: = | K22: ( | M22: L | O22: * | Q22: =TEXT(2,"#,##0") -> 2 | S22: ) | U22: / | W22: =TEXT(35,"#,##0") -> 35 | Z22: * | AB22: =TEXT(60,"#,##0") -> 60 | AE22: = | AG22: =TEXT(ROUND((J10*Q22)/W22*AB22,2),"#,##0.00#######") -> 38.40 | AN22: min
F24: t3 | I24: = | K24: =TEXT(0.8,"#,##0.00#######") -> 0.80 | P24: , | R24: t4 | U24: = | W24: =TEXT(0.15,"#,##0.00#######") -> 0.15 | AB24: , | AD24: t5 | AG24: = | AI24: =TEXT(0.5,"#,##0.00#######") -> 0.50 | AN24: (자동덮게시설)
A26: 건설표준품셈 8-1-3 7.운반기계의 유류 산정에 따라 적사시간이
A28: 10분을 초과할 경우 주행거리에 해당하는 유류만 계상
F30: Cm | I30: = | K30: t1 | N30: + | P30: t2 | S30: + | U30: t3 | X30: + | Z30: t4 | AC30: + | AE30: t5 | AH30: = | AJ30: =TEXT(ROUND(AH20+AG22+K24+W24+AI24,2),"#,##0.00#######") -> 66.38 | AQ30: min
F32: T0 | I32: = | K32: (t2 | O32: + | Q32: t3 | T32: + | V32: t4 | Y32: ) | AA32: / | AC32: Cm | AF32: = | AH32: =TEXT(ROUND((AG22+K24+W24)/AJ30,2),"#,##0.00#######") -> 0.59
F34: Q | H34: = | J34: ( | L34: =TEXT(60,"#,##0") -> 60 | O34: * | Q34: q | S34: * | U34: f | W34: * | Y34: E) | AB34: / | AD34: Cm | AG34: = | AI34: =TEXT(ROUND((L34*AB16*AP12*U12)/AJ30,2),"#,##0.00#######") -> 8.35 | AO34: ㎥/hr
G36: 재료비: | L36: =TEXT(TRUNC([21]건설기계!H10,0),"#,##0") -> 50,466 | S36: / | U36: Q | W36: * | Y36: T0 | AB36: = | AD36: =TEXT(ROUNDDOWN(L36/AI34*AH32,1),"#,##0.0#######") -> 3,565.8 | CX36: =CY36+CZ36+DA36 -> 3565.8 | CY36: =TEXT(AD36,"#,###.0") -> 3,565.8 | DM36: D0602-0240
G38: 노무비: | L38: =TEXT(TRUNC([21]건설기계!J10,0),"#,##0") -> 59,025 | S38: / | U38: Q | W38: = | Y38: =TEXT(ROUNDDOWN(L38/AI34,1),"#,##0.0#######") -> 7,068.8 | CX38: =CY38+CZ38+DA38 -> 7068.8 | CZ38: =TEXT(Y38,"#,###.0") -> 7,068.8 | DM38: D0602-0240
G40: 경 비: | L40: ( | N40: =TEXT(TRUNC([21]건설기계!L10,0),"#,##0") -> 32,950 | U40: + | W40: =TEXT(TRUNC([21]건설기계!L14,0),"#,##0") -> 508 | AA40: ) | AC40: / | AE40: Q | AG40: = | AI40: =TEXT(ROUNDDOWN((N40+W40)/AI34,1),"#,##0.0#######") -> 4,006.9 | CX40: =CY40+CZ40+DA40 -> 4006.9 | DA40: =TEXT(AI40,"#,###.0") -> 4,006.9 | DM40: D0610-0240
A42: ------------------------------------------------------------
F44: 합 | J44: 계 | CX44: =CY44+CZ44+DA44 -> 14641.5 | CY44: =TEXT(TRUNC(CY36+CY38+CY40,1),"#,###.0") -> 3,565.8 | CZ44: =TEXT(TRUNC(CZ36+CZ38+CZ40,1),"#,###.0") -> 7,068.8 | DA44: =TEXT(TRUNC(DA36+DA38+DA40,1),"#,###.0") -> 4,006.9
A46: 계 | CX46: =TEXT(CY46+CZ46+DA46,"#,##0") -> 14,641 | DA46: =TEXT(TRUNC(CY44+CZ44+DA44,0),"#,##0") -> 14,641
A48: 산근 2 호표 ：폐기물운반(아스콘절삭) (현장→중간처리업체) ㎥ 당 | DM48: :S-SCRAP-0011 | DN48: "◈ 폐기물운반(아스콘절삭) 현장→중간처리업체 ; ㎥당"&C_&C_ "1. 운반 (덤프트럭 24ton) "&C_&C_ L = 15.0"km"&C_&C_ K = 1.1, E = 0.9, f = 1/1.17 =&C_&C_ Cms = 18"sec", Es = 0.75&C_&C_ N"(절삭기 절삭시간)" = 4"min/㎥"&C_&C_ q = 24 / 2.35 * 1.17 = "㎥"&C_&C_ t1 = N * q =&C_&C_ t2 = (?L * 2) / 35 * 60 = "min"&C_&C_ t3 = 0.50, t4 = 0.15, t5 = 0.50"(자동덮게시설)"&C_&C_ Cm = t1 + t2 + t3 + t4 + t5 = "min"&C_&C_ Q = (60 * q * f * E) / Cm = "㎥/hr"&C_&C_ "재 료 비:"[D0602-0240] / Q =&C_&C_ "노 무 비:"[D0602-0240] / Q = &C_&C_ "경 비:"([D0602-0240]+[D0610-0240]) / Q = &C_&C_ /-&C_&C_ ++>
A49: ◈ 폐기물운반(아스콘절삭) 현장→중간처리업체 ; ㎥당 | CX49: =CY49+CZ49+DA49 -> 0
A51: 1. 운반 (덤프트럭 24ton)
F53: L | H53: = | J53: =TEXT(11.2,"#,##0.0#######") -> 11.2 | O53: km
F55: K | H55: = | J55: =TEXT(1.1,"#,##0.0#######") -> 1.1 | N55: , | P55: E | R55: = | T55: =TEXT(0.9,"#,##0.0#######") -> 0.9 | X55: , | Z55: f | AB55: = | AD55: =TEXT(1,"#,##0") -> 1 | AF55: / | AH55: =TEXT(1.17,"#,##0.00#######") -> 1.17 | AM55: = | AO55: =TEXT(ROUND(AD55/AH55,2),"#,##0.00#######") -> 0.85
F57: Cms | J57: = | L57: =TEXT(18,"#,##0") -> 18 | O57: sec | U57: , | X57: Es | AA57: = | AC57: =TEXT(0.75,"#,##0.00#######") -> 0.75
F59: N | H59: (절삭기 절삭시간) | N59: = | P59: =TEXT(4,"#,##0") -> 4 | R59: min/㎥
F61: q | H61: = | J61: =TEXT(24,"#,##0") -> 24 | M61: / | O61: =TEXT(2.35,"#,##0.00#######") -> 2.35 | T61: * | V61: =TEXT(1.17,"#,##0.00#######") -> 1.17 | AA61: = | AC61: =TEXT(ROUND(J61/O61*V61,2),"#,##0.00#######") -> 11.95 | AJ61: ㎥
F63: t1 | I63: = | K63: N | M63: * | O63: q | Q63: = | S63: =TEXT(ROUND(P59*AC61,1),"#,##0.0#######") -> 47.8
F65: t2 | I65: = | K65: ( | M65: L | O65: * | Q65: =TEXT(2,"#,##0") -> 2 | S65: ) | U65: / | W65: =TEXT(35,"#,##0") -> 35 | Z65: * | AB65: =TEXT(60,"#,##0") -> 60 | AE65: = | AG65: =TEXT(ROUND((J53*Q65)/W65*AB65,2),"#,##0.00#######") -> 38.40 | AN65: min
F67: t3 | I67: = | K67: =TEXT(0.5,"#,##0.00#######") -> 0.50 | P67: , | R67: t4 | U67: = | W67: =TEXT(0.15,"#,##0.00#######") -> 0.15 | AB67: , | AD67: t5 | AG67: = | AI67: =TEXT(0.5,"#,##0.00#######") -> 0.50 | AN67: (자동덮게시설)
F69: Cm | I69: = | K69: t1 | N69: + | P69: t2 | S69: + | U69: t3 | X69: + | Z69: t4 | AC69: + | AE69: t5 | AH69: = | AJ69: =TEXT(ROUND(S63+AG65+K67+W67+AI67,2),"#,##0.00#######") -> 87.35 | AR69: min
F71: Q | H71: = | J71: ( | L71: =TEXT(60,"#,##0") -> 60 | O71: * | Q71: q | S71: * | U71: f | W71: * | Y71: E) | AB71: / | AD71: Cm | AG71: = | AI71: =TEXT(ROUND((L71*AC61*AO55*T55)/AJ69,2),"#,##0.00#######") -> 6.28 | AO71: ㎥/hr
G73: 재료비: | L73: =TEXT(TRUNC([21]건설기계!H10,0),"#,##0") -> 50,466 | S73: / | U73: Q | W73: = | Y73: =TEXT(ROUNDDOWN(L73/AI71,1),"#,##0.0#######") -> 8,035.9 | CX73: =CY73+CZ73+DA73 -> 8035.9 | CY73: =TEXT(Y73,"#,###.0") -> 8,035.9 | DM73: D0602-0240
...

Sheet 건설기계적용기준
C6: ◈ ◈ 적 용 기 준 ◈ ◈
C8: ▣ 유 류 대
C9: 경 유 : 1,590.00 원
C11: ▣ 노 무 비
C12: ⊙ 노임산출계수(보통)
C13: 건설기계운전사 : 283,323.00 x 16/12 x 1/8 x 25/20 = 59,025.00 원

Sheet 건설기계목록
A1: 건 설 기 계 목 록 표
A3: 공 종 | B3: 규 격 | C3: 수 량 | D3: 단위 | E3: 합 계 | F3: 재 료 비 | G3: 노 무 비 | H3: 경 비 | I3: 비 고
A5: 덤프트럭 | B5: 24 ton | C5: 1 | D5: 시간 | E5: =F5+G5+H5 -> 142441 | F5: =[21]건설기계!H10 -> 50466 | G5: =[21]건설기계!J10 -> 59025 | H5: =[21]건설기계!L10 -> 32950 | I5: D0602-0240
A6: 덤프트럭 자동덮개시설 | B6: 24ton | C6: 1 | D6: 시간 | E6: =F6+G6+H6 -> 508 | F6: =[21]건설기계!H14 -> 0 | G6: =[21]건설기계!J14 -> 0 | H6: =[21]건설기계!L14 -> 508 | I6: D0610-0240

Sheet 건설기계
B1: 건 설 기 계 손 료
B3: 구 분 | C3: 규 격 | D3: 수량 | E3: 단위 | F3: 합 계 | H3: 재 료 비 | J3: 노 무 비 | L3: 경 비 | N3: 비 고
F4: 단 가 | G4: 금 액 | H4: 단 가 | I4: 금 액 | J4: 단 가 | K4: 금 액 | L4: 단 가 | M4: 금 액
B5: ：덤프트럭 (24 ton)【기계가격：147,825 천원】
B6: 경 유 | C6: 저 유 황 | D6: 23 | E6: ℓ | F6: =H6+J6+L6 -> 1590 | G6: =I6+K6+M6 -> 36570 | H6: =[21]자재단가!R5 -> 1590 | I6: =TRUNC(D6*H6,1) -> 36570 | J6: 0 | K6: =TRUNC(D6*J6,1) -> 0 | L6: 0 | M6: =TRUNC(D6*L6,1) -> 0 | N6: M0000-101
B7: 잡 품 | C7: 주연료비의 % | D7: 38 | E7: % | F7: =H7+J7+L7 -> 36570 | G7: =I7+K7+M7 -> 13896.6 | H7: =I6 -> 36570 | I7: =TRUNC(D7/100*H7,1) -> 13896.6 | J7: 0 | K7: =TRUNC(D7/100*J7,1) -> 0 | L7: 0 | M7: =TRUNC(D7/100*L7,1) -> 0
B8: 건설기계운전사 | D8: 1 | E8: 인 | F8: =H8+J8+L8 -> 59025 | G8: =I8+K8+M8 -> 59025 | H8: 0 | I8: =TRUNC(D8*H8,1) -> 0 | J8: =TRUNC([21]노임단가!K5*16/12*1/8*25/20,0) -> 59025 | K8: =TRUNC(D8*J8,1) -> 59025 | L8: 0 | M8: =TRUNC(D8*L8,1) -> 0 | N8: W1048
B9: 기계손료 | C9: 상각비:900/정비비:650/관리비:679 | D9: =2229*10^-7*1000 -> 0.2229 | F9: =H9+J9+L9 -> 147825 | G9: =I9+K9+M9 -> 32950.1 | H9: 0 | I9: =TRUNC(D9*H9,1) -> 0 | J9: 0 | K9: =TRUNC(D9*J9,1) -> 0 | L9: 147825 | M9: =TRUNC(D9*L9,1) -> 32950.1
B10: 계 | G10: =I10+K10+M10 -> 142441 | I10: =ROUNDDOWN(SUM(I6:I9),0) -> 50466 | K10: =ROUNDDOWN(SUM(K6:K9),0) -> 59025 | M10: =ROUNDDOWN(SUM(M6:M9),0) -> 32950
B12: ：덤프트럭 자동덮개시설 (24ton)【기계가격：1,896 천원】
B13: 기계손료 | C13: 상각비:1125/정비비:1063/관리비:496 | D13: =2684*10^-7*1000 -> 0.2684 | F13: =H13+J13+L13 -> 1896 | G13: =I13+K13+M13 -> 508.8 | H13: 0 | I13: =TRUNC(D13*H13,1) -> 0 | J13: 0 | K13: =TRUNC(D13*J13,1) -> 0 | L13: 1896 | M13: =TRUNC(D13*L13,1) -> 508.8
B14: 계 | G14: =I14+K14+M14 -> 508 | I14: =ROUNDDOWN(SUM(I13:I13),0) -> 0 | K14: =ROUNDDOWN(SUM(K13:K13),0) -> 0 | M14: =ROUNDDOWN(SUM(M13:M13),0) -> 508

Sheet 노임단가
B1: 노 임 단 가 | DP1: 5
DP2: A
B3: 번호 | C3: 직 종 명 | D3: 단위 | E3: 건 설 협 회 | G3: 조 달 청 | I3: 기타단가 | J3: 단 가 | K3: 낙찰율(%) | L3: 단 가 | M3: 비 고 | DP3: 5
E4: 상반기 | F4: 하반기 | G4: 상반기 | H4: 하반기 | DP4: L
B5: 1 | C5: 건설기계운전사 | D5: 인 | E5: 283297 | F5: 283323 | G5: 0 | H5: 0 | I5: 0 | J5: 283323 | K5: 0 | L5: =IF(K5=0,J5,TRUNC(K5/100*J5,0)) -> 283323 | M5: 일반공사 직종 | DN5: W1048

Sheet 자재단가
A1: 자 재 단 가
A3: 품 명 | B3: 규 격 | C3: 단위 | D3: 가 격 정 보 | F3: 물 가 자 료 | H3: 물 가 정 보 | J3: 거 래 가 격 | L3: 유 통 물 가 | N3: 기 타 가 격 | P3: 단 가 | Q3: 낙찰율(%) | R3: 단 가 | S3: 비 고
D4: 단 가 | E4: Page | F4: 단 가 | G4: Page | H4: 단 가 | I4: Page | J4: 단 가 | K4: Page | L4: 단 가 | M4: Page | N4: 단 가 | O4: Page
A5: 경 유 | B5: 저 유 황 | C5: ℓ | D5: 1590 | E5: 26.09.01(조달청) | F5: 0 | H5: 0 | J5: 0 | L5: 0 | N5: 0 | P5: 1590 | Q5: 0 | R5: =IF(Q5=0,P5,TRUNC(Q5/100*P5,0)) -> 1590

Sheet 처리비단가
A1: 견 적 . 표 준 시 장 단 가
A3: 구 분 | B3: 규 격 | C3: 수량 | D3: 단위 | E3: 합 계 | F3: 재 료 비 | G3: 노 무 비 | H3: 경 비 | I3: 낙찰율(%) | J3: 합 계 | K3: 재료비 | L3: 노무비 | M3: 경 비 | N3: 비 고
A5: 폐기물 처리비 | B5: 폐아스팔트콘크리트 | C5: 1 | D5: Ton | E5: =F5+G5+H5 -> 32166 | F5: 0 | G5: 0 | H5: 32166 | I5: 0 | J5: =K5+L5+M5 -> 32034 | K5: =IF(I5=0,F5,TRUNC(I5/100*F5,0)) -> 0 | L5: =IF(I5=0,G5,TRUNC(I5/100*G5,0)) -> 0 | M5: 32034 | N5: 서귀포시
A6: 폐기물 처리비 | B6: 아스콘 절삭 | C6: 1 | D6: Ton | E6: =F6+G6+H6 -> 15384 | F6: 0 | G6: 0 | H6: 15384 | I6: 0 | J6: =K6+L6+M6 -> 15384 | K6: =IF(I6=0,F6,TRUNC(I6/100*F6,0)) -> 0 | L6: =IF(I6=0,G6,TRUNC(I6/100*G6,0)) -> 0 | M6: =IF(I6=0,H6,TRUNC(I6/100*H6,0)) -> 15384 | N6: 제주도
A7: 폐기물 처리비 | B7: 폐콘크리트 | C7: 1 | D7: Ton | E7: =F7+G7+H7 -> 31142 | F7: 0 | G7: 0 | H7: 31142 | I7: 0 | J7: =K7+L7+M7 -> 30378 | K7: =IF(I7=0,F7,TRUNC(I7/100*F7,0)) -> 0 | L7: =IF(I7=0,G7,TRUNC(I7/100*G7,0)) -> 0 | M7: 30378 | N7: 서귀포시

Sheet 최단거리

Sheet 심사결과요약서
B1: 심사결과요약서
I2: (단위:원)
B3: 구분 | F3: 요청내용 | G3: 심사내용 | H3: 증감 | I3: 비 고
B4: 순 공 사 원 가 | C4: 재 료 비 | D4: 직접재료비 | E4: 1
D5: 간접재료비 | E5: 2
D6: 소계 | E6: A
C7: 노 무 비 | D7: 직접노무비 | E7: 3
D8: 간접노무비 | E8: 4
D9: 소계 | E9: B
C10: 경 비 | D10: 산출경비 | E10: 5 | F10: 36972282 | G10: =+예산내역서!F4 -> 27926433 | H10: =G10-F10 -> -9045849
D11: 산재보험료 | E11: 6
D12: 고용보험료 | E12: 7
D13: 건강보험료 | E13: 8
D14: 연금보험료 | E14: 9
D15: 산업안전보건관리비 | E15: 10
D16: 노인장기요양보험료 | E16: 11
D17: 퇴직공제부금비 | E17: 12
D18: 건설기계대여대금지급보증서발급금액 | E18: 13
D19: 하도급대금지급보증수수료 | E19: 14
D20: 공사이행보증수수료 | E20: 15
D21: 환경보전비 | E21: 16
D22: 가설건물 | E22: 17
... D24: 기타경비 | E24: 19
D25: 소계 | E25: C | F25: =SUM(F10:F24) -> 36972282 | G25: =SUM(G10:G24) -> 27926433 | H25: =G25-F25 -> -9045849
D26: 순공사비원가 | E26: D | F26: =F25 -> 36972282 | G26: =G4+G7+G25 -> 27926433 | H26: =G26-F26 -> -9045849
D27: 일반관리비 | E27: E
D28: 이윤 | E28: F
D29: 폐기물처리수수료 | E29: G | F29: 105501762 | G29: =+예산내역서!F34 -> 105501762
D30: 총원가 | E30: H | F30: =ROUNDDOWN(F26+F29,-4) -> 142470000 | G30: =SUM(G26:G29) -> 133428195 | H30: =G30-F30 -> -9041805
D31: 부가가치세 | E31: I | F31: =F30*10% -> 14247000 | G31: =G30*10% -> 13342820 | H31: =G31-F31 -> -904180.5
D32: 도급액 | E32: J | F32: =ROUNDDOWN(F31+F30,-3) -> 156717000 | G32: =TRUNC(SUM(G30:G31),-3) -> 146771000 | H32: =G32-F32 -> -9946000
D33: 총용역비 | E33: L | F33: =F32 -> 156717000 | G33: =G32 -> 146771000 | H33: =G33-F33 -> -9946000
