Workbook
Name _: #REF!
Name _______A1: #REF!
Name _______mcv1: #REF!
Name _______mcv2: #REF!
Name _______mcv3: #REF!
Name _______mcv4: #REF!
Name _______mcv5: #REF!
Name _______mhw1: #REF!
Name _______mvw1: #REF!
Name _______pa1: #REF!
Name _______pa2: #REF!
Name _______pe22: #REF!
Name _______RD1: #REF!
Name _______RD2: #REF!
Name _______RD3: #REF!
Name _______RD4: #REF!
Name _______RD5: #REF!
Name _______RD6: #REF!
Name _______RD7: #REF!
Name _______RL1: #REF!
Name _______RL2: #REF!
Name _______RL3: #REF!
Name _______RL4: #REF!
Name _______RL5: #REF!
Name _______RL6: #REF!
Name _______RL7: #REF!
Name _______s1: #REF!
Name _______sp1: #REF!
Name _______sp2: #REF!
Name _______sp3: #REF!
Name _______SS1: #REF!
Name _______SS2: #REF!
Name _______TC1: #REF!
Name _______TC2: #REF!
Name _______tdl2: #REF!
Name _______teb1: #REF!
Name _______teb2: #REF!
Name _______teb3: #REF!
Name _______Ted1: #REF!
Name _______tll2: #REF!
Name _______tri11: #REF!
Name _______tri12: #REF!
Name _______tri13: #REF!
Name _______tri14: #REF!
Name _______tri15: #REF!
Name _______tri22: #REF!
Name _______tri23: #REF!
Name _______tri24: #REF!
Name _______tri25: #REF!
Name _______tri32: #REF!
Name _______tri33: #REF!
Name _______tri34: #REF!
Name _______tri35: #REF!
Name _______tri42: #REF!
Name _______tri43: #REF!
Name _______tri44: #REF!
Name _______tri45: #REF!
Name _______Ts1: #REF!
Name _______TW1: #REF!
Name _______TW2: #REF!

Sheet 공종별집계표
A1: 공 종 별 집 계 표
A2: [ 인명여자고등학교 드라이비트 개선공사 ]
A3: 품 명 | B3: 규 격 | C3: 단위 | D3: 수량 | E3: 재 료 비 | G3: 노 무 비 | I3: 경 비 | K3: 합 계 | M3: 비 고 | N3: 공종코드 | O3: 변수 | P3: 상위공종 | Q3: 공종구분 | R3: 공종레벨 | S3: 공종소계 | T3: 원가계산서 연결금액
E4: 단 가 | F4: 금 액 | G4: 단 가 | H4: 금 액 | I4: 단 가 | J4: 금 액 | K4: 단 가 | L4: 금 액
A5: 인명여자고등학교 드라이비트 개선공사 | D5: 1 | E5: =F6+F12 -> 0 | F5: =E5*D5 -> 0 | G5: =H6+H12 -> 0 | H5: =G5*D5 -> 0 | I5: =J6+J12 -> 0 | J5: =I5*D5 -> 0 | K5: =E5+G5+I5 -> 0 | L5: =F5+H5+J5 -> 0 | N5: 01 | R5: 1
A6: ▣ A동 | D6: 1 | E6: =F7+F8+F9+F10+F11 -> 0 | F6: =E6*D6 -> 0 | G6: =H7+H8+H9+H10+H11 -> 0 | H6: =G6*D6 -> 0 | I6: =J7+J8+J9+J10+J11 -> 0 | J6: =I6*D6 -> 0 | K6: =E6+G6+I6 -> 0 | L6: =F6+H6+J6 -> 0 | N6: 0101 | P6: 01 | R6: 2
A7: 가 설 공 사 | B7: ** A동 ** | D7: 1 | E7: =공종별내역서!F27 -> 0 | F7: =E7*D7 -> 0 | G7: =공종별내역서!H27 -> 0 | H7: =G7*D7 -> 0 | I7: =공종별내역서!J27 -> 0 | J7: =I7*D7 -> 0 | K7: =E7+G7+I7 -> 0 | L7: =F7+H7+J7 -> 0 | N7: 010101 | P7: 0101 | R7: 3
A8: 수 장 공 사 | B8: ** A동 ** | D8: 1 | E8: =공종별내역서!F51 -> 0 | F8: =E8*D8 -> 0 | G8: =공종별내역서!H51 -> 0 | H8: =G8*D8 -> 0 | I8: =공종별내역서!J51 -> 0 | J8: =I8*D8 -> 0 | K8: =E8+G8+I8 -> 0 | L8: =F8+H8+J8 -> 0 | N8: 010102 | P8: 0101 | R8: 3
A9: 지붕 및 홈통공사 | B9: ** A동 ** | D9: 1 | E9: =공종별내역서!F75 -> 0 | F9: =E9*D9 -> 0 | G9: =공종별내역서!H75 -> 0 | H9: =G9*D9 -> 0 | I9: =공종별내역서!J75 -> 0 | J9: =I9*D9 -> 0 | K9: =E9+G9+I9 -> 0 | L9: =F9+H9+J9 -> 0 | N9: 010103 | P9: 0101 | R9: 3
A10: 기 타 공 사 | B10: ** A동 ** | D10: 1 | E10: =공종별내역서!F99 -> 0 | F10: =E10*D10 -> 0 | G10: =공종별내역서!H99 -> 0 | H10: =G10*D10 -> 0 | I10: =공종별내역서!J99 -> 0 | J10: =I10*D10 -> 0 | K10: =E10+G10+I10 -> 0 | L10: =F10+H10+J10 -> 0 | N10: 010104 | P10: 0101 | R10: 3
A11: 철 거 공 사 | B11: ** A동 ** | D11: 1 | E11: =공종별내역서!F123 -> 0 | F11: =E11*D11 -> 0 | G11: =공종별내역서!H123 -> 0 | H11: =G11*D11 -> 0 | I11: =공종별내역서!J123 -> 0 | J11: =I11*D11 -> 0 | K11: =E11+G11+I11 -> 0 | L11: =F11+H11+J11 -> 0 | N11: 010105 | P11: 0101 | R11: 3
A12: ▣ G동 | D12: 1 | E12: =F13+F14+F15+F16 -> 0 | F12: =E12*D12 -> 0 | G12: =H13+H14+H15+H16 -> 0 | H12: =G12*D12 -> 0 | I12: =J13+J14+J15+J16 -> 0 | J12: =I12*D12 -> 0 | K12: =E12+G12+I12 -> 0 | L12: =F12+H12+J12 -> 0 | N12: 0102 | P12: 01 | R12: 2
A13: 가 설 공 사 | B13: ** G동 ** | D13: 1 | E13: =공종별내역서!F147 -> 0 | F13: =E13*D13 -> 0 | G13: =공종별내역서!H147 -> 0 | H13: =G13*D13 -> 0 | I13: =공종별내역서!J147 -> 0 | J13: =I13*D13 -> 0 | K13: =E13+G13+I13 -> 0 | L13: =F13+H13+J13 -> 0 | N13: 010201 | P13: 0102 | R13: 3
A14: 수 장 공 사 | B14: ** G동 ** | D14: 1 | E14: =공종별내역서!F171 -> 0 | F14: =E14*D14 -> 0 | G14: =공종별내역서!H171 -> 0 | H14: =G14*D14 -> 0 | I14: =공종별내역서!J171 -> 0 | J14: =I14*D14 -> 0 | K14: =E14+G14+I14 -> 0 | L14: =F14+H14+J14 -> 0 | N14: 010202 | P14: 0102 | R14: 3
A15: 기 타 공 사 | B15: ** G동 ** | D15: 1 | E15: =공종별내역서!F195 -> 0 | F15: =E15*D15 -> 0 | G15: =공종별내역서!H195 -> 0 | H15: =G15*D15 -> 0 | I15: =공종별내역서!J195 -> 0 | J15: =I15*D15 -> 0 | K15: =E15+G15+I15 -> 0 | L15: =F15+H15+J15 -> 0 | N15: 010203 | P15: 0102 | R15: 3
A16: 철 거 공 사 | B16: ** G동 ** | D16: 1 | E16: =공종별내역서!F219 -> 0 | F16: =E16*D16 -> 0 | G16: =공종별내역서!H219 -> 0 | H16: =G16*D16 -> 0 | I16: =공종별내역서!J219 -> 0 | J16: =I16*D16 -> 0 | K16: =E16+G16+I16 -> 0 | L16: =F16+H16+J16 -> 0 | N16: 010204 | P16: 0102 | R16: 3
A17: ▣ 도급자관급자재 | D17: 1 | E17: =F18 -> 0 | F17: =E17*D17 -> 0 | G17: =H18 -> 0 | H17: =G17*D17 -> 0 | I17: =J18 -> 0 | J17: =I17*D17 -> 0 | K17: =E17+G17+I17 -> 0 | L17: =F17+H17+J17 -> 0 | N17: 0103 | Q17: 3 | R17: 2 | T17: =L17*1 -> 0
A18: 도급자관급 | B18: ** A동 ** | D18: 1 | E18: =공종별내역서!F243 -> 0 | F18: =E18*D18 -> 0 | G18: =공종별내역서!H243 -> 0 | H18: =G18*D18 -> 0 | I18: =공종별내역서!J243 -> 0 | J18: =I18*D18 -> 0 | K18: =E18+G18+I18 -> 0 | L18: =F18+H18+J18 -> 0 | N18: 010301 | P18: 0103 | R18: 3
A19: ▣ 건설폐기물처리비 | D19: 1 | E19: =F20+F21 -> 0 | F19: =E19*D19 -> 0 | G19: =H20+H21 -> 0 | H19: =G19*D19 -> 0 | I19: =J20+J21 -> 0 | J19: =I19*D19 -> 0 | K19: =E19+G19+I19 -> 0 | L19: =F19+H19+J19 -> 0 | N19: 0104 | Q19: 7 | R19: 2 | T19: =L19*1 -> 0
A20: 건설폐기물처리비 | B20: ** A동 ** | D20: 1 | E20: =공종별내역서!F267 -> 0 | F20: =E20*D20 -> 0 | G20: =공종별내역서!H267 -> 0 | H20: =G20*D20 -> 0 | I20: =공종별내역서!J267 -> 0 | J20: =I20*D20 -> 0 | K20: =E20+G20+I20 -> 0 | L20: =F20+H20+J20 -> 0 | N20: 010401 | P20: 0104 | R20: 3
A21: 건설폐기물처리비 | B21: ** G동 ** | D21: 1 | E21: =공종별내역서!F291 -> 0 | F21: =E21*D21 -> 0 | G21: =공종별내역서!H291 -> 0 | H21: =G21*D21 -> 0 | I21: =공종별내역서!J291 -> 0 | J21: =I21*D21 -> 0 | K21: =E21+G21+I21 -> 0 | L21: =F21+H21+J21 -> 0 | N21: 010402 | P21: 0104 | R21: 3
A22: ▣ 작업부산물(철거고재) | B22: ** A동 ** | D22: 1 | E22: =공종별내역서!F315 -> 0 | F22: =E22*D22 -> 0 | G22: =공종별내역서!H315 -> 0 | H22: =G22*D22 -> 0 | I22: =공종별내역서!J315 -> 0 | J22: =I22*D22 -> 0 | K22: =E22+G22+I22 -> 0 | L22: =F22+H22+J22 -> 0 | N22: 0105 | Q22: 8 | R22: 2 | T22: =L22*1 -> 0
A27: [ 합 계 ] | F27: =F5 -> 0 | H27: =H5 -> 0 | J27: =J5 -> 0 | L27: =L5 -> 0

Sheet 공종별내역서
A1: [ 인명여자고등학교 드라이비트 개선공사 ]
A2: 품 명 | B2: 규 격 | C2: 단위 | D2: 수량 | E2: 재 료 비 | G2: 노 무 비 | I2: 경 비 | K2: 합 계 | M2: 비 고 | N2: 품목코드 | O2: 변수 | P2: 설정 | Q2: 공종코드 | R2: 일위 | S2: 단산 | T2: 자재 | U2: 손료적용 | V2: 손료저장 | W2: 적용율 | X2: JUK1 | Y2: JUK2 | Z2: JUK3 | AA2: JUK4 | AB2: JUK5 | AC2: JUK6 | AD2: JUK7 | AE2: JUK8 | AF2: JUK9 | AG2: JUK10 | AH2: JUK11 | AI2: JUK12 | AJ2: JUK13 | AK2: JUK14 | AL2: JUK15 | AM2: JUK16 | AN2: JUK17 | AO2: JUK18 | AP2: JUK19 | AQ2: JUK20 | AR2: 자재구분 | AS2: 공종구분 | AT2: 공종레벨 | AU2: 공종+자재 | AV2: 고유번호
E3: 단 가 | F3: 금 액 | G3: 단 가 | H3: 금 액 | I3: 단 가 | J3: 금 액 | K3: 단 가 | L3: 금 액
A4: 가 설 공 사 | B4: ** A동 ** | Q4: 010101
A5: 콘테이너형 가설사무소 설치 및 해체 | B5: 3.0*6.0m, 2개월 | C5: 개소 | D5: 1 | N5: 51D69223D96290E5138F7F65F91171 | Q5: 010101 | R5: T | S5: F | T5: F | AU5: 01010151D69223D96290E5138F7F65F91171 | AV5: 6
A6: 시스템비계 설치 및 해체 | B6: 10m 이하,재료비포함,발판유 | C6: M2 | D6: 1369 | N6: 51D69223EB64386813BA9F3E6C984B | Q6: 010101 | R6: T | S6: F | T6: F | AU6: 01010151D69223EB64386813BA9F3E6C984B | AV6: 4
A7: 시스템비계 설치 및 해체 | B7: 10m 초과~20m 이하,재료비포함,발판유 | C7: M2 | D7: 934 | N7: 51D69223EB64386813BA9C6A8DF8B1 | Q7: 010101 | R7: T | S7: F | T7: F | AU7: 01010151D69223EB64386813BA9C6A8DF8B1 | AV7: 5
A8: 건축물 현장정리 | B8: 개보수 | C8: M2 | D8: 370 | N8: 51D69223BE6328A513EE173BD8BC88 | Q8: 010101 | R8: T | S8: F | T8: F | AU8: 01010151D69223BE6328A513EE173BD8BC88 | AV8: 7
Q9: 010101
Q10: 010101
Q11: 010101
Q12: 010101
Q13: 010101
Q14: 010101
Q15: 010101
Q16: 010101
Q17: 010101
Q18: 010101
Q19: 010101
Q20: 010101
... Q26: 010101
A27: [ 합 계 ] | F27: =SUMIF(Q5:Q26,"010101",F5:F26) -> 0 | H27: =SUMIF(Q5:Q26,"010101",H5:H26) -> 0 | J27: =SUMIF(Q5:Q26,"010101",J5:J26) -> 0 | L27: =SUMIF(Q5:Q26,"010101",L5:L26) -> 0 | N27: TOTAL
A28: 수 장 공 사 | B28: ** A동 ** | Q28: 010102
A29: 타일단열패널설치(패널관급) | B29: 벽101.05mm(하지틀포함) | C29: M2 | D29: 716 | F29: =TRUNC(E29*D29, 0) -> 0 | H29: =TRUNC(G29*D29, 0) -> 0 | J29: =TRUNC(I29*D29, 0) -> 0 | K29: =TRUNC(E29+G29+I29, 0) -> 0 | L29: =TRUNC(F29+H29+J29, 0) -> 0 | N29: 51D672E35C6719671348A6327F921D | Q29: 010102 | R29: T | S29: F | T29: F | AU29: 01010251D672E35C6719671348A6327F921D | AV29: 11
A30: 파라펫후레싱설치(AL쉬트) | B30: W=385*3t,현장설치도 | C30: M | D30: 48 | F30: =TRUNC(E30*D30, 0) -> 0 | H30: =TRUNC(G30*D30, 0) -> 0 | J30: =TRUNC(I30*D30, 0) -> 0 | K30: =TRUNC(E30+G30+I30, 0) -> 0 | L30: =TRUNC(F30+H30+J30, 0) -> 0 | N30: 51D672E35C6719671348A6327F9322 | Q30: 010102 | R30: T | S30: F | T30: F | AU30: 01010251D672E35C6719671348A6327F9322 | AV30: 12
A31: 하부후레싱설치(AL쉬트) | B31: W=235*3t,현장설치도 | C31: M | D31: 239 | F31: =TRUNC(E31*D31, 0) -> 0 | H31: =TRUNC(G31*D31, 0) -> 0 | J31: =TRUNC(I31*D31, 0) -> 0 | K31: =TRUNC(E31+G31+I31, 0) -> 0 | L31: =TRUNC(F31+H31+J31, 0) -> 0 | N31: 51D672E35C6719671348A6327F9323 | Q31: 010102 | R31: T | S31: F | T31: F | AU31: 01010251D672E35C6719671348A6327F9323 | AV31: 13
A32: 창주위후레싱설치(AL쉬트) | B32: W=235*3t,현장설치도 | C32: M | D32: 377 | F32: =TRUNC(E32*D32, 0) -> 0 | H32: =TRUNC(G32*D32, 0) -> 0 | J32: =TRUNC(I32*D32, 0) -> 0 | K32: =TRUNC(E32+G32+I32, 0) -> 0 | L32: =TRUNC(F32+H32+J32, 0) -> 0 | N32: 51D672E35C6719671348A6327F932C | Q32: 010102 | R32: T | S32: F | T32: F | AU32: 01010251D672E35C6719671348A6327F932C | AV32: 14
A33: 수밀코킹(우레탄) | B33: 10mm*10mm | C33: M | D33: 34 | F33: =TRUNC(E33*D33, 0) -> 0 | H33: =TRUNC(G33*D33, 0) -> 0 | J33: =TRUNC(I33*D33, 0) -> 0 | K33: =TRUNC(E33+G33+I33, 0) -> 0 | L33: =TRUNC(F33+H33+J33, 0) -> 0 | N33: 51D602134762901813762553FBAAA0 | Q33: 010102 | R33: T | S33: F | T33: F | AU33: 01010251D602134762901813762553FBAAA0 | AV33: 86
A34: 알루미늄천장재 | B34: 알루미늄천장재, 스판드럴, 200*0.6mm, 무공(틀포함,현장설치도) | C34: M2 | D34: 41 | F34: =TRUNC(E34*D34, 0) -> 0 | H34: =TRUNC(G34*D34, 0) -> 0 | J34: =TRUNC(I34*D34, 0) -> 0 | K34: =TRUNC(E34+G34+I34, 0) -> 0 | L34: =TRUNC(F34+H34+J34, 0) -> 0 | N34: 56F212E3636E53CD1396B116E00A11B34D8FDDE3 | Q34: 010102 | R34: F | S34: F | T34: T | AU34: 01010256F212E3636E53CD1396B116E00A11B34D8FDDE3 | AV34: 75
A35: AL몰딩 설치 | B35: ㄷ-형, 15*30*15*1.0mm | C35: M | D35: 176 | F35: =TRUNC(E35*D35, 0) -> 0 | H35: =TRUNC(G35*D35, 0) -> 0 | J35: =TRUNC(I35*D35, 0) -> 0 | K35: =TRUNC(E35+G35+I35, 0) -> 0 | L35: =TRUNC(F35+H35+J35, 0) -> 0 | N35: 51D672E3896AD3E8139404592931C1 | Q35: 010102 | R35: T | S35: F | T35: F | AU35: 01010251D672E3896AD3E8139404592931C1 | AV35: 21
Q36: 010102
Q37: 010102
Q38: 010102
Q39: 010102
Q40: 010102
Q41: 010102
Q42: 010102
Q43: 010102
Q44: 010102
Q45: 010102
...
