Workbook
Name _: #REF!
Name _______A1: #REF!
Name _______mcv1: #REF!
Name _______mcv2: #REF!
Name _______mcv3: #REF!
Name _______mcv4: #REF!
Name _______mcv5: #REF!
Name _______mhw1: #REF!
Name _______mvw1: #REF!
Name _______pa1: #REF!
Name _______pa2: #REF!
Name _______pe22: #REF!
Name _______RD1: #REF!
Name _______RD2: #REF!
Name _______RD3: #REF!
Name _______RD4: #REF!
Name _______RD5: #REF!
Name _______RD6: #REF!
Name _______RD7: #REF!
Name _______RL1: #REF!
Name _______RL2: #REF!
Name _______RL3: #REF!
Name _______RL4: #REF!
Name _______RL5: #REF!
Name _______RL6: #REF!
Name _______RL7: #REF!
Name _______s1: #REF!
Name _______sp1: #REF!
Name _______sp2: #REF!
Name _______sp3: #REF!
Name _______SS1: #REF!
Name _______SS2: #REF!
Name _______TC1: #REF!
Name _______TC2: #REF!
Name _______tdl2: #REF!
Name _______teb1: #REF!
Name _______teb2: #REF!
Name _______teb3: #REF!
Name _______Ted1: #REF!
Name _______tll2: #REF!
Name _______tri11: #REF!
Name _______tri12: #REF!
Name _______tri13: #REF!
Name _______tri14: #REF!
Name _______tri15: #REF!
Name _______tri22: #REF!
Name _______tri23: #REF!
Name _______tri24: #REF!
Name _______tri25: #REF!
Name _______tri32: #REF!
Name _______tri33: #REF!
Name _______tri34: #REF!
Name _______tri35: #REF!
Name _______tri42: #REF!
Name _______tri43: #REF!
Name _______tri44: #REF!
Name _______tri45: #REF!
Name _______Ts1: #REF!
Name _______TW1: #REF!
Name _______TW2: #REF!

Sheet 공종별집계표
A1: 공 종 별 집 계 표
A2: [ 인명여자고등학교 드라이비트 개선공사 ]
A3: 품 명 | B3: 규 격 | C3: 단위 | D3: 수량 | E3: 재 료 비 | G3: 노 무 비 | I3: 경 비 | K3: 합 계 | M3: 비 고 | N3: 공종코드 | O3: 변수 | P3: 상위공종 | Q3: 공종구분 | R3: 공종레벨 | S3: 공종소계 | T3: 원가계산서 연결금액
E4: 단 가 | F4: 금 액 | G4: 단 가 | H4: 금 액 | I4: 단 가 | J4: 금 액 | K4: 단 가 | L4: 금 액
A5: 인명여자고등학교 드라이비트 개선공사 | D5: 1 | E5: =F6+F12 -> 0 | F5: =E5*D5 -> 0 | G5: =H6+H12 -> 0 | H5: =G5*D5 -> 0 | I5: =J6+J12 -> 0 | J5: =I5*D5 -> 0 | K5: =E5+G5+I5 -> 0 | L5: =F5+H5+J5 -> 0 | N5: 01 | R5: 1
A6: ▣ A동 | D6: 1 | E6: =F7+F8+F9+F10+F11 -> 0 | F6: =E6*D6 -> 0 | G6: =H7+H8+H9+H10+H11 -> 0 | H6: =G6*D6 -> 0 | I6: =J7+J8+J9+J10+J11 -> 0 | J6: =I6*D6 -> 0 | K6: =E6+G6+I6 -> 0 | L6: =F6+H6+J6 -> 0 | N6: 0101 | P6: 01 | R6: 2
A7: 가 설 공 사 | B7: ** A동 ** | D7: 1 | E7: =공종별내역서!F27 -> 0 | F7: =E7*D7 -> 0 | G7: =공종별내역서!H27 -> 0 | H7: =G7*D7 -> 0 | I7: =공종별내역서!J27 -> 0 | J7: =I7*D7 -> 0 | K7: =E7+G7+I7 -> 0 | L7: =F7+H7+J7 -> 0 | N7: 010101 | P7: 0101 | R7: 3
A8: 수 장 공 사 | B8: ** A동 ** | D8: 1 | E8: =공종별내역서!F51 -> 0 | F8: =E8*D8 -> 0 | G8: =공종별내역서!H51 -> 0 | H8: =G8*D8 -> 0 | I8: =공종별내역서!J51 -> 0 | J8: =I8*D8 -> 0 | K8: =E8+G8+I8 -> 0 | L8: =F8+H8+J8 -> 0 | N8: 010102 | P8: 0101 | R8: 3
A9: 지붕 및 홈통공사 | B9: ** A동 ** | D9: 1 | E9: =공종별내역서!F75 -> 0 | F9: =E9*D9 -> 0 | G9: =공종별내역서!H75 -> 0 | H9: =G9*D9 -> 0 | I9: =공종별내역서!J75 -> 0 | J9: =I9*D9 -> 0 | K9: =E9+G9+I9 -> 0 | L9: =F9+H9+J9 -> 0 | N9: 010103 | P9: 0101 | R9: 3
A10: 기 타 공 사 | B10: ** A동 ** | D10: 1 | E10: =공종별내역서!F99 -> 0 | F10: =E10*D10 -> 0 | G10: =공종별내역서!H99 -> 0 | H10: =G10*D10 -> 0 | I10: =공종별내역서!J99 -> 0 | J10: =I10*D10 -> 0 | K10: =E10+G10+I10 -> 0 | L10: =F10+H10+J10 -> 0 | N10: 010104 | P10: 0101 | R10: 3
A11: 철 거 공 사 | B11: ** A동 ** | D11: 1 | E11: =공종별내역서!F123 -> 0 | F11: =E11*D11 -> 0 | G11: =공종별내역서!H123 -> 0 | H11: =G11*D11 -> 0 | I11: =공종별내역서!J123 -> 0 | J11: =I11*D11 -> 0 | K11: =E11+G11+I11 -> 0 | L11: =F11+H11+J11 -> 0 | N11: 010105 | P11: 0101 | R11: 3
A12: ▣ G동 | D12: 1 | E12: =F13+F14+F15+F16 -> 0 | F12: =E12*D12 -> 0 | G12: =H13+H14+H15+H16 -> 0 | H12: =G12*D12 -> 0 | I12: =J13+J14+J15+J16 -> 0 | J12: =I12*D12 -> 0 | K12: =E12+G12+I12 -> 0 | L12: =F12+H12+J12 -> 0 | N12: 0102 | P12: 01 | R12: 2
A13: 가 설 공 사 | B13: ** G동 ** | D13: 1 | E13: =공종별내역서!F147 -> 0 | F13: =E13*D13 -> 0 | G13: =공종별내역서!H147 -> 0 | H13: =G13*D13 -> 0 | I13: =공종별내역서!J147 -> 0 | J13: =I13*D13 -> 0 | K13: =E13+G13+I13 -> 0 | L13: =F13+H13+J13 -> 0 | N13: 010201 | P13: 0102 | R13: 3
A14: 수 장 공 사 | B14: ** G동 ** | D14: 1 | E14: =공종별내역서!F171 -> 0 | F14: =E14*D14 -> 0 | G14: =공종별내역서!H171 -> 0 | H14: =G14*D14 -> 0 | I14: =공종별내역서!J171 -> 0 | J14: =I14*D14 -> 0 | K14: =E14+G14+I14 -> 0 | L14: =F14+H14+J14 -> 0 | N14: 010202 | P14: 0102 | R14: 3
A15: 기 타 공 사 | B15: ** G동 ** | D15: 1 | E15: =공종별내역서!F195 -> 0 | F15: =E15*D15 -> 0 | G15: =공종별내역서!H195 -> 0 | H15: =G15*D15 -> 0 | I15: =공종별내역서!J195 -> 0 | J15: =I15*D15 -> 0 | K15: =E15+G15+I15 -> 0 | L15: =F15+H15+J15 -> 0 | N15: 010203 | P15: 0102 | R15: 3
A16: 철 거 공 사 | B16: ** G동 ** | D16: 1 | E16: =공종별내역서!F219 -> 0 | F16: =E16*D16 -> 0 | G16: =공종별내역서!H219 -> 0 | H16: =G16*D16 -> 0 | I16: =공종별내역서!J219 -> 0 | J16: =I16*D16 -> 0 | K16: =E16+G16+I16 -> 0 | L16: =F16+H16+J16 -> 0 | N16: 010204 | P16: 0102 | R16: 3
A17: ▣ 도급자관급자재 | D17: 1 | E17: =F18 -> 0 | F17: =E17*D17 -> 0 | G17: =H18 -> 0 | H17: =G17*D17 -> 0 | I17: =J18 -> 0 | J17: =I17*D17 -> 0 | K17: =E17+G17+I17 -> 0 | L17: =F17+H17+J17 -> 0 | N17: 0103 | Q17: 3 | R17: 2 | T17: =L17*1 -> 0
A18: 도급자관급 | B18: ** A동 ** | D18: 1 | E18: =공종별내역서!F243 -> 0 | F18: =E18*D18 -> 0 | G18: =공종별내역서!H243 -> 0 | H18: =G18*D18 -> 0 | I18: =공종별내역서!J243 -> 0 | J18: =I18*D18 -> 0 | K18: =E18+G18+I18 -> 0 | L18: =F18+H18+J18 -> 0 | N18: 010301 | P18: 0103 | R18: 3
A19: ▣ 건설폐기물처리비 | D19: 1 | E19: =F20+F21 -> 0 | F19: =E19*D19 -> 0 | G19: =H20+H21 -> 0 | H19: =G19*D19 -> 0 | I19: =J20+J21 -> 0 | J19: =I19*D19 -> 0 | K19: =E19+G19+I19 -> 0 | L19: =F19+H19+J19 -> 0 | N19: 0104 | Q19: 7 | R19: 2 | T19: =L19*1 -> 0
A20: 건설폐기물처리비 | B20: ** A동 ** | D20: 1 | E20: =공종별내역서!F267 -> 0 | F20: =E20*D20 -> 0 | G20: =공종별내역서!H267 -> 0 | H20: =G20*D20 -> 0 | I20: =공종별내역서!J267 -> 0 | J20: =I20*D20 -> 0 | K20: =E20+G20+I20 -> 0 | L20: =F20+H20+J20 -> 0 | N20: 010401 | P20: 0104 | R20: 3
A21: 건설폐기물처리비 | B21: ** G동 ** | D21: 1 | E21: =공종별내역서!F291 -> 0 | F21: =E21*D21 -> 0 | G21: =공종별내역서!H291 -> 0 | H21: =G21*D21 -> 0 | I21: =공종별내역서!J291 -> 0 | J21: =I21*D21 -> 0 | K21: =E21+G21+I21 -> 0 | L21: =F21+H21+J21 -> 0 | N21: 010402 | P21: 0104 | R21: 3
A22: ▣ 작업부산물(철거고재) | B22: ** A동 ** | D22: 1 | E22: =공종별내역서!F315 -> 0 | F22: =E22*D22 -> 0 | G22: =공종별내역서!H315 -> 0 | H22: =G22*D22 -> 0 | I22: =공종별내역서!J315 -> 0 | J22: =I22*D22 -> 0 | K22: =E22+G22+I22 -> 0 | L22: =F22+H22+J22 -> 0 | N22: 0105 | Q22: 8 | R22: 2 | T22: =L22*1 -> 0
A27: [ 합 계 ] | F27: =F5 -> 0 | H27: =H5 -> 0 | J27: =J5 -> 0 | L27: =L5 -> 0

Sheet 공종별내역서
A1: [ 인명여자고등학교 드라이비트 개선공사 ]
A2: 품 명 | B2: 규 격 | C2: 단위 | D2: 수량 | E2: 재 료 비 | G2: 노 무 비 | I2: 경 비 | K2: 합 계 | M2: 비 고 | N2: 품목코드 | O2: 변수 | P2: 설정 | Q2: 공종코드 | R2: 일위 | S2: 단산 | T2: 자재 | U2: 손료적용 | V2: 손료저장 | W2: 적용율 | X2: JUK1 | Y2: JUK2 | Z2: JUK3 | AA2: JUK4 | AB2: JUK5 | AC2: JUK6 | AD2: JUK7 | AE2: JUK8 | AF2: JUK9 | AG2: JUK10 | AH2: JUK11 | AI2: JUK12 | AJ2: JUK13 | AK2: JUK14 | AL2: JUK15 | AM2: JUK16 | AN2: JUK17 | AO2: JUK18 | AP2: JUK19 | AQ2: JUK20 | AR2: 자재구분 | AS2: 공종구분 | AT2: 공종레벨 | AU2: 공종+자재 | AV2: 고유번호
E3: 단 가 | F3: 금 액 | G3: 단 가 | H3: 금 액 | I3: 단 가 | J3: 금 액 | K3: 단 가 | L3: 금 액
A4: 가 설 공 사 | B4: ** A동 ** | Q4: 010101
A5: 콘테이너형 가설사무소 설치 및 해체 | B5: 3.0*6.0m, 2개월 | C5: 개소 | D5: 1 | N5: 51D69223D96290E5138F7F65F91171 | Q5: 010101 | R5: T | S5: F | T5: F | AU5: 01010151D69223D96290E5138F7F65F91171 | AV5: 6
A6: 시스템비계 설치 및 해체 | B6: 10m 이하,재료비포함,발판유 | C6: M2 | D6: 1369 | N6: 51D69223EB64386813BA9F3E6C984B | Q6: 010101 | R6: T | S6: F | T6: F | AU6: 01010151D69223EB64386813BA9F3E6C984B | AV6: 4
A7: 시스템비계 설치 및 해체 | B7: 10m 초과~20m 이하,재료비포함,발판유 | C7: M2 | D7: 934 | N7: 51D69223EB64386813BA9C6A8DF8B1 | Q7: 010101 | R7: T | S7: F | T7: F | AU7: 01010151D69223EB64386813BA9C6A8DF8B1 | AV7: 5
A8: 건축물 현장정리 | B8: 개보수 | C8: M2 | D8: 370 | N8: 51D69223BE6328A513EE173BD8BC88 | Q8: 010101 | R8: T | S8: F | T8: F | AU8: 01010151D69223BE6328A513EE173BD8BC88 | AV8: 7
Q9: 010101
Q10: 010101
Q11: 010101
Q12: 010101
Q13: 010101
Q14: 010101
Q15: 010101
Q16: 010101
Q17: 010101
Q18: 010101
Q19: 010101
Q20: 010101
... Q26: 010101
A27: [ 합 계 ] | F27: =SUMIF(Q5:Q26,"010101",F5:F26) -> 0 | H27: =SUMIF(Q5:Q26,"010101",H5:H26) -> 0 | J27: =SUMIF(Q5:Q26,"010101",J5:J26) -> 0 | L27: =SUMIF(Q5:Q26,"010101",L5:L26) -> 0 | N27: TOTAL
A28: 수 장 공 사 | B28: ** A동 ** | Q28: 010102
A29: 타일단열패널설치(패널관급) | B29: 벽101.05mm(하지틀포함) | C29: M2 | D29: 716 | F29: =TRUNC(E29*D29, 0) -> 0 | H29: =TRUNC(G29*D29, 0) -> 0 | J29: =TRUNC(I29*D29, 0) -> 0 | K29: =TRUNC(E29+G29+I29, 0) -> 0 | L29: =TRUNC(F29+H29+J29, 0) -> 0 | N29: 51D672E35C6719671348A6327F921D | Q29: 010102 | R29: T | S29: F | T29: F | AU29: 01010251D672E35C6719671348A6327F921D | AV29: 11
A30: 파라펫후레싱설치(AL쉬트) | B30: W=385*3t,현장설치도 | C30: M | D30: 48 | F30: =TRUNC(E30*D30, 0) -> 0 | H30: =TRUNC(G30*D30, 0) -> 0 | J30: =TRUNC(I30*D30, 0) -> 0 | K30: =TRUNC(E30+G30+I30, 0) -> 0 | L30: =TRUNC(F30+H30+J30, 0) -> 0 | N30: 51D672E35C6719671348A6327F9322 | Q30: 010102 | R30: T | S30: F | T30: F | AU30: 01010251D672E35C6719671348A6327F9322 | AV30: 12
A31: 하부후레싱설치(AL쉬트) | B31: W=235*3t,현장설치도 | C31: M | D31: 239 | F31: =TRUNC(E31*D31, 0) -> 0 | H31: =TRUNC(G31*D31, 0) -> 0 | J31: =TRUNC(I31*D31, 0) -> 0 | K31: =TRUNC(E31+G31+I31, 0) -> 0 | L31: =TRUNC(F31+H31+J31, 0) -> 0 | N31: 51D672E35C6719671348A6327F9323 | Q31: 010102 | R31: T | S31: F | T31: F | AU31: 01010251D672E35C6719671348A6327F9323 | AV31: 13
A32: 창주위후레싱설치(AL쉬트) | B32: W=235*3t,현장설치도 | C32: M | D32: 377 | F32: =TRUNC(E32*D32, 0) -> 0 | H32: =TRUNC(G32*D32, 0) -> 0 | J32: =TRUNC(I32*D32, 0) -> 0 | K32: =TRUNC(E32+G32+I32, 0) -> 0 | L32: =TRUNC(F32+H32+J32, 0) -> 0 | N32: 51D672E35C6719671348A6327F932C | Q32: 010102 | R32: T | S32: F | T32: F | AU32: 01010251D672E35C6719671348A6327F932C | AV32: 14
A33: 수밀코킹(우레탄) | B33: 10mm*10mm | C33: M | D33: 34 | F33: =TRUNC(E33*D33, 0) -> 0 | H33: =TRUNC(G33*D33, 0) -> 0 | J33: =TRUNC(I33*D33, 0) -> 0 | K33: =TRUNC(E33+G33+I33, 0) -> 0 | L33: =TRUNC(F33+H33+J33, 0) -> 0 | N33: 51D602134762901813762553FBAAA0 | Q33: 010102 | R33: T | S33: F | T33: F | AU33: 01010251D602134762901813762553FBAAA0 | AV33: 86
A34: 알루미늄천장재 | B34: 알루미늄천장재, 스판드럴, 200*0.6mm, 무공(틀포함,현장설치도) | C34: M2 | D34: 41 | F34: =TRUNC(E34*D34, 0) -> 0 | H34: =TRUNC(G34*D34, 0) -> 0 | J34: =TRUNC(I34*D34, 0) -> 0 | K34: =TRUNC(E34+G34+I34, 0) -> 0 | L34: =TRUNC(F34+H34+J34, 0) -> 0 | N34: 56F212E3636E53CD1396B116E00A11B34D8FDDE3 | Q34: 010102 | R34: F | S34: F | T34: T | AU34: 01010256F212E3636E53CD1396B116E00A11B34D8FDDE3 | AV34: 75
A35: AL몰딩 설치 | B35: ㄷ-형, 15*30*15*1.0mm | C35: M | D35: 176 | F35: =TRUNC(E35*D35, 0) -> 0 | H35: =TRUNC(G35*D35, 0) -> 0 | J35: =TRUNC(I35*D35, 0) -> 0 | K35: =TRUNC(E35+G35+I35, 0) -> 0 | L35: =TRUNC(F35+H35+J35, 0) -> 0 | N35: 51D672E3896AD3E8139404592931C1 | Q35: 010102 | R35: T | S35: F | T35: F | AU35: 01010251D672E3896AD3E8139404592931C1 | AV35: 21
Q36: 010102
Q37: 010102
Q38: 010102
Q39: 010102
Q40: 010102
Q41: 010102
Q42: 010102
Q43: 010102
Q44: 010102
Q45: 010102
Q46: 010102
Q47: 010102
... Q50: 010102
A51: [ 합 계 ] | F51: =SUMIF(Q29:Q50,"010102",F29:F50) -> 0 | H51: =SUMIF(Q29:Q50,"010102",H29:H50) -> 0 | J51: =SUMIF(Q29:Q50,"010102",J29:J50) -> 0 | L51: =SUMIF(Q29:Q50,"010102",L29:L50) -> 0 | N51: TOTAL
A52: 지붕 및 홈통공사 | B52: ** A동 ** | Q52: 010103
A53: 스텐레스 선홈통 설치 | B53: SST,Φ100*1.2t | C53: M | D53: 158 | F53: =TRUNC(E53*D53, 0) -> 0 | H53: =TRUNC(G53*D53, 0) -> 0 | J53: =TRUNC(I53*D53, 0) -> 0 | K53: =TRUNC(E53+G53+I53, 0) -> 0 | L53: =TRUNC(F53+H53+J53, 0) -> 0 | N53: 51D632434F6D434813D9D570D25E4D | Q53: 010103 | R53: T | S53: F | T53: F | AU53: 01010351D632434F6D434813D9D570D25E4D | AV53: 16
A54: 스텐 상자홈통 설치 | B54: 250*250*250*1.5t | C54: EA | D54: 14 | F54: =TRUNC(E54*D54, 0) -> 0 | H54: =TRUNC(G54*D54, 0) -> 0 | J54: =TRUNC(I54*D54, 0) -> 0 | K54: =TRUNC(E54+G54+I54, 0) -> 0 | L54: =TRUNC(F54+H54+J54, 0) -> 0 | N54: 51D632434F68C33A134638DA98ED14 | Q54: 010103 | R54: T | S54: F | T54: F | AU54: 01010351D632434F68C33A134638DA98ED14 | AV54: 17
A55: 루프드레인 설치 | B55: L형, D100mm | C55: 개소 | D55: 1 | F55: =TRUNC(E55*D55, 0) -> 0 | H55: =TRUNC(G55*D55, 0) -> 0 | J55: =TRUNC(I55*D55, 0) -> 0 | K55: =TRUNC(E55+G55+I55, 0) -> 0 | L55: =TRUNC(F55+H55+J55, 0) -> 0 | N55: 51D63243586143761326C61EEEE144 | Q55: 010103 | R55: T | S55: F | T55: F | AU55: 01010351D63243586143761326C61EEEE144 | AV55: 18
A56: 폴리카보네이트 설치 | B56: 3.0mm, 투명 | C56: M2 | D56: 18 | F56: =TRUNC(E56*D56, 0) -> 0 | H56: =TRUNC(G56*D56, 0) -> 0 | J56: =TRUNC(I56*D56, 0) -> 0 | K56: =TRUNC(E56+G56+I56, 0) -> 0 | L56: =TRUNC(F56+H56+J56, 0) -> 0 | N56: 51D672E3436C2A3813C31D9C3D4F87 | Q56: 010103 | R56: T | S56: F | T56: F | AU56: 01010351D672E3436C2A3813C31D9C3D4F87 | AV56: 19
Q57: 010103
Q58: 010103
Q59: 010103
Q60: 010103
Q61: 010103
Q62: 010103
Q63: 010103
Q64: 010103
Q65: 010103
Q66: 010103
Q67: 010103
Q68: 010103
... Q74: 010103
A75: [ 합 계 ] | F75: =SUMIF(Q53:Q74,"010103",F53:F74) -> 0 | H75: =SUMIF(Q53:Q74,"010103",H53:H74) -> 0 | J75: =SUMIF(Q53:Q74,"010103",J53:J74) -> 0 | L75: =SUMIF(Q53:Q74,"010103",L53:L74) -> 0 | N75: TOTAL
A76: 기 타 공 사 | B76: ** A동 ** | Q76: 010104
A77: 천막설치 | C77: 식 | D77: 1 | M77: 견적서첨부 | N77: 5062C2C3A569E38313D1235A4E8F40478710B8 | Q77: 010104 | R77: F | S77: F | T77: T | AU77: 0101045062C2C3A569E38313D1235A4E8F40478710B8 | AV77: 82
Q78: 010104
Q79: 010104
Q80: 010104
Q81: 010104
Q82: 010104
Q83: 010104
Q84: 010104
Q85: 010104
Q86: 010104
Q87: 010104
Q88: 010104
Q89: 010104
... Q98: 010104
A99: [ 합 계 ] | F99: =SUMIF(Q77:Q98,"010104",F77:F98) -> 0 | H99: =SUMIF(Q77:Q98,"010104",H77:H98) -> 0 | J99: =SUMIF(Q77:Q98,"010104",J77:J98) -> 0 | L99: =SUMIF(Q77:Q98,"010104",L77:L98) -> 0 | N99: TOTAL
A100: 철 거 공 사 | B100: ** A동 ** | Q100: 010105
A101: PVC천정판 철거 | C101: M2 | D101: 72 | H101: =TRUNC(G101*D101, 0) -> 0 | L101: =TRUNC(F101+H101+J101, 0) -> 0 | N101: 51D79293A36FD6C813579E21D62C7E | Q101: 010105 | R101: T | S101: F | T101: F | AU101: 01010551D79293A36FD6C813579E21D62C7E | AV101: 25
A102: 천정틀 철거 | C102: M2 | D102: 72 | H102: =TRUNC(G102*D102, 0) -> 0 | L102: =TRUNC(F102+H102+J102, 0) -> 0 | N102: 5062C2C3A569E38313D1235A4E8F40478710BA | Q102: 010105 | R102: F | S102: F | T102: T | AU102: 0101055062C2C3A569E38313D1235A4E8F40478710BA | AV102: 76
A103: 드라이비트철거 | B103: 외벽 | C103: M2 | D103: 717 | H103: =TRUNC(G103*D103, 0) -> 0 | L103: =TRUNC(F103+H103+J103, 0) -> 0 | N103: 51D79293A36FD6C8135795C4CCF970 | Q103: 010105 | R103: T | S103: F | T103: F | AU103: 01010551D79293A36FD6C8135795C4CCF970 | AV103: 27
A104: PVC상자홈통철거 | C104: EA | D104: 13 | H104: =TRUNC(G104*D104, 0) -> 0 | L104: =TRUNC(F104+H104+J104, 0) -> 0 | N104: 51D79293A36FD6C8135795C4CCF973 | Q104: 010105 | R104: T | S104: F | T104: F | AU104: 01010551D79293A36FD6C8135795C4CCF973 | AV104: 29
A105: PVC선홈통철거 | C105: M | D105: 26 | H105: =TRUNC(G105*D105, 0) -> 0 | L105: =TRUNC(F105+H105+J105, 0) -> 0 | N105: 51D79293A36FD6C8135795C4CCF97C | Q105: 010105 | R105: T | S105: F | T105: F | AU105: 01010551D79293A36FD6C8135795C4CCF97C | AV105: 30
A106: 동관선홈통철거 | C106: M | D106: 112 | H106: =TRUNC(G106*D106, 0) -> 0 | L106: =TRUNC(F106+H106+J106, 0) -> 0 | N106: 51D79293A36FD6C8135795C4CCF97D | Q106: 010105 | R106: T | S106: F | T106: F | AU106: 01010551D79293A36FD6C8135795C4CCF97D | AV106: 31
A107: 스텐레스선홈통철거 | C107: M | D107: 7 | H107: =TRUNC(G107*D107, 0) -> 0 | L107: =TRUNC(F107+H107+J107, 0) -> 0 | N107: 51D79293A36FD6C8135795C4CCF86E | Q107: 010105 | R107: T | S107: F | T107: F | AU107: 01010551D79293A36FD6C8135795C4CCF86E | AV107: 89
A108: 가스관철거 | C108: M | D108: 14 | H108: =TRUNC(G108*D108, 0) -> 0 | L108: =TRUNC(F108+H108+J108, 0) -> 0 | N108: 51D79293A36FD6C8135795C4CCF86C | Q108: 010105 | R108: T | S108: F | T108: F | AU108: 01010551D79293A36FD6C8135795C4CCF86C | AV108: 32
A109: 천막철거 | C109: M2 | D109: 93 | H109: =TRUNC(G109*D109, 0) -> 0 | L109: =TRUNC(F109+H109+J109, 0) -> 0 | N109: 51D79293A36FD6C8135795C4CCFEF7 | Q109: 010105 | R109: T | S109: F | T109: F | AU109: 01010551D79293A36FD6C8135795C4CCFEF7 | AV109: 33
A110: 폴리카보네이트철거 | C110: M2 | D110: 18 | H110: =TRUNC(G110*D110, 0) -> 0 | L110: =TRUNC(F110+H110+J110, 0) -> 0 | N110: 51D79293A36FD6C8135795C4CCFEF4 | Q110: 010105 | R110: T | S110: F | T110: F | AU110: 01010551D79293A36FD6C8135795C4CCFEF4 | AV110: 34
A111: 스텐레스상자홈통 철거 후 재설치 | C111: EA | D111: 15 | H111: =TRUNC(G111*D111, 0) -> 0 | L111: =TRUNC(F111+H111+J111, 0) -> 0 | N111: 51D79293A36FD6C8135795C4CD80CF | Q111: 010105 | R111: T | S111: F | T111: F | AU111: 01010551D79293A36FD6C8135795C4CD80CF | AV111: 35
A112: 스텐레스선홈통 철거 후 재설치 | C112: M | D112: 240 | H112: =TRUNC(G112*D112, 0) -> 0 | L112: =TRUNC(F112+H112+J112, 0) -> 0 | N112: 51D79293A36FD6C8135795C4CD80CE | Q112: 010105 | R112: T | S112: F | T112: F | AU112: 01010551D79293A36FD6C8135795C4CD80CE | AV112: 36
A113: 배기용후드캡 철거 후 재설치 | C113: EA | D113: 5 | H113: =TRUNC(G113*D113, 0) -> 0 | L113: =TRUNC(F113+H113+J113, 0) -> 0 | N113: 51D79293A36FD6C8135795C4CD81EC | Q113: 010105 | R113: T | S113: F | T113: F | AU113: 01010551D79293A36FD6C8135795C4CD81EC | AV113: 37
A114: 메쉬휀스 철거 후 재설치 | C114: M | D114: 11 | H114: =TRUNC(G114*D114, 0) -> 0 | L114: =TRUNC(F114+H114+J114, 0) -> 0 | N114: 51D79293A36FD6C8135795C4CD81EE | Q114: 010105 | R114: T | S114: F | T114: F | AU114: 01010551D79293A36FD6C8135795C4CD81EE | AV114: 38
A115: 점검사다리 철거 후 재설치 | C115: EA | D115: 1 | H115: =TRUNC(G115*D115, 0) -> 0 | L115: =TRUNC(F115+H115+J115, 0) -> 0 | N115: 51D79293A36FD6C8135795C4CD81E9 | Q115: 010105 | R115: T | S115: F | T115: F | AU115: 01010551D79293A36FD6C8135795C4CD81E9 | AV115: 39
Q116: 010105
Q117: 010105
Q118: 010105
Q119: 010105
Q120: 010105
...
