Workbook

Sheet 공종별 집계표
A1: 공종별 집계표
A2: 공사명 : 광주광산고용센터 신청사 전기공사
A3: 구분 | B3: 품 명 | C3: 규 격 | D3: 수량 | E3: 단위 | F3: 자재비 | H3: 노무비 | J3: 경비 | L3: 합계 | N3: 비고
F4: 단가 | G4: 금액 | H4: 단가 | I4: 금액 | J4: 단가 | K4: 금액 | L4: 단가 | M4: 금액
B5: 직접공사비
B6: 1. 전력간선 설비공사 | D6: 식 | E6: 1 | G6: ='공종별 내역서'!G20 -> 0 | I6: ='공종별 내역서'!I20 -> 0 | K6: ='공종별 내역서'!K20 -> 0 | M6: ='공종별 내역서'!M20 -> 0
B7: 2. 전등 설비공사 | D7: 식 | E7: 1 | G7: ='공종별 내역서'!G41 -> 0 | I7: ='공종별 내역서'!I41 -> 0 | K7: ='공종별 내역서'!K41 -> 0 | M7: ='공종별 내역서'!M41 -> 0
B8: 3. 전열설비공사 | D8: 식 | E8: 1 | G8: ='공종별 내역서'!G63 -> 0 | I8: ='공종별 내역서'!I63 -> 0 | K8: ='공종별 내역서'!K63 -> 0 | M8: ='공종별 내역서'!M63 -> 0
B9: 4. 냉난방 전력 간선공사 | D9: 식 | E9: 1 | G9: ='공종별 내역서'!G79 -> 0 | I9: ='공종별 내역서'!I79 -> 0 | K9: ='공종별 내역서'!K79 -> 0 | M9: ='공종별 내역서'!M79 -> 0
B10: 5. 조명기구 | D10: 식 | E10: 1 | G10: ='공종별 내역서'!G97 -> 0 | I10: ='공종별 내역서'!I97 -> 0 | K10: ='공종별 내역서'!K97 -> 0 | M10: ='공종별 내역서'!M97 -> 0
B31: 소 계 | G31: =SUM(G6:G30) -> 0 | I31: =SUM(I6:I30) -> 0 | K31: =SUM(K6:K30) -> 0 | M31: =SUM(M6:M30) -> 0

Sheet 공종별 내역서
A1: 공종별 내역서
A2: 공사명 : 광주광산고용센터 신청사 전기공사
A3: 구분 | B3: 품명 | C3: 규 격 | D3: 단 위 | E3: 수 량 | F3: 자재비 | H3: 노무비 | J3: 경비/외주비 | L3: 합계 | N3: 비 고
F4: 단가 | G4: 금액 | H4: 단가 | I4: 금액 | J4: 단가 | K4: 금액 | L4: 단가 | M4: 금액
A5: 1 | B5: 전력간선 설비공사
B6: 경질비닐전선관 | C6: HI 42 mm | D6: m | E6: 16 | G6: =E6*F6 -> 0 | I6: =$E6*H6 -> 0 | K6: =$E6*J6 -> 0 | L6: =F6+H6+J6 -> 0 | M6: =G6+I6+K6 -> 0
B7: [ 배관 부속재 ] | C7: 전선관의 15 % | D7: 식 | E7: 1 | G7: =E7*F7 -> 0 | I7: =$E7*H7 -> 0 | K7: =$E7*J7 -> 0 | L7: =F7+H7+J7 -> 0 | M7: =G7+I7+K7 -> 0
B8: 1종금속제가요전선관 | C8: 42 mm 일반-비방수 | D8: m | E8: 264 | G8: =E8*F8 -> 0 | I8: =$E8*H8 -> 0 | K8: =$E8*J8 -> 0 | L8: =F8+H8+J8 -> 0 | M8: =G8+I8+K8 -> 0
B9: 풀박스 | C9: 200×200×100 | D9: 개 | E9: 12 | G9: =E9*F9 -> 0 | I9: =$E9*H9 -> 0 | K9: =$E9*J9 -> 0 | L9: =F9+H9+J9 -> 0 | M9: =G9+I9+K9 -> 0
B10: 전선덕트 | C10: 알루미늄 100x50 mm | D10: m | E10: 32 | G10: =E10*F10 -> 0 | I10: =$E10*H10 -> 0 | K10: =$E10*J10 -> 0 | L10: =F10+H10+J10 -> 0 | M10: =G10+I10+K10 -> 0
B11: 접지용비닐절연전선(F-GV) | C11: 10㎟ | D11: m | E11: 300 | G11: =E11*F11 -> 0 | I11: =$E11*H11 -> 0 | K11: =$E11*J11 -> 0 | L11: =F11+H11+J11 -> 0 | M11: =G11+I11+K11 -> 0
B12: 폴리에틸렌 난연케이블 | C12: 0.6/1kv F-CV 4C×10㎟ | D12: m | E12: 284 | G12: =E12*F12 -> 0 | I12: =$E12*H12 -> 0 | K12: =$E12*J12 -> 0 | L12: =F12+H12+J12 -> 0 | M12: =G12+I12+K12 -> 0
B13: 배선용차단기(ABS-104) | C13: 4P 100AF75AT | D13: EA | E13: 4 | G13: =E13*F13 -> 0 | I13: =$E13*H13 -> 0 | K13: =$E13*J13 -> 0 | L13: =F13+H13+J13 -> 0 | M13: =G13+I13+K13 -> 0
B14: 노 무 비 | C14: 내선전공 | D14: 인 | E14: 15 | G14: =E14*F14 -> 0 | I14: =$E14*H14 -> 0 | K14: =$E14*J14 -> 0 | L14: =F14+H14+J14 -> 0 | M14: =G14+I14+K14 -> 0
B15: 노 무 비 | C15: 저압케이블전공 | D15: 인 | E15: 8 | G15: =E15*F15 -> 0 | I15: =$E15*H15 -> 0 | K15: =$E15*J15 -> 0 | L15: =F15+H15+J15 -> 0 | M15: =G15+I15+K15 -> 0
B16: [ 공 구 손 료 ] | C16: 노무비의 3 % | D16: 식 | E16: 1 | G16: =E16*F16 -> 0 | I16: =$E16*H16 -> 0 | K16: =$E16*J16 -> 0 | L16: =F16+H16+J16 -> 0 | M16: =G16+I16+K16 -> 0
E17: 0 | G17: =E17*F17 -> 0 | I17: =$E17*H17 -> 0 | K17: =$E17*J17 -> 0 | L17: =F17+H17+J17 -> 0 | M17: =G17+I17+K17 -> 0
E18: 0 | G18: =E18*F18 -> 0 | I18: =$E18*H18 -> 0 | K18: =$E18*J18 -> 0 | L18: =F18+H18+J18 -> 0 | M18: =G18+I18+K18 -> 0
E19: 0 | G19: =E19*F19 -> 0 | I19: =$E19*H19 -> 0 | K19: =$E19*J19 -> 0 | L19: =F19+H19+J19 -> 0 | M19: =G19+I19+K19 -> 0
B20: 소계 | G20: =SUM(G6:G19) -> 0 | I20: =SUM(I6:I19) -> 0 | K20: =SUM(K6:K19) -> 0 | M20: =SUM(M6:M19) -> 0
A21: 2 | B21: 전등 설비공사
B22: 합성수지제 가요전선관 | C22: CD-난연성 16㎜ | D22: m | E22: 44 | G22: =E22*F22 -> 0 | I22: =$E22*H22 -> 0 | K22: =$E22*J22 -> 0 | L22: =F22+H22+J22 -> 0 | M22: =G22+I22+K22 -> 0
B23: [ 배관 부속재 ] | C23: CD 전선관의 40 % | D23: 식 | E23: 1 | G23: =E23*F23 -> 0 | I23: =$E23*H23 -> 0 | K23: =$E23*J23 -> 0 | L23: =F23+H23+J23 -> 0 | M23: =G23+I23+K23 -> 0
B24: 1종금속제가요전선관 | C24: 16 mm 일반-비방수 | D24: m | E24: 1664 | G24: =E24*F24 -> 0 | I24: =$E24*H24 -> 0 | K24: =$E24*J24 -> 0 | L24: =F24+H24+J24 -> 0 | M24: =G24+I24+K24 -> 0
B25: 1종금속제가요전선관 | C25: 22 mm 일반-비방수 | D25: m | E25: 112 | G25: =E25*F25 -> 0 | I25: =$E25*H25 -> 0 | K25: =$E25*J25 -> 0 | L25: =F25+H25+J25 -> 0 | M25: =G25+I25+K25 -> 0
B26: 아우트렛박스 | C26: 8각 54㎜ | D26: 개 | E26: 480 | G26: =E26*F26 -> 0 | I26: =$E26*H26 -> 0 | K26: =$E26*J26 -> 0 | L26: =F26+H26+J26 -> 0 | M26: =G26+I26+K26 -> 0
B27: 스위치박스 | C27: 1 개용 54 mm | D27: 개 | E27: 52 | G27: =E27*F27 -> 0 | I27: =$E27*H27 -> 0 | K27: =$E27*J27 -> 0 | L27: =F27+H27+J27 -> 0 | M27: =G27+I27+K27 -> 0
B28: 스위치박스 | C28: 2 개용 54 mm | D28: 개 | E28: 4 | G28: =E28*F28 -> 0 | I28: =$E28*H28 -> 0 | K28: =$E28*J28 -> 0 | L28: =F28+H28+J28 -> 0 | M28: =G28+I28+K28 -> 0
B29: 아우트렛박스 커버 | C29: 커버, 8각, 평형 | D29: 개 | E29: 480 | G29: =E29*F29 -> 0 | I29: =$E29*H29 -> 0 | K29: =$E29*J29 -> 0 | L29: =F29+H29+J29 -> 0 | M29: =G29+I29+K29 -> 0
B30: 450/750V 내열비닐절연전선 | C30: HFIX 1.78mm(2.5㎟) | D30: m | E30: 5664 | G30: =E30*F30 -> 0 | I30: =$E30*H30 -> 0 | K30: =$E30*J30 -> 0 | L30: =F30+H30+J30 -> 0 | M30: =G30+I30+K30 -> 0
B31: 매입스위치 | C31: 250V 1로1구 | D31: 개 | E31: 16 | G31: =E31*F31 -> 0 | I31: =$E31*H31 -> 0 | K31: =$E31*J31 -> 0 | L31: =F31+H31+J31 -> 0 | M31: =G31+I31+K31 -> 0
B32: 매입스위치 | C32: 250V 1로2구 | D32: 개 | E32: 36 | G32: =E32*F32 -> 0 | I32: =$E32*H32 -> 0 | K32: =$E32*J32 -> 0 | L32: =F32+H32+J32 -> 0 | M32: =G32+I32+K32 -> 0
B33: 매입스위치 | C33: 250V 1로4구 | D33: 개 | E33: 4 | G33: =E33*F33 -> 0 | I33: =$E33*H33 -> 0 | K33: =$E33*J33 -> 0 | L33: =F33+H33+J33 -> 0 | M33: =G33+I33+K33 -> 0
... B37: [ 공 구 손 료 ] | C37: 노무비의 3 % | D37: 식 | E37: 1 | G37: =E37*F37 -> 0 | I37: =$E37*H37 -> 0 | K37: =$E37*J37 -> 0 | L37: =F37+H37+J37 -> 0 | M37: =G37+I37+K37 -> 0
E38: 0 | G38: =E38*F38 -> 0 | I38: =$E38*H38 -> 0 | K38: =$E38*J38 -> 0 | L38: =F38+H38+J38 -> 0 | M38: =G38+I38+K38 -> 0
E39: 0 | G39: =E39*F39 -> 0 | I39: =$E39*H39 -> 0 | K39: =$E39*J39 -> 0 | L39: =F39+H39+J39 -> 0 | M39: =G39+I39+K39 -> 0
E40: 0 | G40: =E40*F40 -> 0 | I40: =$E40*H40 -> 0 | K40: =$E40*J40 -> 0 | L40: =F40+H40+J40 -> 0 | M40: =G40+I40+K40 -> 0
B41: 소계 | G41: =SUM(G22:G40) -> 0 | I41: =SUM(I22:I40) -> 0 | K41: =SUM(K22:K40) -> 0 | M41: =SUM(M22:M40) -> 0
A42: 3 | B42: 전열설비공사
B43: 합성수지제 가요전선관 | C43: CD-난연성 16㎜ | D43: m | E43: 324 | G43: =E43*F43 -> 0 | I43: =$E43*H43 -> 0 | K43: =$E43*J43 -> 0 | L43: =F43+H43+J43 -> 0 | M43: =G43+I43+K43 -> 0
B44: [ 배관 부속재 ] | C44: CD 전선관의 40 % | D44: 식 | E44: 1 | G44: =E44*F44 -> 0 | I44: =$E44*H44 -> 0 | K44: =$E44*J44 -> 0 | L44: =F44+H44+J44 -> 0 | M44: =G44+I44+K44 -> 0
B45: 1종금속제가요전선관 | C45: 16 mm 일반- | D45: m | E45: 1092 | G45: =E45*F45 -> 0 | I45: =$E45*H45 -> 0 | K45: =$E45*J45 -> 0 | L45: =F45+H45+J45 -> 0 | M45: =G45+I45+K45 -> 0
B46: 아우트렛박스 | C46: 8각 54㎜ | D46: 개 | E46: 208 | G46: =E46*F46 -> 0 | I46: =$E46*H46 -> 0 | K46: =$E46*J46 -> 0 | L46: =F46+H46+J46 -> 0 | M46: =G46+I46+K46 -> 0
B47: 스위치박스 | C47: 1 개용 54 mm | D47: 개 | E47: 80 | G47: =E47*F47 -> 0 | I47: =$E47*H47 -> 0 | K47: =$E47*J47 -> 0 | L47: =F47+H47+J47 -> 0 | M47: =G47+I47+K47 -> 0
B48: 스위치박스 | C48: 2 개용 54 mm | D48: 개 | E48: 104 | G48: =E48*F48 -> 0 | I48: =$E48*H48 -> 0 | K48: =$E48*J48 -> 0 | L48: =F48+H48+J48 -> 0 | M48: =G48+I48+K48 -> 0
B49: 아우트렛박스 커버 | C49: 커버, 8각, 평형 | D49: 개 | E49: 208 | G49: =E49*F49 -> 0 | I49: =$E49*H49 -> 0 | K49: =$E49*J49 -> 0 | L49: =F49+H49+J49 -> 0 | M49: =G49+I49+K49 -> 0
B50: 아우트렛박스 커버 | C50: 커버, 4각,2개용S/W (평) | D50: 개 | E50: 104 | G50: =E50*F50 -> 0 | I50: =$E50*H50 -> 0 | K50: =$E50*J50 -> 0 | L50: =F50+H50+J50 -> 0 | M50: =G50+I50+K50 -> 0
B51: 몰드 | C51: 알루미늄(소) | D51: m | E51: 200 | G51: =E51*F51 -> 0 | I51: =$E51*H51 -> 0 | K51: =$E51*J51 -> 0 | L51: =F51+H51+J51 -> 0 | M51: =G51+I51+K51 -> 0
B52: 450/750V 내열비닐절연전선 | C52: HFIX 2.25mm(4㎟) | D52: m | E52: 4724 | G52: =E52*F52 -> 0 | I52: =$E52*H52 -> 0 | K52: =$E52*J52 -> 0 | L52: =F52+H52+J52 -> 0 | M52: =G52+I52+K52 -> 0
B53: 콘센트 | C53: 매입-접지형, 250V 1구 | D53: 개 | E53: 8 | G53: =E53*F53 -> 0 | I53: =$E53*H53 -> 0 | K53: =$E53*J53 -> 0 | L53: =F53+H53+J53 -> 0 | M53: =G53+I53+K53 -> 0
B54: 콘센트 | C54: 매입-접지형, 250V 2구 | D54: 개 | E54: 144 | G54: =E54*F54 -> 0 | I54: =$E54*H54 -> 0 | K54: =$E54*J54 -> 0 | L54: =F54+H54+J54 -> 0 | M54: =G54+I54+K54 -> 0
... B59: [ 공 구 손 료 ] | C59: 노무비의 3 % | D59: 식 | E59: 1 | G59: =E59*F59 -> 0 | I59: =$E59*H59 -> 0 | K59: =$E59*J59 -> 0 | L59: =F59+H59+J59 -> 0 | M59: =G59+I59+K59 -> 0
E60: 0 | G60: =E60*F60 -> 0 | I60: =$E60*H60 -> 0 | K60: =$E60*J60 -> 0 | L60: =F60+H60+J60 -> 0 | M60: =G60+I60+K60 -> 0
E61: 0 | G61: =E61*F61 -> 0 | I61: =$E61*H61 -> 0 | K61: =$E61*J61 -> 0 | L61: =F61+H61+J61 -> 0 | M61: =G61+I61+K61 -> 0
E62: 0 | G62: =E62*F62 -> 0 | I62: =$E62*H62 -> 0 | K62: =$E62*J62 -> 0 | L62: =F62+H62+J62 -> 0 | M62: =G62+I62+K62 -> 0
B63: 소계 | G63: =SUM(G43:G62) -> 0 | I63: =SUM(I43:I62) -> 0 | K63: =SUM(K43:K62) -> 0 | M63: =SUM(M43:M62) -> 0
A64: 4 | B64: 냉난방 전력 간선공사
B65: 경질비닐전선관 | C65: HI 42 mm | D65: m | E65: 30 | G65: =E65*F65 -> 0 | I65: =$E65*H65 -> 0 | K65: =$E65*J65 -> 0 | L65: =F65+H65+J65 -> 0 | M65: =G65+I65+K65 -> 0
B66: [ 배관 부속재 ] | C66: 전선관의 15 % | D66: 식 | E66: 1 | G66: =E66*F66 -> 0 | I66: =$E66*H66 -> 0 | K66: =$E66*J66 -> 0 | L66: =F66+H66+J66 -> 0 | M66: =G66+I66+K66 -> 0
B67: 1종금속제가요전선관 | C67: 42 mm 일반-비방수 | D67: m | E67: 225 | G67: =E67*F67 -> 0 | I67: =$E67*H67 -> 0 | K67: =$E67*J67 -> 0 | L67: =F67+H67+J67 -> 0 | M67: =G67+I67+K67 -> 0
B68: 풀박스 | C68: 200×200×100 | D68: 개 | E68: 3 | G68: =E68*F68 -> 0 | I68: =$E68*H68 -> 0 | K68: =$E68*J68 -> 0 | L68: =F68+H68+J68 -> 0 | M68: =G68+I68+K68 -> 0
B69: 전선덕트 | C69: 알루미늄 100x50 mm | D69: m | E69: 120 | G69: =E69*F69 -> 0 | I69: =$E69*H69 -> 0 | K69: =$E69*J69 -> 0 | L69: =F69+H69+J69 -> 0 | M69: =G69+I69+K69 -> 0
B70: 접지용비닐절연전선(F-GV) | C70: 10㎟ | D70: m | E70: 450 | G70: =E70*F70 -> 0 | I70: =$E70*H70 -> 0 | K70: =$E70*J70 -> 0 | L70: =F70+H70+J70 -> 0 | M70: =G70+I70+K70 -> 0
B71: 폴리에틸렌 난연케이블 | C71: 0.6/1kv F-CV 4C×10㎟ | D71: m | E71: 326 | G71: =E71*F71 -> 0 | I71: =$E71*H71 -> 0 | K71: =$E71*J71 -> 0 | L71: =F71+H71+J71 -> 0 | M71: =G71+I71+K71 -> 0
B72: 배선용차단기(ABS-104) | C72: 4P 100AF75AT | D72: EA | E72: 12 | G72: =E72*F72 -> 0 | I72: =$E72*H72 -> 0 | K72: =$E72*J72 -> 0 | L72: =F72+H72+J72 -> 0 | M72: =G72+I72+K72 -> 0
B73: 노 무 비 | C73: 내선전공 | D73: 인 | E73: 13 | G73: =E73*F73 -> 0 | I73: =$E73*H73 -> 0 | K73: =$E73*J73 -> 0 | L73: =F73+H73+J73 -> 0 | M73: =G73+I73+K73 -> 0
B74: 노 무 비 | C74: 저압케이블전공 | D74: 인 | E74: 8 | G74: =E74*F74 -> 0 | I74: =$E74*H74 -> 0 | K74: =$E74*J74 -> 0 | L74: =F74+H74+J74 -> 0 | M74: =G74+I74+K74 -> 0
B75: [ 공 구 손 료 ] | C75: 노무비의 3 % | D75: 식 | E75: 1 | G75: =E75*F75 -> 0 | I75: =$E75*H75 -> 0 | K75: =$E75*J75 -> 0 | L75: =F75+H75+J75 -> 0 | M75: =G75+I75+K75 -> 0
E76: 0 | G76: =E76*F76 -> 0 | I76: =$E76*H76 -> 0 | K76: =$E76*J76 -> 0 | L76: =F76+H76+J76 -> 0 | M76: =G76+I76+K76 -> 0
E77: 0 | G77: =E77*F77 -> 0 | I77: =$E77*H77 -> 0 | K77: =$E77*J77 -> 0 | L77: =F77+H77+J77 -> 0 | M77: =G77+I77+K77 -> 0
E78: 0 | G78: =E78*F78 -> 0 | I78: =$E78*H78 -> 0 | K78: =$E78*J78 -> 0 | L78: =F78+H78+J78 -> 0 | M78: =G78+I78+K78 -> 0
B79: 소계 | G79: =SUM(G65:G78) -> 0 | I79: =SUM(I65:I78) -> 0 | K79: =SUM(K65:K78) -> 0 | M79: =SUM(M65:M78) -> 0
A80: 5 | B80: 조명기구
B81: 6인치 다운라이트 | C81: LED 15W(KS+고효율) | D81: SET | E81: 169 | G81: =E81*F81 -> 0 | I81: =$E81*H81 -> 0 | K81: =$E81*J81 -> 0 | L81: =F81+H81+J81 -> 0 | M81: =G81+I81+K81 -> 0
B82: 매립평판등 | C82: LED 40W(KS+고효율) / 300*1200 | D82: SET | E82: 16 | G82: =E82*F82 -> 0 | I82: =$E82*H82 -> 0 | K82: =$E82*J82 -> 0 | L82: =F82+H82+J82 -> 0 | M82: =G82+I82+K82 -> 0
B83: 매립평판등 | C83: LED 40W(KS+고효율) / 600*600 | D83: SET | E83: 186 | G83: =E83*F83 -> 0 | I83: =$E83*H83 -> 0 | K83: =$E83*J83 -> 0 | L83: =F83+H83+J83 -> 0 | M83: =G83+I83+K83 -> 0
B84: LED Bar | C84: LED 18W(KS+고효율) | D84: M | E84: 82.92 | G84: =E84*F84 -> 0 | I84: =$E84*H84 -> 0 | K84: =$E84*J84 -> 0 | L84: =F84+H84+J84 -> 0 | M84: =G84+I84+K84 -> 0
B85: 펜던트 | C85: LED 15W(KS+고효율) / 지정품 | D85: SET | E85: 4 | G85: =E85*F85 -> 0 | I85: =$E85*H85 -> 0 | K85: =$E85*J85 -> 0 | L85: =F85+H85+J85 -> 0 | M85: =G85+I85+K85 -> 0
B86: 벽부등 | C86: LED 6W(KS+고효율) | D86: SET | E86: 5 | G86: =E86*F86 -> 0 | I86: =$E86*H86 -> 0 | K86: =$E86*J86 -> 0 | L86: =F86+H86+J86 -> 0 | M86: =G86+I86+K86 -> 0
B87: 라인 레일조명 | C87: LED 30W(KS+고효율) / 120*2000 / 레일포함 | D87: M | E87: 24 | G87: =E87*F87 -> 0 | I87: =$E87*H87 -> 0 | K87: =$E87*J87 -> 0 | L87: =F87+H87+J87 -> 0 | M87: =G87+I87+K87 -> 0
B88: 간접등 | C88: T5 | D88: M | E88: 74.4 | G88: =E88*F88 -> 0 | I88: =$E88*H88 -> 0 | K88: =$E88*J88 -> 0 | L88: =F88+H88+J88 -> 0 | M88: =G88+I88+K88 -> 0
E89: 0 | G89: =E89*F89 -> 0 | I89: =$E89*H89 -> 0 | K89: =$E89*J89 -> 0 | L89: =F89+H89+J89 -> 0 | M89: =G89+I89+K89 -> 0
E90: 0 | G90: =E90*F90 -> 0 | I90: =$E90*H90 -> 0 | K90: =$E90*J90 -> 0 | L90: =F90+H90+J90 -> 0 | M90: =G90+I90+K90 -> 0
E91: 0 | G91: =E91*F91 -> 0 | I91: =$E91*H91 -> 0 | K91: =$E91*J91 -> 0 | L91: =F91+H91+J91 -> 0 | M91: =G91+I91+K91 -> 0
E92: 0 | G92: =E92*F92 -> 0 | I92: =$E92*H92 -> 0 | K92: =$E92*J92 -> 0 | L92: =F92+H92+J92 -> 0 | M92: =G92+I92+K92 -> 0
E93: 0 | G93: =E93*F93 -> 0 | I93: =$E93*H93 -> 0 | K93: =$E93*J93 -> 0 | L93: =F93+H93+J93 -> 0 | M93: =G93+I93+K93 -> 0
E94: 0 | G94: =E94*F94 -> 0 | I94: =$E94*H94 -> 0 | K94: =$E94*J94 -> 0 | L94: =F94+H94+J94 -> 0 | M94: =G94+I94+K94 -> 0
E95: 0 | G95: =E95*F95 -> 0 | I95: =$E95*H95 -> 0 | K95: =$E95*J95 -> 0 | L95: =F95+H95+J95 -> 0 | M95: =G95+I95+K95 -> 0
E96: 0 | G96: =E96*F96 -> 0 | I96: =$E96*H96 -> 0 | K96: =$E96*J96 -> 0 | L96: =F96+H96+J96 -> 0 | M96: =G96+I96+K96 -> 0
B97: 소계 | G97: =SUM(G81:G96) -> 0 | I97: =SUM(I81:I96) -> 0 | K97: =SUM(K81:K96) -> 0 | M97: =SUM(M81:M96) -> 0
B98: 계 | G98: =SUM(G5:G97)/2 -> 0 | I98: =SUM(I5:I97)/2 -> 0 | K98: =SUM(K5:K97)/2 -> 0 | M98: =ROUND(SUMIFS(M5:M97,B5:B97,"소계"),0) -> 0
