Workbook

Sheet 공종별 집계표
A1: 공종별 집계표
A2: 공사명 : 광주광산고용센터 신청사 전기공사
A3: 구분 | B3: 품 명 | C3: 규 격 | D3: 수량 | E3: 단위 | F3: 자재비 | H3: 노무비 | J3: 경비 | L3: 합계 | N3: 비고
F4: 단가 | G4: 금액 | H4: 단가 | I4: 금액 | J4: 단가 | K4: 금액 | L4: 단가 | M4: 금액
B5: 직접공사비
B6: 1. 전력간선 설비공사 | D6: 식 | E6: 1 | G6: ='공종별 내역서'!G20 -> 0 | I6: ='공종별 내역서'!I20 -> 0 | K6: ='공종별 내역서'!K20 -> 0 | M6: ='공종별 내역서'!M20 -> 0
B7: 2. 전등 설비공사 | D7: 식 | E7: 1 | G7: ='공종별 내역서'!G41 -> 0 | I7: ='공종별 내역서'!I41 -> 0 | K7: ='공종별 내역서'!K41 -> 0 | M7: ='공종별 내역서'!M41 -> 0
B8: 3. 전열설비공사 | D8: 식 | E8: 1 | G8: ='공종별 내역서'!G63 -> 0 | I8: ='공종별 내역서'!I63 -> 0 | K8: ='공종별 내역서'!K63 -> 0 | M8: ='공종별 내역서'!M63 -> 0
B9: 4. 냉난방 전력 간선공사 | D9: 식 | E9: 1 | G9: ='공종별 내역서'!G79 -> 0 | I9: ='공종별 내역서'!I79 -> 0 | K9: ='공종별 내역서'!K79 -> 0 | M9: ='공종별 내역서'!M79 -> 0
B10: 5. 조명기구 | D10: 식 | E10: 1 | G10: ='공종별 내역서'!G97 -> 0 | I10: ='공종별 내역서'!I97 -> 0 | K10: ='공종별 내역서'!K97 -> 0 | M10: ='공종별 내역서'!M97 -> 0
B31: 소 계 | G31: =SUM(G6:G30) -> 0 | I31: =SUM(I6:I30) -> 0 | K31: =SUM(K6:K30) -> 0 | M31: =SUM(M6:M30) -> 0

Sheet 공종별 내역서
A1: 공종별 내역서
A2: 공사명 : 광주광산고용센터 신청사 전기공사
A3: 구분 | B3: 품명 | C3: 규 격 | D3: 단 위 | E3: 수 량 | F3: 자재비 | H3: 노무비 | J3: 경비/외주비 | L3: 합계 | N3: 비 고
F4: 단가 | G4: 금액 | H4: 단가 | I4: 금액 | J4: 단가 | K4: 금액 | L4: 단가 | M4: 금액
A5: 1 | B5: 전력간선 설비공사
B6: 경질비닐전선관 | C6: HI 42 mm | D6: m | E6: 16 | G6: =E6*F6 -> 0 | I6: =$E6*H6 -> 0 | K6: =$E6*J6 -> 0 | L6: =F6+H6+J6 -> 0 | M6: =G6+I6+K6 -> 0
B7: [ 배관 부속재 ] | C7: 전선관의 15 % | D7: 식 | E7: 1 | G7: =E7*F7 -> 0 | I7: =$E7*H7 -> 0 | K7: =$E7*J7 -> 0 | L7: =F7+H7+J7 -> 0 | M7: =G7+I7+K7 -> 0
B8: 1종금속제가요전선관 | C8: 42 mm 일반-비방수 | D8: m | E8: 264 | G8: =E8*F8 -> 0 | I8: =$E8*H8 -> 0 | K8: =$E8*J8 -> 0 | L8: =F8+H8+J8 -> 0 | M8: =G8+I8+K8 -> 0
B9: 풀박스 | C9: 200×200×100 | D9: 개 | E9: 12 | G9: =E9*F9 -> 0 | I9: =$E9*H9 -> 0 | K9: =$E9*J9 -> 0 | L9: =F9+H9+J9 -> 0 | M9: =G9+I9+K9 -> 0
B10: 전선덕트 | C10: 알루미늄 100x50 mm | D10: m | E10: 32 | G10: =E10*F10 -> 0 | I10: =$E10*H10 -> 0 | K10: =$E10*J10 -> 0 | L10: =F10+H10+J10 -> 0 | M10: =G10+I10+K10 -> 0
B11: 접지용비닐절연전선(F-GV) | C11: 10㎟ | D11: m | E11: 300 | G11: =E11*F11 -> 0 | I11: =$E11*H11 -> 0 | K11: =$E11*J11 -> 0 | L11: =F11+H11+J11 -> 0 | M11: =G11+I11+K11 -> 0
B12: 폴리에틸렌 난연케이블 | C12: 0.6/1kv F-CV 4C×10㎟ | D12: m | E12: 284 | G12: =E12*F12 -> 0 | I12: =$E12*H12 -> 0 | K12: =$E12*J12 -> 0 | L12: =F12+H12+J12 -> 0 | M12: =G12+I12+K12 -> 0
B13: 배선용차단기(ABS-104) | C13: 4P 100AF75AT | D13: EA | E13: 4 | G13: =E13*F13 -> 0 | I13: =$E13*H13 -> 0 | K13: =$E13*J13 -> 0 | L13: =F13+H13+J13 -> 0 | M13: =G13+I13+K13 -> 0
B14: 노 무 비 | C14: 내선전공 | D14: 인 | E14: 15 | G14: =E14*F14 -> 0 | I14: =$E14*H14 -> 0 | K14: =$E14*J14 -> 0 | L14: =F14+H14+J14 -> 0 | M14: =G14+I14+K14 -> 0
B15: 노 무 비 | C15: 저압케이블전공 | D15: 인 | E15: 8 | G15: =E15*F15 -> 0 | I15: =$E15*H15 -> 0 | K15: =$E15*J15 -> 0 | L15: =F15+H15+J15 -> 0 | M15: =G15+I15+K15 -> 0
B16: [ 공 구 손 료 ] | C16: 노무비의 3 % | D16: 식 | E16: 1 | G16: =E16*F16 -> 0 | I16: =$E16*H16 -> 0 | K16: =$E16*J16 -> 0 | L16: =F16+H16+J16 -> 0 | M16: =G16+I16+K16 -> 0
E17: 0 | G17: =E17*F17 -> 0 | I17: =$E17*H17 -> 0 | K17: =$E17*J17 -> 0 | L17: =F17+H17+J17 -> 0 | M17: =G17+I17+K17 -> 0
E18: 0 | G18: =E18*F18 -> 0 | I18: =$E18*H18 -> 0 | K18: =$E18*J18 -> 0 | L18: =F18+H18+J18 -> 0 | M18: =G18+I18+K18 -> 0
E19: 0 | G19: =E19*F19 -> 0 | I19: =$E19*H19 -> 0 | K19: =$E19*J19 -> 0 | L19: =F19+H19+J19 -> 0 | M19: =G19+I19+K19 -> 0
B20: 소계 | G20: =SUM(G6:G19) -> 0 | I20: =SUM(I6:I19) -> 0 | K20: =SUM(K6:K19) -> 0 | M20: =SUM(M6:M19) -> 0
A21: 2 | B21: 전등 설비공사
B22: 합성수지제 가요전선관 | C22: CD-난연성 16㎜ | D22: m | E22: 44 | G22: =E22*F22 -> 0 | I22: =$E22*H22 -> 0 | K22: =$E22*J22 -> 0 | L22: =F22+H22+J22 -> 0 | M22: =G22+I22+K22 -> 0
B23: [ 배관 부속재 ] | C23: CD 전선관의 40 % | D23: 식 | E23: 1 | G23: =E23*F23 -> 0 | I23: =$E23*H23 -> 0 | K23: =$E23*J23 -> 0 | L23: =F23+H23+J23 -> 0 | M23: =G23+I23+K23 -> 0
B24: 1종금속제가요전선관 | C24: 16 mm 일반-비방수 | D24: m | E24: 1664 | G24: =E24*F24 -> 0 | I24: =$E24*H24 -> 0 | K24: =$E24*J24 -> 0 | L24: =F24+H24+J24 -> 0 | M24: =G24+I24+K24 -> 0
B25: 1종금속제가요전선관 | C25: 22 mm 일반-비방수 | D25: m | E25: 112 | G25: =E25*F25 -> 0 | I25: =$E25*H25 -> 0 | K25: =$E25*J25 -> 0 | L25: =F25+H25+J25 -> 0 | M25: =G25+I25+K25 -> 0
B26: 아우트렛박스 | C26: 8각 54㎜ | D26: 개 | E26: 480 | G26: =E26*F26 -> 0 | I26: =$E26*H26 -> 0 | K26: =$E26*J26 -> 0 | L26: =F26+H26+J26 -> 0 | M26: =G26+I26+K26 -> 0
B27: 스위치박스 | C27: 1 개용 54 mm | D27: 개 | E27: 52 | G27: =E27*F27 -> 0 | I27: =$E27*H27 -> 0 | K27: =$E27*J27 -> 0 | L27: =F27+H27+J27 -> 0 | M27: =G27+I27+K27 -> 0
B28: 스위치박스 | C28: 2 개용 54 mm | D28: 개 | E28: 4 | G28: =E28*F28 -> 0 | I28: =$E28*H28 -> 0 | K28: =$E28*J28 -> 0 | L28: =F28+H28+J28 -> 0 | M28: =G28+I28+K28 -> 0
B29: 아우트렛박스 커버 | C29: 커버, 8각, 평형 | D29: 개 | E29: 480 | G29: =E29*F29 -> 0 | I29: =$E29*H29 -> 0 | K29: =$E29*J29 -> 0 | L29: =F29+H29+J29 -> 0 | M29: =G29+I29+K29 -> 0
B30: 450/750V 내열비닐절연전선 | C30: HFIX 1.78mm(2.5㎟) | D30: m | E30: 5664 | G30: =E30*F30 -> 0 | I30: =$E30*H30 -> 0 | K30: =$E30*J30 -> 0 | L30: =F30+H30+J30 -> 0 | M30: =G30+I30+K30 -> 0
B31: 매입스위치 | C31: 250V 1로1구 | D31: 개 | E31: 16 | G31: =E31*F31 -> 0 | I31: =$E31*H31 -> 0 | K31: =$E31*J31 -> 0 | L31: =F31+H31+J31 -> 0 | M31: =G31+I31+K31 -> 0
B32: 매입스위치 | C32: 250V 1로2구 | D32: 개 | E32: 36 | G32: =E32*F32 -> 0 | I32: =$E32*H32 -> 0 | K32: =$E32*J32 -> 0 | L32: =F32+H32+J32 -> 0 | M32: =G32+I32+K32 -> 0
B33: 매입스위치 | C33: 250V 1로4구 | D33: 개 | E33: 4 | G33: =E33*F33 -> 0 | I33: =$E33*H33 -> 0 | K33: =$E33*J33 -> 0 | L33: =F33+H33+J33 -> 0 | M33: =G33+I33+K33 -> 0
... B37: [ 공 구 손 료 ] | C37: 노무비의 3 % | D37: 식 | E37: 1 | G37: =E37*F37 -> 0 | I37: =$E37*H37 -> 0 | K37: =$E37*J37 -> 0 | L37: =F37+H37+J37 -> 0 | M37: =G37+I37+K37 -> 0
E38: 0 | G38: =E38*F38 -> 0 | I38: =$E38*H38 -> 0 | K38: =$E38*J38 -> 0 | L38: =F38+H38+J38 -> 0 | M38: =G38+I38+K38 -> 0
E39: 0 | G39: =E39*F39 -> 0 | I39: =$E39*H39 -> 0 | K39: =$E39*J39 -> 0 | L39: =F39+H39+J39 -> 0 | M39: =G39+I39+K39 -> 0
E40: 0 | G40: =E40*F40 -> 0 | I40: =$E40*H40 -> 0 | K40: =$E40*J40 -> 0 | L40: =F40+H40+J40 -> 0 | M40: =G40+I40+K40 -> 0
B41: 소계 | G41: =SUM(G22:G40) -> 0 | I41: =SUM(I22:I40) -> 0 | K41: =SUM(K22:K40) -> 0 | M41: =SUM(M22:M40) -> 0
A42: 3 | B42: 전열설비공사
B43: 합성수지제 가요전선관 | C43: CD-난연성 16㎜ | D43: m | E43: 324 | G43: =E43*F43 -> 0 | I43: =$E43*H43 -> 0 | K43: =$E43*J43 -> 0 | L43: =F43+H43+J43 -> 0 | M43: =G43+I43+K43 -> 0
...
