Workbook
Name ______A1: #REF!
Name _____b2: #REF!
Name _____D1: #REF!
Name _____D2: #REF!
Name _____LP1: #REF!
Name _____LP2: #REF!
Name _____Q1: #REF!
Name _____Q2: #REF!
Name _____Q3: #REF!
Name _____SUB1: #REF!
Name _____SUB2: #REF!
Name _____SUB3: #REF!
Name _____sub4: #REF!
Name _____sub5: #REF!
Name ____A1: #REF!
Name ____b2: #REF!
Name ____D1: #REF!
Name ____D2: #REF!
Name ____LP1: #REF!
Name ____LP2: #REF!
Name ____LPB1: [2]부하계산서!#REF!
Name ____LPK1: [2]부하계산서!#REF!
Name ____LU1: '[3]부하(성남)'!#REF!
Name ____LU2: '[3]부하(성남)'!#REF!
Name ____LV01: '[3]부하(성남)'!#REF!
Name ____Q1: #REF!
Name ____Q2: #REF!
Name ____Q3: #REF!
Name ____SUB1: #REF!
Name ____SUB2: #REF!
Name ____SUB3: #REF!
Name ____sub4: #REF!
Name ____sub5: #REF!
Name ____UP1: [2]부하계산서!#REF!
Name ____UP2: [2]부하계산서!#REF!
Name ___DOG1: #REF!
Name ___DOG2: #REF!
Name ___DOG3: #REF!
Name ___DOG4: #REF!
Name ___LPB1: [2]부하계산서!#REF!
Name ___LPK1: [2]부하계산서!#REF!
Name ___LU1: '[3]부하(성남)'!#REF!
Name ___LU2: '[3]부하(성남)'!#REF!
Name ___LV01: '[3]부하(성남)'!#REF!
Name ___PI48: #REF!
Name ___PI60: #REF!
Name ___RO110: #REF!
Name ___RO22: #REF!
Name ___RO35: #REF!
Name ___RO60: #REF!
Name ___RO80: #REF!
Name ___TON1: #REF!
Name ___TON2: #REF!
Name ___UP1: [2]부하계산서!#REF!
Name ___UP2: [2]부하계산서!#REF!
Name ___WW2: #REF!
Name ___WW6: #REF!
Name __A1: #REF!
Name __a2: #REF!
Name __a3: #REF!

Sheet 원가
A1: 원 가 계 산 서
A3: 공사명: | C3: 대자중 등 7교 전기차충전기 설치 전기공사 | E3: 공사기간: 1개월이상
A4: 비 목 | C4: 구 분 | D4: 금 액 | E4: 구 성 비 | I4: 요율 | J4: 수량 | K4: 금액 | L4: 이윤 | M4: 끝자리 맞추기
B5: 재 료 비 | C5: 직 접 재 료 비 | J5: 1 | K5: =D5*J5 -> 0
C6: 간 접 재 료 비 | K6: =D6*J6 -> 0
C7: ( 소 계 ) | K7: =D7*J7 -> 0
A8: 순 | B8: 노 무 비 | C8: 직 접 노 무 비 | J8: 1 | K8: =D8*J8 -> 0
C9: 간 접 노 무 비 | E9: (직접 노무비) * 17.5 % | I9: 17.5 | J9: 1 | K9: =D9*J9 -> 0
C10: ( 소 계 ) | K10: =D10*J10 -> 0
C11: 기 계 경 비 | J11: 1 | K11: =D11*J11 -> 0
C12: 산 재 보 험 료 | E12: (노무비) * 3.56 % | I12: 3.56 | J12: 1 | K12: =D12*J12 -> 0
A13: 공 | C13: 고 용 보 험 료 | E13: (노무비) * 1.01 % | I13: 1.01 | J13: 1 | K13: =D13*J13 -> 0
B14: 경 | C14: 퇴 직 금 공 제 | E14: (직접 노무비) * 2.3 % | I14: 2.3 | J14: 1 | K14: =D14*J14 -> 0
C15: 산업안전보건관리비 | E15: (재료+직노+관급재/1.1) * 2.07 % | I15: 2.07 | J15: 1 | K15: =D15*J15 -> 0
C16: 기 타 경 비 | E16: (재료+노무) * 4.831 % | I16: 4.831 | J16: 1 | K16: =D16*J16 -> 0
C17: 건 강 보 험 료 | E17: (직접 노무비) * 3.595 % | I17: 3.595 | J17: 1 | K17: =D17*J17 -> 0
A18: 사 | C18: 연 금 보 험 료 | E18: (직접 노무비) * 4.75 % | I18: 4.75 | J18: 1 | K18: =D18*J18 -> 0
C19: 노인장기요양보험 | E19: (건강 보험료) * 13.14 % | I19: 13.14 | J19: 1 | K19: =D19*J19 -> 0
C20: 석 면 분 단 금 | E20: (노무비) * 0.006 % | I20: 0.006 | J20: 1 | K20: =D20*J20 -> 0
C21: 임금채권부담금 | E21: (노무비) * 0.09 % | I21: 0.09 | J21: 1 | K21: =D21*J21 -> 0
B22: 비 | K22: =D22*J22 -> 0
A23: 비 | K23: =D23*J23 -> 0
K24: =D24*J24 -> 0
C25: ( 소 계 ) | K25: =D25*J25 -> 0
B26: ( 순 공 사 비 계 ) | K26: =D26*J26 -> 0
A27: 일 반 관 리 비 | E27: (재료+노무+경비) * 8 % | I27: 8 | J27: 1 | K27: =D27*J27 -> 0
A28: 이 윤 | E28: (노무+경비+일반관리비) * 15 % | I28: 15 | J28: 1 | K28: =D28*J28 -> 0 | L28: =TRUNC((D10+D25+D27)*I28/100) -> 0 | M28: 100000
A29: ( 총 원 가 ) | K29: =D29*J29 -> 0
A30: 손해배상공제수수료 | E30: (총원가) * 0.26477 % | I30: 0.26477 | J30: 1 | K30: =D30*J30 -> 0
A31: 부 가 가 치 세 | I31: 10 | J31: 1 | K31: =D31*J31 -> 0
K32: =D32*J32 -> 0
K33: =D33*J33 -> 0
K34: =D34*J34 -> 0
A35: ( 총 계 ) | E35: 천원이하 절상 | K35: =SUM(K5:K34) -> 0

Sheet 총괄표
A1: 총줄수-> | B1: 29 | C1: 2.0 | D1: [ 대자중 등 7교 전기차충전기 설치 전기공사 ] | AA1: 연속견적가로형식
A2: 번호 | B2: 공종코드 | C2: … | D2: 공 종 명 | E2: 규격 | F2: 단위 | G2: 수량 | H2: 재료비 | J2: 노무비 | M2: 경비 | P2: 계 | Q2: 비고
H3: 단가 | I3: 금액 | J3: 수량 | K3: 단가 | L3: 금액 | M3: 단가 | N3: 금액 | O3: 단가
B4: 공종줄 | D4: [대자중 등 7교 전기차충전기 설치 전기공사]
B5: 001 | D5: 1. 대자중 전기차충전기 설치 전기공사 | F5: 식 | G5: 1
B6: 002 | D6: 2. 송광중 전기차충전기 설치 전기공사 | F6: 식 | G6: 1
B7: 003 | D7: 3. 풍암중 전기차충전기 설치 전기공사 | F7: 식 | G7: 1
B8: 004 | D8: 4. 선운중 전기차충전기 설치 전기공사 | F8: 식 | G8: 1
B9: 005 | D9: 5. 운남중 전기차충전기 설치 전기공사 | F9: 식 | G9: 1
B10: 006 | D10: 6. 대촌중 전기차충전기 설치 전기공사 | F10: 식 | G10: 1
B11: 007 | D11: 7. 수완중 전기차충전기 설치 전기공사 | F11: 식 | G11: 1
C29: Total | D29: ( 합 계 )

Sheet 내역서
A1: 총줄수-> | B1: 367 | C1: 2.0 | D1: ㅍ | W1: 노임 계산 정보 | AA1: 부속재 및 손료
A2: 번호 | B2: 공종코드 | C2: 코드 | D2: 명 칭 | E2: 규 격 | F2: 단위 | G2: 수량 | H2: 재료비 | J2: 노무비 | M2: 경비 | P2: 계 | Q2: 비고 | W2: 노임계 | X2: 전체(%) | Y2: 공종별(%) | Z2: 노임 소수 | AA2: CD배관재 | AB2: 일반배관재 | AC2: 소모재 | AD2: 자재계 | AE2: 노임계
H3: 단가 | I3: 금액 | J3: 수량 | K3: 단가 | L3: 금액 | M3: 단가 | N3: 금액 | O3: 단가 | AD3: 1 | AE3: 1
B4: 공종줄 | D4: 1.대자중 전기차충전기 설치 전기공사
A5: 59750337015 | B5: 001 | C5: 3913170620935612 | D5: 강제전선관(노출) | E5: 아연도 42 mm | F5: m | G5: 158 | AB5: 932042 | AC5: 932042
A6: 59751467033 | B6: 001 | C6: 3913170630034966 | D6: 경질비닐전선관(지중) | E6: HI 22 mm | F6: m | G6: 13 | AB6: 4550 | AC6: 4550
A7: 59753077001 | B7: 001 | C7: 3913170610035631 | D7: 파상형 폴리에틸렌 전선관 | E7: 30㎜(가로등,신호,구내) | F7: m | G7: 5 | AB7: 1710 | AC7: 1710
A8: 59753077002 | B8: 001 | C8: 3913170610035632 | D8: 파상형 폴리에틸렌 전선관 | E8: 40㎜(가로등,신호,구내) | F8: m | G8: 11 | AB8: 5742 | AC8: 5742
A9: A0500000000 | B9: 001 | C9: RENT000000000002 | D9: [ 배관 부속재 ] | E9: 전선관의 15 % | F9: 식 | G9: 1 | AB9: 944044
A10: 59753857031 | B10: 001 | C10: 3912130310035797 | D10: 풀박스 | E10: 150×150×100 | F10: 개 | G10: 8
A11: E1450927202 | B11: 001 | C11: 2612152420683696 | D11: 접지용비닐절연전선(F-GV) | E11: 4㎟ | F11: m | G11: 8 | AC11: 12832
A12: E1450927204 | B12: 001 | C12: 2612152420683698 | D12: 접지용비닐절연전선(F-GV) | E12: 10㎟ | F12: m | G12: 4 | AC12: 6092
A13: E1450927205 | B13: 001 | C13: 2612152420683699 | D13: 접지용비닐절연전선(F-GV) | E13: 16㎟ | F13: m | G13: 14 | AC13: 42574
A14: E1450287522 | B14: 001 | C14: 61450287922 | D14: 폴리에틸렌 난연케이블 | E14: 0.6/1kv F-CV 2C×4㎟ | F14: m | G14: 8 | AC14: 9640
A15: E1450287524 | B15: 001 | C15: 2612162920683905 | D15: 폴리에틸렌 난연케이블 | E15: 0.6/1kv F-CV 2C×10㎟ | F15: m | G15: 4 | AC15: 20420
A16: E1450287526 | B16: 001 | C16: 2612162920683907 | D16: 폴리에틸렌 난연케이블 | E16: 0.6/1kv F-CV 2C×25㎟ | F16: m | G16: 161 | AC16: 2000264
A17: 59750427104 | B17: 001 | C17: 3912161310034846 | D17: 접지봉 | E17: 16Φ×1800 mm | F17: 개 | G17: 3
A18: MM300041036 | B18: 001 | C18: 3912161320937669 | D18: 접지봉 콘넥터 | E18: 일반형 Φ16 | F18: 개 | G18: 3
A19: E9400267003 | B19: 001 | C19: 3912143220172073 | D19: 압착단자 | E19: R형동선 나압착 4 ㎟ | F19: 개 | G19: 8
A20: E9400267005 | B20: 001 | C20: 3912143221650910 | D20: 압착단자 | E20: R형동선 나압착 10 ㎟ | F20: 개 | G20: 4
A21: E9400267007 | B21: 001 | C21: 3912143221650912 | D21: 압착단자 | E21: R형동선 나압착 25 ㎟ | F21: 개 | G21: 4
A22: 56940220101 | B22: 001 | C22: ABB105100000 | D22: 아스팔트 포장 컷팅 | E22: 터파기 별도 계상 | F22: m | G22: 7 | Q22: 제 1호
A23: 56940220111 | B23: 001 | C23: ABB105300000 | D23: 아스팔트 포장 파괴 | E23: 터파기 별도 계상 | F23: ㎡ | G23: 1 | Q23: 제 2호 | Z23: 노임계
A24: MM068910905 | B24: 001 | C24: 391115ZZ701Z0010 | D24: 전기차 충전기 | E24: 완속, 7kW | F24: EA | G24: 1
A25: MM068910908 | B25: 001 | C25: 391115ZZ701Z0011 | D25: 전기차 캐노피 | F25: EA | G25: 1
A26: MM068910902 | B26: 001 | C26: 391115ZZ701Z0015 | D26: 청정소화기 | E26: 3KG | F26: EA | G26: 1
A27: MM069342858 | B27: 001 | C27: CC5658280023 | D27: 혼합건설폐기물 | E27: 15톤 덤프트럭, 30km | F27: Ton | G27: 0.6318
A28: MM069342856 | B28: 001 | C28: CC5658280024 | D28: 혼합건설폐기물 | E28: 건설폐재류에 가연성 5% 이하 혼합 | F28: Ton | G28: 0.6318
A29: 56959000010 | B29: 001 | C29: EAZ800100000 | D29: 아스팔트포장 | E29: 소규모 인력 | F29: ㎥ | G29: 0.27 | Q29: 제 12호
A30: 56959000003 | B30: 001 | C30: EAZ800030000 | D30: 기초대 | E30: W2000xD1000xH300 | F30: 식 | G30: 1 | Q30: 제 5호
A31: 56959000009 | B31: 001 | C31: EAZ800090000 | D31: 되메우기(기계90%,인력10%) | E31: 보통토사 | F31: ㎥ | G31: 9.66 | Q31: 제 11호
A32: 56959000007 | B32: 001 | C32: EAZ800070000 | D32: 볼라드 설치 | F32: 개소 | G32: 4 | Q32: 제 9호
A33: 56959000002 | B33: 001 | C33: EAZ800020000 | D33: 옥외형 계량기함 | E33: 자립형 | F33: 면 | G33: 1 | Q33: 제 4호
A34: 56959000006 | B34: 001 | C34: EAZ800060000 | D34: 옥외형 소화기함 | E34: 자립형 | F34: EA | G34: 1 | Q34: 제 8호
A35: 56959000001 | B35: 001 | C35: EAZ800010000 | D35: 전선관 지지대 | E35: 42C | F35: 개소 | G35: 72 | Q35: 제 3호
A36: 56959000004 | B36: 001 | C36: EAZ800040000 | D36: 차선도색 | E36: 문자 | F36: ㎡ | G36: 5 | Q36: 제 6호
A37: 56959000005 | B37: 001 | C37: EAZ800050000 | D37: 차선도색 | E37: 주차면 | F37: ㎡ | G37: 12 | Q37: 제 7호
A38: 56959000012 | B38: 001 | C38: EAZ800120000 | D38: 카스토퍼 (150x120x90x750mm) | F38: 개 | G38: 2 | Q38: 제 15호
A39: 56959000008 | B39: 001 | C39: EAZ800080000 | D39: 터파기(기계90%,인력10%) | E39: 보통토사 | F39: ㎥ | G39: 9.66 | Q39: 제 10호
A40: A0100000000 | B40: 001 | C40: RENT000000000003 | D40: [ 소모 잡자재 ] | E40: 전선, 전선관의 2 % | F40: 식 | G40: 1 | AC40: 60717 | AD40: 11804094
...

Sheet 옵션
B1: 재료비 | C1: 노무비 | D1: 경비 | F1: 계
A2: 총 급 액 | B2: =총괄표!I29 -> 0 | C2: =총괄표!L29 -> 0 | D2: =총괄표!N29 -> 0 | F2: =SUM(B2,C2,D2) -> 0
A3: 관급 자재비 | F3: =SUM(B3,C3,D3) -> 0 | H3: 금액조정이 안되나요?
H6: 이지테크에서 변환할 때 2번 옵션을 지정하여 다시 해보세요
H9: 시트를 삭제할 때 에러가 뜨면 1번 옵션으로 하면 됩니다.
B10: 적용율(%) | C10: 끝자리 | D10: 적용율(%)/100 | E10: 일위대가소수
A11: 전체자재 적용율(%)(공종/일위대가) | B11: 100 | C11: 1 | D11: =$B$11/100 -> 1
A12: 전체노임 적용율(%)(공종) | B12: 100 | C12: 1 | D12: =$B$12/100 -> 1 | E12: 2 | H12: 2번 옵션으로 변환했을 때에는 결과값이 다를 수 있습니다.
A13: 전체노임 적용율(%)(일위대가) | B13: 100 | C13: 1 | D13: =$B$13/100 -> 1 | E13: 5
A20: *(그룹별 자재 단가 추가 할증)* | B20: 적용율(%) | D20: 적용율(%)/100
A21: Cable(CAB) 할증(%) | B21: =B11 -> 100 | D21: =$B$21/100 -> 1
A22: Wire (WIR) 할증(%) | B22: =B11 -> 100 | D22: =$B$22/100 -> 1
A23: Pipe (PIP) 할증(%) | B23: =B11 -> 100 | D23: =$B$23/100 -> 1
A24: 제 4그룹 할증(%) | B24: =B11 -> 100 | D24: =$B$24/100 -> 1
A25: 제 5그룹 할증(%) | B25: =B11 -> 100 | D25: =$B$25/100 -> 1
A30: *(그룹별 노임 추가 할증)* | B30: 적용율(%) | C30: 자동부속재(전기) | D30: 자동부속재(통신)
A31: 배관부속재(%) | B31: 15 | C31: 15 | D31: 20
A32: CD관부속재(%) | B32: 40 | C32: 40 | D32: 40
A33: 소모잡자재(%) | B33: 2 | H33: 본 파일은 이지테크에서 2번 옵션으로 만들었습니다.
A34: 방폭할증(%)
A35: 고소할증(%) | B35: 2
A36: 공구손료(%) | B36: 3
A40: *(공종별 노임 적용율(%))* | B40: 적용율(%) | C40: 소수자릿수
A41: 1. 대자중 전기차충전기 설치 전기공사 | B41: 100 | C41: 0
A42: 2. 송광중 전기차충전기 설치 전기공사 | B42: 100 | C42: 0
A43: 3. 풍암중 전기차충전기 설치 전기공사 | B43: 100 | C43: 0
A44: 4. 선운중 전기차충전기 설치 전기공사 | B44: 100 | C44: 0
A45: 5. 운남중 전기차충전기 설치 전기공사 | B45: 100 | C45: 0
A46: 6. 대촌중 전기차충전기 설치 전기공사 | B46: 100 | C46: 0
A47: 7. 수완중 전기차충전기 설치 전기공사 | B47: 100 | C47: 0

Sheet 사용설명
B1: ** 반드시 다음 사항을 숙지하신 다음 수정 작업을 하십시오 **
A2: 1. | B2: 속성이 숫자인 셀을 삭제할 때는 반드시 'Delete' 키를 사용하십시오.
B3: **주의:'Space Bar' 로 지웠을 때는 '#Value' Error가 발생됩니다.
A4: 2. | B4: 일위대가(을지)는 소수점 처리 때문에 셀 속성을 '일반'으로 하였습니다.(소수점 능동 처리)
B5: **참고: (수량*단가)의 결과는 소수 한자리, 금액을 취합한 소계는 1원 이하 절사입니다.
A6: 3. | B6: 내역서에서는 수량에만 셀 속성을 '일반'으로 하였습니다.(소수점 능동 처리)
A7: 4. | B7: 단가수정은 '단가조사서'시트 에서 하십시오.
B8: a)표지와 원가 -> 총괄표 -> 내역서 ->일위대가와 합산자재 ->단가조사서 를 참조하고
B9: 있으므로 단가조사서의 결정단가를 수정하면 전체 금액이 갱신됩니다.
B10: **주의: 금액란은 공식이 걸려있으므로 조심하여 수정하십시오.
B11: b)전체 자재를 일정 요율(%)로 변경할 때는 옵션시트의 자재 적용율을 조정하면 됩니다.
A12: 5. | B12: 노임 단가는 '단가조사서'시트에서 품셈은 '노임근거'시트에서 수정하십시오.
B13: a)전체 노임을 일정 요율(%)로 변경할 때는 '옵션시트'의 전체노임 적용율을 조정하면 됩니다.
B14: b)공종별로 노임을 수정하려면 '옵션시트'의 공종별 노임 적용율을 조정하면 됩니다.
B15: c)케이블 및 전선 자재 단가를 추가로 조정하려면 그룹별 자재 적용율을 조정하면 됩니다.
B16: 그룹은 견적 프로그램에서 엑셀파일이 만들어질때 지정됩니다.
A17: 6. | B17: 겉표지의 모든 정보는 표지를 참조하였습니다.(정보 수정은 표지에서만 하시면 됩니다.)
A18: 7. | B18: 필수 :본 프로그램의 총 금액을 확인한 후 사용하십시오.
A19: 8. | B19: 본 파일의 내용을 인쇄할 경우, 미리보기를 통하여 페이지 절선을 확인 후 인쇄하십시오.
A20: 9. | B20: 관급자재 Sheet가 해당이 없을 경우엔 삭제하십시오.
A21: 10. | B21: 페이지 절선이 맞지 않으면 다음을 참고하십시오.
B33: a. 해당시트의 셀 전체를 선택합니다.
B34: b. 행높이를 적절히 가감하면 페이지 절선을 맞출 수 있습니다.

Sheet 합산자재
A1: 총줄수-> | B1: 81 | C1: [ 대자중 등 7교 전기차충전기 설치 전기공사 ] - 합산자재목록
A2: 번호 | B2: … | C2: 코드 | D2: 명 칭 | E2: 규 격 | F2: 단위 | G2: 수량 | H2: 재료비 | I2: 노무비 | J2: 경비 | K2: 지급비 | L2: 계 | M2: 비고
C4: 3913170620935612 | D4: 강제전선관(노출) | E4: 아연도 42 mm | F4: m | G4: 236 | H4: =TRUNC(#REF!*옵션!$D$11) -> #REF! | L4: =SUM(H4,I4,J4) -> #REF!
C5: 3913170610034969 | D5: 경질비닐전선관 | E5: HI 42 mm | F5: m | G5: 18 | H5: =TRUNC(#REF!*옵션!$D$11) -> #REF! | L5: =SUM(H5,I5,J5) -> #REF!
C6: 3913170630034966 | D6: 경질비닐전선관(지중) | E6: HI 22 mm | F6: m | G6: 65 | H6: =TRUNC(#REF!*옵션!$D$11) -> #REF! | L6: =SUM(H6,I6,J6) -> #REF!
C7: 3913170610035631 | D7: 파상형 폴리에틸렌 전선관 | E7: 30㎜(가로등,신호,구내) | F7: m | G7: 48 | H7: =TRUNC(#REF!*옵션!$D$11) -> #REF! | L7: =SUM(H7,I7,J7) -> #REF!
C8: 3913170610035632 | D8: 파상형 폴리에틸렌 전선관 | E8: 40㎜(가로등,신호,구내) | F8: m | G8: 192 | H8: =TRUNC(#REF!*옵션!$D$11) -> #REF! | L8: =SUM(H8,I8,J8) -> #REF!
C9: 3913170820176470 | D9: 강제전선관용 부품 | E9: 위샤캡, 42 C | F9: 개 | G9: 3 | H9: =TRUNC(#REF!*옵션!$D$11) -> #REF! | L9: =SUM(H9,I9,J9) -> #REF!
C10: 3913170820935619 | D10: 경질비닐전선관용 부품 | E10: 노말밴드, 42 mm | F10: 개 | G10: 3 | H10: =TRUNC(#REF!*옵션!$D$11) -> #REF! | L10: =SUM(H10,I10,J10) -> #REF!
C11: 3912130310035797 | D11: 풀박스 | E11: 150×150×100 | F11: 개 | G11: 15 | H11: =TRUNC(#REF!*옵션!$D$11) -> #REF! | L11: =SUM(H11,I11,J11) -> #REF!
C12: 3913170520175128 | D12: 케이블트레이부속품 | E12: U CHANNEL, 41x41x2.6t | F12: m | G12: 108 | H12: =TRUNC(#REF!*옵션!$D$11) -> #REF! | L12: =SUM(H12,I12,J12) -> #REF!
C13: 3913170810036338 | D13: 강제전선관용 부품 | E13: 파이프크램프, 42 C | F13: 개 | G13: 108 | H13: =TRUNC(#REF!*옵션!$D$11) -> #REF! | L13: =SUM(H13,I13,J13) -> #REF!
C14: 3116210220135742 | D14: 셋트앵커 | E14: M8×L150mm | F14: 개 | G14: 104 | H14: =TRUNC(#REF!*옵션!$D$11) -> #REF! | L14: =SUM(H14,I14,J14) -> #REF!
C15: 3116210220135769 | D15: 스트롱앵커 | E15: 3/8 | F15: 개 | G15: 108 | H15: =TRUNC(#REF!*옵션!$D$11) -> #REF! | L15: =SUM(H15,I15,J15) -> #REF!
... C45: 391115ZZ701Z0002 | D45: 모니터링장치 및 부속품 | E45: 부저포함 | F45: 식 | G45: 8 | H45: =TRUNC(#REF!*옵션!$D$11) -> #REF! | L45: =SUM(H45,I45,J45) -> #REF!
C46: 391115ZZ701Z0003 | D46: 배선용 차단기 철거 | E46: 표준형, 4P 600V 225AF | F46: 대 | G46: 1 | H46: =TRUNC(#REF!*옵션!$D$11) -> #REF! | L46: =SUM(H46,I46,J46) -> #REF! | M46: 철거자재
C47: 391115ZZ701Z0004 | D47: 벽관통 구멍 | E47: Φ50-벽두께 20cm | F47: 개소 | G47: 8 | H47: =TRUNC(#REF!*옵션!$D$11) -> #REF! | L47: =SUM(H47,I47,J47) -> #REF! | M47: 산출계상
C48: 391115ZZ701Z0005 | D48: 소화기함 | E48: 옥외자립형 1구 | F48: EA | G48: 7 | H48: =TRUNC(#REF!*옵션!$D$11) -> #REF! | L48: =SUM(H48,I48,J48) -> #REF!
C49: 391115ZZ701Z0006 | D49: 스텐I형볼라드 | E49: Φ101 H:600 | F49: EA | G49: 6 | H49: =TRUNC(#REF!*옵션!$D$11) -> #REF! | L49: =SUM(H49,I49,J49) -> #REF!
C50: 391115ZZ701Z0007 | D50: 아스콘(사급),광주 | E50: #467(기층용) | F50: Ton | G50: 2.8413 | H50: =TRUNC(#REF!*옵션!$D$11) -> #REF! | L50: =SUM(H50,I50,J50) -> #REF!
C51: 391115ZZ701Z0008 | D51: 아스콘(사급),광주 | E51: #78(표층용) | F51: Ton | G51: 1.403 | H51: =TRUNC(#REF!*옵션!$D$11) -> #REF! | L51: =SUM(H51,I51,J51) -> #REF!
C52: 391115ZZ701Z0009 | D52: 아스팔트유제 | E52: RSC 3.4 | F52: ℓ | G52: 9.432 | H52: =TRUNC(#REF!*옵션!$D$11) -> #REF! | L52: =SUM(H52,I52,J52) -> #REF!
C53: 391115ZZ701Z0010 | D53: 전기차 충전기 | E53: 완속, 7kW | F53: EA | G53: 7 | H53: =TRUNC(#REF!*옵션!$D$11) -> #REF! | L53: =SUM(H53,I53,J53) -> #REF!
C54: 391115ZZ701Z0011 | D54: 전기차 캐노피 | F54: EA | G54: 7 | H54: =TRUNC(#REF!*옵션!$D$11) -> #REF! | L54: =SUM(H54,I54,J54) -> #REF!
C55: 391115ZZ701Z0012 | D55: 전력량계함(DOOR/BOX SUS 1.5t) | E55: WHM(500*1,300*300) | F55: PY | G55: 43.32 | H55: =TRUNC(#REF!*옵션!$D$11) -> #REF! | L55: =SUM(H55,I55,J55) -> #REF!
C56: CC5658280013 | D56: 차선도색 | E56: EV주차장 바닥 | F56: ㎡ | G56: 84 | H56: =#REF! -> #REF! | I56: =#REF! -> #REF! | J56: =#REF! -> #REF! | L56: =SUM(H56,I56,J56) -> #REF!
C57: CC5658280014 | D57: 차선도색 | E57: 일반주차장 바닥 | F57: ㎡ | G57: 35 | H57: =#REF! -> #REF! | I57: =#REF! -> #REF! | J57: =#REF! -> #REF! | L57: =SUM(H57,I57,J57) -> #REF!
C58: 391115ZZ701Z0015 | D58: 청정소화기 | E58: 3KG | F58: EA | G58: 7 | H58: =TRUNC(#REF!*옵션!$D$11) -> #REF! | L58: =SUM(H58,I58,J58) -> #REF!
C59: 391115ZZ701Z0016 | D59: 카스토퍼 | E59: 150x120x90x750mm | F59: EA | G59: 14 | H59: =TRUNC(#REF!*옵션!$D$11) -> #REF! | L59: =SUM(H59,I59,J59) -> #REF!
C60: 391115ZZ701Z0017 | D60: 카스토퍼 철거 | F60: EA | G60: 14 | H60: =TRUNC(#REF!*옵션!$D$11) -> #REF! | L60: =SUM(H60,I60,J60) -> #REF! | M60: 산출계상
C61: CC5658280018 | D61: 텍코팅(인력식) | E61: 아스팔트스프레이어400ℓ | F61: ㎡ | G61: 11.79 | H61: =#REF! -> #REF! | I61: =#REF! -> #REF! | J61: =#REF! -> #REF! | L61: =SUM(H61,I61,J61) -> #REF!
C62: CC5658280022 | D62: 프라임코팅(인력식) | E62: 아스팔트스프레이어400ℓ | F62: ㎡ | G62: 11.79 | H62: =#REF! -> #REF! | I62: =#REF! -> #REF! | J62: =#REF! -> #REF! | L62: =SUM(H62,I62,J62) -> #REF!
C63: CC5658280023 | D63: 혼합건설폐기물 | E63: 15톤 덤프트럭, 30km | F63: Ton | G63: 27.5886 | H63: =#REF! -> #REF! | I63: =#REF! -> #REF! | J63: =#REF! -> #REF! | L63: =SUM(H63,I63,J63) -> #REF!
C64: CC5658280024 | D64: 혼합건설폐기물 | E64: 건설폐재류에 가연성 5% 이하 혼합 | F64: Ton | G64: 27.5886 | H64: =#REF! -> #REF! | I64: =#REF! -> #REF! | J64: =#REF! -> #REF! | L64: =SUM(H64,I64,J64) -> #REF!
C65: 391115ZZ701Z0025 | D65: 혼합골재, 광주, 도착도 | E65: D=75mm(보조기층용) | F65: ㎥ | G65: 5.8006 | H65: =TRUNC(#REF!*옵션!$D$11) -> #REF! | L65: =SUM(H65,I65,J65) -> #REF!
C66: CDH110000020 | D66: 되메우기 및 다짐 | E66: 소형장비 | F66: m3 | G66: 4.716 | H66: =#REF! -> #REF! | I66: =#REF! -> #REF! | J66: =#REF! -> #REF! | L66: =SUM(H66,I66,J66) -> #REF!
C67: CDC221100000 | D67: 아스팔트포장 깨기 | E67: T=30cm미만 양호 | F67: m3 | G67: 13 | H67: =#REF! -> #REF! | I67: =#REF! -> #REF! | J67: =#REF! -> #REF! | L67: =SUM(H67,I67,J67) -> #REF!
C68: CDC221200000 | D68: 포장절단/아스팔트 | E68: - | F68: m | G68: 268 | H68: =#REF! -> #REF! | I68: =#REF! -> #REF! | J68: =#REF! -> #REF! | L68: =SUM(H68,I68,J68) -> #REF!
C69: CQQ130000000 | D69: 아스팔트코팅 | E69: 2회 | F69: m2 | G69: 11.79 | H69: =#REF! -> #REF! | I69: =#REF! -> #REF! | J69: =#REF! -> #REF! | L69: =SUM(H69,I69,J69) -> #REF!
C70: CLC301007500 | D70: 아스콘포장/기층/소규모포설 | E70: 1층 포설두께 7.5㎝이하 | F70: m2 | G70: 11.79 | H70: =#REF! -> #REF! | I70: =#REF! -> #REF! | J70: =#REF! -> #REF! | L70: =SUM(H70,I70,J70) -> #REF!
...
