Workbook

Sheet 원가계산서
B1: 원가계산서
B3: 비 목 | E3: 구분 | F3: 금 액 | G3: 요율 | H3: 산 출 근 거
C4: 재 | D4: 직 접 재 료 비 | E4: 1 | F4: =내역서총괄표!H11 -> 783433373
C5: 료 | D5: 간 접 재 료 비 | E5: 2
C6: 비 | D6: 작업설.부산물등(△) | E6: 3
D7: 소 계 | E7: A | F7: =TRUNC((F4+F5+F6),0) -> 783433373 | H7: (1 + 2 + 3 )
C8: 노 | D8: 직 접 노 무 비 | E8: 4 | F8: =내역서총괄표!I11 -> 683122222
B9: 순 | C9: 무 | D9: 간 접 노 무 비 | E9: 5 | F9: =TRUNC(F8*0.189,0) -> 129110099 | G9: 0.189 | H9: 4 × 0.189
C10: 비 | D10: 소 계 | E10: B | F10: =TRUNC((F8+F9),0) -> 812232321 | H10: ( 4 + 5 )
B11: 공 | D11: 산 출 경 비 | E11: 6 | F11: =내역서총괄표!J11 -> 199225130
D12: 산 재 보 험 료 | E12: 7 | F12: =TRUNC(F10*0.0356,0) -> 28915470 | G12: 3.56% | H12: B × 0.0356
B13: 사 | D13: 고 용 보 험 료 | E13: 8 | F13: =TRUNC(F10*0.0101,0) -> 8203546 | G13: 1.01% | H13: B × 0.0101
C14: 경 | D14: 건 강 보 험 료 | E14: 9 | F14: =TRUNC(F8*0.03595,0) -> 24558243 | G14: 0.03595 | H14: 4 × 0.03595
B15: 원 | D15: 연 금 보 험 료 | E15: 10 | F15: =TRUNC(F8*0.0475,0) -> 32448305 | G15: 0.0475 | H15: 4 × 0.0475
D16: 노인장기요양 보 험 료 | E16: 11 | F16: =TRUNC(F14*0.1314,0) -> 3226953 | G16: 0.1314 | H16: 9 × 0.1314
B17: 가 | D17: 퇴 직 공 제 부 금 비 | E17: 12 | F17: =TRUNC(F8*0.023,0) -> 15711811 | G17: 2.3% | H17: 4 × 0.023
D18: 건설기계대여금지급보증서발급액 | E18: 13 | F18: =TRUNC((F7+F8+F11)*0.004,0) -> 6663122 | G18: 0.004 | H18: (A + 4 + 6) × 0.004
D19: 산 업 안 전 보건관리비 | E19: 14 | F19: =TRUNC((((F7+F8)*0.0253)+3300000),0) -> 40403856 | G19: 0.0253 | H19: (((A + 4) × 0.0253) + 3,300,000)
D20: 안 전 관 리 비 | E20: 15 | F20: 0 | G20: 0.002 | H20: (4 + 5) × 0.002
D21: 환 경 보 전 비 | E21: 16 | F21: =TRUNC((F7+F8+F11)*0.008,0) -> 13326245 | G21: 0.8% | H21: (A + 4 + 6) ×0.008
D22: 공 사 이 행 보증수수료 | E22: 17 | G22: 0.000108 | H22: [(2+4+6)×0.0108%]×6개월/12
D23: 건설하도급대금지급보증서발급수 | E23: 18 | F23: =TRUNC((F7+F8+F11)*0.00081,0) -> 1349282 | G23: 0.00081 | H23: (A+4+6)×0.00081
D24: 기 타 경 비 | E24: 19 | F24: =TRUNC((F7+F10)*0.058,0) -> 92548610 | G24: 0.058 | H24: (A + B) × 0.058
D25: 석면 분담금 | E25: 20 | F25: =(F8+F9)*0.00006 -> 48733.939 | G25: 6e-05 | H25: (4 + 5) × 0.00006
D26: 임금채권부담금 | E26: 21 | F26: =INT((F8+F9)*0.0009) -> 731009 | G26: 0.0009 | H26: (4 + 5) × 0.0009
C27: 비 | D27: 건설안전관리비 | E27: 22 | F27: =내역서!F26 -> 54844626 | L27: =[1]내역서!H26 -> 0
D28: 품 질 시 험 비 | E28: 23 | F28: =내역서!F27 -> 22000000
D29: 소 계 | E29: C | F29: =TRUNC((F11+F12+F13+F14+F15+F16+F17+F18+F19+F20+F21+F22+F23+F27+F24+F25+F26+F28),0) -> 544204941 | H29: (6:23)
D30: 순 공 사 원 가 | E30: D | F30: =TRUNC((F7+F10+F29),0) -> 2139870635 | H30: (A + B + C)
D31: 일 반 관 리 비 | E31: E | F31: =TRUNC(F30*0.08,0) -> 171189650 | G31: 0.08 | H31: D × 0.08
D32: 이 윤 | E32: F | F32: =TRUNC((F10+F29+F31)*0.15,0)-1959 -> 229142077 | G32: 0.15 | H32: (B + C + F) ×0.15 | I32: =191248399 -> 191248399 | J32: =F32-I32 -> 37893678
D33: 열차접근경보앱용단말기 | E33: G | F33: =내역서!L30 -> 247638
D34: 열차접근경보앱용라이센스 | E34: H | F34: =내역서!L31 -> 84000
D35: 열차접근경보앱연동장치 | E35: I | F35: =내역서!L32 -> 700000
D36: 품 질 시 험 비 | E36: K
D37: 폐 기 물 처 리 비 | E37: J | F37: =[2]내역서!F33 -> 996000
D38: 공 급 가 액 | E38: K | F38: =TRUNC((F30+F31+F32+F33+F34+F35+F36+F37),0) -> 2542230000 | H38: (D + E + F + G + H + I + J + K)
D39: 부 가 가 치 세 | E39: L | F39: =IF(L58<> "0.9",TRUNC(F38*0,0),TRUNC(F38*0.1,0)+1) -> 0 | G39: 0 | H39: K × 영세율
D40: 도 급 액 | E40: M | F40: =TRUNC((F38+F39),0) -> 2542230000 | H40: (K + L)
D41: 총 공 사 비 | E41: P | F41: =TRUNC((F40),6) -> 2542230000 | H41: (L + M)
L58: =RIGHT(F38*0.1,3) -> 000

Sheet 내역서총괄표
B1: 내역서총괄표
B3: 공종 | C3: 품 명 | D3: 규 격 | E3: 수 량 | F3: 단위 | G3: 합 계 | H3: 재료비 | I3: 노무비 | J3: 경 비 | K3: 비 고
B4: ⊙ | C4: 경원선 한남~옥수 6.400km 외 1개소 작업자 이동통로 확보공사 | G4: =I4+H4+J4 -> 2542230000 | H4: =내역서!H4 -> 783433373 | I4: =내역서!J4 -> 812232321 | J4: =내역서!L4 -> 946564306
B5: 1. | C5: 한남-옥수 | G5: =I5+H5+J5 -> 911214767 | H5: =내역서!H7 -> 456006250 | I5: =내역서!J7 -> 414499375 | J5: =내역서!L7 -> 40709142
B6: 2. | C6: 옥수-응봉 | G6: =I6+H6+J6 -> 638421542 | H6: =내역서!H8 -> 327257793 | I6: =내역서!J8 -> 266756937 | J6: =내역서!L8 -> 44406812
B7: 3. | C7: 부대공 | G7: =I7+H7+J7 -> 115978416 | H7: =내역서!H9 -> 169330 | I7: =내역서!J9 -> 1865910 | J7: =내역서!L9 -> 113943176
B8: 4. | C8: 폐기물상차 | G8: =I8+H8+J8 -> 166000 | H8: =내역서!H10 -> 0 | I8: =내역서!J10 -> 0 | J8: =내역서!L10 -> 166000
B9: 5. | C9: 자재운반 | H9: =[3]내역서!H13 -> 0 | J9: =[3]내역서!L13 -> 0
B10: 5 | C10: 사급자재대 | H10: =[3]내역서!H14 -> 0 | I10: =[3]내역서!J14 -> 0 | J10: 0
C11: 순 공 사 비 | G11: =I11+H11+J11 -> 1665780725 | H11: =내역서!H6 -> 783433373 | I11: =내역서!J6 -> 683122222 | J11: =내역서!L6 -> 199225130
C12: 간접노무비 | E12: 18.9 | F12: % | G12: =원가계산서!F9 -> 129110099
C13: 산출경비 | G13: =원가계산서!F11 -> 199225130
C14: 산재보험료 | E14: 3.56 | F14: % | G14: =원가계산서!F12 -> 28915470
C15: 고용보험료 | E15: 1.01 | F15: % | G15: =원가계산서!F13 -> 8203546
C16: 건강보험료 | E16: 3.595 | F16: % | G16: =원가계산서!F14 -> 24558243
C17: 연금보험료 | E17: 4.75 | F17: % | G17: =원가계산서!F15 -> 32448305
C18: 노인장기요양보험료 | E18: 13.14 | F18: % | G18: =원가계산서!F16 -> 3226953
C19: 퇴직공제부금비 | E19: 2.3 | F19: % | G19: =원가계산서!F17 -> 15711811
C20: 건설기계대여금지급보증서발급액 | E20: 0.4 | F20: % | G20: =원가계산서!F18 -> 6663122
C21: 산업안전보건관리비 | E21: 2.53 | F21: % | G21: =원가계산서!F19 -> 40403856
C22: 환경보전비 | E22: 0.8 | F22: % | G22: =원가계산서!F21 -> 13326245
C23: 건설하도급대금지급보증서발급수 | E23: 0.081 | F23: % | G23: =원가계산서!F23 -> 1349282
C24: 기타경비 | E24: 5.8 | F24: % | G24: =원가계산서!F24 -> 92548610
C25: 석면 분담금 | E25: 0.006 | F25: % | G25: =원가계산서!F25 -> 48733.939
C26: 임금채권부담금 | E26: 0.09 | F26: % | G26: =원가계산서!F26 -> 731009
C27: 건설안전관리비 | G27: =원가계산서!F27 -> 54844626
C28: 품 질 시 험 비 | G28: =원가계산서!F28 -> 22000000
C29: 순공사원가 | G29: =원가계산서!F30 -> 2139870635
C30: 일반관리비 | E30: 8 | F30: % | G30: =원가계산서!F31 -> 171189650
C31: 이윤 | E31: 15 | F31: % | G31: =원가계산서!F32 -> 229142077
C32: 열차접근경보앱 | E32: 1 | F32: 식 | G32: =원가계산서!F33 -> 247638
C33: 열차접근경보 라이선스 | E33: 1 | F33: 식 | G33: =원가계산서!F34 -> 84000
C34: 열차접근경보앱 연동장치 | E34: 1 | F34: 식 | G34: =원가계산서!F35 -> 700000
C35: 폐기물처리비 | E35: 1 | F35: 식 | G35: =원가계산서!F37 -> 996000
C36: 총원가 | G36: =원가계산서!F38 -> 2542230000
C37: 부가가치세 | E37: 0 | F37: % | G37: =원가계산서!F39 -> 0
C38: 도급액 | G38: =원가계산서!F40 -> 2542230000
C39: 총공사비 | G39: =원가계산서!F41 -> 2542230000

Sheet 내역서
A1: 내역서
A2: 공 종 명 | B2: 규 격 | C2: 수량 | D2: 단위 | E2: 합 계 | G2: 재 료 비 | I2: 노 무 비 | K2: 경 비 | M2: 비 고 | BH2: 메모
E3: 단 가 | F3: 금 액 | G3: 단 가 | H3: 금 액 | I3: 단 가 | J3: 금 액 | K3: 단 가 | L3: 금 액 | S3: 할 증 | T3: 화폐변환 | U3: OP값 | V3: EQ | W3: LA | X3: MA | Y3: 금액계상
A4: ▣ 수도권동부본부 관내 작업자 이동통로 확보공사 | C4: 0 | F4: =H4+J4+L4 -> 2542230000 | H4: =TRUNC(H7+H8+H9+H10+H11+H12+H13+H14+H15+H16+H17+H18+H19+H20+H21+H22+H23+H24+H25+H26+H27+H28+H29+H30+H31+H32+H33+H35,0) -> 783433373 | J4: =TRUNC(J7+J8+J9+J10+J11+J12+J13+J14+J15+J16+J17+J18+J19+J20+J21+J22+J23+J24+J25+J26+J27+J28+J29+J30+J31+J32+J33+J35,0) -> 812232321 | L4: =TRUNC(L7+L8+L9+L10+L11+L12+L13+L14+L15+L16+L17+L18+L19+L20+L21+L22+L23+L24+L25+L26+L27+L28+L29+L30+L31+L32+L33+L35,0) -> 946564306 | O4: A0
A5: Ⅰ. 순 공 사 비 | D5: 식 | E5: =G5+I5+K5 -> 0 | F5: =H5+J5+L5 -> 2139870635 | H5: =TRUNC(H7+H8+H9+H10+H11+H12+H13+H14+H15+H16+H17+H18+H19+H20+H21+H22+H23+H24+H25+H26+H27,0) -> 783433373 | J5: =TRUNC(J7+J8+J9+J10+J11+J12+J13+J14+J15+J16+J17+J18+J19+J20+J21+J22+J23+J24+J25+J26+J27,0) -> 812232321 | L5: =TRUNC(L7+L8+L9+L10+L11+L12+L13+L14+L15+L16+L17+L18+L19+L20+L21+L22+L23+L24+L25+L26+L27,0) -> 544204941 | P5: 10 | CC5: .
A6: 가. 직접공사비 | D6: 식 | E6: =G6+I6+K6 -> 0 | F6: =H6+J6+L6 -> 1665780725 | H6: =TRUNC(H7+H8+H9+H10,0) -> 783433373 | J6: =TRUNC(J7+J8+J9+J10,0) -> 683122222 | L6: =TRUNC(L7+L8+L9+L10,0) -> 199225130 | P6: 20 | CC6: ..
A7: 1. 한남-옥수(상우) | C7: 1 | D7: 식 | E7: =G7+I7+K7 -> 911214767 | F7: =H7+J7+L7 -> 911214767 | G7: =H45 -> 456006250 | H7: =TRUNC(G7*C7,0) -> 456006250 | I7: =J45 -> 414499375 | J7: =TRUNC(I7*C7,0) -> 414499375 | K7: =L45 -> 40709142 | L7: =TRUNC(K7*C7,0) -> 40709142 | P7: 30 | R7: A010010 | BJ7: =HYPERLINK("#내역서!A42","A010010 →") -> A010010 → | CC7: ....
A8: 2. 옥수-응봉(상우) | C8: 1 | D8: 식 | E8: =G8+I8+K8 -> 638421542 | F8: =H8+J8+L8 -> 638421542 | G8: =H229 -> 327257793 | H8: =TRUNC(G8*C8,0) -> 327257793 | I8: =J229 -> 266756937 | J8: =TRUNC(I8*C8,0) -> 266756937 | K8: =L229 -> 44406812 | L8: =TRUNC(K8*C8,0) -> 44406812 | P8: 40 | R8: A010020 | BJ8: =HYPERLINK("#내역서!A226","A010020 →") -> A010020 → | CC8: ....
A9: 3. 부대공 | C9: 1 | D9: 식 | E9: =G9+I9+K9 -> 115978416 | F9: =H9+J9+L9 -> 115978416 | G9: =H347 -> 169330 | H9: =TRUNC(G9*C9,0) -> 169330 | I9: =J347 -> 1865910 | J9: =TRUNC(I9*C9,0) -> 1865910 | K9: =L347 -> 113943176 | L9: =TRUNC(K9*C9,0) -> 113943176 | P9: 50 | R9: A010030 | BJ9: =HYPERLINK("#내역서!A344","A010030 →") -> A010030 → | CC9: ....
A10: 4. 폐기물상차 | C10: 1 | D10: 식 | E10: =G10+I10+K10 -> 166000 | F10: =H10+J10+L10 -> 166000 | G10: =H359 -> 0 | H10: =TRUNC(G10*C10,0) -> 0 | I10: =J359 -> 0 | J10: =TRUNC(I10*C10,0) -> 0 | K10: =L359 -> 166000 | L10: =TRUNC(K10*C10,0) -> 166000 | P10: 60 | R10: A010040 | AA10: LA+ = | AB10: =내역서!J6*18.9/100 -> 1.291101e+08 | AC10: LA = | AD10: =$AB10 -> 1.291101e+08 | BJ10: =HYPERLINK("#내역서!A356","A010040 →") -> A010040 → | CC10: ....
A11: 나. 간접노무비 | B11: 직노×18.9% | C11: 1 | D11: 식 | E11: =G11+I11+K11 -> 0 | F11: =H11+J11+L11 -> 129110099 | H11: 0 | J11: =TRUNC((J6*18.9/100),0) -> 129110099 | L11: 0 | N11: ★직공10억∼50억미만-6개월이하 | P11: 70 | R11: F | X11: .LA=LA(20)*18.9/100_x000D_ | AA11: EQ+ = | AB11: =(내역서!J6+내역서!J11)*3.56/100 -> 28915471 | AC11: EQ = | AD11: =$AB11 -> 28915471 | CC11: ..
A12: 다. 산재보험료 | B12: 노무비×3.56% | C12: 1 | D12: 식 | E12: =G12+I12+K12 -> 0 | F12: =H12+J12+L12 -> 28915470 | H12: 0 | J12: 0 | L12: =TRUNC(((J6+J11)*3.56/100),0) -> 28915470 | P12: 80 | R12: F | X12: .EQ=LA(20,70)*3.56/100_x000D_ | AA12: EQ+ = | AB12: =(내역서!J6+내역서!J11)*1.01/100 -> 8203546.4 | AC12: EQ = | AD12: =$AB12 -> 8203546.4 | CC12: ..
A13: 라. 고용보험료 | B13: 노무비×1.01% | C13: 1 | D13: 식 | E13: =G13+I13+K13 -> 0 | F13: =H13+J13+L13 -> 8203546 | H13: 0 | J13: 0 | L13: =TRUNC(((J6+J11)*1.01/100),0) -> 8203546 | N13: ★7등급미만 | P13: 90 | R13: F | X13: .EQ=LA(20,70)*1.01/100_x000D_ | AA13: EQ+ = | AB13: =내역서!J6*3.595/100 -> 24558244 | AC13: EQ = | AD13: =$AB13 -> 24558244 | CC13: ..
A14: 마. 건강보험료 | B14: 직노×3.595% | C14: 1 | D14: 식 | E14: =G14+I14+K14 -> 0 | F14: =H14+J14+L14 -> 24558243 | H14: 0 | J14: 0 | L14: =TRUNC((J6*3.595/100),0) -> 24558243 | N14: ◎2026.04.13 | P14: 100 | R14: F | X14: .EQ=LA(20)*3.595/100_x000D_ | AA14: EQ+ = | AB14: =내역서!J6*4.75/100 -> 32448306 | AC14: EQ = | AD14: =$AB14 -> 32448306 | CC14: ..
A15: 바. 연금보험료 | B15: 직노×4.75% | C15: 1 | D15: 식 | E15: =G15+I15+K15 -> 0 | F15: =H15+J15+L15 -> 32448305 | H15: 0 | J15: 0 | L15: =TRUNC((J6*4.75/100),0) -> 32448305 | N15: ◎2026.04.13 | P15: 110 | R15: F | X15: .EQ=LA(20)*4.75/100_x000D_ | AA15: EQ+ = | AB15: =내역서!L14*13.14/100 -> 3226953.1 | AC15: EQ = | AD15: =$AB15 -> 3226953.1 | CC15: ..
A16: 사. 노인장기요양보험료 | B16: 건보×13.14% | C16: 1 | D16: 식 | E16: =G16+I16+K16 -> 0 | F16: =H16+J16+L16 -> 3226953 | H16: 0 | J16: 0 | L16: =TRUNC((L14*13.14/100),0) -> 3226953 | N16: ◎2026.04.13 | P16: 120 | R16: F | X16: .EQ=EQ(100)*13.14/100_x000D_ | AA16: EQ+ = | AB16: =내역서!J6*2.3/100 -> 15711811 | AC16: EQ = | AD16: =$AB16 -> 15711811 | CC16: ..
A17: 아. 퇴직공제부금비 | B17: 직노×2.3% | C17: 1 | D17: 식 | E17: =G17+I17+K17 -> 0 | F17: =H17+J17+L17 -> 15711811 | H17: 0 | J17: 0 | L17: =TRUNC((J6*2.3/100),0) -> 15711811 | N17: ◎2026.04.13 | P17: 130 | R17: F | X17: .EQ=LA(20)*2.3/100_x000D_ | AA17: EQ+ = | AB17: =(내역서!H6+내역서!J6+내역서!L6)*0.4/100 -> 6663122.9 | AC17: EQ = | AD17: =$AB17 -> 6663122.9 | CC17: ..
A18: 자. 건설기계대여대금지급보증서발급금액 | B18: 직접공사비×0.40% | C18: 1 | D18: 식 | E18: =G18+I18+K18 -> 0 | F18: =H18+J18+L18 -> 6663122 | H18: 0 | J18: 0 | L18: =TRUNC(((H6+J6+L6)*0.4/100),0) -> 6663122 | N18: ★종합건설업(토목) | P18: 140 | R18: F | X18: .EQ=TOT(20)*0.40/100_x000D_ | AA18: EQ+ = | AB18: =ROUND((내역서!J6+내역서!H6)*2.53/100+3300000,3) -> 40403857 | AC18: EQ = | AD18: =$AB18 -> 40403857 | AE18: 18_1_1+ = | AF18: =ROUND(ROUND((내역서!J6+내역서!H6)*2.53/100+3300000,3),3) -> 40403857 | AG18: 18_1_1 = | AH18: =$AF18 -> 40403857 | CC18: ..
A19: 차. 산업안전보건관리비 | B19: (재+직노)×2.53%+3,300천원 | C19: 1 | D19: 식 | E19: =G19+I19+K19 -> 0 | F19: =H19+J19+L19 -> 40403856 | H19: 0 | J19: 0 | L19: =TRUNC((ROUND((J6+H6)*2.53/100+3300000,3)),0) -> 40403856 | N19: ★추정금액(주공종,토목)5억∼50억미만 | P19: 150 | R19: F | X19: EQ=(LA(20)+MA(20))*2.53/100+3300000={?,'9.99R'}_x000D_ | AA19: EQ+ = | AB19: =(내역서!H6+(내역서!J6+내역서!J11))*5.8/100 -> 92548610 | AC19: EQ = | AD19: =$AB19 -> 92548610 | CC19: ..
A20: 카. 기타 경비 | B20: (재+노)×5.8% | C20: 1 | D20: 식 | E20: =G20+I20+K20 -> 0 | F20: =H20+J20+L20 -> 92548610 | H20: 0 | J20: 0 | L20: =TRUNC(((H6+(J6+J11))*5.8/100),0) -> 92548610 | N20: ★직공10억∼50억미만-6개월이하 | P20: 160 | R20: F | X20: .EQ=(MA(20)+LA(20,70))*5.8/100_x000D_ | CC20: ..
A21: 타. 공사이행보증수수료 | B21: [직공×0.0108%]×6개월/12 | D21: 식 | E21: =G21+I21+K21 -> 0 | F21: =H21+J21+L21 -> 0 | H21: 0 | J21: 0 | L21: =TRUNC((((H6+J6+L6)*0.0108/100)*6/12*0),0) -> 0 | N21: ★70억미만 | P21: 170 | R21: F | X21: ■계약처수정사항_250930_x000D_ _ 발주 후 계약변경(후속공기 및 종합시운전까지 반영), 공정게획참조(1,7,9공구_65개월)_x000D_ _x000D_ .EQ=(TOT(20)*0.0108/100)*6/12*0'(해당사항없음)'_x000D_ | AA21: EQ+ = | AB21: =(내역서!H6+내역서!J6+내역서!L6)*0.081/100 -> 1349282.4 | AC21: EQ = | AD21: =$AB21 -> 1349282.4 | CC21: ..
A22: 파. 건설하도급대금지급보증서발급수수료 | B22: 직접공사비×0.081% | C22: 1 | D22: 식 | E22: =G22+I22+K22 -> 0 | F22: =H22+J22+L22 -> 1349282 | H22: 0 | J22: 0 | L22: =TRUNC(((H6+J6+L6)*0.081/100),0) -> 1349282 | N22: ★50억미만 | P22: 180 | R22: F | X22: .EQ=TOT(20)*0.081/100_x000D_ | AA22: EQ+ = | AB22: =(내역서!H6+내역서!J6+내역서!L6)*0.8/100 -> 13326246 | AC22: EQ = | AD22: =$AB22 -> 13326246 | CC22: ..
A23: 하. 환경보전비 | B23: 직접공사비×0.8% | C23: 1 | D23: 식 | E23: =G23+I23+K23 -> 0 | F23: =H23+J23+L23 -> 13326245 | H23: 0 | J23: 0 | L23: =TRUNC(((H6+J6+L6)*0.8/100),0) -> 13326245 | N23: ★그밖의 토목공사 | P23: 190 | R23: F | X23: .EQ=TOT(20)*0.8/100_x000D_ | AA23: EQ+ = | AB23: =(내역서!J6+내역서!J11)*0.006/100 -> 48733.939 | AC23: EQ = | AD23: =$AB23 -> 48733.939 | CC23: ..
A24: 거. 석면분담금 | B24: 노무비×0.006% | C24: 1 | D24: 식 | E24: =G24+I24+K24 -> 0 | F24: =H24+J24+L24 -> 48733 | H24: 0 | J24: 0 | L24: =TRUNC(((J6+J11)*0.006/100),0) -> 48733 | N24: ◎2026.04.13 | P24: 200 | R24: F | X24: .EQ=LA(20,70)*0.006/100_x000D_ | AA24: EQ+ = | AB24: =(내역서!J6+내역서!J11)*0.09/100 -> 731009.09 | AC24: EQ = | AD24: =$AB24 -> 731009.09 | CC24: ..
A25: 너. 임금채권부담금 | B25: 노무비×0.09% | C25: 1 | D25: 식 | E25: =G25+I25+K25 -> 0 | F25: =H25+J25+L25 -> 731009 | H25: 0 | J25: 0 | L25: =TRUNC(((J6+J11)*0.09/100),0) -> 731009 | N25: ◎2026.04.13 | P25: 210 | R25: F | X25: .EQ=LA(20,70)*0.09/100_x000D_ | CC25: ..
A26: 더. 안전관리비 | C26: 1 | D26: PS | E26: =G26+I26+K26 -> 54844626 | F26: =H26+J26+L26 -> 54844626 | G26: =H364 -> 0 | H26: =TRUNC(G26*C26,0) -> 0 | I26: =J364 -> 0 | J26: =TRUNC(I26*C26,0) -> 0 | K26: =L364 -> 54844626 | L26: =TRUNC(K26*C26,0) -> 54844626 | P26: 220 | R26: A020010 | BJ26: =HYPERLINK("#내역서!A361","A020010 →") -> A020010 → | CC26: ..
A27: 러. 품질시험비 | C27: 1 | D27: PS | E27: =G27+I27+K27 -> 22000000 | F27: =H27+J27+L27 -> 22000000 | G27: =H377 -> 0 | H27: =TRUNC(G27*C27,0) -> 0 | I27: =J377 -> 0 | J27: =TRUNC(I27*C27,0) -> 0 | K27: =L377 -> 22000000 | L27: =TRUNC(K27*C27,0) -> 22000000 | P27: 230 | R27: A020020 | AA27: EQ+ = | AB27: =(내역서!H5+내역서!J5+내역서!L5)*8/100 -> 1.7118965e+08 | AC27: EQ = | AD27: =$AB27 -> 1.7118965e+08 | BJ27: =HYPERLINK("#내역서!A374","A020020 →") -> A020020 → | CC27: ..
A28: Ⅱ. 일반 관리비 | B28: (재+노+경)×8.0% | C28: 1 | D28: 식 | E28: =G28+I28+K28 -> 0 | F28: =H28+J28+L28 -> 171189650 | H28: 0 | J28: 0 | L28: =TRUNC(((H5+J5+L5)*8/100),0) -> 171189650 | N28: ★추정가격(공급가액)5억∼30억미만 | P28: 240 | R28: F | X28: .EQ=TOT(10)*8.0/100_x000D_ | AA28: EQ+ = | AB28: =ROUND((내역서!J5+내역서!L5+내역서!L28)*15/100-0/1.1,2) -> 2.2914404e+08 | AC28: EQ = | AD28: =$AB28 -> 2.2914404e+08 | AE28: 28_1_1+ = | AF28: =ROUND(ROUND((내역서!J5+내역서!L5+내역서!L28)*15/100-0/1.1,2),2) -> 2.2914404e+08 | AG28: 28_1_1 = | AH28: =$AF28 -> 2.2914404e+08 | CC28: .
A29: Ⅲ. 이 윤 | B29: (노+경+일반관)×15.0% | C29: 1 | D29: 식 | E29: =G29+I29+K29 -> 0 | F29: =H29+J29+L29 -> 229142077 | H29: 0 | J29: 0 | L29: =TRUNC((ROUND((J5+L5+L28)*15/100-1959/1,2)),0) -> 229142077 | N29: ★추정가격(공급가액)5억∼30억미만 | P29: 250 | R29: F | X29: .EQ = (LA(10)+EQ(10)+EQ(240))*15/100 - 0/1.1 = ?_x000D_ | CC29: .
A30: 열차접근경보앱 | B30: 임대(6개월 미만) 2대 | C30: 6 | D30: 개월 | F30: =H30+J30+L30 -> 247638 | K30: =[4]경비!F10 -> 41273 | L30: =TRUNC(K30*C30,0) -> 247638
A31: 열차접근경보 라이선스 | B31: 임대(6개월 미만) 2대 | C31: 2 | D31: ea | F31: =H31+J31+L31 -> 84000 | K31: =[4]경비!G11 -> 42000 | L31: =TRUNC(K31*C31,0) -> 84000
A32: 열차접근경보앱 연동장치 | C32: 1 | D32: set | F32: =H32+J32+L32 -> 700000 | K32: =[4]경비!G12 -> 700000 | L32: =TRUNC(K32*C32,0) -> 700000
A33: Ⅳ. 임목폐기물처리비 | C33: 1 | D33: PS | E33: =G33+I33+K33 -> 996000 | F33: =H33+J33+L33 -> 996000 | G33: =H383 -> 0 | H33: =TRUNC(G33*C33,0) -> 0 | I33: =J383 -> 0 | J33: =TRUNC(I33*C33,0) -> 0 | K33: =L383 -> 996000 | L33: =TRUNC(K33*C33,0) -> 996000 | P33: 260 | R33: A030020 | AA33: LA+ = | AB33: =내역서!J5+(내역서!J28+내역서!J29+내역서!J33) -> 812232321 | AC33: LA = | AD33: =$AB33 -> 812232321 | BJ33: =HYPERLINK("#내역서!A380","A030020 →") -> A030020 → | CC33: .
A34: Ⅴ. 공 급 가 액 | B34: (Ⅰ∼Ⅳ) | C34: 1 | D34: 식 | E34: =G34+I34+K34 -> 0 | F34: =H34+J34+L34 -> 2542230000 | H34: =TRUNC((H5+(H28+H29+H33+H30+H31+H32)),0) -> 783433373 | J34: =TRUNC((J5+(J28+J29+J33+J30+J31+J32)),0) -> 812232321 | L34: =TRUNC((L5+(L28+L29+L33+L30+L31+L32)),0) -> 946564306 | P34: 270 | Q34: * | R34: F | X34: .LA=LA(10)+LA(240,0,260)_x000D_ .MA=MA(10)+MA(240,0,260)_x000D_ .EQ=EQ(10)+EQ(240,0,260)_x000D_ | AA34: EQ+ = | AB34: =(내역서!H34+내역서!J34+내역서!L34)*10/100-1 -> 254222999 | AC34: EQ = | AD34: =$AB34 -> 254222999 | CC34: .
A35: Ⅵ. 부가 가치세 | B35: 10% | C35: 1 | D35: 식 | E35: =G35+I35+K35 -> 0 | F35: =H35+J35+L35 -> 0 | H35: 0 | J35: 0 | L35: =TRUNC(((H34+J34+L34)*0/100),0) -> 0 | P35: 280 | R35: F | X35: .EQ=TOT(270,0,270)*10/100 - 1_x000D_ | AA35: MA+ = | AB35: =(내역서!H34+내역서!H35) -> 783433373 | AC35: MA = | AD35: =$AB35 -> 783433373 | CC35: .
A36: Ⅶ. 도 급 금 액 | B36: (Ⅴ∼Ⅵ) | C36: 1 | D36: 식 | E36: =G36+I36+K36 -> 0 | F36: =H36+J36+L36 -> 2542230000 | H36: =TRUNC((H34+H35),0) -> 783433373 | J36: =TRUNC((J34+J35),0) -> 812232321 | L36: =TRUNC((L34+L35),0) -> 946564306 | P36: 290 | Q36: * | R36: F | X36: .MA=MA(270,0,280)_x000D_ .LA=LA(270,0,280)_x000D_ .EQ=EQ(270,0,280)_x000D_ | AA36: MA+ = | AB36: =내역서!H36 -> 783433373 | AC36: MA = | AD36: =$AB36 -> 783433373 | CC36: .
A37: Ⅷ. 총 공 사 비 | B37: (Ⅷ) | C37: 1 | D37: 식 | E37: =G37+I37+K37 -> 0 | F37: =H37+J37+L37 -> 2542230000 | H37: =TRUNC(H36,0) -> 783433373 | J37: =TRUNC(J36,0) -> 812232321 | L37: =TRUNC(L36,0) -> 946564306 | P37: 300 | Q37: * | R37: F | X37: .MA=MA(290,0,290)_x000D_ .LA=LA(290,0,290)_x000D_ .EQ=EQ(290,0,290)_x000D_ | AA37: LA+ = | AB37: =내역서!J36 -> 812232321 | AC37: LA = | AD37: =$AB37 -> 812232321 | CC37: .
E38: =G38+I38+K38 -> 0 | F38: =H38+J38+L38 -> 0 | H38: 0 | J38: 0 | L38: 0 | P38: 310 | Q38: S | AA38: EQ+ = | AB38: =내역서!L36 -> 946564306 | AC38: EQ = | AD38: =$AB38 -> 946564306
A39: ◈ 직접공사비 | C39: 0 | F39: =H39+J39+L39 -> 1665780725 | H39: =TRUNC(H40+H41+H42+H43,0) -> 783433373 | J39: =TRUNC(J40+J41+J42+J43,0) -> 683122222 | L39: =TRUNC(L40+L41+L42+L43,0) -> 199225130 | O39: A010
A40: 1. 한남-옥수(상우) | C40: 1 | D40: 식 | E40: =G40+I40+K40 -> 911214767 | F40: =H40+J40+L40 -> 911214767 | G40: =H45 -> 456006250 | H40: =TRUNC(G40*C40,0) -> 456006250 | I40: =J45 -> 414499375 | J40: =TRUNC(I40*C40,0) -> 414499375 | K40: =L45 -> 40709142 | L40: =TRUNC(K40*C40,0) -> 40709142 | P40: 10 | R40: A010010 | BJ40: =HYPERLINK("#내역서!A42","A010010 →") -> A010010 →
A41: 2. 옥수-응봉(상우) | C41: 1 | D41: 식 | E41: =G41+I41+K41 -> 638421542 | F41: =H41+J41+L41 -> 638421542 | G41: =H229 -> 327257793 | H41: =TRUNC(G41*C41,0) -> 327257793 | I41: =J229 -> 266756937 | J41: =TRUNC(I41*C41,0) -> 266756937 | K41: =L229 -> 44406812 | L41: =TRUNC(K41*C41,0) -> 44406812 | P41: 20 | R41: A010020 | BJ41: =HYPERLINK("#내역서!A226","A010020 →") -> A010020 →
A42: 3. 부대공 | C42: 1 | D42: 식 | E42: =G42+I42+K42 -> 115978416 | F42: =H42+J42+L42 -> 115978416 | G42: =H347 -> 169330 | H42: =TRUNC(G42*C42,0) -> 169330 | I42: =J347 -> 1865910 | J42: =TRUNC(I42*C42,0) -> 1865910 | K42: =L347 -> 113943176 | L42: =TRUNC(K42*C42,0) -> 113943176 | P42: 30 | R42: A010030 | BJ42: =HYPERLINK("#내역서!A344","A010030 →") -> A010030 →
A43: 4. 폐기물상차 | C43: 1 | D43: 식 | E43: =G43+I43+K43 -> 166000 | F43: =H43+J43+L43 -> 166000 | G43: =H359 -> 0 | H43: =TRUNC(G43*C43,0) -> 0 | I43: =J359 -> 0 | J43: =TRUNC(I43*C43,0) -> 0 | K43: =L359 -> 166000 | L43: =TRUNC(K43*C43,0) -> 166000 | P43: 40 | R43: A010040 | BJ43: =HYPERLINK("#내역서!A356","A010040 →") -> A010040 →
E44: =G44+I44+K44 -> 0 | F44: =H44+J44+L44 -> 0 | H44: 0 | J44: 0 | L44: 0 | P44: 50 | Q44: S
A45: 1. 한남-옥수(상우) | C45: 0 | F45: =H45+J45+L45 -> 911214767 | H45: =TRUNC(H46+H47+H48+H49,0) -> 456006250 | J45: =TRUNC(J46+J47+J48+J49,0) -> 414499375 | L45: =TRUNC(L46+L47+L48+L49,0) -> 40709142 | O45: A010010
A46: 1-1. 토공부 보도 | C46: 1 | D46: 식 | E46: =G46+I46+K46 -> 778460292 | F46: =H46+J46+L46 -> 778460292 | G46: =H51 -> 386139107 | H46: =TRUNC(G46*C46,0) -> 386139107 | I46: =J51 -> 362405069 | J46: =TRUNC(I46*C46,0) -> 362405069 | K46: =L51 -> 29916116 | L46: =TRUNC(K46*C46,0) -> 29916116 | P46: 10 | R46: A01001010 | BJ46: =HYPERLINK("#내역서!A48","A01001010 →") -> A01001010 →
A47: 1-2. 옹벽 보도 | C47: 1 | D47: 식 | E47: =G47+I47+K47 -> 21727912 | F47: =H47+J47+L47 -> 21727912 | G47: =H97 -> 11911009 | H47: =TRUNC(G47*C47,0) -> 11911009 | I47: =J97 -> 8413680 | J47: =TRUNC(I47*C47,0) -> 8413680 | K47: =L97 -> 1403223 | L47: =TRUNC(K47*C47,0) -> 1403223 | P47: 20 | R47: A01001020 | BJ47: =HYPERLINK("#내역서!A94","A01001020 →") -> A01001020 →
A48: 1-3. 교측 보도 | C48: 1 | D48: 식 | E48: =G48+I48+K48 -> 109790569 | F48: =H48+J48+L48 -> 109790569 | G48: =H154 -> 56924876 | H48: =TRUNC(G48*C48,0) -> 56924876 | I48: =J154 -> 43479528 | J48: =TRUNC(I48*C48,0) -> 43479528 | K48: =L154 -> 9386165 | L48: =TRUNC(K48*C48,0) -> 9386165 | P48: 30 | R48: A01001030 | BJ48: =HYPERLINK("#내역서!A151","A01001030 →") -> A01001030 →
A49: 1-4. 조경공 | C49: 1 | D49: 식 | E49: =G49+I49+K49 -> 1235994 | F49: =H49+J49+L49 -> 1235994 | G49: =H223 -> 1031258 | H49: =TRUNC(G49*C49,0) -> 1031258 | I49: =J223 -> 201098 | J49: =TRUNC(I49*C49,0) -> 201098 | K49: =L223 -> 3638 | L49: =TRUNC(K49*C49,0) -> 3638 | P49: 40 | R49: A01001040 | BJ49: =HYPERLINK("#내역서!A220","A01001040 →") -> A01001040 →
E50: =G50+I50+K50 -> 0 | F50: =H50+J50+L50 -> 0 | H50: 0 | J50: 0 | L50: 0 | P50: 50
A51: 1-1. 토공부 보도 | C51: 1 | D51: 식 | F51: =H51+J51+L51 -> 778460292 | H51: =TRUNC(H53+H54+H55+H58+H59+H60+H61+H62+H64+H65+H66+H67+H68+H69+H71+H72+H73+H74+H75+H76+H79+H80+H81+H82+H83+H84+H86+H87+H88+H89+H90+H91+H92+H94+H95,0) -> 386139107 | J51: =TRUNC(J53+J54+J55+J58+J59+J60+J61+J62+J64+J65+J66+J67+J68+J69+J71+J72+J73+J74+J75+J76+J79+J80+J81+J82+J83+J84+J86+J87+J88+J89+J90+J91+J92+J94+J95,0) -> 362405069 | L51: =TRUNC(L53+L54+L55+L58+L59+L60+L61+L62+L64+L65+L66+L67+L68+L69+L71+L72+L73+L74+L75+L76+L79+L80+L81+L82+L83+L84+L86+L87+L88+L89+L90+L91+L92+L94+L95,0) -> 29916116 | O51: A01001010
A52: 1.1 방초처리 | E52: =G52+I52+K52 -> 0 | F52: =H52+J52+L52 -> 35930403 | H52: =TRUNC(H53+H54+H55,0) -> 18909624 | J52: =TRUNC(J53+J54+J55,0) -> 17020779 | L52: =TRUNC(L53+L54+L55,0) -> 0 | P52: 10 | CC52: .
A53: 예초 | C53: 2746 | D53: m2 | E53: =G53+I53+K53 -> 519 | F53: =H53+J53+L53 -> 1425174 | G53: =[4]일위대가목록!F17 -> 29 | H53: =TRUNC(G53*C53,0) -> 79634 | I53: =[4]일위대가목록!G17 -> 490 | J53: =TRUNC(I53*C53,0) -> 1345540 | K53: =[4]일위대가목록!H17 -> 0 | L53: =TRUNC(K53*C53,0) -> 0 | M53: #.15 | P53: 20 | R53: KU01390-0020 | T53: F | BJ53: =HYPERLINK("#일위대가목록!A17","KU01390-0020 →") -> KU01390-0020 → | CC53: ....
A54: 흙다지기 | B54: 인력(래머80kg) | C54: 0 | D54: m3 | E54: =G54+I54+K54 -> 24389 | F54: =H54+J54+L54 -> 0 | G54: =[4]일위대가목록!F18 -> 531 | H54: =TRUNC(G54*C54,0) -> 0 | I54: =[4]일위대가목록!G18 -> 23612 | J54: =TRUNC(I54*C54,0) -> 0 | K54: =[4]일위대가목록!H18 -> 246 | L54: =TRUNC(K54*C54,0) -> 0 | M54: #.16 | P54: 30 | R54: K01010032000 | T54: F | BJ54: =HYPERLINK("#일위대가목록!A18","K01010032000 →") -> K01010032000 → | CC54: ....
A55: 방초매트설치 | B55: (B형) | C55: 2239 | D55: m2 | E55: =G55+I55+K55 -> 15411 | F55: =H55+J55+L55 -> 34505229 | G55: =[4]일위대가목록!F52 -> 8410 | H55: =TRUNC(G55*C55,0) -> 18829990 | I55: =[4]일위대가목록!G52 -> 7001 | J55: =TRUNC(I55*C55,0) -> 15675239 | K55: =[4]일위대가목록!H52 -> 0 | L55: =TRUNC(K55*C55,0) -> 0 | M55: No.1 | N55: 코드변경 | P55: 80 | R55: KRZ100010040 | T55: T | BJ55: =HYPERLINK("#일위대가목록!A52","KRZ100010040 →") -> KRZ100010040 → | CC55: ....
A56: 1.2 이동통로 | E56: =G56+I56+K56 -> 0 | F56: =H56+J56+L56 -> 466379962 | H56: =TRUNC(H58+H59+H60+H61+H62+H64+H65+H66+H67+H68+H69+H71+H72+H73+H74+H75+H76,0) -> 173524569 | J56: =TRUNC(J58+J59+J60+J61+J62+J64+J65+J66+J67+J68+J69+J71+J72+J73+J74+J75+J76,0) -> 271757310 | L56: =TRUNC(L58+L59+L60+L61+L62+L64+L65+L66+L67+L68+L69+L71+L72+L73+L74+L75+L76,0) -> 21098083 | P56: 90 | CC56: .
A57: 1.2.1 기초설치 | E57: =G57+I57+K57 -> 0 | F57: =H57+J57+L57 -> 127806147 | H57: =TRUNC(H58+H59+H60+H61+H62,0) -> 30458048 | J57: =TRUNC(J58+J59+J60+J61+J62,0) -> 94663258 | L57: =TRUNC(L58+L59+L60+L61+L62,0) -> 2684841 | P57: 100 | CC57: ..
A58: 강재거푸집 | B58: 간단,1회,인력,H=0∼7m이하 | C58: 411 | D58: m2 | E58: =G58+I58+K58 -> 246620 | F58: =H58+J58+L58 -> 101360820 | G58: =[4]일위대가목록!F19 -> 54114 | H58: =TRUNC(G58*C58,0) -> 22240854 | I58: =[4]일위대가목록!G19 -> 186358 | J58: =TRUNC(I58*C58,0) -> 76593138 | K58: =[4]일위대가목록!H19 -> 6148 | L58: =TRUNC(K58*C58,0) -> 2526828 | M58: #.17 | P58: 110 | R58: K01060073000 | T58: F | BJ58: =HYPERLINK("#일위대가목록!A19","K01060073000 →") -> K01060073000 → | CC58: ....
A59: 무수축몰탈 | C59: 36 | D59: m3 | E59: =G59+I59+K59 -> 374990 | F59: =H59+J59+L59 -> 13499640 | G59: =[4]일위대가목록!F20 -> 225990 | H59: =TRUNC(G59*C59,0) -> 8135640 | I59: =[4]일위대가목록!G20 -> 146940 | J59: =TRUNC(I59*C59,0) -> 5289840 | K59: =[4]일위대가목록!H20 -> 2060 | L59: =TRUNC(K59*C59,0) -> 74160 | M59: #.18 | P59: 120 | R59: KR08100-0040 | T59: F | BJ59: =HYPERLINK("#일위대가목록!A20","KR08100-0040 →") -> KR08100-0040 → | CC59: ....
A60: 토사터파기(보통토사) | B60: 육상,인력,H=0~1m | C60: 157 | D60: m3 | E60: =G60+I60+K60 -> 63532 | F60: =H60+J60+L60 -> 9974524 | G60: =[4]일위대가목록!F21 -> 0 | H60: =TRUNC(G60*C60,0) -> 0 | I60: =[4]일위대가목록!G21 -> 63532 | J60: =TRUNC(I60*C60,0) -> 9974524 | K60: =[4]일위대가목록!H21 -> 0 | L60: =TRUNC(K60*C60,0) -> 0 | M60: #.19 | P60: 130 | R60: K01010001000 | T60: F | BJ60: =HYPERLINK("#일위대가목록!A21","K01010001000 →") -> K01010001000 → | CC60: ....
A61: 되메우기및다짐 | B61: 토사 | C61: 121 | D61: m3 | E61: =G61+I61+K61 -> 14279 | F61: =H61+J61+L61 -> 1727759 | G61: =[4]일위대가목록!F22 -> 674 | H61: =TRUNC(G61*C61,0) -> 81554 | I61: =[4]일위대가목록!G22 -> 12912 | J61: =TRUNC(I61*C61,0) -> 1562352 | K61: =[4]일위대가목록!H22 -> 693 | L61: =TRUNC(K61*C61,0) -> 83853 | M61: #.20 | P61: 140 | R61: K01010033000 | T61: F | BJ61: =HYPERLINK("#일위대가목록!A22","K01010033000 →") -> K01010033000 → | CC61: ....
A62: 잔토처리 | B62: 인력 | C62: 36 | D62: m3 | E62: =G62+I62+K62 -> 34539 | F62: =H62+J62+L62 -> 1243404 | G62: =[4]일위대가목록!F23 -> 0 | H62: =TRUNC(G62*C62,0) -> 0 | I62: =[4]일위대가목록!G23 -> 34539 | J62: =TRUNC(I62*C62,0) -> 1243404 | K62: =[4]일위대가목록!H23 -> 0 | L62: =TRUNC(K62*C62,0) -> 0 | M62: #.21 | P62: 150 | R62: K01010037000 | T62: F | BJ62: =HYPERLINK("#일위대가목록!A23","K01010037000 →") -> K01010037000 → | CC62: ....
A63: 1.2.2 이동통로설치 | E63: =G63+I63+K63 -> 0 | F63: =H63+J63+L63 -> 202206786 | H63: =TRUNC(H64+H65+H66+H67+H68+H69,0) -> 6699492 | J63: =TRUNC(J64+J65+J66+J67+J68+J69,0) -> 177094052 | L63: =TRUNC(L64+L65+L66+L67+L68+L69,0) -> 18413242 | P63: 160 | CC63: ..
A64: 잡철물제작 | B64: 일반철재 | C64: 18.305 | D64: Ton | E64: =G64+I64+K64 -> 2472509 | F64: =H64+J64+L64 -> 45259276 | G64: =[4]일위대가목록!F24 -> 68680 | H64: =TRUNC(G64*C64,0) -> 1257187 | I64: =[4]일위대가목록!G24 -> 2289361 | J64: =TRUNC(I64*C64,0) -> 41906753 | K64: =[4]일위대가목록!H24 -> 114468 | L64: =TRUNC(K64*C64,0) -> 2095336 | M64: #.22 | P64: 170 | R64: K01090028000 | T64: F | BJ64: =HYPERLINK("#일위대가목록!A24","K01090028000 →") -> K01090028000 → | CC64: ....
A65: 잡철물설치 | B65: 일반철재(야간할증) | C65: 18.305 | D65: Ton | E65: =G65+I65+K65 -> 6090492 | F65: =H65+J65+L65 -> 111486454 | G65: =[4]일위대가목록!F25 -> 93460 | H65: =TRUNC(G65*C65,0) -> 1710785 | I65: =[4]일위대가목록!G25 -> 5841265 | J65: =TRUNC(I65*C65,0) -> 106924355 | K65: =[4]일위대가목록!H25 -> 155767 | L65: =TRUNC(K65*C65,0) -> 2851314 | M65: #.23 | P65: 180 | R65: K01090029010 | T65: F | BJ65: =HYPERLINK("#일위대가목록!A25","K01090029010 →") -> K01090029010 → | CC65: ....
A66: 자재운반 | B66: 인력+고소작업차 5ton | C66: 46 | D66: day | E66: =G66+I66+K66 -> 946634 | F66: =H66+J66+L66 -> 43545164 | G66: =[4]일위대가목록!F26 -> 81120 | H66: =TRUNC(G66*C66,0) -> 3731520 | I66: =[4]일위대가목록!G26 -> 572762 | J66: =TRUNC(I66*C66,0) -> 26347052 | K66: =[4]일위대가목록!H26 -> 292752 | L66: =TRUNC(K66*C66,0) -> 13466592 | M66: #.24 | P66: 190 | R66: KR012601 | T66: F | BJ66: =HYPERLINK("#일위대가목록!A26","KR012601 →") -> KR012601 → | CC66: ....
A67: 자재소운반(인력,지게) | B67: L=40m | C67: 0 | D67: ton | E67: =G67+I67+K67 -> 60173 | F67: =H67+J67+L67 -> 0 | G67: =[4]일위대가목록!F27 -> 0 | H67: =TRUNC(G67*C67,0) -> 0 | I67: =[4]일위대가목록!G27 -> 60173 | J67: =TRUNC(I67*C67,0) -> 0 | K67: =[4]일위대가목록!H27 -> 0 | L67: =TRUNC(K67*C67,0) -> 0 | M67: #.25 | P67: 200 | R67: KR012602 | T67: F | BJ67: =HYPERLINK("#일위대가목록!A27","KR012602 →") -> KR012602 → | CC67: ....
A68: 자재소운반(인력,지게) | B68: L=100m | C68: 18.305 | D68: ton | E68: =G68+I68+K68 -> 104665 | F68: =H68+J68+L68 -> 1915892 | G68: =[4]일위대가목록!F28 -> 0 | H68: =TRUNC(G68*C68,0) -> 0 | I68: =[4]일위대가목록!G28 -> 104665 | J68: =TRUNC(I68*C68,0) -> 1915892 | K68: =[4]일위대가목록!H28 -> 0 | L68: =TRUNC(K68*C68,0) -> 0 | M68: #.26 | P68: 210 | R68: KR012603 | T68: F | BJ68: =HYPERLINK("#일위대가목록!A28","KR012603 →") -> KR012603 → | CC68: ....
A69: 교량접지 | B69: F-GV 2.5mm2 | C69: 0 | D69: m | E69: =G69+I69+K69 -> 80234 | F69: =H69+J69+L69 -> 0 | G69: =[4]일위대가목록!F29 -> 9900 | H69: =TRUNC(G69*C69,0) -> 0 | I69: =[4]일위대가목록!G29 -> 70334 | J69: =TRUNC(I69*C69,0) -> 0 | K69: =[4]일위대가목록!H29 -> 0 | L69: =TRUNC(K69*C69,0) -> 0 | M69: #.27 | P69: 220 | R69: K03H1H202650 | T69: F | BJ69: =HYPERLINK("#일위대가목록!A29","K03H1H202650 →") -> K03H1H202650 → | CC69: ....
A70: 1.2.3 자재비 | E70: =G70+I70+K70 -> 0 | F70: =H70+J70+L70 -> 136367029 | H70: =TRUNC(H71+H72+H73+H74+H75+H76,0) -> 136367029 | J70: =TRUNC(J71+J72+J73+J74+J75+J76,0) -> 0 | L70: =TRUNC(L71+L72+L73+L74+L75+L76,0) -> 0 | P70: 230 | CC70: ..
A71: 계단후레임파이프 | B71: 80x120x2.3M/M 7.06KG/M | C71: 8.661 | D71: ton | E71: =G71+I71+K71 -> 1437500 | F71: =H71+J71+L71 -> 12450187 | G71: =[4]자재조서!E12 -> 1437500 | H71: =TRUNC(G71*C71,0) -> 12450187 | I71: 0 | K71: 0 | M71: M0132120C | P71: 240 | R71: M0132120C | BJ71: =HYPERLINK("#자재조서!A12","M0132120C →") -> M0132120C → | CC71: ....
A72: 계단후레임보강파이프 | B72: 80x80x3.0M/M 7.25KG/M | C72: 4.007 | D72: ton | E72: =G72+I72+K72 -> 1437500 | F72: =H72+J72+L72 -> 5760062 | G72: =[4]자재조서!E11 -> 1437500 | H72: =TRUNC(G72*C72,0) -> 5760062 | I72: 0 | K72: 0 | M72: M0132120A | P72: 250 | R72: M0132120A | BJ72: =HYPERLINK("#자재조서!A11","M0132120A →") -> M0132120A → | CC72: ....
A73: 체크안전발판(타공) | B73: 250*30*3.0T | C73: 2408 | D73: ea | E73: =G73+I73+K73 -> 48000 | F73: =H73+J73+L73 -> 115584000 | G73: =[4]자재조서!E61 -> 48000 | H73: =TRUNC(G73*C73,0) -> 115584000 | I73: 0 | K73: 0 | M73: MZZ00050B | P73: 260 | R73: MZZ00050B | BJ73: =HYPERLINK("#자재조서!A61","MZZ00050B →") -> MZZ00050B → | CC73: ....
A74: 발끝막이 | B74: 100x50x4M/M 4.55KG/M | C74: 2.737 | D74: ton | E74: =G74+I74+K74 -> 940000 | F74: =H74+J74+L74 -> 2572780 | G74: =[4]자재조서!E5 -> 940000 | H74: =TRUNC(G74*C74,0) -> 2572780 | I74: 0 | K74: 0 | M74: M0030020A | N74: 95200027051 | P74: 270 | R74: M0030020A | BJ74: =HYPERLINK("#자재조서!A5","M0030020A →") -> M0030020A → | CC74: ....
A75: 베이스플레이트 | B75: T=5mm | C75: 0 | D75: ton | E75: =G75+I75+K75 -> 851400 | F75: =H75+J75+L75 -> 0 | G75: =[4]자재조서!E7 -> 851400 | H75: =TRUNC(G75*C75,0) -> 0 | I75: 0 | K75: 0 | M75: M0060024A0 | N75: ▣26.01 | P75: 280 | R75: M0060024A0 | BJ75: =HYPERLINK("#자재조서!A7","M0060024A0 →") -> M0060024A0 → | CC75: ....
A76: 계단후레임파이프 | B76: 50.8 x2.0X300 2.41KG/M | C76: 0 | D76: ton | E76: =G76+I76+K76 -> 1861351 | F76: =H76+J76+L76 -> 0 | G76: =[4]자재조서!E10 -> 1861351 | H76: =TRUNC(G76*C76,0) -> 0 | I76: 0 | K76: 0 | M76: M0129024 | P76: 290 | R76: M0129024 | BJ76: =HYPERLINK("#자재조서!A10","M0129024 →") -> M0129024 → | CC76: ....
A77: 1.3 안전난간 | E77: =G77+I77+K77 -> 0 | F77: =H77+J77+L77 -> 138299927 | H77: =TRUNC(H79+H80+H81+H82+H83+H84+H86+H87+H88+H89+H90+H91+H92,0) -> 55854914 | J77: =TRUNC(J79+J80+J81+J82+J83+J84+J86+J87+J88+J89+J90+J91+J92,0) -> 73626980 | L77: =TRUNC(L79+L80+L81+L82+L83+L84+L86+L87+L88+L89+L90+L91+L92,0) -> 8818033 | P77: 300 | CC77: .
A78: 1.3.1 난간설치 | E78: =G78+I78+K78 -> 0 | F78: =H78+J78+L78 -> 85517397 | H78: =TRUNC(H79+H80+H81+H82+H83+H84,0) -> 3072384 | J78: =TRUNC(J79+J80+J81+J82+J83+J84,0) -> 73626980 | L78: =TRUNC(L79+L80+L81+L82+L83+L84,0) -> 8818033 | P78: 310 | CC78: ..
A79: 잡철물제작 | B79: 경량철재 | C79: 8.461 | D79: Ton | E79: =G79+I79+K79 -> 3152180 | F79: =H79+J79+L79 -> 26670593 | G79: =[4]일위대가목록!F30 -> 59475 | H79: =TRUNC(G79*C79,0) -> 503217 | I79: =[4]일위대가목록!G30 -> 2973755 | J79: =TRUNC(I79*C79,0) -> 25160941 | K79: =[4]일위대가목록!H30 -> 118950 | L79: =TRUNC(K79*C79,0) -> 1006435 | M79: #.28 | P79: 320 | R79: K01090034000 | T79: F | BJ79: =HYPERLINK("#일위대가목록!A30","K01090034000 →") -> K01090034000 → | CC79: ....
A80: 잡철물설치 | B80: 경량철재 | C80: 8.461 | D80: Ton | E80: =G80+I80+K80 -> 4294167 | F80: =H80+J80+L80 -> 36332946 | G80: =[4]일위대가목록!F31 -> 81022 | H80: =TRUNC(G80*C80,0) -> 685527 | I80: =[4]일위대가목록!G31 -> 4051101 | J80: =TRUNC(I80*C80,0) -> 34276365 | K80: =[4]일위대가목록!H31 -> 162044 | L80: =TRUNC(K80*C80,0) -> 1371054 | M80: #.29 | P80: 330 | R80: K01090035000 | T80: F | BJ80: =HYPERLINK("#일위대가목록!A31","K01090035000 →") -> K01090035000 → | CC80: ....
A81: 자재운반 | B81: 인력+고소작업차 5ton | C81: 22 | D81: day | E81: =G81+I81+K81 -> 946634 | F81: =H81+J81+L81 -> 20825948 | G81: =[4]일위대가목록!F26 -> 81120 | H81: =TRUNC(G81*C81,0) -> 1784640 | I81: =[4]일위대가목록!G26 -> 572762 | J81: =TRUNC(I81*C81,0) -> 12600764 | K81: =[4]일위대가목록!H26 -> 292752 | L81: =TRUNC(K81*C81,0) -> 6440544 | M81: #.24 | P81: 340 | R81: KR012601 | T81: F | BJ81: =HYPERLINK("#일위대가목록!A26","KR012601 →") -> KR012601 → | CC81: ....
A82: 자재소운반(인력,지게) | B82: L=40m | C82: 0 | D82: ton | E82: =G82+I82+K82 -> 60173 | F82: =H82+J82+L82 -> 0 | G82: =[4]일위대가목록!F27 -> 0 | H82: =TRUNC(G82*C82,0) -> 0 | I82: =[4]일위대가목록!G27 -> 60173 | J82: =TRUNC(I82*C82,0) -> 0 | K82: =[4]일위대가목록!H27 -> 0 | L82: =TRUNC(K82*C82,0) -> 0 | M82: #.25 | P82: 350 | R82: KR012602 | T82: F | BJ82: =HYPERLINK("#일위대가목록!A27","KR012602 →") -> KR012602 → | CC82: ....
A83: 자재소운반(인력,지게) | B83: L=100m | C83: 8.461 | D83: ton | E83: =G83+I83+K83 -> 104665 | F83: =H83+J83+L83 -> 885570 | G83: =[4]일위대가목록!F28 -> 0 | H83: =TRUNC(G83*C83,0) -> 0 | I83: =[4]일위대가목록!G28 -> 104665 | J83: =TRUNC(I83*C83,0) -> 885570 | K83: =[4]일위대가목록!H28 -> 0 | L83: =TRUNC(K83*C83,0) -> 0 | M83: #.26 | P83: 360 | R83: KR012603 | T83: F | BJ83: =HYPERLINK("#일위대가목록!A28","KR012603 →") -> KR012603 → | CC83: ....
A84: 교량접지 | B84: F-GV 2.5mm2 | C84: 10 | D84: m | E84: =G84+I84+K84 -> 80234 | F84: =H84+J84+L84 -> 802340 | G84: =[4]일위대가목록!F29 -> 9900 | H84: =TRUNC(G84*C84,0) -> 99000 | I84: =[4]일위대가목록!G29 -> 70334 | J84: =TRUNC(I84*C84,0) -> 703340 | K84: =[4]일위대가목록!H29 -> 0 | L84: =TRUNC(K84*C84,0) -> 0 | M84: #.27 | P84: 370 | R84: K03H1H202650 | T84: F | BJ84: =HYPERLINK("#일위대가목록!A29","K03H1H202650 →") -> K03H1H202650 → | CC84: ....
A85: 1.3.2 자재비 | E85: =G85+I85+K85 -> 0 | F85: =H85+J85+L85 -> 52782530 | H85: =TRUNC(H86+H87+H88+H89+H90+H91+H92,0) -> 52782530 | J85: =TRUNC(J86+J87+J88+J89+J90+J91+J92,0) -> 0 | L85: =TRUNC(L86+L87+L88+L89+L90+L91+L92,0) -> 0 | P85: 380 | CC85: ..
A86: 스테인리스후판 | B86: 6.0M/M STS304(외산) | C86: 0 | D86: ton | E86: =G86+I86+K86 -> 3550000 | F86: =H86+J86+L86 -> 0 | G86: =[4]자재조서!E19 -> 3550000 | H86: =TRUNC(G86*C86,0) -> 0 | I86: 0 | K86: 0 | M86: M0195057 | P86: 390 | R86: M0195057 | BJ86: =HYPERLINK("#자재조서!A19","M0195057 →") -> M0195057 → | CC86: ....
A87: 스테인리스원형관(구조용)(현장도착도) | B87: 50.8x2.0 2.430KG/M | C87: 1227 | D87: m | E87: =G87+I87+K87 -> 14420 | F87: =H87+J87+L87 -> 17693340 | G87: =[4]자재조서!E23 -> 14420 | H87: =TRUNC(G87*C87,0) -> 17693340 | I87: 0 | K87: 0 | M87: M0240087 | N87: ▣26.01 | P87: 400 | R87: M0240087 | BJ87: =HYPERLINK("#자재조서!A23","M0240087 →") -> M0240087 → | CC87: ....
A88: 스테인리스원형관(구조용)(현장도착도) | B88: 50.8x2.0 2.430KG/M | C88: 697 | D88: m | E88: =G88+I88+K88 -> 14420 | F88: =H88+J88+L88 -> 10050740 | G88: =[4]자재조서!E23 -> 14420 | H88: =TRUNC(G88*C88,0) -> 10050740 | I88: 0 | K88: 0 | M88: M0240087 | N88: ▣26.01 | P88: 410 | R88: M0240087 | BJ88: =HYPERLINK("#자재조서!A23","M0240087 →") -> M0240087 → | CC88: ....
A89: 스테인리스원형관(구조용)(현장도착도) | B89: 38.1x2.0 1.800KG/M | C89: 2330 | D89: m | E89: =G89+I89+K89 -> 10710 | F89: =H89+J89+L89 -> 24954300 | G89: =[4]자재조서!E21 -> 10710 | H89: =TRUNC(G89*C89,0) -> 24954300 | I89: 0 | K89: 0 | M89: M0240075 | N89: ▣26.01 | P89: 420 | R89: M0240075 | BJ89: =HYPERLINK("#자재조서!A21","M0240075 →") -> M0240075 → | CC89: ....
A90: 스테인리스원형관(구조용)(현장도착도) | B90: 50.8x1.0 1.240kg/m | C90: 5 | D90: m | E90: =G90+I90+K90 -> 7510 | F90: =H90+J90+L90 -> 37550 | G90: =[4]자재조서!E22 -> 7510 | H90: =TRUNC(G90*C90,0) -> 37550 | I90: 0 | K90: 0 | M90: M0240078 | P90: 430 | R90: M0240078 | BJ90: =HYPERLINK("#자재조서!A22","M0240078 →") -> M0240078 → | CC90: ....
A91: 스테인리스원형관(구조용)(현장도착도) | B91: 31.8x1.0 0.767kg/m | C91: 10 | D91: m | E91: =G91+I91+K91 -> 4660 | F91: =H91+J91+L91 -> 46600 | G91: =[4]자재조서!E20 -> 4660 | H91: =TRUNC(G91*C91,0) -> 46600 | I91: 0 | K91: 0 | M91: M0240056 | P91: 440 | R91: M0240056 | BJ91: =HYPERLINK("#자재조서!A20","M0240056 →") -> M0240056 → | CC91: ....
A92: 스테인리스망(SUS304) | B92: 8.0메쉬 0.9 x1000mm | C92: 0 | D92: M2 | E92: =G92+I92+K92 -> 32730 | F92: =H92+J92+L92 -> 0 | G92: =[4]자재조서!E26 -> 32730 | H92: =TRUNC(G92*C92,0) -> 0 | I92: 0 | K92: 0 | M92: M0687017 | N92: 53350177081 | P92: 450 | R92: M0687017 | BJ92: =HYPERLINK("#자재조서!A26","M0687017 →") -> M0687017 → | CC92: ....
A93: 1.4 차단벽 | E93: =G93+I93+K93 -> 0 | F93: =H93+J93+L93 -> 137850000 | H93: =TRUNC(H94+H95,0) -> 137850000 | J93: =TRUNC(J94+J95,0) -> 0 | L93: =TRUNC(L94+L95,0) -> 0 | P93: 460 | CC93: .
A94: EX메탈라스(울타리)(현장설치도) | B94: W2000×H1200 | C94: 585 | D94: m | E94: =G94+I94+K94 -> 210000 | F94: =H94+J94+L94 -> 122850000 | G94: =[4]자재조서!E66 -> 210000 | H94: =TRUNC(G94*C94,0) -> 122850000 | I94: 0 | K94: 0 | M94: MZZ10010 | P94: 470 | R94: MZZ10010 | BJ94: =HYPERLINK("#자재조서!A66","MZZ10010 →") -> MZZ10010 → | CC94: ....
A95: EX메탈라스출입문(양개)(현장설치도) | B95: W1000×H1200 | C95: 20 | D95: set | E95: =G95+I95+K95 -> 750000 | F95: =H95+J95+L95 -> 15000000 | G95: =[4]자재조서!E67 -> 750000 | H95: =TRUNC(G95*C95,0) -> 15000000 | I95: 0 | K95: 0 | M95: MZZ10025 | P95: 480 | R95: MZZ10025 | BJ95: =HYPERLINK("#자재조서!A67","MZZ10025 →") -> MZZ10025 → | CC95: ....
E96: =G96+I96+K96 -> 0 | F96: =H96+J96+L96 -> 0 | H96: 0 | J96: 0 | L96: 0 | P96: 490
A97: 1-2. 옹벽 보도 | C97: 1 | D97: 식 | F97: =H97+J97+L97 -> 21727912 | H97: =TRUNC(SUM(Z97:Z98),0) -> 11911009 | J97: =TRUNC(SUM(AA97:AA98),0) -> 8413680 | L97: =TRUNC(SUM(AB97:AB98),0) -> 1403223 | O97: A01001020 | Z97: =H100+H101+H102+H103+H104+H105+H106+H107+H108+H109+H110+H112+H113+H114+H115+H116+H117+H118+H119+H121+H122+H123+H126+H127+H128+H129+H130+H131+H133+H134 -> 6995672 | AA97: =J100+J101+J102+J103+J104+J105+J106+J107+J108+J109+J110+J112+J113+J114+J115+J116+J117+J118+J119+J121+J122+J123+J126+J127+J128+J129+J130+J131+J133+J134 -> 7522911 | AB97: =L100+L101+L102+L103+L104+L105+L106+L107+L108+L109+L110+L112+L113+L114+L115+L116+L117+L118+L119+L121+L122+L123+L126+L127+L128+L129+L130+L131+L133+L134 -> 1110242
A98: 2.1 브라켓 | E98: =G98+I98+K98 -> 0 | F98: =H98+J98+L98 -> 12566611 | H98: =TRUNC(H100+H101+H102+H103+H104+H105+H106+H107+H108+H109+H110+H112+H113+H114+H115+H116+H117+H118+H119+H121+H122+H123,0) -> 6621298 | J98: =TRUNC(J100+J101+J102+J103+J104+J105+J106+J107+J108+J109+J110+J112+J113+J114+J115+J116+J117+J118+J119+J121+J122+J123,0) -> 5170252 | L98: =TRUNC(L100+L101+L102+L103+L104+L105+L106+L107+L108+L109+L110+L112+L113+L114+L115+L116+L117+L118+L119+L121+L122+L123,0) -> 775061 | P98: 10 | Z98: =H135+H136+H137+H138+H139+H140+H141+H143+H144+H146+H147+H148+H149+H150+H152 -> 4915337 | AA98: =J135+J136+J137+J138+J139+J140+J141+J143+J144+J146+J147+J148+J149+J150+J152 -> 890769 | AB98: =L135+L136+L137+L138+L139+L140+L141+L143+L144+L146+L147+L148+L149+L150+L152 -> 292981 | CC98: .
A99: 2.1.1 바닥틀제작설치 | E99: =G99+I99+K99 -> 0 | F99: =H99+J99+L99 -> 2708694 | H99: =TRUNC(H100+H101+H102+H103+H104+H105+H106+H107+H108+H109+H110,0) -> 763604 | J99: =TRUNC(J100+J101+J102+J103+J104+J105+J106+J107+J108+J109+J110,0) -> 1592000 | L99: =TRUNC(L100+L101+L102+L103+L104+L105+L106+L107+L108+L109+L110,0) -> 353090 | P99: 20 | CC99: ..
A100: 잡철물제작 | B100: 일반철재 | C100: 0.22 | D100: Ton | E100: =G100+I100+K100 -> 2472509 | F100: =H100+J100+L100 -> 543950 | G100: =[4]일위대가목록!F24 -> 68680 | H100: =TRUNC(G100*C100,0) -> 15109 | I100: =[4]일위대가목록!G24 -> 2289361 | J100: =TRUNC(I100*C100,0) -> 503659 | K100: =[4]일위대가목록!H24 -> 114468 | L100: =TRUNC(K100*C100,0) -> 25182 | M100: #.22 | P100: 30 | R100: K01090028000 | T100: F | BJ100: =HYPERLINK("#일위대가목록!A24","K01090028000 →") -> K01090028000 → | CC100: ....
...
