Workbook

Sheet 원가계산서
B1: 원가계산서
B3: 비 목 | E3: 구분 | F3: 금 액 | G3: 요율 | H3: 산 출 근 거
C4: 재 | D4: 직 접 재 료 비 | E4: 1 | F4: =내역서총괄표!H11 -> 783433373
C5: 료 | D5: 간 접 재 료 비 | E5: 2
C6: 비 | D6: 작업설.부산물등(△) | E6: 3
D7: 소 계 | E7: A | F7: =TRUNC((F4+F5+F6),0) -> 783433373 | H7: (1 + 2 + 3 )
C8: 노 | D8: 직 접 노 무 비 | E8: 4 | F8: =내역서총괄표!I11 -> 683122222
B9: 순 | C9: 무 | D9: 간 접 노 무 비 | E9: 5 | F9: =TRUNC(F8*0.189,0) -> 129110099 | G9: 0.189 | H9: 4 × 0.189
C10: 비 | D10: 소 계 | E10: B | F10: =TRUNC((F8+F9),0) -> 812232321 | H10: ( 4 + 5 )
B11: 공 | D11: 산 출 경 비 | E11: 6 | F11: =내역서총괄표!J11 -> 199225130
D12: 산 재 보 험 료 | E12: 7 | F12: =TRUNC(F10*0.0356,0) -> 28915470 | G12: 3.56% | H12: B × 0.0356
B13: 사 | D13: 고 용 보 험 료 | E13: 8 | F13: =TRUNC(F10*0.0101,0) -> 8203546 | G13: 1.01% | H13: B × 0.0101
C14: 경 | D14: 건 강 보 험 료 | E14: 9 | F14: =TRUNC(F8*0.03595,0) -> 24558243 | G14: 0.03595 | H14: 4 × 0.03595
B15: 원 | D15: 연 금 보 험 료 | E15: 10 | F15: =TRUNC(F8*0.0475,0) -> 32448305 | G15: 0.0475 | H15: 4 × 0.0475
D16: 노인장기요양 보 험 료 | E16: 11 | F16: =TRUNC(F14*0.1314,0) -> 3226953 | G16: 0.1314 | H16: 9 × 0.1314
B17: 가 | D17: 퇴 직 공 제 부 금 비 | E17: 12 | F17: =TRUNC(F8*0.023,0) -> 15711811 | G17: 2.3% | H17: 4 × 0.023
D18: 건설기계대여금지급보증서발급액 | E18: 13 | F18: =TRUNC((F7+F8+F11)*0.004,0) -> 6663122 | G18: 0.004 | H18: (A + 4 + 6) × 0.004
D19: 산 업 안 전 보건관리비 | E19: 14 | F19: =TRUNC((((F7+F8)*0.0253)+3300000),0) -> 40403856 | G19: 0.0253 | H19: (((A + 4) × 0.0253) + 3,300,000)
D20: 안 전 관 리 비 | E20: 15 | F20: 0 | G20: 0.002 | H20: (4 + 5) × 0.002
D21: 환 경 보 전 비 | E21: 16 | F21: =TRUNC((F7+F8+F11)*0.008,0) -> 13326245 | G21: 0.8% | H21: (A + 4 + 6) ×0.008
D22: 공 사 이 행 보증수수료 | E22: 17 | G22: 0.000108 | H22: [(2+4+6)×0.0108%]×6개월/12
D23: 건설하도급대금지급보증서발급수 | E23: 18 | F23: =TRUNC((F7+F8+F11)*0.00081,0) -> 1349282 | G23: 0.00081 | H23: (A+4+6)×0.00081
D24: 기 타 경 비 | E24: 19 | F24: =TRUNC((F7+F10)*0.058,0) -> 92548610 | G24: 0.058 | H24: (A + B) × 0.058
D25: 석면 분담금 | E25: 20 | F25: =(F8+F9)*0.00006 -> 48733.939 | G25: 6e-05 | H25: (4 + 5) × 0.00006
D26: 임금채권부담금 | E26: 21 | F26: =INT((F8+F9)*0.0009) -> 731009 | G26: 0.0009 | H26: (4 + 5) × 0.0009
C27: 비 | D27: 건설안전관리비 | E27: 22 | F27: =내역서!F26 -> 54844626 | L27: =[1]내역서!H26 -> 0
D28: 품 질 시 험 비 | E28: 23 | F28: =내역서!F27 -> 22000000
D29: 소 계 | E29: C | F29: =TRUNC((F11+F12+F13+F14+F15+F16+F17+F18+F19+F20+F21+F22+F23+F27+F24+F25+F26+F28),0) -> 544204941 | H29: (6:23)
D30: 순 공 사 원 가 | E30: D | F30: =TRUNC((F7+F10+F29),0) -> 2139870635 | H30: (A + B + C)
D31: 일 반 관 리 비 | E31: E | F31: =TRUNC(F30*0.08,0) -> 171189650 | G31: 0.08 | H31: D × 0.08
D32: 이 윤 | E32: F | F32: =TRUNC((F10+F29+F31)*0.15,0)-1959 -> 229142077 | G32: 0.15 | H32: (B + C + F) ×0.15 | I32: =191248399 -> 191248399 | J32: =F32-I32 -> 37893678
D33: 열차접근경보앱용단말기 | E33: G | F33: =내역서!L30 -> 247638
D34: 열차접근경보앱용라이센스 | E34: H | F34: =내역서!L31 -> 84000
D35: 열차접근경보앱연동장치 | E35: I | F35: =내역서!L32 -> 700000
D36: 품 질 시 험 비 | E36: K
D37: 폐 기 물 처 리 비 | E37: J | F37: =[2]내역서!F33 -> 996000
D38: 공 급 가 액 | E38: K | F38: =TRUNC((F30+F31+F32+F33+F34+F35+F36+F37),0) -> 2542230000 | H38: (D + E + F + G + H + I + J + K)
D39: 부 가 가 치 세 | E39: L | F39: =IF(L58<> "0.9",TRUNC(F38*0,0),TRUNC(F38*0.1,0)+1) -> 0 | G39: 0 | H39: K × 영세율
D40: 도 급 액 | E40: M | F40: =TRUNC((F38+F39),0) -> 2542230000 | H40: (K + L)
D41: 총 공 사 비 | E41: P | F41: =TRUNC((F40),6) -> 2542230000 | H41: (L + M)
...

Sheet 내역서총괄표
B1: 내역서총괄표
B3: 공종 | C3: 품 명 | D3: 규 격 | E3: 수 량 | F3: 단위 | G3: 합 계 | H3: 재료비 | I3: 노무비 | J3: 경 비 | K3: 비 고
B4: ⊙ | C4: 경원선 한남~옥수 6.400km 외 1개소 작업자 이동통로 확보공사 | G4: =I4+H4+J4 -> 2542230000 | H4: =내역서!H4 -> 783433373 | I4: =내역서!J4 -> 812232321 | J4: =내역서!L4 -> 946564306
B5: 1. | C5: 한남-옥수 | G5: =I5+H5+J5 -> 911214767 | H5: =내역서!H7 -> 456006250 | I5: =내역서!J7 -> 414499375 | J5: =내역서!L7 -> 40709142
B6: 2. | C6: 옥수-응봉 | G6: =I6+H6+J6 -> 638421542 | H6: =내역서!H8 -> 327257793 | I6: =내역서!J8 -> 266756937 | J6: =내역서!L8 -> 44406812
B7: 3. | C7: 부대공 | G7: =I7+H7+J7 -> 115978416 | H7: =내역서!H9 -> 169330 | I7: =내역서!J9 -> 1865910 | J7: =내역서!L9 -> 113943176
B8: 4. | C8: 폐기물상차 | G8: =I8+H8+J8 -> 166000 | H8: =내역서!H10 -> 0 | I8: =내역서!J10 -> 0 | J8: =내역서!L10 -> 166000
B9: 5. | C9: 자재운반 | H9: =[3]내역서!H13 -> 0 | J9: =[3]내역서!L13 -> 0
B10: 5 | C10: 사급자재대 | H10: =[3]내역서!H14 -> 0 | I10: =[3]내역서!J14 -> 0 | J10: 0
C11: 순 공 사 비 | G11: =I11+H11+J11 -> 1665780725 | H11: =내역서!H6 -> 783433373 | I11: =내역서!J6 -> 683122222 | J11: =내역서!L6 -> 199225130
C12: 간접노무비 | E12: 18.9 | F12: % | G12: =원가계산서!F9 -> 129110099
C13: 산출경비 | G13: =원가계산서!F11 -> 199225130
C14: 산재보험료 | E14: 3.56 | F14: % | G14: =원가계산서!F12 -> 28915470
C15: 고용보험료 | E15: 1.01 | F15: % | G15: =원가계산서!F13 -> 8203546
C16: 건강보험료 | E16: 3.595 | F16: % | G16: =원가계산서!F14 -> 24558243
C17: 연금보험료 | E17: 4.75 | F17: % | G17: =원가계산서!F15 -> 32448305
C18: 노인장기요양보험료 | E18: 13.14 | F18: % | G18: =원가계산서!F16 -> 3226953
C19: 퇴직공제부금비 | E19: 2.3 | F19: % | G19: =원가계산서!F17 -> 15711811
C20: 건설기계대여금지급보증서발급액 | E20: 0.4 | F20: % | G20: =원가계산서!F18 -> 6663122
C21: 산업안전보건관리비 | E21: 2.53 | F21: % | G21: =원가계산서!F19 -> 40403856
C22: 환경보전비 | E22: 0.8 | F22: % | G22: =원가계산서!F21 -> 13326245
C23: 건설하도급대금지급보증서발급수 | E23: 0.081 | F23: % | G23: =원가계산서!F23 -> 1349282
C24: 기타경비 | E24: 5.8 | F24: % | G24: =원가계산서!F24 -> 92548610
C25: 석면 분담금 | E25: 0.006 | F25: % | G25: =원가계산서!F25 -> 48733.939
C26: 임금채권부담금 | E26: 0.09 | F26: % | G26: =원가계산서!F26 -> 731009
C27: 건설안전관리비 | G27: =원가계산서!F27 -> 54844626
C28: 품 질 시 험 비 | G28: =원가계산서!F28 -> 22000000
C29: 순공사원가 | G29: =원가계산서!F30 -> 2139870635
C30: 일반관리비 | E30: 8 | F30: % | G30: =원가계산서!F31 -> 171189650
C31: 이윤 | E31: 15 | F31: % | G31: =원가계산서!F32 -> 229142077
C32: 열차접근경보앱 | E32: 1 | F32: 식 | G32: =원가계산서!F33 -> 247638
C33: 열차접근경보 라이선스 | E33: 1 | F33: 식 | G33: =원가계산서!F34 -> 84000
C34: 열차접근경보앱 연동장치 | E34: 1 | F34: 식 | G34: =원가계산서!F35 -> 700000
C35: 폐기물처리비 | E35: 1 | F35: 식 | G35: =원가계산서!F37 -> 996000
C36: 총원가 | G36: =원가계산서!F38 -> 2542230000
C37: 부가가치세 | E37: 0 | F37: % | G37: =원가계산서!F39 -> 0
C38: 도급액 | G38: =원가계산서!F40 -> 2542230000
C39: 총공사비 | G39: =원가계산서!F41 -> 2542230000

Sheet 내역서
A1: 내역서
A2: 공 종 명 | B2: 규 격 | C2: 수량 | D2: 단위 | E2: 합 계 | G2: 재 료 비 | I2: 노 무 비 | K2: 경 비 | M2: 비 고 | BH2: 메모
E3: 단 가 | F3: 금 액 | G3: 단 가 | H3: 금 액 | I3: 단 가 | J3: 금 액 | K3: 단 가 | L3: 금 액 | S3: 할 증 | T3: 화폐변환 | U3: OP값 | V3: EQ | W3: LA | X3: MA | Y3: 금액계상
A4: ▣ 수도권동부본부 관내 작업자 이동통로 확보공사 | C4: 0 | F4: =H4+J4+L4 -> 2542230000 | H4: =TRUNC(H7+H8+H9+H10+H11+H12+H13+H14+H15+H16+H17+H18+H19+H20+H21+H22+H23+H24+H25+H26+H27+H28+H29+H30+H31+H32+H33+H35,0) -> 783433373 | J4: =TRUNC(J7+J8+J9+J10+J11+J12+J13+J14+J15+J16+J17+J18+J19+J20+J21+J22+J23+J24+J25+J26+J27+J28+J29+J30+J31+J32+J33+J35,0) -> 812232321 | L4: =TRUNC(L7+L8+L9+L10+L11+L12+L13+L14+L15+L16+L17+L18+L19+L20+L21+L22+L23+L24+L25+L26+L27+L28+L29+L30+L31+L32+L33+L35,0) -> 946564306 | O4: A0
A5: Ⅰ. 순 공 사 비 | D5: 식 | E5: =G5+I5+K5 -> 0 | F5: =H5+J5+L5 -> 2139870635 | H5: =TRUNC(H7+H8+H9+H10+H11+H12+H13+H14+H15+H16+H17+H18+H19+H20+H21+H22+H23+H24+H25+H26+H27,0) -> 783433373 | J5: =TRUNC(J7+J8+J9+J10+J11+J12+J13+J14+J15+J16+J17+J18+J19+J20+J21+J22+J23+J24+J25+J26+J27,0) -> 812232321 | L5: =TRUNC(L7+L8+L9+L10+L11+L12+L13+L14+L15+L16+L17+L18+L19+L20+L21+L22+L23+L24+L25+L26+L27,0) -> 544204941 | P5: 10 | CC5: .
A6: 가. 직접공사비 | D6: 식 | E6: =G6+I6+K6 -> 0 | F6: =H6+J6+L6 -> 1665780725 | H6: =TRUNC(H7+H8+H9+H10,0) -> 783433373 | J6: =TRUNC(J7+J8+J9+J10,0) -> 683122222 | L6: =TRUNC(L7+L8+L9+L10,0) -> 199225130 | P6: 20 | CC6: ..
A7: 1. 한남-옥수(상우) | C7: 1 | D7: 식 | E7: =G7+I7+K7 -> 911214767 | F7: =H7+J7+L7 -> 911214767 | G7: =H45 -> 456006250 | H7: =TRUNC(G7*C7,0) -> 456006250 | I7: =J45 -> 414499375 | J7: =TRUNC(I7*C7,0) -> 414499375 | K7: =L45 -> 40709142 | L7: =TRUNC(K7*C7,0) -> 40709142 | P7: 30 | R7: A010010 | BJ7: =HYPERLINK("#내역서!A42","A010010 →") -> A010010 → | CC7: ....
A8: 2. 옥수-응봉(상우) | C8: 1 | D8: 식 | E8: =G8+I8+K8 -> 638421542 | F8: =H8+J8+L8 -> 638421542 | G8: =H229 -> 327257793 | H8: =TRUNC(G8*C8,0) -> 327257793 | I8: =J229 -> 266756937 | J8: =TRUNC(I8*C8,0) -> 266756937 | K8: =L229 -> 44406812 | L8: =TRUNC(K8*C8,0) -> 44406812 | P8: 40 | R8: A010020 | BJ8: =HYPERLINK("#내역서!A226","A010020 →") -> A010020 → | CC8: ....
A9: 3. 부대공 | C9: 1 | D9: 식 | E9: =G9+I9+K9 -> 115978416 | F9: =H9+J9+L9 -> 115978416 | G9: =H347 -> 169330 | H9: =TRUNC(G9*C9,0) -> 169330 | I9: =J347 -> 1865910 | J9: =TRUNC(I9*C9,0) -> 1865910 | K9: =L347 -> 113943176 | L9: =TRUNC(K9*C9,0) -> 113943176 | P9: 50 | R9: A010030 | BJ9: =HYPERLINK("#내역서!A344","A010030 →") -> A010030 → | CC9: ....
A10: 4. 폐기물상차 | C10: 1 | D10: 식 | E10: =G10+I10+K10 -> 166000 | F10: =H10+J10+L10 -> 166000 | G10: =H359 -> 0 | H10: =TRUNC(G10*C10,0) -> 0 | I10: =J359 -> 0 | J10: =TRUNC(I10*C10,0) -> 0 | K10: =L359 -> 166000 | L10: =TRUNC(K10*C10,0) -> 166000 | P10: 60 | R10: A010040 | AA10: LA+ = | AB10: =내역서!J6*18.9/100 -> 1.291101e+08 | AC10: LA = | AD10: =$AB10 -> 1.291101e+08 | BJ10: =HYPERLINK("#내역서!A356","A010040 →") -> A010040 → | CC10: ....
A11: 나. 간접노무비 | B11: 직노×18.9% | C11: 1 | D11: 식 | E11: =G11+I11+K11 -> 0 | F11: =H11+J11+L11 -> 129110099 | H11: 0 | J11: =TRUNC((J6*18.9/100),0) -> 129110099 | L11: 0 | N11: ★직공10억∼50억미만-6개월이하 | P11: 70 | R11: F | X11: .LA=LA(20)*18.9/100_x000D_ | AA11: EQ+ = | AB11: =(내역서!J6+내역서!J11)*3.56/100 -> 28915471 | AC11: EQ = | AD11: =$AB11 -> 28915471 | CC11: ..
A12: 다. 산재보험료 | B12: 노무비×3.56% | C12: 1 | D12: 식 | E12: =G12+I12+K12 -> 0 | F12: =H12+J12+L12 -> 28915470 | H12: 0 | J12: 0 | L12: =TRUNC(((J6+J11)*3.56/100),0) -> 28915470 | P12: 80 | R12: F | X12: .EQ=LA(20,70)*3.56/100_x000D_ | AA12: EQ+ = | AB12: =(내역서!J6+내역서!J11)*1.01/100 -> 8203546.4 | AC12: EQ = | AD12: =$AB12 -> 8203546.4 | CC12: ..
A13: 라. 고용보험료 | B13: 노무비×1.01% | C13: 1 | D13: 식 | E13: =G13+I13+K13 -> 0 | F13: =H13+J13+L13 -> 8203546 | H13: 0 | J13: 0 | L13: =TRUNC(((J6+J11)*1.01/100),0) -> 8203546 | N13: ★7등급미만 | P13: 90 | R13: F | X13: .EQ=LA(20,70)*1.01/100_x000D_ | AA13: EQ+ = | AB13: =내역서!J6*3.595/100 -> 24558244 | AC13: EQ = | AD13: =$AB13 -> 24558244 | CC13: ..
A14: 마. 건강보험료 | B14: 직노×3.595% | C14: 1 | D14: 식 | E14: =G14+I14+K14 -> 0 | F14: =H14+J14+L14 -> 24558243 | H14: 0 | J14: 0 | L14: =TRUNC((J6*3.595/100),0) -> 24558243 | N14: ◎2026.04.13 | P14: 100 | R14: F | X14: .EQ=LA(20)*3.595/100_x000D_ | AA14: EQ+ = | AB14: =내역서!J6*4.75/100 -> 32448306 | AC14: EQ = | AD14: =$AB14 -> 32448306 | CC14: ..
A15: 바. 연금보험료 | B15: 직노×4.75% | C15: 1 | D15: 식 | E15: =G15+I15+K15 -> 0 | F15: =H15+J15+L15 -> 32448305 | H15: 0 | J15: 0 | L15: =TRUNC((J6*4.75/100),0) -> 32448305 | N15: ◎2026.04.13 | P15: 110 | R15: F | X15: .EQ=LA(20)*4.75/100_x000D_ | AA15: EQ+ = | AB15: =내역서!L14*13.14/100 -> 3226953.1 | AC15: EQ = | AD15: =$AB15 -> 3226953.1 | CC15: ..
A16: 사. 노인장기요양보험료 | B16: 건보×13.14% | C16: 1 | D16: 식 | E16: =G16+I16+K16 -> 0 | F16: =H16+J16+L16 -> 3226953 | H16: 0 | J16: 0 | L16: =TRUNC((L14*13.14/100),0) -> 3226953 | N16: ◎2026.04.13 | P16: 120 | R16: F | X16: .EQ=EQ(100)*13.14/100_x000D_ | AA16: EQ+ = | AB16: =내역서!J6*2.3/100 -> 15711811 | AC16: EQ = | AD16: =$AB16 -> 15711811 | CC16: ..
A17: 아. 퇴직공제부금비 | B17: 직노×2.3% | C17: 1 | D17: 식 | E17: =G17+I17+K17 -> 0 | F17: =H17+J17+L17 -> 15711811 | H17: 0 | J17: 0 | L17: =TRUNC((J6*2.3/100),0) -> 15711811 | N17: ◎2026.04.13 | P17: 130 | R17: F | X17: .EQ=LA(20)*2.3/100_x000D_ | AA17: EQ+ = | AB17: =(내역서!H6+내역서!J6+내역서!L6)*0.4/100 -> 6663122.9 | AC17: EQ = | AD17: =$AB17 -> 6663122.9 | CC17: ..
A18: 자. 건설기계대여대금지급보증서발급금액 | B18: 직접공사비×0.40% | C18: 1 | D18: 식 | E18: =G18+I18+K18 -> 0 | F18: =H18+J18+L18 -> 6663122 | H18: 0 | J18: 0 | L18: =TRUNC(((H6+J6+L6)*0.4/100),0) -> 6663122 | N18: ★종합건설업(토목) | P18: 140 | R18: F | X18: .EQ=TOT(20)*0.40/100_x000D_ | AA18: EQ+ = | AB18: =ROUND((내역서!J6+내역서!H6)*2.53/100+3300000,3) -> 40403857 | AC18: EQ = | AD18: =$AB18 -> 40403857 | AE18: 18_1_1+ = | AF18: =ROUND(ROUND((내역서!J6+내역서!H6)*2.53/100+3300000,3),3) -> 40403857 | AG18: 18_1_1 = | AH18: =$AF18 -> 40403857 | CC18: ..
A19: 차. 산업안전보건관리비 | B19: (재+직노)×2.53%+3,300천원 | C19: 1 | D19: 식 | E19: =G19+I19+K19 -> 0 | F19: =H19+J19+L19 -> 40403856 | H19: 0 | J19: 0 | L19: =TRUNC((ROUND((J6+H6)*2.53/100+3300000,3)),0) -> 40403856 | N19: ★추정금액(주공종,토목)5억∼50억미만 | P19: 150 | R19: F | X19: EQ=(LA(20)+MA(20))*2.53/100+3300000={?,'9.99R'}_x000D_ | AA19: EQ+ = | AB19: =(내역서!H6+(내역서!J6+내역서!J11))*5.8/100 -> 92548610 | AC19: EQ = | AD19: =$AB19 -> 92548610 | CC19: ..
A20: 카. 기타 경비 | B20: (재+노)×5.8% | C20: 1 | D20: 식 | E20: =G20+I20+K20 -> 0 | F20: =H20+J20+L20 -> 92548610 | H20: 0 | J20: 0 | L20: =TRUNC(((H6+(J6+J11))*5.8/100),0) -> 92548610 | N20: ★직공10억∼50억미만-6개월이하 | P20: 160 | R20: F | X20: .EQ=(MA(20)+LA(20,70))*5.8/100_x000D_ | CC20: ..
A21: 타. 공사이행보증수수료 | B21: [직공×0.0108%]×6개월/12 | D21: 식 | E21: =G21+I21+K21 -> 0 | F21: =H21+J21+L21 -> 0 | H21: 0 | J21: 0 | L21: =TRUNC((((H6+J6+L6)*0.0108/100)*6/12*0),0) -> 0 | N21: ★70억미만 | P21: 170 | R21: F | X21: ■계약처수정사항_250930_x000D_ _ 발주 후 계약변경(후속공기 및 종합시운전까지 반영), 공정게획참조(1,7,9공구_65개월)_x000D_ _x000D_ .EQ=(TOT(20)*0.0108/100)*6/12*0'(해당사항없음)'_x000D_ | AA21: EQ+ = | AB21: =(내역서!H6+내역서!J6+내역서!L6)*0.081/100 -> 1349282.4 | AC21: EQ = | AD21: =$AB21 -> 1349282.4 | CC21: ..
A22: 파. 건설하도급대금지급보증서발급수수료 | B22: 직접공사비×0.081% | C22: 1 | D22: 식 | E22: =G22+I22+K22 -> 0 | F22: =H22+J22+L22 -> 1349282 | H22: 0 | J22: 0 | L22: =TRUNC(((H6+J6+L6)*0.081/100),0) -> 1349282 | N22: ★50억미만 | P22: 180 | R22: F | X22: .EQ=TOT(20)*0.081/100_x000D_ | AA22: EQ+ = | AB22: =(내역서!H6+내역서!J6+내역서!L6)*0.8/100 -> 13326246 | AC22: EQ = | AD22: =$AB22 -> 13326246 | CC22: ..
A23: 하. 환경보전비 | B23: 직접공사비×0.8% | C23: 1 | D23: 식 | E23: =G23+I23+K23 -> 0 | F23: =H23+J23+L23 -> 13326245 | H23: 0 | J23: 0 | L23: =TRUNC(((H6+J6+L6)*0.8/100),0) -> 13326245 | N23: ★그밖의 토목공사 | P23: 190 | R23: F | X23: .EQ=TOT(20)*0.8/100_x000D_ | AA23: EQ+ = | AB23: =(내역서!J6+내역서!J11)*0.006/100 -> 48733.939 | AC23: EQ = | AD23: =$AB23 -> 48733.939 | CC23: ..
A24: 거. 석면분담금 | B24: 노무비×0.006% | C24: 1 | D24: 식 | E24: =G24+I24+K24 -> 0 | F24: =H24+J24+L24 -> 48733 | H24: 0 | J24: 0 | L24: =TRUNC(((J6+J11)*0.006/100),0) -> 48733 | N24: ◎2026.04.13 | P24: 200 | R24: F | X24: .EQ=LA(20,70)*0.006/100_x000D_ | AA24: EQ+ = | AB24: =(내역서!J6+내역서!J11)*0.09/100 -> 731009.09 | AC24: EQ = | AD24: =$AB24 -> 731009.09 | CC24: ..
A25: 너. 임금채권부담금 | B25: 노무비×0.09% | C25: 1 | D25: 식 | E25: =G25+I25+K25 -> 0 | F25: =H25+J25+L25 -> 731009 | H25: 0 | J25: 0 | L25: =TRUNC(((J6+J11)*0.09/100),0) -> 731009 | N25: ◎2026.04.13 | P25: 210 | R25: F | X25: .EQ=LA(20,70)*0.09/100_x000D_ | CC25: ..
A26: 더. 안전관리비 | C26: 1 | D26: PS | E26: =G26+I26+K26 -> 54844626 | F26: =H26+J26+L26 -> 54844626 | G26: =H364 -> 0 | H26: =TRUNC(G26*C26,0) -> 0 | I26: =J364 -> 0 | J26: =TRUNC(I26*C26,0) -> 0 | K26: =L364 -> 54844626 | L26: =TRUNC(K26*C26,0) -> 54844626 | P26: 220 | R26: A020010 | BJ26: =HYPERLINK("#내역서!A361","A020010 →") -> A020010 → | CC26: ..
A27: 러. 품질시험비 | C27: 1 | D27: PS | E27: =G27+I27+K27 -> 22000000 | F27: =H27+J27+L27 -> 22000000 | G27: =H377 -> 0 | H27: =TRUNC(G27*C27,0) -> 0 | I27: =J377 -> 0 | J27: =TRUNC(I27*C27,0) -> 0 | K27: =L377 -> 22000000 | L27: =TRUNC(K27*C27,0) -> 22000000 | P27: 230 | R27: A020020 | AA27: EQ+ = | AB27: =(내역서!H5+내역서!J5+내역서!L5)*8/100 -> 1.7118965e+08 | AC27: EQ = | AD27: =$AB27 -> 1.7118965e+08 | BJ27: =HYPERLINK("#내역서!A374","A020020 →") -> A020020 → | CC27: ..
A28: Ⅱ. 일반 관리비 | B28: (재+노+경)×8.0% | C28: 1 | D28: 식 | E28: =G28+I28+K28 -> 0 | F28: =H28+J28+L28 -> 171189650 | H28: 0 | J28: 0 | L28: =TRUNC(((H5+J5+L5)*8/100),0) -> 171189650 | N28: ★추정가격(공급가액)5억∼30억미만 | P28: 240 | R28: F | X28: .EQ=TOT(10)*8.0/100_x000D_ | AA28: EQ+ = | AB28: =ROUND((내역서!J5+내역서!L5+내역서!L28)*15/100-0/1.1,2) -> 2.2914404e+08 | AC28: EQ = | AD28: =$AB28 -> 2.2914404e+08 | AE28: 28_1_1+ = | AF28: =ROUND(ROUND((내역서!J5+내역서!L5+내역서!L28)*15/100-0/1.1,2),2) -> 2.2914404e+08 | AG28: 28_1_1 = | AH28: =$AF28 -> 2.2914404e+08 | CC28: .
A29: Ⅲ. 이 윤 | B29: (노+경+일반관)×15.0% | C29: 1 | D29: 식 | E29: =G29+I29+K29 -> 0 | F29: =H29+J29+L29 -> 229142077 | H29: 0 | J29: 0 | L29: =TRUNC((ROUND((J5+L5+L28)*15/100-1959/1,2)),0) -> 229142077 | N29: ★추정가격(공급가액)5억∼30억미만 | P29: 250 | R29: F | X29: .EQ = (LA(10)+EQ(10)+EQ(240))*15/100 - 0/1.1 = ?_x000D_ | CC29: .
A30: 열차접근경보앱 | B30: 임대(6개월 미만) 2대 | C30: 6 | D30: 개월 | F30: =H30+J30+L30 -> 247638 | K30: =[4]경비!F10 -> 41273 | L30: =TRUNC(K30*C30,0) -> 247638
A31: 열차접근경보 라이선스 | B31: 임대(6개월 미만) 2대 | C31: 2 | D31: ea | F31: =H31+J31+L31 -> 84000 | K31: =[4]경비!G11 -> 42000 | L31: =TRUNC(K31*C31,0) -> 84000
A32: 열차접근경보앱 연동장치 | C32: 1 | D32: set | F32: =H32+J32+L32 -> 700000 | K32: =[4]경비!G12 -> 700000 | L32: =TRUNC(K32*C32,0) -> 700000
A33: Ⅳ. 임목폐기물처리비 | C33: 1 | D33: PS | E33: =G33+I33+K33 -> 996000 | F33: =H33+J33+L33 -> 996000 | G33: =H383 -> 0 | H33: =TRUNC(G33*C33,0) -> 0 | I33: =J383 -> 0 | J33: =TRUNC(I33*C33,0) -> 0 | K33: =L383 -> 996000 | L33: =TRUNC(K33*C33,0) -> 996000 | P33: 260 | R33: A030020 | AA33: LA+ = | AB33: =내역서!J5+(내역서!J28+내역서!J29+내역서!J33) -> 812232321 | AC33: LA = | AD33: =$AB33 -> 812232321 | BJ33: =HYPERLINK("#내역서!A380","A030020 →") -> A030020 → | CC33: .
A34: Ⅴ. 공 급 가 액 | B34: (Ⅰ∼Ⅳ) | C34: 1 | D34: 식 | E34: =G34+I34+K34 -> 0 | F34: =H34+J34+L34 -> 2542230000 | H34: =TRUNC((H5+(H28+H29+H33+H30+H31+H32)),0) -> 783433373 | J34: =TRUNC((J5+(J28+J29+J33+J30+J31+J32)),0) -> 812232321 | L34: =TRUNC((L5+(L28+L29+L33+L30+L31+L32)),0) -> 946564306 | P34: 270 | Q34: * | R34: F | X34: .LA=LA(10)+LA(240,0,260)_x000D_ .MA=MA(10)+MA(240,0,260)_x000D_ .EQ=EQ(10)+EQ(240,0,260)_x000D_ | AA34: EQ+ = | AB34: =(내역서!H34+내역서!J34+내역서!L34)*10/100-1 -> 254222999 | AC34: EQ = | AD34: =$AB34 -> 254222999 | CC34: .
A35: Ⅵ. 부가 가치세 | B35: 10% | C35: 1 | D35: 식 | E35: =G35+I35+K35 -> 0 | F35: =H35+J35+L35 -> 0 | H35: 0 | J35: 0 | L35: =TRUNC(((H34+J34+L34)*0/100),0) -> 0 | P35: 280 | R35: F | X35: .EQ=TOT(270,0,270)*10/100 - 1_x000D_ | AA35: MA+ = | AB35: =(내역서!H34+내역서!H35) -> 783433373 | AC35: MA = | AD35: =$AB35 -> 783433373 | CC35: .
A36: Ⅶ. 도 급 금 액 | B36: (Ⅴ∼Ⅵ) | C36: 1 | D36: 식 | E36: =G36+I36+K36 -> 0 | F36: =H36+J36+L36 -> 2542230000 | H36: =TRUNC((H34+H35),0) -> 783433373 | J36: =TRUNC((J34+J35),0) -> 812232321 | L36: =TRUNC((L34+L35),0) -> 946564306 | P36: 290 | Q36: * | R36: F | X36: .MA=MA(270,0,280)_x000D_ .LA=LA(270,0,280)_x000D_ .EQ=EQ(270,0,280)_x000D_ | AA36: MA+ = | AB36: =내역서!H36 -> 783433373 | AC36: MA = | AD36: =$AB36 -> 783433373 | CC36: .
A37: Ⅷ. 총 공 사 비 | B37: (Ⅷ) | C37: 1 | D37: 식 | E37: =G37+I37+K37 -> 0 | F37: =H37+J37+L37 -> 2542230000 | H37: =TRUNC(H36,0) -> 783433373 | J37: =TRUNC(J36,0) -> 812232321 | L37: =TRUNC(L36,0) -> 946564306 | P37: 300 | Q37: * | R37: F | X37: .MA=MA(290,0,290)_x000D_ .LA=LA(290,0,290)_x000D_ .EQ=EQ(290,0,290)_x000D_ | AA37: LA+ = | AB37: =내역서!J36 -> 812232321 | AC37: LA = | AD37: =$AB37 -> 812232321 | CC37: .
E38: =G38+I38+K38 -> 0 | F38: =H38+J38+L38 -> 0 | H38: 0 | J38: 0 | L38: 0 | P38: 310 | Q38: S | AA38: EQ+ = | AB38: =내역서!L36 -> 946564306 | AC38: EQ = | AD38: =$AB38 -> 946564306
A39: ◈ 직접공사비 | C39: 0 | F39: =H39+J39+L39 -> 1665780725 | H39: =TRUNC(H40+H41+H42+H43,0) -> 783433373 | J39: =TRUNC(J40+J41+J42+J43,0) -> 683122222 | L39: =TRUNC(L40+L41+L42+L43,0) -> 199225130 | O39: A010
A40: 1. 한남-옥수(상우) | C40: 1 | D40: 식 | E40: =G40+I40+K40 -> 911214767 | F40: =H40+J40+L40 -> 911214767 | G40: =H45 -> 456006250 | H40: =TRUNC(G40*C40,0) -> 456006250 | I40: =J45 -> 414499375 | J40: =TRUNC(I40*C40,0) -> 414499375 | K40: =L45 -> 40709142 | L40: =TRUNC(K40*C40,0) -> 40709142 | P40: 10 | R40: A010010 | BJ40: =HYPERLINK("#내역서!A42","A010010 →") -> A010010 →
...
