Workbook

Sheet 〓 목 차 〓
D1: =IF('〓 INITIAL 〓'!C4,"※※ 기본정보의 일부가 삭제되어 Stmate로 변환할 수 없습니다 ※※","") -> ※※ 기본정보의 일부가 삭제되어 Stmate로 변환할 수 없습니다 ※※
B2: 목 차 | D2: ※ 본 엑셀자료는 【STmate w25.03】버전 이상에서 STmate 자료로 다시 등록할 수 있습니다.
D3: 단, 임의로 수정한 내용(Sheet삭제, 산근내용변경, 기타계산식변경..)은 반영되지 않을 수 있습니다.
B4: 1. ※※안내※※ | D4: =HYPERLINK("#'※※안내※※'!A1","※※안내※※ →") -> ※※안내※※ →
B5: 2. 공사원가계산서 | D5: =HYPERLINK("#"&#REF!&"!A1","공사원가계산서 →") -> #REF!
B6: 3. 총괄내역서 | D6: =HYPERLINK("#"&#REF!&"!A1","총괄내역서 →") -> #REF!
B7: 4. 설계내역서 | D7: =HYPERLINK("#"&내역서!O2&"!A1","설계내역서 →") -> 설계내역서 →
B8: 5. 단가산출근거목록표 | D8: =HYPERLINK("#"&#REF!&"!A1","단가산출근거목록표 →") -> #REF!
B9: 6. 단가산출근거 | D9: =HYPERLINK("#"&#REF!&"!A1","단가산출근거 →") -> #REF!
B10: 7. 환율및기초자료 | D10: =HYPERLINK("#"&#REF!&"!A1","환율및기초자료 →") -> #REF!
B11: 8. 중기목록표 | D11: =HYPERLINK("#"&#REF!&"!A1","중기목록표 →") -> #REF!
B12: 9. 중기사용료 | D12: =HYPERLINK("#"&#REF!&"!A1","중기사용료 →") -> #REF!
B13: 10. 재료비목록표 | D13: =HYPERLINK("#"&#REF!&"!A1","재료비목록표 →") -> #REF!
B14: 11. 노무비목록표 | D14: =HYPERLINK("#"&#REF!&"!A1","노무비목록표 →") -> #REF!
B15: 12. 경비목록표 | D15: =HYPERLINK("#"&#REF!&"!A1","경비목록표 →") -> #REF!
B16: 13. 일식견적목록표 | D16: =HYPERLINK("#"&#REF!&"!A1","일식견적목록표 →") -> #REF!
B17: 14. 자재단가대비표 | D17: =HYPERLINK("#"&#REF!&"!A1","자재단가대비표 →") -> #REF!

Sheet ※※안내※※
A2: =HYPERLINK("#'〓 목 차 〓'!B2","목차 →") -> 목차 → | B2: === 엑셀파일에 작성에 대한 안내문(반드시 읽어보세요) ===
B4: 엑셀파일 수정후 계산식 반영이 안될경우 :【 Ctrl+Alt(+Shift)+F9 】
B6: ◈ 엑셀파일내의 산식은 기초단가, 복합단가, 내역서 및 총괄내역서까지 연결됩니다.
B7: (모든산식은 단가만을 불러오며, 명칭, 규격, 단위, 비고.. 등은 TEXT로 입력됩니다)
B8: ◈ 각 Sheet우측에는 해당 항목을 찾아가는 위치이동(→) 링크가 있으며, 클릭하면 이동됩니다.
B9: (Alt + ← 키를 이용하여 찾아갔던 항목을 되돌아 올 수 있습니다.)
B10: ◈ 자재단가 대비표의 적용단가는 수식이 적용되지 않았으나, 우측에 최소단가 수식을 입력하였습니다.
B11: ◈ 일위대가표 및 중기사용료 및 총괄내역서의 양식은 일반양식을 적용합니다.
B12: =HYPERLINK("#"&#REF!&"!Y3","◈ 단가산출근거의 수량부분은 산출근거 우측 연두색 부분에서 수정합니다. →") -> #REF!
B13: ◈ [목차] 및 [안내] Sheet의 이름을 변경하지 마시고, Sheet이름을 변경할때 공백문자 및 특수문자를 사용하지 마십시요.
B15: ※※※ 아래의 내용(안내 및 오류)을 확인/검토 하세요 ※※※
B16: =HYPERLINK("#"&#REF!&"!I"&ROW(#REF!)," → ") -> #REF! | C16: 【총괄내역서】19번째줄의 I열 이윤보정액은 총공사비 금액이 다를경우 임의조정(±α) 하십시요.
B17: =HYPERLINK("#"&#REF!&"!D"&ROW(#REF!)," → ") -> #REF! | C17: 【총괄내역서】23번째줄의 D열에 계산된 총공사비 금액을 확인하십시요.

Sheet 내역서
A1: 내 역 서 | O1: STmate
A2: 공사명 : 2026년도 하반기 수지구 지하차도 침사조 준설 연간단가공사 | O2: 설계내역서
A3: 공 종 | B3: 명 칭 | C3: 규 격 | D3: 수 량 | E3: 단위 | F3: 합 계 | H3: 노 무 비 | J3: 재 료 비 | L3: 경 비 | N3: 비 고
F4: 단 가 | G4: 금 액 | H4: 단 가 | I4: 금 액 | J4: 단 가 | K4: 금 액 | L4: 단 가 | M4: 금 액
B5: 순공사비 | O5: _x0007_`COD|E3_x0005_`QTY1|1_x0005_`EXI|0_x0005_`ITT|0_x0005_`END|30_x0005_`
A6: 1. | B6: 하수도준설 | O6: _x0007_`COD|E2_x0005_`QTY1|1_x0005_`EXI|0_x0005_`ITT|0_x0005_`END|30_x0005_`
A7: 1.01 | B7: 하수도준설 | O7: _x0007_`COD|E1_x0005_`QTY1|1_x0005_`EXI|0_x0005_`ITT|0_x0005_`END|14_x0005_`
B8: 하수관준설(흡입식) | C8: A-Type(흡입준설차 25톤) | D8: 96 | E8: ㎥ | O8: _x0007_`COD|D00926_x0005_`QTY1|1_x0005_`EXI|0_x0005_`IPR|0_x0005_`BLA|F_x0005_`
B9: 하수관준설(흡입식) | C9: B-Type(흡입준설차 13톤) | D9: 0 | E9: ㎥ | O9: _x0007_`COD|D01703_x0005_`QTY1|1_x0005_`EXI|1_x0005_`IPR|0_x0005_`BLA|F_x0005_`
B10: 하수도 수로암거 준설(흡입식) | C10: (흡입준설차 25톤) | D10: 0 | E10: ㎥ | O10: _x0007_`COD|D01704_x0005_`QTY1|1_x0005_`EXI|0_x0005_`IPR|0_x0005_`BLA|F_x0005_`
B11: 하수관내CCTV조사 | C11: (기존관) | D11: 0 | E11: m | O11: _x0007_`COD|D00896_x0005_`QTY1|1_x0005_`EXI|0_x0005_`IPR|0_x0005_`BLA|F_x0005_`
B12: 하수관내CCTV조사 | C12: (신설관) | D12: 0 | E12: m | O12: _x0007_`COD|D00895_x0005_`QTY1|1_x0005_`EXI|0_x0005_`IPR|0_x0005_`BLA|F_x0005_`
B13: 하수관내CCTV 조사보고서 작성 | D13: 0 | E13: 식 | O13: _x0007_`COD|D00897_x0005_`QTY1|1_x0005_`EXI|0_x0005_`IPR|0_x0005_`BLA|F_x0005_`
A14: 1.02 | B14: 하수관세정 | O14: _x0007_`COD|E1_x0005_`QTY1|1_x0005_`EXI|0_x0005_`ITT|0_x0005_`END|17_x0005_`
B15: 하수관세정 | C15: A-Type | D15: 50 | E15: m | O15: _x0007_`COD|D01705_x0005_`QTY1|1_x0005_`EXI|0_x0005_`IPR|0_x0005_`BLA|F_x0005_`
B16: 하수관세정 | C16: B-Type | D16: 0 | E16: m | O16: _x0007_`COD|D01706_x0005_`QTY1|1_x0005_`EXI|0_x0005_`IPR|0_x0005_`BLA|F_x0005_`
A17: 1.03 | B17: 준설토운반 | O17: _x0007_`COD|E1_x0005_`QTY1|1_x0005_`EXI|0_x0005_`ITT|0_x0005_`END|30_x0005_`
B18: 준설토운반(현장-적치장) | C18: 진공흡입준설차 25ton, 5km) | D18: 60 | E18: ㎥ | O18: _x0007_`COD|D01702_x0005_`QTY1|1_x0005_`EXI|0_x0005_`IPR|0_x0005_`BLA|F_x0005_`
B19: 준설토운반(현장-적치장) | C19: 진공흡입준설차 13ton, 5km) | D19: 0 | E19: ㎥ | O19: _x0007_`COD|D01707_x0005_`QTY1|1_x0005_`EXI|0_x0005_`IPR|0_x0005_`BLA|F_x0005_`
B20: 준설토 상차 | C20: (굴삭기 0.7㎥ 100%) | D20: 60 | E20: ㎥ | O20: _x0007_`COD|D01709_x0005_`QTY1|1_x0005_`EXI|0_x0005_`IPR|0_x0005_`BLA|F_x0005_`
B21: 준설토운반(처인-화성) | C21: (덤프트럭 15ton) | D21: 0 | E21: ㎥ | O21: _x0007_`COD|D01708_x0005_`QTY1|1_x0005_`EXI|0_x0005_`IPR|0_x0005_`BLA|F_x0005_`
B22: 준설토운반(처인-양주) | C22: (덤프트럭 15ton) | D22: 0 | E22: ㎥ | O22: _x0007_`COD|D01710_x0005_`QTY1|1_x0005_`EXI|0_x0005_`IPR|0_x0005_`BLA|F_x0005_`
B23: 준설토운반(처인-김포) | C23: (덤프트럭 15ton) | D23: 0 | E23: ㎥ | O23: _x0007_`COD|D01711_x0005_`QTY1|1_x0005_`EXI|0_x0005_`IPR|0_x0005_`BLA|F_x0005_`
B24: 준설토운반(기흥-화성) | C24: (덤프트럭 15ton) | D24: 0 | E24: ㎥ | O24: _x0007_`COD|D01712_x0005_`QTY1|1_x0005_`EXI|0_x0005_`IPR|0_x0005_`BLA|F_x0005_`
B25: 준설토운반(기흥-양주) | C25: (덤프트럭 15ton) | D25: 0 | E25: ㎥ | O25: _x0007_`COD|D01713_x0005_`QTY1|1_x0005_`EXI|0_x0005_`IPR|0_x0005_`BLA|F_x0005_`
B26: 준설토운반(기흥-김포) | C26: (덤프트럭 15ton) | D26: 0 | E26: ㎥ | O26: _x0007_`COD|D01714_x0005_`QTY1|1_x0005_`EXI|0_x0005_`IPR|0_x0005_`BLA|F_x0005_`
B27: 준설토운반(수지-화성) | C27: (덤프트럭 15ton) | D27: 0 | E27: ㎥ | O27: _x0007_`COD|D01715_x0005_`QTY1|1_x0005_`EXI|0_x0005_`IPR|0_x0005_`BLA|F_x0005_`
B28: 준설토운반(수지-양주) | C28: (덤프트럭 15ton) | D28: 0 | E28: ㎥ | O28: _x0007_`COD|D01716_x0005_`QTY1|1_x0005_`EXI|0_x0005_`IPR|0_x0005_`BLA|F_x0005_`
B29: 준설토운반(수지-김포) | C29: (덤프트럭 15ton) | D29: 0 | E29: ㎥ | O29: _x0007_`COD|D01717_x0005_`QTY1|1_x0005_`EXI|0_x0005_`IPR|0_x0005_`BLA|F_x0005_`PSKP|1_x0005_`
A30: 2. | B30: 준설토처리비 | O30: _x0007_`COD|C2_x0005_`QTY1|1_x0005_`EXI|1_x0005_`ITT|0_x0005_`END|34_x0005_`
B31: 준설토처리비 | C31: 화성시 송산면 | D31: 60 | E31: ton | O31: _x0007_`COD|W00025_x0005_`QTY1|1_x0005_`EXI|0_x0005_`IPR|1_x0005_`BLA|F_x0005_`
B32: 준설토처리비 | C32: 양주시 은현면 | D32: 0 | E32: ton | O32: _x0007_`COD|W00033_x0005_`QTY1|1_x0005_`EXI|0_x0005_`IPR|0_x0005_`BLA|F_x0005_`
B33: 준설토처리비 | C33: 김포시 월곶면 | D33: 0 | E33: ton | O33: _x0007_`COD|W00032_x0005_`QTY1|1_x0005_`EXI|0_x0005_`IPR|0_x0005_`BLA|F_x0005_`
G34: 36528576 | I34: 18016806 | K34: 9866020 | M34: 8645750

Sheet 〓 INITIAL 〓
B2: ※※ 현재 Sheet를 수정 또는 삭제하지 마십시요[수정/삭제시 STmate 데이타로 변환할 수 없습니다] ※※
B4: [Sheet정보] | C4: =ISERROR(SUM(C6:X15,C18:X23)) -> TRUE | D4: =ROW(C24) -> 24
B5: 목차 | C5: Sheet | D5: FPos | E5: ITNAME | F5: NAME | G5: SIZE | H5: QTY | I5: UNIT | J5: SPOS | K5: EPOS | L5: TAMT | M5: TAMOUNT | N5: MAMT | O5: MAMOUNT | P5: LAMT | Q5: LAMOUNT | R5: SAMT | S5: SAMOUNT | T5: AAMT | U5: AAMOUNT | V5: NAMT | W5: NAMOUNT | X5: INFO
B6: 1. 재료비목록표 | C6: =IF(D6="","재료비목록표",MID(D6,FIND("]",D6)+1,LEN(D6))) -> #REF! | D6: =CELL("filename",#REF!) -> #REF! | F6: =HYPERLINK("#"&C6&"!"&ADDRESS(3,COLUMN(#REF!),1),COLUMN(#REF!)) -> #REF! | G6: =HYPERLINK("#"&C6&"!"&ADDRESS(3,COLUMN(#REF!),1),COLUMN(#REF!)) -> #REF! | I6: =HYPERLINK("#"&C6&"!"&ADDRESS(3,COLUMN(#REF!),1),COLUMN(#REF!)) -> #REF! | J6: =HYPERLINK("#"&C6&"!A"&ROW(#REF!),ROW(#REF!)) -> #REF! | K6: =HYPERLINK("#"&C6&"!A"&ROW(#REF!),ROW(#REF!)) -> #REF! | L6: =HYPERLINK("#"&C6&"!"&ADDRESS(3,COLUMN(#REF!),1),COLUMN(#REF!)) -> #REF! | X6: =HYPERLINK("#"&C6&"!"&ADDRESS(3,COLUMN(#REF!),1),COLUMN(#REF!)) -> #REF!
B7: 2. 노무비목록표 | C7: =IF(D7="","노무비목록표",MID(D7,FIND("]",D7)+1,LEN(D7))) -> #REF! | D7: =CELL("filename",#REF!) -> #REF! | F7: =HYPERLINK("#"&C7&"!"&ADDRESS(3,COLUMN(#REF!),1),COLUMN(#REF!)) -> #REF! | G7: =HYPERLINK("#"&C7&"!"&ADDRESS(3,COLUMN(#REF!),1),COLUMN(#REF!)) -> #REF! | I7: =HYPERLINK("#"&C7&"!"&ADDRESS(3,COLUMN(#REF!),1),COLUMN(#REF!)) -> #REF! | J7: =HYPERLINK("#"&C7&"!A"&ROW(#REF!),ROW(#REF!)) -> #REF! | K7: =HYPERLINK("#"&C7&"!A"&ROW(#REF!),ROW(#REF!)) -> #REF! | L7: =HYPERLINK("#"&C7&"!"&ADDRESS(3,COLUMN(#REF!),1),COLUMN(#REF!)) -> #REF! | X7: =HYPERLINK("#"&C7&"!"&ADDRESS(3,COLUMN(#REF!),1),COLUMN(#REF!)) -> #REF!
B8: 3. 경비목록표 | C8: =IF(D8="","경비목록표",MID(D8,FIND("]",D8)+1,LEN(D8))) -> #REF! | D8: =CELL("filename",#REF!) -> #REF! | F8: =HYPERLINK("#"&C8&"!"&ADDRESS(3,COLUMN(#REF!),1),COLUMN(#REF!)) -> #REF! | G8: =HYPERLINK("#"&C8&"!"&ADDRESS(3,COLUMN(#REF!),1),COLUMN(#REF!)) -> #REF! | I8: =HYPERLINK("#"&C8&"!"&ADDRESS(3,COLUMN(#REF!),1),COLUMN(#REF!)) -> #REF! | J8: =HYPERLINK("#"&C8&"!A"&ROW(#REF!),ROW(#REF!)) -> #REF! | K8: =HYPERLINK("#"&C8&"!A"&ROW(#REF!),ROW(#REF!)) -> #REF! | L8: =HYPERLINK("#"&C8&"!"&ADDRESS(3,COLUMN(#REF!),1),COLUMN(#REF!)) -> #REF! | X8: =HYPERLINK("#"&C8&"!"&ADDRESS(3,COLUMN(#REF!),1),COLUMN(#REF!)) -> #REF!
B9: 4. 일식목록표 | C9: =IF(D9="","일식견적목록표",MID(D9,FIND("]",D9)+1,LEN(D9))) -> #REF! | D9: =CELL("filename",#REF!) -> #REF! | F9: =HYPERLINK("#"&C9&"!"&ADDRESS(3,COLUMN(#REF!),1),COLUMN(#REF!)) -> #REF! | G9: =HYPERLINK("#"&C9&"!"&ADDRESS(3,COLUMN(#REF!),1),COLUMN(#REF!)) -> #REF! | I9: =HYPERLINK("#"&C9&"!"&ADDRESS(3,COLUMN(#REF!),1),COLUMN(#REF!)) -> #REF! | J9: =HYPERLINK("#"&C9&"!A"&ROW(#REF!),ROW(#REF!)) -> #REF! | K9: =HYPERLINK("#"&C9&"!A"&ROW(#REF!),ROW(#REF!)) -> #REF! | L9: =HYPERLINK("#"&C9&"!"&ADDRESS(3,COLUMN(#REF!),1),COLUMN(#REF!)) -> #REF! | N9: =HYPERLINK("#"&C9&"!"&ADDRESS(3,COLUMN(#REF!),1),COLUMN(#REF!)) -> #REF! | P9: =HYPERLINK("#"&C9&"!"&ADDRESS(3,COLUMN(#REF!),1),COLUMN(#REF!)) -> #REF! | R9: =HYPERLINK("#"&C9&"!"&ADDRESS(3,COLUMN(#REF!),1),COLUMN(#REF!)) -> #REF! | X9: =HYPERLINK("#"&C9&"!"&ADDRESS(3,COLUMN(#REF!),1),COLUMN(#REF!)) -> #REF!
B10: 5. 환율 및 기초자료 | C10: =IF(D10="","환율및기초자료",MID(D10,FIND("]",D10)+1,LEN(D10))) -> #REF! | D10: =CELL("filename",#REF!) -> #REF! | E10: =HYPERLINK("#"&C10&"!"&ADDRESS(5,COLUMN(#REF!),1),COLUMN(#REF!)) -> #REF! | F10: =HYPERLINK("#"&C10&"!"&ADDRESS(5,COLUMN(#REF!),1),COLUMN(#REF!)) -> #REF! | G10: =HYPERLINK("#"&C10&"!"&ADDRESS(5,COLUMN(#REF!),1),COLUMN(#REF!)) -> #REF! | I10: =HYPERLINK("#"&C10&"!"&ADDRESS(5,COLUMN(#REF!),1),COLUMN(#REF!)) -> #REF! | J10: =HYPERLINK("#"&C10&"!A"&ROW(#REF!),ROW(#REF!)) -> #REF! | K10: =HYPERLINK("#"&C10&"!A"&ROW(#REF!),ROW(#REF!)) -> #REF! | L10: =HYPERLINK("#"&C10&"!"&ADDRESS(5,COLUMN(#REF!),1),COLUMN(#REF!)) -> #REF! | X10: =HYPERLINK("#"&C10&"!"&ADDRESS(5,COLUMN(#REF!),1),COLUMN(#REF!)) -> #REF!
B11: 6. 중기목록표 | C11: =IF(D11="","중기목록표",MID(D11,FIND("]",D11)+1,LEN(D11))) -> #REF! | D11: =CELL("filename",#REF!) -> #REF! | F11: =HYPERLINK("#"&C11&"!"&ADDRESS(3,COLUMN(#REF!),1),COLUMN(#REF!)) -> #REF! | G11: =HYPERLINK("#"&C11&"!"&ADDRESS(3,COLUMN(#REF!),1),COLUMN(#REF!)) -> #REF! | I11: =HYPERLINK("#"&C11&"!"&ADDRESS(3,COLUMN(#REF!),1),COLUMN(#REF!)) -> #REF! | J11: =HYPERLINK("#"&C11&"!A"&ROW(#REF!),ROW(#REF!)) -> #REF! | K11: =HYPERLINK("#"&C11&"!A"&ROW(#REF!),ROW(#REF!)) -> #REF! | L11: =HYPERLINK("#"&C11&"!"&ADDRESS(3,COLUMN(#REF!),1),COLUMN(#REF!)) -> #REF! | N11: =HYPERLINK("#"&C11&"!"&ADDRESS(3,COLUMN(#REF!),1),COLUMN(#REF!)) -> #REF! | P11: =HYPERLINK("#"&C11&"!"&ADDRESS(3,COLUMN(#REF!),1),COLUMN(#REF!)) -> #REF! | R11: =HYPERLINK("#"&C11&"!"&ADDRESS(3,COLUMN(#REF!),1),COLUMN(#REF!)) -> #REF! | X11: =HYPERLINK("#"&C11&"!"&ADDRESS(3,COLUMN(#REF!),1),COLUMN(#REF!)) -> #REF!
B12: 7. 실적단가표
B13: 8. 일위대가목록표
B14: 9. 산출근거목록표 | C14: =IF(D14="","단가산출근거목록표",MID(D14,FIND("]",D14)+1,LEN(D14))) -> #REF! | D14: =CELL("filename",#REF!) -> #REF! | F14: =HYPERLINK("#"&C14&"!"&ADDRESS(3,COLUMN(#REF!),1),COLUMN(#REF!)) -> #REF! | G14: =HYPERLINK("#"&C14&"!"&ADDRESS(3,COLUMN(#REF!),1),COLUMN(#REF!)) -> #REF! | I14: =HYPERLINK("#"&C14&"!"&ADDRESS(3,COLUMN(#REF!),1),COLUMN(#REF!)) -> #REF! | J14: =HYPERLINK("#"&C14&"!A"&ROW(#REF!),ROW(#REF!)) -> #REF! | K14: =HYPERLINK("#"&C14&"!A"&ROW(#REF!),ROW(#REF!)) -> #REF! | L14: =HYPERLINK("#"&C14&"!"&ADDRESS(3,COLUMN(#REF!),1),COLUMN(#REF!)) -> #REF! | N14: =HYPERLINK("#"&C14&"!"&ADDRESS(3,COLUMN(#REF!),1),COLUMN(#REF!)) -> #REF! | P14: =HYPERLINK("#"&C14&"!"&ADDRESS(3,COLUMN(#REF!),1),COLUMN(#REF!)) -> #REF! | R14: =HYPERLINK("#"&C14&"!"&ADDRESS(3,COLUMN(#REF!),1),COLUMN(#REF!)) -> #REF! | X14: =HYPERLINK("#"&C14&"!"&ADDRESS(3,COLUMN(#REF!),1),COLUMN(#REF!)) -> #REF!
B15: 10. 자재단가대비표 | C15: =IF(D15="","자재단가대비표",MID(D15,FIND("]",D15)+1,LEN(D15))) -> #REF! | D15: =CELL("filename",#REF!) -> #REF! | F15: =HYPERLINK("#"&C15&"!"&ADDRESS(4,COLUMN(#REF!),1),COLUMN(#REF!)) -> #REF! | G15: =HYPERLINK("#"&C15&"!"&ADDRESS(4,COLUMN(#REF!),1),COLUMN(#REF!)) -> #REF! | I15: =HYPERLINK("#"&C15&"!"&ADDRESS(4,COLUMN(#REF!),1),COLUMN(#REF!)) -> #REF! | J15: =HYPERLINK("#"&C15&"!A"&ROW(#REF!),ROW(#REF!)) -> #REF! | K15: =HYPERLINK("#"&C15&"!A"&ROW(#REF!),ROW(#REF!)) -> #REF! | L15: =HYPERLINK("#"&C15&"!"&ADDRESS(4,COLUMN(#REF!),1),COLUMN(#REF!)) -> #REF! | M15: =HYPERLINK("#"&C15&"!"&ADDRESS(4,COLUMN(#REF!),1),COLUMN(#REF!)) -> #REF! | N15: =HYPERLINK("#"&C15&"!"&ADDRESS(4,COLUMN(#REF!),1),COLUMN(#REF!)) -> #REF! | O15: =HYPERLINK("#"&C15&"!"&ADDRESS(4,COLUMN(#REF!),1),COLUMN(#REF!)) -> #REF! | P15: =HYPERLINK("#"&C15&"!"&ADDRESS(4,COLUMN(#REF!),1),COLUMN(#REF!)) -> #REF! | Q15: =HYPERLINK("#"&C15&"!"&ADDRESS(4,COLUMN(#REF!),1),COLUMN(#REF!)) -> #REF! | R15: =HYPERLINK("#"&C15&"!"&ADDRESS(4,COLUMN(#REF!),1),COLUMN(#REF!)) -> #REF! | S15: =HYPERLINK("#"&C15&"!"&ADDRESS(4,COLUMN(#REF!),1),COLUMN(#REF!)) -> #REF! | T15: =HYPERLINK("#"&C15&"!"&ADDRESS(4,COLUMN(#REF!),1),COLUMN(#REF!)) -> #REF! | U15: =HYPERLINK("#"&C15&"!"&ADDRESS(4,COLUMN(#REF!),1),COLUMN(#REF!)) -> #REF! | V15: =HYPERLINK("#"&C15&"!"&ADDRESS(4,COLUMN(#REF!),1),COLUMN(#REF!)) -> #REF! | W15: =HYPERLINK("#"&C15&"!"&ADDRESS(4,COLUMN(#REF!),1),COLUMN(#REF!)) -> #REF! | X15: =HYPERLINK("#"&C15&"!"&ADDRESS(4,COLUMN(#REF!),1),COLUMN(#REF!)) -> #REF!
B16: 11. 내역서 | C16: =IF(D16="","설계내역서",MID(D16,FIND("]",D16)+1,LEN(D16))) -> 내역서 | D16: =CELL("filename",내역서!A1) -> C:\Users\Administrator\Desktop\임형섭(2026)\공사서류\1-4 사업별(2026)\261029 2026년 하반기 수지구 지하차도 침사조 준설 연간단가공사\[2 내역서(2026년 하반기 수지구 지하차도 침사조 준설 연간단가공사).xlsx]내역서 | E16: =HYPERLINK("#"&C16&"!"&ADDRESS(4,COLUMN(내역서!A1),1),COLUMN(내역서!A1)) -> 1 | F16: =HYPERLINK("#"&C16&"!"&ADDRESS(4,COLUMN(내역서!B1),1),COLUMN(내역서!B1)) -> 2 | G16: =HYPERLINK("#"&C16&"!"&ADDRESS(4,COLUMN(내역서!C1),1),COLUMN(내역서!C1)) -> 3 | H16: =HYPERLINK("#"&C16&"!"&ADDRESS(4,COLUMN(내역서!D1),1),COLUMN(내역서!D1)) -> 4 | I16: =HYPERLINK("#"&C16&"!"&ADDRESS(4,COLUMN(내역서!E1),1),COLUMN(내역서!E1)) -> 5 | J16: =HYPERLINK("#"&C16&"!A"&ROW(내역서!A5),ROW(내역서!A5)) -> 5 | K16: =HYPERLINK("#"&C16&"!A"&ROW(내역서!#REF!),ROW(내역서!#REF!)) -> #REF! | L16: =HYPERLINK("#"&C16&"!"&ADDRESS(4,COLUMN(내역서!H1),1),COLUMN(내역서!H1)) -> 8 | M16: =HYPERLINK("#"&C16&"!"&ADDRESS(4,COLUMN(내역서!I1),1),COLUMN(내역서!I1)) -> 9 | N16: =HYPERLINK("#"&C16&"!"&ADDRESS(4,COLUMN(내역서!L1),1),COLUMN(내역서!L1)) -> 12 | O16: =HYPERLINK("#"&C16&"!"&ADDRESS(4,COLUMN(내역서!M1),1),COLUMN(내역서!M1)) -> 13 | P16: =HYPERLINK("#"&C16&"!"&ADDRESS(4,COLUMN(내역서!J1),1),COLUMN(내역서!J1)) -> 10 | Q16: =HYPERLINK("#"&C16&"!"&ADDRESS(4,COLUMN(내역서!K1),1),COLUMN(내역서!K1)) -> 11 | R16: =HYPERLINK("#"&C16&"!"&ADDRESS(4,COLUMN(내역서!N1),1),COLUMN(내역서!N1)) -> 14 | S16: =HYPERLINK("#"&C16&"!"&ADDRESS(4,COLUMN(내역서!O1),1),COLUMN(내역서!O1)) -> 15 | X16: =HYPERLINK("#"&C16&"!"&ADDRESS(4,COLUMN(내역서!O1),1),COLUMN(내역서!O1)) -> 15
B17: 12. 총괄내역서 | C17: =IF(D17="","총괄내역서",MID(D17,FIND("]",D17)+1,LEN(D17))) -> #REF! | D17: =CELL("filename",#REF!) -> #REF! | E17: =HYPERLINK("#"&C17&"!"&ADDRESS(3,COLUMN(#REF!),1),COLUMN(#REF!)) -> #REF! | F17: =HYPERLINK("#"&C17&"!"&ADDRESS(3,COLUMN(#REF!),1),COLUMN(#REF!)) -> #REF! | G17: =HYPERLINK("#"&C17&"!"&ADDRESS(3,COLUMN(#REF!),1),COLUMN(#REF!)) -> #REF! | I17: =HYPERLINK("#"&C17&"!"&ADDRESS(3,COLUMN(#REF!),1),COLUMN(#REF!)) -> #REF! | J17: =HYPERLINK("#"&C17&"!A"&ROW(#REF!),ROW(#REF!)) -> #REF! | K17: =HYPERLINK("#"&C17&"!A"&ROW(#REF!),ROW(#REF!)) -> #REF! | L17: =HYPERLINK("#"&C17&"!"&ADDRESS(3,COLUMN(#REF!),1),COLUMN(#REF!)) -> #REF! | M17: =HYPERLINK("#"&C17&"!"&ADDRESS(3,COLUMN(#REF!),1),COLUMN(#REF!)) -> #REF! | N17: =HYPERLINK("#"&C17&"!"&ADDRESS(3,COLUMN(#REF!),1),COLUMN(#REF!)) -> #REF! | O17: =HYPERLINK("#"&C17&"!"&ADDRESS(3,COLUMN(#REF!),1),COLUMN(#REF!)) -> #REF! | P17: =HYPERLINK("#"&C17&"!"&ADDRESS(3,COLUMN(#REF!),1),COLUMN(#REF!)) -> #REF! | Q17: =HYPERLINK("#"&C17&"!"&ADDRESS(3,COLUMN(#REF!),1),COLUMN(#REF!)) -> #REF! | X17: =HYPERLINK("#"&C17&"!"&ADDRESS(3,COLUMN(#REF!),1),COLUMN(#REF!)) -> #REF!
B18: 13. 중기사용료 | C18: =IF(D18="","중기사용료",MID(D18,FIND("]",D18)+1,LEN(D18))) -> #REF! | D18: =CELL("filename",#REF!) -> #REF! | F18: =HYPERLINK("#"&C18&"!"&ADDRESS(4,COLUMN(#REF!),1),COLUMN(#REF!)) -> #REF! | G18: =HYPERLINK("#"&C18&"!"&ADDRESS(4,COLUMN(#REF!),1),COLUMN(#REF!)) -> #REF! | H18: =HYPERLINK("#"&C18&"!"&ADDRESS(4,COLUMN(#REF!),1),COLUMN(#REF!)) -> #REF! | I18: =HYPERLINK("#"&C18&"!"&ADDRESS(4,COLUMN(#REF!),1),COLUMN(#REF!)) -> #REF! | J18: =HYPERLINK("#"&C18&"!A"&ROW(#REF!),ROW(#REF!)) -> #REF! | K18: =HYPERLINK("#"&C18&"!A"&ROW(#REF!),ROW(#REF!)) -> #REF! | L18: =HYPERLINK("#"&C18&"!"&ADDRESS(4,COLUMN(#REF!),1),COLUMN(#REF!)) -> #REF! | M18: =HYPERLINK("#"&C18&"!"&ADDRESS(4,COLUMN(#REF!),1),COLUMN(#REF!)) -> #REF! | N18: =HYPERLINK("#"&C18&"!"&ADDRESS(4,COLUMN(#REF!),1),COLUMN(#REF!)) -> #REF! | O18: =HYPERLINK("#"&C18&"!"&ADDRESS(4,COLUMN(#REF!),1),COLUMN(#REF!)) -> #REF! | P18: =HYPERLINK("#"&C18&"!"&ADDRESS(4,COLUMN(#REF!),1),COLUMN(#REF!)) -> #REF! | Q18: =HYPERLINK("#"&C18&"!"&ADDRESS(4,COLUMN(#REF!),1),COLUMN(#REF!)) -> #REF! | R18: =HYPERLINK("#"&C18&"!"&ADDRESS(4,COLUMN(#REF!),1),COLUMN(#REF!)) -> #REF! | S18: =HYPERLINK("#"&C18&"!"&ADDRESS(4,COLUMN(#REF!),1),COLUMN(#REF!)) -> #REF! | X18: =HYPERLINK("#"&C18&"!"&ADDRESS(4,COLUMN(#REF!),1),COLUMN(#REF!)) -> #REF!
B19: 14. 일위대가표
B20: 15. 단가산출근거 | C20: =IF(D20="","단가산출근거",MID(D20,FIND("]",D20)+1,LEN(D20))) -> #REF! | D20: =CELL("filename",#REF!) -> #REF! | E20: =HYPERLINK("#"&C20&"!"&ADDRESS(4,COLUMN(#REF!),1),COLUMN(#REF!)) -> #REF! | F20: =HYPERLINK("#"&C20&"!"&ADDRESS(4,COLUMN(#REF!),1),COLUMN(#REF!)) -> #REF! | J20: =HYPERLINK("#"&C20&"!A"&ROW(#REF!),ROW(#REF!)) -> #REF! | K20: =HYPERLINK("#"&C20&"!A"&ROW(#REF!),ROW(#REF!)) -> #REF! | L20: =HYPERLINK("#"&C20&"!"&ADDRESS(4,COLUMN(#REF!),1),COLUMN(#REF!)) -> #REF! | N20: =HYPERLINK("#"&C20&"!"&ADDRESS(4,COLUMN(#REF!),1),COLUMN(#REF!)) -> #REF! | P20: =HYPERLINK("#"&C20&"!"&ADDRESS(4,COLUMN(#REF!),1),COLUMN(#REF!)) -> #REF! | R20: =HYPERLINK("#"&C20&"!"&ADDRESS(4,COLUMN(#REF!),1),COLUMN(#REF!)) -> #REF! | X20: =HYPERLINK("#"&C20&"!"&ADDRESS(4,COLUMN(#REF!),1),COLUMN(#REF!)) -> #REF!
B21: 16.
B22: 17.
B23: 18. 표준시장목록표
B24: [공사정보] | D24: =ROW(C33) -> 33
B25: M_VER | C25: 25.03
B26: PNAME | C26: 2025년도 수지구 터널, 지하차도 침사조 및 배수로 준설 연간단가공사
B27: PCLAS | C27: 0
B28: SCLAS | C28: 0
B29: K_ORD | C29: 0
B30: PRIPR | C30: True
B31: ACTYP | C31: 1
B32: ACTOP | C32: 2
B33: [초기값] | D33: =ROW(C52) -> 52
B34: P_ORD | C34: 1 | D34: 1 | E34: 0 | F34: 0 | G34: 0 | H34: 0
B35: EXNM_ | C35: =#REF! -> #REF! | D35: =#REF! -> #REF! | E35: =#REF! -> #REF! | F35: =#REF! -> #REF! | G35: =#REF! -> #REF! | H35: =#REF! -> #REF! | I35: =#REF! -> #REF! | J35: =#REF! -> #REF!
B36: EXRNM | C36: True
B37: RXNM_ | C37: 1/8 * 16/12 * 25/20
B38: COND_ | C38: L00001L00019L00009
B39: KCDNM | C39: 1
B40: JCDNM | C40: 1
B41: ECDNM | C41: 0
B42: ACDNM | C42: 1
B43: BPNNM | C43: 1
B44: ZCDNM | C44: 2
B45: CHGNM | C45: True
B46: CHBNM | C46: True
B47: CHNNM | C47: True
... B50: S_JDA | C50: False
B51: SUBNM
B52: [인쇄정보] | D52: =ROW(C75) -> 75
B53: BMSTR | C53: 재 료 비 | D53: 노 무 비 | E53: 경 비 | F53: 합 계
B54: BMKNM | C54: TLMS
B55: JEMNM | C55: 612345
B56: JMKN1 | C56: 가격 정보 | D56: 가.정
B57: JMKN2 | C57: 물가 자료 | D57: 물.자
B58: JMKN3 | C58: 물가 정보 | D58: 물.정
B59: JMKN4 | C59: 거래 가격 | D59: 거.가
B60: JMKN5 | C60: 기타 가격 | D60: 유.견
B61: JMKN6 | C61: 적용 단가
B62: CAP_CODE | C62: 코드번호
B63: CAP_NO | C63: 호표
B64: CAP_IBRD | C64: 분류번호
B65: CAP_EQCOD | C65: 시설코드
B66: CAP_ITNUM | C66: 공 종
B67: CAP_NAME | C67: 명 칭
B68: CAP_SIZE | C68: 규 격
B69: CAP_QTY | C69: 수 량
B70: CAP_SUNIT | C70: 단위
B71: CAP_AMT | C71: 단 가
B72: CAP_PAGE | C72: 페이지
... B74: CAP_BIGO | C74: 비 고
B75: [PREPARE] | D75: =ROW(C79) -> 79
B76: PREP_VER | C76: w25.04
B77: PREP_COP | C77: 장 학 봉
B78: PREP_DATE | C78: 2025-04-25 12:13
B79: [.끝.]
