Workbook

Sheet 〓 목 차 〓
D1: =IF('〓 INITIAL 〓'!C4,"※※ 기본정보의 일부가 삭제되어 Stmate로 변환할 수 없습니다 ※※","") -> ※※ 기본정보의 일부가 삭제되어 Stmate로 변환할 수 없습니다 ※※
B2: 목 차 | D2: ※ 본 엑셀자료는 【STmate w26.09】버전 이상에서 STmate 자료로 다시 등록할 수 있습니다.
D3: 단, 임의로 수정한 내용(Sheet삭제, 산근내용변경, 기타계산식변경..)은 반영되지 않을 수 있습니다.
B4: 1. ※※안내※※ | D4: =HYPERLINK("#'※※안내※※'!A1","※※안내※※ →") -> ※※안내※※ →
B5: 2. 공사원가계산서 | D5: =HYPERLINK("#"&공사원가계산서!G2&"!A1","공사원가계산서 →") -> 공사원가계산서 →
B6: 3. 총괄설계내역서 | D6: =HYPERLINK("#"&총괄설계내역서!H2&"!A1","총괄설계내역서 →") -> 총괄설계내역서 →
B7: 4. 설계내역서 | D7: =HYPERLINK("#"&설계내역서!O2&"!A1","설계내역서 →") -> 설계내역서 →
B8: 5. 일위대가목록표 | D8: =HYPERLINK("#"&#REF!&"!A1","일위대가목록표 →") -> #REF!
B9: 6. 일위대가표 | D9: =HYPERLINK("#"&#REF!&"!A1","일위대가표 →") -> #REF!
B10: 7. 단가산출근거목록표 | D10: =HYPERLINK("#"&#REF!&"!A1","단가산출근거목록표 →") -> #REF!
B11: 8. 단가산출근거 | D11: =HYPERLINK("#"&#REF!&"!A1","단가산출근거 →") -> #REF!
B12: 9. 환율및기초자료 | D12: =HYPERLINK("#"&#REF!&"!A1","환율및기초자료 →") -> #REF!
B13: 10. 기계경비목록표 | D13: =HYPERLINK("#"&#REF!&"!A1","기계경비목록표 →") -> #REF!
B14: 11. 기계경비산출조서 | D14: =HYPERLINK("#"&#REF!&"!A1","기계경비산출조서 →") -> #REF!
B15: 12. 재료비단가표 | D15: =HYPERLINK("#"&#REF!&"!A1","재료비단가표 →") -> #REF!
B16: 13. 노무비단가표 | D16: =HYPERLINK("#"&#REF!&"!A1","노무비단가표 →") -> #REF!
B17: 14. 경비단가표 | D17: =HYPERLINK("#"&#REF!&"!A1","경비단가표 →") -> #REF!
B18: 15. 재료비수량금액집계표 | D18: =HYPERLINK("#"&#REF!&"!A1","재료비수량금액집계표 →") -> #REF!
B19: 16. 노무비수량금액집계표 | D19: =HYPERLINK("#"&#REF!&"!A1","노무비수량금액집계표 →") -> #REF!
B20: 17. 경비수량금액집계표 | D20: =HYPERLINK("#"&#REF!&"!A1","경비수량금액집계표 →") -> #REF!
B21: 18. 기계경비시간금액집계표 | D21: =HYPERLINK("#"&#REF!&"!A1","기계경비시간금액집계표 →") -> #REF!
B22: 19. 재료비단가대비표 | D22: =HYPERLINK("#"&#REF!&"!A1","재료비단가대비표 →") -> #REF!

Sheet 공사원가계산서
A1: 공 사 원 가 계 산 서 | G1: STmate
A2: 공사명 : 2026년도 간선임도사업(경산 남천 송백 ~ 남천 하도1) | G2: =MID(CELL("filename",$A$1),FIND("]",CELL("filename",$A$1))+1,LEN(CELL("filename",$A$1))) -> 공사원가계산서
A3: 구 분 | D3: 금 액 | E3: 구 성 비 | F3: 비 고
A4: 비 목
A5: 순 공 사 원 가 | B5: 재 료 비 | C5: 직 접 재 료 비
C6: 간 접 재 료 비
C7: 작업설,부산물등(△)
C8: 소 계
B9: 노 무 비 | C9: 직 접 노 무 비
C10: 간 접 노 무 비 | F10: =총괄설계내역서!E17 -> 직접노무비 x 19.1%
C11: 소 계
B12: 경 비 | C12: 산 출 경 비
C13: 산 재 보 험 료 | F13: =총괄설계내역서!E18 -> (직접노무비+간접노무비) x 3.56%
C14: 고 용 보 험 료 | F14: =총괄설계내역서!E19 -> (직접노무비+간접노무비) x 1.01%
C15: 건 강 보 험 료 | F15: =총괄설계내역서!E20 -> 직접노무비 x 3.595%
C16: 노인장기요양보험료 | F16: =총괄설계내역서!E21 -> 건강보험료 x 13.14%
C17: 연 금 보 험 료 | F17: =총괄설계내역서!E22 -> 직접노무비 x 4.75%
C18: 퇴 직 공 제 부 금 비 | F18: =총괄설계내역서!E23 -> 직접노무비 x 2.3%
C19: 산업안전보건관리비 | F19: =총괄설계내역서!E24 -> A）<(직노+직재+간재) x 3.15%>의 1.2배 = 0 B）(직노+직재+간재+관급재/1.1) x 3.15% =
C20: 기 타 경 비 | F20: =총괄설계내역서!E25 -> (직접노무비+간접노무비+재료비) x 5.5%
C21: 환 경 보 전 비 | F21: =총괄설계내역서!E26 -> (재료비 + 직접노무비 + 산출경비) x 0.8%
C22: 건설기계대여금지급보증서수수료 | F22: =총괄설계내역서!E27 -> (재료비 + 직접노무비 + 산출경비) x 0.1%
C23: 석면피해구제분담금 | F23: =총괄설계내역서!E28 -> (직접노무비+간접노무비) x 0.006%
C24: 임 금 채 권 부 담 금 | F24: =총괄설계내역서!E29 -> (직접노무비+간접노무비) x 0.09%
C25: 소 계
A26: 일 반 관 리 비 | F26: ="순공사원가 x "&ROUND(총괄설계내역서!M31,5)&"%" -> 순공사원가 x 8%
A27: 이 윤 | F27: ="(노무비+경비+일반관리비) x "&ROUND(총괄설계내역서!M33,5)&"%" -> (노무비+경비+일반관리비) x 15%
A28: 총 원 가
A29: 부 가 가 치 세 | F29: ="총 원 가 x "&ROUND(총괄설계내역서!M35,5)&"%" -> 총 원 가 x 10%
A30: 도 급 공 사 비
A31: 관급자재대(도급자설치) | F31: =총괄설계내역서!E37 -> 0
A32: 총 공 사 비

Sheet 총괄설계내역서
A1: 총 괄 설 계 내 역 서 | H1: STmate
A2: 공사명 : 2026년도 간선임도사업(경산 남천 송백 ~ 남천 하도1) | H2: =MID(CELL("filename",$A$1),FIND("]",CELL("filename",$A$1))+1,LEN(CELL("filename",$A$1))) -> 총괄설계내역서
A3: 공 종 | B3: 명 칭 | C3: 규 격 | D3: 합 계 | E3: 노 무 비 | F3: 재 료 비 | G3: 경 비 | H3: _x0007_`JTYP|0_x0005_`ACTL|F_x0005_` | I3: 수정은 아래의 연두색 부분에
A4: □ | B4: 2026년도 간선임도사업 | C4: 경산 남천 송백 ~ 남천 하도1 | D4: =설계내역서!G5 -> 0 | E4: =설계내역서!I5 -> 0 | F4: =설계내역서!K5 -> 0 | G4: =설계내역서!M5 -> 0
A5: 1. | B5: 토공사 | D5: =설계내역서!G7 -> 0 | E5: =설계내역서!I7 -> 0 | F5: =설계내역서!K7 -> 0 | G5: =설계내역서!M7 -> 0
A6: 2. | B6: 구조물공 | D6: =설계내역서!G30 -> 0 | E6: =설계내역서!I30 -> 0 | F6: =설계내역서!K30 -> 0 | G6: =설계내역서!M30 -> 0
A7: 2.1 | B7: 노면보강 | D7: =설계내역서!G31 -> 0 | E7: =설계내역서!I31 -> 0 | F7: =설계내역서!K31 -> 0 | G7: =설계내역서!M31 -> 0
A8: 2.2 | B8: 기슭막이 | D8: =설계내역서!G38 -> 0 | E8: =설계내역서!I38 -> 0 | F8: =설계내역서!K38 -> 0 | G8: =설계내역서!M38 -> 0
A9: 2.3 | B9: 관매설 | D9: =설계내역서!G41 -> 0 | E9: =설계내역서!I41 -> 0 | F9: =설계내역서!K41 -> 0 | G9: =설계내역서!M41 -> 0
A10: 2.4 | B10: 부대공사 | D10: =설계내역서!G44 -> 0 | E10: =설계내역서!I44 -> 0 | F10: =설계내역서!K44 -> 0 | G10: =설계내역서!M44 -> 0
A11: 3. | B11: 사면피복공 | D11: =설계내역서!G49 -> 0 | E11: =설계내역서!I49 -> 0 | F11: =설계내역서!K49 -> 0 | G11: =설계내역서!M49 -> 0
A12: 3.1 | B12: 떼공 | D12: =설계내역서!G50 -> 0 | E12: =설계내역서!I50 -> 0 | F12: =설계내역서!K50 -> 0 | G12: =설계내역서!M50 -> 0
A13: 4. | B13: 운반공 | D13: =설계내역서!G55 -> 0 | E13: =설계내역서!I55 -> 0 | F13: =설계내역서!K55 -> 0 | G13: =설계내역서!M55 -> 0
A14: 5. | B14: 자재대 | D14: =설계내역서!G66 -> 0 | E14: =설계내역서!I66 -> 0 | F14: =설계내역서!K66 -> 0 | G14: =설계내역서!M66 -> 0
A15: 6. | B15: 관급자재대 | D15: =설계내역서!G74 -> 0 | E15: =설계내역서!I74 -> 0 | F15: =설계내역서!K74 -> 0 | G15: =설계내역서!M74 -> 0
A16: 가. | B16: 순공사비계 | D16: =설계내역서!G82 -> 0 | E16: =설계내역서!I82 -> 0 | F16: =설계내역서!K82 -> 0 | G16: =설계내역서!M82 -> 0
B17: 1. 간접노무비 | D17: =ROUNDDOWN(E16*M17/100,0) -> 0 | E17: ="직접노무비 x "&ROUND(M17,5)&"%" -> 직접노무비 x 19.1% | H17: _x0007_`DTP|201_x0005_`QTY1|1_x0005_`BDC|_x0005_`SRE|LA_x0005_` | I17: 0 | M17: 19.1 | N17: 0 | O17: 0 | P17: 0
B18: 2. 산재보험료 | D18: =ROUNDDOWN(((E16+D17))*M18/100,0) -> 0 | E18: ="(직접노무비+간접노무비) x "&ROUND(M18,5)&"%" -> (직접노무비+간접노무비) x 3.56% | H18: _x0007_`DTP|301_x0005_`QTY1|1_x0005_`BDC|_x0005_`SRE|SA_x0005_` | I18: 0 | M18: 3.56 | N18: 0 | O18: 0 | P18: 0
B19: 3. 고용보험료 | D19: =ROUNDDOWN(((E16+D17))*M19/100,0) -> 0 | E19: ="(직접노무비+간접노무비) x "&ROUND(M19,5)&"%" -> (직접노무비+간접노무비) x 1.01% | H19: _x0007_`DTP|302_x0005_`QTY1|1_x0005_`BDC|_x0005_`SRE|SA_x0005_` | I19: 0 | M19: 1.01 | N19: 0 | O19: 0 | P19: 0
B20: 4. 건강보험료 | D20: =ROUNDDOWN((E16)*M20/100,0) -> 0 | E20: ="직접노무비 x "&ROUND(M20,5)&"%" -> 직접노무비 x 3.595% | H20: _x0007_`DTP|303_x0005_`QTY1|1_x0005_`BDC|_x0005_`SRE|SA_x0005_` | I20: 0 | J20: =E16 -> 0 | M20: 3.595 | N20: 0 | O20: 0 | P20: 0
B21: 5. 노인장기요양보험료 | D21: =ROUNDDOWN(D20*M21/100,0) -> 0 | E21: ="건강보험료 x "&ROUND(M21,5)&"%" -> 건강보험료 x 13.14% | H21: _x0007_`DTP|310_x0005_`QTY1|1_x0005_`BDC|_x0005_`SRE|SA_x0005_` | I21: 0 | J21: =D20 -> 0 | M21: 13.14 | N21: 0 | O21: 0 | P21: 0
B22: 6. 연금보험료 | D22: =ROUNDDOWN((E16)*M22/100,0) -> 0 | E22: ="직접노무비 x "&ROUND(M22,5)&"%" -> 직접노무비 x 4.75% | H22: _x0007_`DTP|304_x0005_`QTY1|1_x0005_`BDC|_x0005_`SRE|SA_x0005_` | I22: 0 | J22: =E16 -> 0 | M22: 4.75 | N22: 0 | O22: 0 | P22: 0
B23: 7. 퇴직공제부금비 | D23: =ROUNDDOWN((E16)*M23/100,0) -> 0 | E23: ="직접노무비 x "&ROUND(M23,5)&"%" -> 직접노무비 x 2.3% | H23: _x0007_`DTP|305_x0005_`QTY1|1_x0005_`BDC|_x0005_`SRE|SA_x0005_` | I23: 0 | J23: =E16 -> 0 | M23: 2.3 | N23: 0 | O23: 0 | P23: 0
B24: 8. 산업안전보건관리비 | C24: A）관급재/1.1제외 적용 | D24: =ROUNDDOWN(ROUNDDOWN(((E16+(F16)))*M24/100,0)*1.2,0) -> 0 | E24: ="A）<(직노+직재+간재) x "&ROUND(M24,5)&"%>의 1.2배 = "&TEXT(D24,"#,0")&" B）(직노+직재+간재+관급재/1.1) x "&ROUND(M24,5)&"% = " -> A）<(직노+직재+간재) x 3.15%>의 1.2배 = 0 B）(직노+직재+간재+관급재/1.1) x 3.15% = | H24: _x0007_`DTP|306_x0005_`QTY1|1_x0005_`BDC|_x0005_`SRE|SA_x0005_`ANB|1_x0005_` | I24: 0 | J24: =((E16+(F16))+(I37-O37)/1.1) -> 27025073 | M24: 3.15 | N24: 0 | O24: 0 | P24: 0
B25: 9. 기타경비 | D25: =ROUNDDOWN(((((E16+D17)+(F16))))*M25/100,0) -> 0 | E25: ="(직접노무비+간접노무비+재료비) x "&ROUND(M25,5)&"%" -> (직접노무비+간접노무비+재료비) x 5.5% | H25: _x0007_`DTP|321_x0005_`QTY1|1_x0005_`BDC|_x0005_`SRE|SA_x0005_` | I25: 0 | M25: 5.5 | N25: 0 | O25: 0 | P25: 0
B26: 10. 환경보전비 | D26: =ROUNDDOWN((D16)*M26/100,0) -> 0 | E26: ="(재료비 + 직접노무비 + 산출경비) x "&ROUND(M26,5)&"%" -> (재료비 + 직접노무비 + 산출경비) x 0.8% | H26: _x0007_`DTP|309_x0005_`QTY1|1_x0005_`BDC|_x0005_`SRE|SA_x0005_` | I26: 0 | M26: 0.8 | N26: 0 | O26: 0 | P26: 0
B27: 11. 건설기계대여금지급보증서수수료 | D27: =ROUNDDOWN((D16)*M27/100,0) -> 0 | E27: ="(재료비 + 직접노무비 + 산출경비) x "&ROUND(M27,5)&"%" -> (재료비 + 직접노무비 + 산출경비) x 0.1% | H27: _x0007_`DTP|311_x0005_`QTY1|1_x0005_`BDC|_x0005_`SRE|SA_x0005_` | I27: 0 | M27: 0.1 | N27: 0 | O27: 0 | P27: 0
B28: 12. 석면피해구제분담금 | D28: =ROUNDDOWN(((E16+D17))*M28/100,0) -> 0 | E28: ="(직접노무비+간접노무비) x "&ROUND(M28,5)&"%" -> (직접노무비+간접노무비) x 0.006% | H28: _x0007_`DTP|322_x0005_`QTY1|1_x0005_`BDC|_x0005_`SRE|SA_x0005_` | I28: 0 | M28: 0.006 | N28: 0 | O28: 0 | P28: 0
B29: 13. 임금채권부담금 | D29: =ROUNDDOWN(((E16+D17))*M29/100,0) -> 0 | E29: ="(직접노무비+간접노무비) x "&ROUND(M29,5)&"%" -> (직접노무비+간접노무비) x 0.09% | H29: _x0007_`DTP|323_x0005_`QTY1|1_x0005_`BDC|_x0005_`SRE|SA_x0005_` | I29: 0 | M29: 0.09 | N29: 0 | O29: 0 | P29: 0
A30: 나. | B30: 소 계 | D30: =(D16+D17+D18+D19+D20+D21+D22+D23+D24+D25+D26+D27+D28+D29) -> 0 | H30: _x0007_`DTP|400_x0005_`QTY1|1_x0005_`BDC|_x0005_`SRE|TA-F_x0005_` | I30: 0 | M30: 0 | N30: 0 | O30: 0 | P30: 0
B31: 14. 일반관리비 | D31: =ROUNDDOWN(((D30)+0)*M31/100,0) -> 0 | E31: ="(나.소 계) x "&ROUND(M31,5)&"%" -> (나.소 계) x 8% | H31: _x0007_`DTP|401_x0005_`QTY1|1_x0005_`BDC|_x0005_`SRE|TA_x0005_` | I31: 0 | M31: 8 | N31: 0 | O31: 0 | P31: 0
A32: 다. | B32: 소 계 | D32: =(D30+D31) -> 0 | H32: _x0007_`DTP|410_x0005_`QTY1|1_x0005_`BDC|_x0005_`SRE|TA-F_x0005_` | I32: 0 | J32: =D32 -> 0 | L32: =D32 -> 0 | M32: 0 | N32: 0 | O32: 0 | P32: 0
B33: 15. 이 윤 | D33: =ROUNDDOWN(((D32)-(F16))*M33/100,0)-I33-K33 -> -6138 | E33: ="(다.소계 - 재료비) x "&ROUND(M33,5)&"% = "&TEXT(J33,"#,##0") -> (다.소계 - 재료비) x 15% = 0 | H33: _x0007_`DTP|402_x0005_`QTY1|1_x0005_`BDC|_x0005_`SRE|TA_x0005_` | I33: 6138 | J33: =ROUNDDOWN(((J32)-(F16))*M33/100,0) -> 0 | L33: =ROUNDDOWN(((L32)-(F16))*M33/100,0)-I33 -> -6138 | M33: 15 | N33: 0 | O33: 0 | P33: 0
A34: 라. | B34: 공급가액 | D34: =(D32+D33) -> -6138 | H34: _x0007_`DTP|500_x0005_`QTY1|1_x0005_`BDC|_x0005_`SRE|TA-F_x0005_` | I34: 0 | J34: =(J32+J33) -> 0 | L34: =(L32+L33) -> -6138 | M34: 0 | N34: 0 | O34: 0 | P34: 0
B35: 16. 부가가치세 | D35: =ROUNDDOWN((D34)*M35/100,0)+I35 -> -613 | E35: ="공급가액 x "&ROUND(M35,5)&"%" -> 공급가액 x 10% | H35: _x0007_`DTP|502_x0005_`QTY1|1_x0005_`BDC|_x0005_`SRE|TA_x0005_` | I35: 0 | J35: =ROUNDDOWN((J34)*M35/100,0)+I35 -> 0 | L35: =ROUNDDOWN((L34)*M35/100,0)+I35 -> -613 | M35: 10 | N35: 0 | O35: 0 | P35: 0
A36: 마. | B36: 도급공사비 | D36: =(D34+D35) -> -6751 | H36: _x0007_`DTP|600_x0005_`QTY1|1_x0005_`BDC|_x0005_`SRE|TA-F_x0005_` | I36: 0 | J36: =(J34+J35) -> 0 | L36: =(L34+L35) -> -6751 | M36: 0 | N36: 0 | O36: 0 | P36: 0
B37: 17. 관급자재대(도급자설치) | H37: _x0007_`DTP|653_x0005_`QTY1|1_x0005_`BDC|_x0005_`SRE|TA-3_x0005_` | I37: 29888108 | J37: =ROUNDUP(I37,-3) -> 29889000 | L37: =ROUNDUP(I37,-3) -> 29889000 | M37: 3 | N37: 0 | O37: 160528 | P37: 0
A38: 바. | B38: 총공사비 | H38: _x0007_`DTP|700_x0005_`QTY1|1_x0005_`BDC|_x0005_`SRE|TA-F_x0005_` | I38: 0 | J38: =(J36+J37) -> 29889000 | L38: =(L36+L37) -> 29882249 | M38: 0 | N38: 0 | O38: 0 | P38: 0

Sheet 설계내역서
A1: 설 계 내 역 서 | O1: STmate
A2: 공사명 : 2026년도 간선임도사업(경산 남천 송백 ~ 남천 하도1) | O2: =MID(CELL("filename",$A$1),FIND("]",CELL("filename",$A$1))+1,LEN(CELL("filename",$A$1))) -> 설계내역서
A3: 공 종 | B3: 명 칭 | C3: 규 격 | D3: 수 량 | E3: 단위 | F3: 합 계 | H3: 노 무 비 | J3: 재 료 비 | L3: 경 비 | N3: 비 고
F4: 단 가 | G4: 금 액 | H4: 단 가 | I4: 금 액 | J4: 단 가 | K4: 금 액 | L4: 단 가 | M4: 금 액
A5: □ | B5: 2026년도 간선임도사업 | C5: 경산 남천 송백 ~ 남천 하도1 | O5: ="_x0007_`COD|E5_x0005_`QTY1|1_x0005_`EXI|0_x0005_`ITT|0_x0005_`END|"&ROW(M82)&"_x0005_`" -> _x0007_`COD|E5_x0005_`QTY1|1_x0005_`EXI|0_x0005_`ITT|0_x0005_`END|82_x0005_` | P5: E5_1 | Q5: E10_1
O6: _x0007_`COD|_x0005_`QTY1|1_x0005_`EXI|1_x0005_`ITT|0_x0005_` | P6: CMT_1 | Q6: E5_1
A7: 1. | B7: 토공사 | O7: ="_x0007_`COD|E4_x0005_`QTY1|1_x0005_`EXI|0_x0005_`ITT|0_x0005_`END|"&ROW(M29)&"_x0005_`" -> _x0007_`COD|E4_x0005_`QTY1|1_x0005_`EXI|0_x0005_`ITT|0_x0005_`END|29_x0005_` | P7: E4_1 | Q7: E5_1
A8: 1.1 | B8: 준비공 | O8: ="_x0007_`COD|E2_x0005_`QTY1|1_x0005_`EXI|0_x0005_`ITT|0_x0005_`END|"&ROW(M14)&"_x0005_`" -> _x0007_`COD|E2_x0005_`QTY1|1_x0005_`EXI|0_x0005_`ITT|0_x0005_`END|14_x0005_` | P8: E2_1 | Q8: E4_1
B9: 규준틀설치(변곡점) | C9: 종단규준틀 | D9: 5 | E9: 개소 | O9: _x0007_`COD|B00194_x0005_`QTY1|1_x0005_`EXI|0_x0005_`IPR|0_x0005_`BLA|F_x0005_` | P9: B00194_1 | Q9: E2_1
B10: 규준틀설치(@40m) | C10: 횡단규준틀 | D10: 10 | E10: 개소 | O10: _x0007_`COD|B00467_x0005_`QTY1|1_x0005_`EXI|0_x0005_`IPR|0_x0005_`BLA|F_x0005_` | P10: B00467_1 | Q10: E2_1
B11: 벌목 | C11: H=8m이상 | D11: 4586 | E11: m2 | O11: _x0007_`COD|B00163_x0005_`QTY1|1_x0005_`EXI|0_x0005_`IPR|0_x0005_`BLA|F_x0005_` | P11: B00163_1 | Q11: E2_1
B12: 제근 | C12: 0.7m3(밀) | D12: 459 | E12: m2 | O12: _x0007_`COD|B00609_x0005_`QTY1|1_x0005_`EXI|0_x0005_`IPR|0_x0005_`BLA|F_x0005_` | P12: B00609_1 | Q12: E2_1
B13: 임목파쇄(재선충) | C13: 93.25kW | D13: 254 | E13: m3 | O13: _x0007_`COD|D00275_x0005_`QTY1|1_x0005_`EXI|0_x0005_`IPR|0_x0005_`BLA|F_x0005_` | P13: D00275_1 | Q13: E2_1
A14: 1.2 | B14: 절취 | O14: ="_x0007_`COD|E2_x0005_`QTY1|1_x0005_`EXI|0_x0005_`ITT|0_x0005_`END|"&ROW(M19)&"_x0005_`" -> _x0007_`COD|E2_x0005_`QTY1|1_x0005_`EXI|0_x0005_`ITT|0_x0005_`END|19_x0005_` | P14: E2_1 | Q14: E4_1
B15: 토사절취 | C15: 굴착기 0.7m3 | D15: 2533 | E15: m3 | O15: _x0007_`COD|D00003_x0005_`QTY1|1_x0005_`EXI|0_x0005_`IPR|0_x0005_`BLA|F_x0005_` | P15: D00003_1 | Q15: E2_1
B16: 암절취(연암) | C16: 굴착기0.7m3+대형브레카 | D16: 1666 | E16: m3 | O16: _x0007_`COD|D00004_x0005_`QTY1|1_x0005_`EXI|0_x0005_`IPR|0_x0005_`BLA|F_x0005_` | P16: D00004_1 | Q16: E2_1
B17: 측구파기(토사) | C17: 굴삭기0.4m3 | D17: 4 | E17: m3 | O17: _x0007_`COD|D00009_x0005_`QTY1|1_x0005_`EXI|0_x0005_`IPR|0_x0005_`BLA|F_x0005_` | P17: D00009_1 | Q17: E2_1
B18: 측구파기(연암) | C18: 굴착기0.7m3+대형브레카 | D18: 48 | E18: m3 | O18: _x0007_`COD|D00010_x0005_`QTY1|1_x0005_`EXI|0_x0005_`IPR|0_x0005_`BLA|F_x0005_` | P18: D00010_1 | Q18: E2_1
A19: 1.3 | B19: 유용토운반 | O19: ="_x0007_`COD|E2_x0005_`QTY1|1_x0005_`EXI|0_x0005_`ITT|0_x0005_`END|"&ROW(M25)&"_x0005_`" -> _x0007_`COD|E2_x0005_`QTY1|1_x0005_`EXI|0_x0005_`ITT|0_x0005_`END|25_x0005_` | P19: E2_1 | Q19: E4_1
B20: 무대처리 | D20: 521 | E20: m3 | O20: _x0007_`COD|D00013_x0005_`QTY1|1_x0005_`EXI|0_x0005_`IPR|0_x0005_`BLA|F_x0005_` | P20: D00013_1 | Q20: E2_1
B21: 도자운반-토사 | C21: L=41.29m(송백) | D21: 97 | E21: m3 | O21: _x0007_`COD|D00284_x0005_`QTY1|1_x0005_`EXI|0_x0005_`IPR|0_x0005_`BLA|F_x0005_` | P21: D00284_1 | Q21: E2_1
B22: 도자운반-암 | C22: L=41.29m(송백) | D22: 61 | E22: m3 | O22: _x0007_`COD|D00282_x0005_`QTY1|1_x0005_`EXI|0_x0005_`IPR|0_x0005_`BLA|F_x0005_` | P22: D00282_1 | Q22: E2_1
B23: 덤프운반-토사 | C23: L=0.060km(송백) | D23: 2 | E23: m3 | O23: _x0007_`COD|D00350_x0005_`QTY1|1_x0005_`EXI|0_x0005_`IPR|0_x0005_`BLA|F_x0005_` | P23: D00350_1 | Q23: E2_1
B24: 덤프운반-암 | C24: L=0.060km(송백) | D24: 2 | E24: m3 | O24: _x0007_`COD|D00285_x0005_`QTY1|1_x0005_`EXI|0_x0005_`IPR|0_x0005_`BLA|F_x0005_` | P24: D00285_1 | Q24: E2_1
A25: 1.4 | B25: 다짐공 | O25: ="_x0007_`COD|E2_x0005_`QTY1|1_x0005_`EXI|0_x0005_`ITT|0_x0005_`END|"&ROW(M29)&"_x0005_`" -> _x0007_`COD|E2_x0005_`QTY1|1_x0005_`EXI|0_x0005_`ITT|0_x0005_`END|29_x0005_` | P25: E2_1 | Q25: E4_1
B26: 사토처리 | C26: L=0.719km(송백) | D26: 3539 | E26: m3 | O26: _x0007_`COD|D00389_x0005_`QTY1|1_x0005_`EXI|0_x0005_`IPR|0_x0005_`BLA|F_x0005_` | P26: D00389_1 | Q26: E2_1
B27: 성토사면다짐 | C27: 굴착기0.7m3 | D27: 939 | E27: m2 | O27: _x0007_`COD|D00047_x0005_`QTY1|1_x0005_`EXI|0_x0005_`IPR|0_x0005_`BLA|F_x0005_` | P27: D00047_1 | Q27: E2_1
B28: 노면정리 | C28: 굴착기0.7m3 | D28: 1206 | E28: m2 | O28: _x0007_`COD|D00080_x0005_`QTY1|1_x0005_`EXI|0_x0005_`IPR|0_x0005_`BLA|F_x0005_` | P28: D00080_1 | Q28: E2_1
O29: _x0007_`COD|_x0005_`QTY1|1_x0005_`EXI|1_x0005_`ITT|0_x0005_` | P29: CMT_1 | Q29: E5_1
A30: 2. | B30: 구조물공 | O30: ="_x0007_`COD|E4_x0005_`QTY1|1_x0005_`EXI|0_x0005_`ITT|0_x0005_`END|"&ROW(M48)&"_x0005_`" -> _x0007_`COD|E4_x0005_`QTY1|1_x0005_`EXI|0_x0005_`ITT|0_x0005_`END|48_x0005_` | P30: E4_1 | Q30: E5_1
A31: 2.1 | B31: 노면보강 | O31: ="_x0007_`COD|E3_x0005_`QTY1|1_x0005_`EXI|0_x0005_`ITT|0_x0005_`END|"&ROW(M38)&"_x0005_`" -> _x0007_`COD|E3_x0005_`QTY1|1_x0005_`EXI|0_x0005_`ITT|0_x0005_`END|38_x0005_` | P31: E3_1 | Q31: E4_1
B32: 콘크리트포장 | C32: T=20cm(레미콘) | D32: 1010 | E32: m2 | O32: _x0007_`COD|B00217_x0005_`QTY1|1_x0005_`EXI|0_x0005_`IPR|0_x0005_`BLA|F_x0005_` | P32: B00217_1 | Q32: E3_1
B33: 포장거푸집 | C33: T=20cm(양면) | D33: 280 | E33: m | O33: _x0007_`COD|B00228_x0005_`QTY1|1_x0005_`EXI|0_x0005_`IPR|0_x0005_`BLA|F_x0005_` | P33: B00228_1 | Q33: E3_1
B34: 수축줄눈(컷팅) | C34: 콘크리트포장 | D34: 158 | E34: m | O34: _x0007_`COD|D00092_x0005_`QTY1|1_x0005_`EXI|0_x0005_`IPR|0_x0005_`BLA|F_x0005_` | P34: D00092_1 | Q34: E3_1
B35: 포장난간(A-TYPE) | C35: H=0.20m | D35: 240 | E35: m | O35: _x0007_`COD|B00111_x0005_`QTY1|1_x0005_`EXI|0_x0005_`IPR|0_x0005_`BLA|F_x0005_` | P35: B00111_1 | Q35: E3_1
B36: 혼합석부설(평균 T=7cm) | D36: 749 | E36: m2 | O36: _x0007_`COD|D00390_x0005_`QTY1|1_x0005_`EXI|0_x0005_`IPR|0_x0005_`BLA|F_x0005_` | P36: D00390_1 | Q36: E3_1
B37: 측구수로관(400) | C37: 무소음트렌치(500) | D37: 8 | E37: m | O37: _x0007_`COD|B00632_x0005_`QTY1|1_x0005_`EXI|0_x0005_`IPR|0_x0005_`BLA|F_x0005_` | P37: B00632_1 | Q37: E3_1
A38: 2.2 | B38: 기슭막이 | O38: ="_x0007_`COD|E3_x0005_`QTY1|1_x0005_`EXI|0_x0005_`ITT|0_x0005_`END|"&ROW(M41)&"_x0005_`" -> _x0007_`COD|E3_x0005_`QTY1|1_x0005_`EXI|0_x0005_`ITT|0_x0005_`END|41_x0005_` | P38: E3_1 | Q38: E4_1
B39: 돌기슭막이(찰쌓기,켜쌓기) | C39: H=2.0 L3=45(구입) | D39: 20 | E39: m | O39: _x0007_`COD|B00595_x0005_`QTY1|1_x0005_`EXI|0_x0005_`IPR|0_x0005_`BLA|F_x0005_` | P39: B00595_1 | Q39: E3_1
B40: 돌기슭막이(찰쌓기,기초무) | C40: H=2.0 L3=45(구입) | D40: 30 | E40: m | O40: _x0007_`COD|B01148_x0005_`QTY1|1_x0005_`EXI|0_x0005_`IPR|0_x0005_`BLA|F_x0005_` | P40: B01148_1 | Q40: E3_1
A41: 2.3 | B41: 관매설 | O41: ="_x0007_`COD|E3_x0005_`QTY1|1_x0005_`EXI|1_x0005_`ITT|0_x0005_`END|"&ROW(M44)&"_x0005_`" -> _x0007_`COD|E3_x0005_`QTY1|1_x0005_`EXI|1_x0005_`ITT|0_x0005_`END|44_x0005_` | P41: E3_1 | Q41: E4_1
B42: 파형강관부설 | C42: D=1000mm | D42: 14 | E42: m | O42: _x0007_`COD|B00065_x0005_`QTY1|1_x0005_`EXI|0_x0005_`IPR|0_x0005_`BLA|F_x0005_` | P42: B00065_1 | Q42: E3_1
B43: 관보호공 | C43: 돌집수정 | D43: 1 | E43: 개소 | O43: _x0007_`COD|B01147_x0005_`QTY1|1_x0005_`EXI|0_x0005_`IPR|0_x0005_`BLA|F_x0005_` | P43: B01147_1 | Q43: E3_1
A44: 2.4 | B44: 부대공사 | O44: ="_x0007_`COD|E3_x0005_`QTY1|1_x0005_`EXI|0_x0005_`ITT|0_x0005_`END|"&ROW(M48)&"_x0005_`" -> _x0007_`COD|E3_x0005_`QTY1|1_x0005_`EXI|0_x0005_`ITT|0_x0005_`END|48_x0005_` | P44: E3_1 | Q44: E4_1
B45: 돌붙임(찰붙임) | C45: L3=35cm이하 | D45: 52 | E45: m2 | O45: _x0007_`COD|B00330_x0005_`QTY1|1_x0005_`EXI|0_x0005_`IPR|0_x0005_`BLA|F_x0005_` | P45: B00330_1 | Q45: E3_1
B46: 임도준공표지석 | C46: 30x20x60 | D46: 1 | E46: 개소 | O46: _x0007_`COD|B00363_x0005_`QTY1|1_x0005_`EXI|0_x0005_`IPR|0_x0005_`BLA|F_x0005_` | P46: B00363_1 | Q46: E3_1
B47: 공사안내판 | C47: 900x1800 | D47: 1 | E47: 개 | O47: _x0007_`COD|M00737_x0005_`QTY1|1_x0005_`EXI|0_x0005_`IPR|0_x0005_`KWN|0_x0005_`BLA|F_x0005_` | P47: M00737_1 | Q47: E3_1
O48: _x0007_`COD|_x0005_`QTY1|1_x0005_`EXI|1_x0005_`ITT|0_x0005_` | P48: CMT_1 | Q48: E5_1
A49: 3. | B49: 사면피복공 | O49: ="_x0007_`COD|E4_x0005_`QTY1|1_x0005_`EXI|0_x0005_`ITT|0_x0005_`END|"&ROW(M54)&"_x0005_`" -> _x0007_`COD|E4_x0005_`QTY1|1_x0005_`EXI|0_x0005_`ITT|0_x0005_`END|54_x0005_` | P49: E4_1 | Q49: E5_1
A50: 3.1 | B50: 떼공 | O50: ="_x0007_`COD|E3_x0005_`QTY1|1_x0005_`EXI|0_x0005_`ITT|0_x0005_`END|"&ROW(M54)&"_x0005_`" -> _x0007_`COD|E3_x0005_`QTY1|1_x0005_`EXI|0_x0005_`ITT|0_x0005_`END|54_x0005_` | P50: E3_1 | Q50: E4_1
B51: 7급줄떼 | C51: B형 | D51: 50 | E51: m | O51: _x0007_`COD|B00588_x0005_`QTY1|1_x0005_`EXI|0_x0005_`IPR|0_x0005_`BLA|F_x0005_` | P51: B00588_1 | Q51: E3_1
B52: 평떼붙임 | D52: 150 | E52: m2 | O52: _x0007_`COD|D00190_x0005_`QTY1|1_x0005_`EXI|0_x0005_`IPR|0_x0005_`BLA|F_x0005_` | P52: D00190_1 | Q52: E3_1
B53: 씨뿌리기 | C53: 줄파종 | D53: 3380 | E53: m | O53: _x0007_`COD|D00736_x0005_`QTY1|1_x0005_`EXI|0_x0005_`IPR|0_x0005_`BLA|F_x0005_` | P53: D00736_1 | Q53: E3_1
O54: _x0007_`COD|_x0005_`QTY1|1_x0005_`EXI|1_x0005_`ITT|0_x0005_` | P54: CMT_1 | Q54: E5_1
A55: 4. | B55: 운반공 | O55: ="_x0007_`COD|E4_x0005_`QTY1|1_x0005_`EXI|0_x0005_`ITT|0_x0005_`END|"&ROW(M65)&"_x0005_`" -> _x0007_`COD|E4_x0005_`QTY1|1_x0005_`EXI|0_x0005_`ITT|0_x0005_`END|65_x0005_` | P55: E4_1 | Q55: E5_1
B56: 중기운반 | C56: L=15.0km(송백) | D56: 2 | E56: 대 | O56: _x0007_`COD|D00231_x0005_`QTY1|1_x0005_`EXI|0_x0005_`IPR|0_x0005_`BLA|F_x0005_` | P56: D00231_1 | Q56: E4_1
B57: 기계운반 | C57: L=15.0km(송백) | D57: 1 | E57: 대 | O57: _x0007_`COD|D00232_x0005_`QTY1|1_x0005_`EXI|0_x0005_`IPR|0_x0005_`BLA|F_x0005_` | P57: D00232_1 | Q57: E4_1
B58: 모래운반 | C58: L=30.2km(송백) | D58: 21 | E58: m3 | O58: _x0007_`COD|D00233_x0005_`QTY1|1_x0005_`EXI|0_x0005_`IPR|0_x0005_`BLA|F_x0005_` | P58: D00233_1 | Q58: E4_1
B59: 자갈운반 | C59: L=10.5m(송백) | D59: 24 | E59: m3 | O59: _x0007_`COD|D00269_x0005_`QTY1|1_x0005_`EXI|0_x0005_`IPR|0_x0005_`BLA|F_x0005_` | P59: D00269_1 | Q59: E4_1
B60: 막자갈운반 | C60: L=10.5m(송백) | D60: 46 | E60: m3 | O60: _x0007_`COD|D00270_x0005_`QTY1|1_x0005_`EXI|0_x0005_`IPR|0_x0005_`BLA|F_x0005_` | P60: D00270_1 | Q60: E4_1
B61: 혼합석운반 | C61: L=10.5m(송백) | D61: 77 | E61: m3 | O61: _x0007_`COD|D00271_x0005_`QTY1|1_x0005_`EXI|0_x0005_`IPR|0_x0005_`BLA|F_x0005_` | P61: D00271_1 | Q61: E4_1
B62: 시멘트운반 | C62: L=22.7km(송백) | D62: 310 | E62: 대 | O62: _x0007_`COD|D00235_x0005_`QTY1|1_x0005_`EXI|0_x0005_`IPR|0_x0005_`BLA|F_x0005_` | P62: D00235_1 | Q62: E4_1
B63: 파쇄석운반 | C63: L=50.3km(송백) | D63: 150 | E63: ton | O63: _x0007_`COD|D00347_x0005_`QTY1|1_x0005_`EXI|0_x0005_`IPR|0_x0005_`BLA|F_x0005_` | P63: D00347_1 | Q63: E4_1
B64: 레미콘운반 | C64: 덤프4.5톤 | D64: 222 | E64: m3 | O64: _x0007_`COD|D00321_x0005_`QTY1|1_x0005_`EXI|0_x0005_`IPR|0_x0005_`BLA|F_x0005_` | P64: D00321_1 | Q64: E4_1
O65: _x0007_`COD|_x0005_`QTY1|1_x0005_`EXI|1_x0005_`ITT|0_x0005_` | P65: CMT_1 | Q65: E5_1
A66: 5. | B66: 자재대 | O66: ="_x0007_`COD|E4_x0005_`QTY1|1_x0005_`EXI|0_x0005_`ITT|0_x0005_`END|"&ROW(M73)&"_x0005_`" -> _x0007_`COD|E4_x0005_`QTY1|1_x0005_`EXI|0_x0005_`ITT|0_x0005_`END|73_x0005_` | P66: E4_1 | Q66: E5_1
B67: 모래 | C67: 상차가(대구) | D67: 21 | E67: M3 | O67: _x0007_`COD|M00918_x0005_`QTY1|1_x0005_`EXI|0_x0005_`IPR|0_x0005_`KWN|0_x0005_`BLA|F_x0005_` | P67: M00918_1 | Q67: E4_1
B68: 자 갈(40m/m) | C68: 도착가(경산) | D68: 24 | E68: M3 | O68: _x0007_`COD|M00911_x0005_`QTY1|1_x0005_`EXI|0_x0005_`IPR|0_x0005_`KWN|0_x0005_`BLA|F_x0005_` | P68: M00911_1 | Q68: E4_1
B69: 막자갈 | C69: 도착가(경산) | D69: 46 | E69: M3 | O69: _x0007_`COD|M00912_x0005_`QTY1|1_x0005_`EXI|0_x0005_`IPR|0_x0005_`KWN|0_x0005_`BLA|F_x0005_` | P69: M00912_1 | Q69: E4_1
B70: 혼합석(25mm) | C70: 도착가(경산) | D70: 77 | E70: M3 | O70: _x0007_`COD|M00913_x0005_`QTY1|1_x0005_`EXI|0_x0005_`IPR|0_x0005_`KWN|0_x0005_`BLA|F_x0005_` | P70: M00913_1 | Q70: E4_1
B71: 시 멘 트 | C71: 40Kg/포 | D71: 310 | E71: 대 | O71: _x0007_`COD|M00299_x0005_`QTY1|1_x0005_`EXI|0_x0005_`IPR|0_x0005_`KWN|0_x0005_`BLA|F_x0005_` | P71: M00299_1 | Q71: E4_1
B72: 파쇄석 | C72: 상차가(영천) | D72: 150 | E72: ton | O72: _x0007_`COD|M00909_x0005_`QTY1|1_x0005_`EXI|0_x0005_`IPR|0_x0005_`KWN|0_x0005_`BLA|F_x0005_` | P72: M00909_1 | Q72: E4_1
O73: _x0007_`COD|_x0005_`QTY1|1_x0005_`EXI|1_x0005_`ITT|0_x0005_` | P73: CMT_1 | Q73: E5_1
A74: 6. | B74: 관급자재대 | O74: ="_x0007_`COD|C4_x0005_`QTY1|1_x0005_`EXI|1_x0005_`ITT|0_x0005_`END|"&ROW(M81)&"_x0005_`" -> _x0007_`COD|C4_x0005_`QTY1|1_x0005_`EXI|1_x0005_`ITT|0_x0005_`END|81_x0005_` | P74: C4_1
B75: 레미콘(경산시) | C75: 25-21-80 | D75: 216 | E75: M3 | O75: _x0007_`COD|M00907_x0005_`QTY1|1_x0005_`EXI|0_x0005_`IPR|0_x0005_`KWN|0_x0005_`BLA|F_x0005_` | P75: M00907_1 | Q75: C4_1
B76: 레미콘(경산시) | C76: 25-18-80 | D76: 6 | E76: M3 | O76: _x0007_`COD|M00908_x0005_`QTY1|1_x0005_`EXI|0_x0005_`IPR|0_x0005_`KWN|0_x0005_`BLA|F_x0005_` | P76: M00908_1 | Q76: C4_1
B77: 파형강관(관급) | C77: Φ1000m/m, 2.7t,대정 | D77: 14 | E77: M | O77: _x0007_`COD|M00442_x0005_`QTY1|1_x0005_`EXI|0_x0005_`IPR|0_x0005_`KWN|0_x0005_`BLA|F_x0005_` | P77: M00442_1 | Q77: C4_1
B78: 파형강관(커플링밴드) | C78: Φ1000m/m,대정 | D78: 1 | E78: 조 | O78: _x0007_`COD|M00444_x0005_`QTY1|1_x0005_`EXI|0_x0005_`IPR|0_x0005_`KWN|0_x0005_`BLA|F_x0005_` | P78: M00444_1 | Q78: C4_1
B79: 와이어매쉬 | C79: #6,100*100(경산) | D79: 1172 | E79: M2 | O79: _x0007_`COD|M00489_x0005_`QTY1|1_x0005_`EXI|0_x0005_`IPR|0_x0005_`KWN|0_x0005_`BLA|F_x0005_` | P79: M00489_1 | Q79: C4_1
B80: 조달수수료 | C80: 재료비*0.54% | D80: 0.54 | E80: % | O80: _x0007_`COD|M00095_x0005_`QTY1|1_x0005_`EXI|0_x0005_`IPR|0_x0005_`KWN|0_x0005_`BLA|F_x0005_` | P80: M00095_1 | Q80: C4_1
O81: _x0007_`COD|_x0005_`QTY1|1_x0005_`EXI|1_x0005_`ITT|0_x0005_` | P81: CMT_1 | Q81: E5_1
B82: 직접공사비

Sheet 〓 INITIAL 〓
B2: ※※ 현재 Sheet를 수정 또는 삭제하지 마십시요[수정/삭제시 STmate 데이타로 변환할 수 없습니다] ※※
B4: [Sheet정보] | C4: =ISERROR(SUM(C6:X15,C18:X23)) -> TRUE | D4: =ROW(C24) -> 24
B5: 목차 | C5: Sheet | D5: FPos | E5: ITNAME | F5: NAME | G5: SIZE | H5: QTY | I5: UNIT | J5: SPOS | K5: EPOS | L5: TAMT | M5: TAMOUNT | N5: MAMT | O5: MAMOUNT | P5: LAMT | Q5: LAMOUNT | R5: SAMT | S5: SAMOUNT | T5: AAMT | U5: AAMOUNT | V5: NAMT | W5: NAMOUNT | X5: INFO
B6: 1. 재료비목록표 | C6: =IF(D6="","재료비단가표",MID(D6,FIND("]",D6)+1,LEN(D6))) -> #REF! | D6: =CELL("filename",#REF!) -> #REF! | F6: =HYPERLINK("#"&C6&"!"&ADDRESS(3,COLUMN(#REF!),1),COLUMN(#REF!)) -> #REF! | G6: =HYPERLINK("#"&C6&"!"&ADDRESS(3,COLUMN(#REF!),1),COLUMN(#REF!)) -> #REF! | I6: =HYPERLINK("#"&C6&"!"&ADDRESS(3,COLUMN(#REF!),1),COLUMN(#REF!)) -> #REF! | J6: =HYPERLINK("#"&C6&"!A"&ROW(#REF!),ROW(#REF!)) -> #REF! | K6: =HYPERLINK("#"&C6&"!A"&ROW(#REF!),ROW(#REF!)) -> #REF! | L6: =HYPERLINK("#"&C6&"!"&ADDRESS(3,COLUMN(#REF!),1),COLUMN(#REF!)) -> #REF! | X6: =HYPERLINK("#"&C6&"!"&ADDRESS(3,COLUMN(#REF!),1),COLUMN(#REF!)) -> #REF!
B7: 2. 노무비목록표 | C7: =IF(D7="","노무비단가표",MID(D7,FIND("]",D7)+1,LEN(D7))) -> #REF! | D7: =CELL("filename",#REF!) -> #REF! | F7: =HYPERLINK("#"&C7&"!"&ADDRESS(3,COLUMN(#REF!),1),COLUMN(#REF!)) -> #REF! | G7: =HYPERLINK("#"&C7&"!"&ADDRESS(3,COLUMN(#REF!),1),COLUMN(#REF!)) -> #REF! | I7: =HYPERLINK("#"&C7&"!"&ADDRESS(3,COLUMN(#REF!),1),COLUMN(#REF!)) -> #REF! | J7: =HYPERLINK("#"&C7&"!A"&ROW(#REF!),ROW(#REF!)) -> #REF! | K7: =HYPERLINK("#"&C7&"!A"&ROW(#REF!),ROW(#REF!)) -> #REF! | L7: =HYPERLINK("#"&C7&"!"&ADDRESS(3,COLUMN(#REF!),1),COLUMN(#REF!)) -> #REF! | X7: =HYPERLINK("#"&C7&"!"&ADDRESS(3,COLUMN(#REF!),1),COLUMN(#REF!)) -> #REF!
B8: 3. 경비목록표 | C8: =IF(D8="","경비단가표",MID(D8,FIND("]",D8)+1,LEN(D8))) -> #REF! | D8: =CELL("filename",#REF!) -> #REF! | F8: =HYPERLINK("#"&C8&"!"&ADDRESS(3,COLUMN(#REF!),1),COLUMN(#REF!)) -> #REF! | G8: =HYPERLINK("#"&C8&"!"&ADDRESS(3,COLUMN(#REF!),1),COLUMN(#REF!)) -> #REF! | I8: =HYPERLINK("#"&C8&"!"&ADDRESS(3,COLUMN(#REF!),1),COLUMN(#REF!)) -> #REF! | J8: =HYPERLINK("#"&C8&"!A"&ROW(#REF!),ROW(#REF!)) -> #REF! | K8: =HYPERLINK("#"&C8&"!A"&ROW(#REF!),ROW(#REF!)) -> #REF! | L8: =HYPERLINK("#"&C8&"!"&ADDRESS(3,COLUMN(#REF!),1),COLUMN(#REF!)) -> #REF! | X8: =HYPERLINK("#"&C8&"!"&ADDRESS(3,COLUMN(#REF!),1),COLUMN(#REF!)) -> #REF!
B9: 4. 일식목록표
B10: 5. 환율 및 기초자료 | C10: =IF(D10="","환율및기초자료",MID(D10,FIND("]",D10)+1,LEN(D10))) -> #REF! | D10: =CELL("filename",#REF!) -> #REF! | E10: =HYPERLINK("#"&C10&"!"&ADDRESS(5,COLUMN(#REF!),1),COLUMN(#REF!)) -> #REF! | F10: =HYPERLINK("#"&C10&"!"&ADDRESS(5,COLUMN(#REF!),1),COLUMN(#REF!)) -> #REF! | G10: =HYPERLINK("#"&C10&"!"&ADDRESS(5,COLUMN(#REF!),1),COLUMN(#REF!)) -> #REF! | I10: =HYPERLINK("#"&C10&"!"&ADDRESS(5,COLUMN(#REF!),1),COLUMN(#REF!)) -> #REF! | J10: =HYPERLINK("#"&C10&"!A"&ROW(#REF!),ROW(#REF!)) -> #REF! | K10: =HYPERLINK("#"&C10&"!A"&ROW(#REF!),ROW(#REF!)) -> #REF! | L10: =HYPERLINK("#"&C10&"!"&ADDRESS(5,COLUMN(#REF!),1),COLUMN(#REF!)) -> #REF! | X10: =HYPERLINK("#"&C10&"!"&ADDRESS(5,COLUMN(#REF!),1),COLUMN(#REF!)) -> #REF!
B11: 6. 중기목록표 | C11: =IF(D11="","기계경비목록표",MID(D11,FIND("]",D11)+1,LEN(D11))) -> #REF! | D11: =CELL("filename",#REF!) -> #REF! | F11: =HYPERLINK("#"&C11&"!"&ADDRESS(3,COLUMN(#REF!),1),COLUMN(#REF!)) -> #REF! | G11: =HYPERLINK("#"&C11&"!"&ADDRESS(3,COLUMN(#REF!),1),COLUMN(#REF!)) -> #REF! | I11: =HYPERLINK("#"&C11&"!"&ADDRESS(3,COLUMN(#REF!),1),COLUMN(#REF!)) -> #REF! | J11: =HYPERLINK("#"&C11&"!A"&ROW(#REF!),ROW(#REF!)) -> #REF! | K11: =HYPERLINK("#"&C11&"!A"&ROW(#REF!),ROW(#REF!)) -> #REF! | L11: =HYPERLINK("#"&C11&"!"&ADDRESS(3,COLUMN(#REF!),1),COLUMN(#REF!)) -> #REF! | N11: =HYPERLINK("#"&C11&"!"&ADDRESS(3,COLUMN(#REF!),1),COLUMN(#REF!)) -> #REF! | P11: =HYPERLINK("#"&C11&"!"&ADDRESS(3,COLUMN(#REF!),1),COLUMN(#REF!)) -> #REF! | R11: =HYPERLINK("#"&C11&"!"&ADDRESS(3,COLUMN(#REF!),1),COLUMN(#REF!)) -> #REF! | X11: =HYPERLINK("#"&C11&"!"&ADDRESS(3,COLUMN(#REF!),1),COLUMN(#REF!)) -> #REF!
B12: 7. 실적단가표
B13: 8. 일위대가목록표 | C13: =IF(D13="","일위대가목록표",MID(D13,FIND("]",D13)+1,LEN(D13))) -> #REF! | D13: =CELL("filename",#REF!) -> #REF! | F13: =HYPERLINK("#"&C13&"!"&ADDRESS(3,COLUMN(#REF!),1),COLUMN(#REF!)) -> #REF! | G13: =HYPERLINK("#"&C13&"!"&ADDRESS(3,COLUMN(#REF!),1),COLUMN(#REF!)) -> #REF! | I13: =HYPERLINK("#"&C13&"!"&ADDRESS(3,COLUMN(#REF!),1),COLUMN(#REF!)) -> #REF! | J13: =HYPERLINK("#"&C13&"!A"&ROW(#REF!),ROW(#REF!)) -> #REF! | K13: =HYPERLINK("#"&C13&"!A"&ROW(#REF!),ROW(#REF!)) -> #REF! | L13: =HYPERLINK("#"&C13&"!"&ADDRESS(3,COLUMN(#REF!),1),COLUMN(#REF!)) -> #REF! | N13: =HYPERLINK("#"&C13&"!"&ADDRESS(3,COLUMN(#REF!),1),COLUMN(#REF!)) -> #REF! | P13: =HYPERLINK("#"&C13&"!"&ADDRESS(3,COLUMN(#REF!),1),COLUMN(#REF!)) -> #REF! | R13: =HYPERLINK("#"&C13&"!"&ADDRESS(3,COLUMN(#REF!),1),COLUMN(#REF!)) -> #REF! | X13: =HYPERLINK("#"&C13&"!"&ADDRESS(3,COLUMN(#REF!),1),COLUMN(#REF!)) -> #REF!
B14: 9. 산출근거목록표 | C14: =IF(D14="","단가산출근거목록표",MID(D14,FIND("]",D14)+1,LEN(D14))) -> #REF! | D14: =CELL("filename",#REF!) -> #REF! | F14: =HYPERLINK("#"&C14&"!"&ADDRESS(3,COLUMN(#REF!),1),COLUMN(#REF!)) -> #REF! | G14: =HYPERLINK("#"&C14&"!"&ADDRESS(3,COLUMN(#REF!),1),COLUMN(#REF!)) -> #REF! | I14: =HYPERLINK("#"&C14&"!"&ADDRESS(3,COLUMN(#REF!),1),COLUMN(#REF!)) -> #REF! | J14: =HYPERLINK("#"&C14&"!A"&ROW(#REF!),ROW(#REF!)) -> #REF! | K14: =HYPERLINK("#"&C14&"!A"&ROW(#REF!),ROW(#REF!)) -> #REF! | L14: =HYPERLINK("#"&C14&"!"&ADDRESS(3,COLUMN(#REF!),1),COLUMN(#REF!)) -> #REF! | N14: =HYPERLINK("#"&C14&"!"&ADDRESS(3,COLUMN(#REF!),1),COLUMN(#REF!)) -> #REF! | P14: =HYPERLINK("#"&C14&"!"&ADDRESS(3,COLUMN(#REF!),1),COLUMN(#REF!)) -> #REF! | R14: =HYPERLINK("#"&C14&"!"&ADDRESS(3,COLUMN(#REF!),1),COLUMN(#REF!)) -> #REF! | X14: =HYPERLINK("#"&C14&"!"&ADDRESS(3,COLUMN(#REF!),1),COLUMN(#REF!)) -> #REF!
B15: 10. 자재단가대비표 | C15: =IF(D15="","재료비단가대비표",MID(D15,FIND("]",D15)+1,LEN(D15))) -> #REF! | D15: =CELL("filename",#REF!) -> #REF! | F15: =HYPERLINK("#"&C15&"!"&ADDRESS(4,COLUMN(#REF!),1),COLUMN(#REF!)) -> #REF! | G15: =HYPERLINK("#"&C15&"!"&ADDRESS(4,COLUMN(#REF!),1),COLUMN(#REF!)) -> #REF! | I15: =HYPERLINK("#"&C15&"!"&ADDRESS(4,COLUMN(#REF!),1),COLUMN(#REF!)) -> #REF! | J15: =HYPERLINK("#"&C15&"!A"&ROW(#REF!),ROW(#REF!)) -> #REF! | K15: =HYPERLINK("#"&C15&"!A"&ROW(#REF!),ROW(#REF!)) -> #REF! | L15: =HYPERLINK("#"&C15&"!"&ADDRESS(4,COLUMN(#REF!),1),COLUMN(#REF!)) -> #REF! | M15: =HYPERLINK("#"&C15&"!"&ADDRESS(4,COLUMN(#REF!),1),COLUMN(#REF!)) -> #REF! | N15: =HYPERLINK("#"&C15&"!"&ADDRESS(4,COLUMN(#REF!),1),COLUMN(#REF!)) -> #REF! | O15: =HYPERLINK("#"&C15&"!"&ADDRESS(4,COLUMN(#REF!),1),COLUMN(#REF!)) -> #REF! | P15: =HYPERLINK("#"&C15&"!"&ADDRESS(4,COLUMN(#REF!),1),COLUMN(#REF!)) -> #REF! | Q15: =HYPERLINK("#"&C15&"!"&ADDRESS(4,COLUMN(#REF!),1),COLUMN(#REF!)) -> #REF! | R15: =HYPERLINK("#"&C15&"!"&ADDRESS(4,COLUMN(#REF!),1),COLUMN(#REF!)) -> #REF! | S15: =HYPERLINK("#"&C15&"!"&ADDRESS(4,COLUMN(#REF!),1),COLUMN(#REF!)) -> #REF! | T15: =HYPERLINK("#"&C15&"!"&ADDRESS(4,COLUMN(#REF!),1),COLUMN(#REF!)) -> #REF! | U15: =HYPERLINK("#"&C15&"!"&ADDRESS(4,COLUMN(#REF!),1),COLUMN(#REF!)) -> #REF! | V15: =HYPERLINK("#"&C15&"!"&ADDRESS(4,COLUMN(#REF!),1),COLUMN(#REF!)) -> #REF! | W15: =HYPERLINK("#"&C15&"!"&ADDRESS(4,COLUMN(#REF!),1),COLUMN(#REF!)) -> #REF! | X15: =HYPERLINK("#"&C15&"!"&ADDRESS(4,COLUMN(#REF!),1),COLUMN(#REF!)) -> #REF!
B16: 11. 내역서 | C16: =IF(D16="","설계내역서",MID(D16,FIND("]",D16)+1,LEN(D16))) -> 설계내역서 | D16: =CELL("filename",설계내역서!A1) -> C:\Users\USER\Desktop\2026 업무폴더\1. 2026 계약현황\2. 사업소 의뢰\2026. 10월\4. 2026년도 간선임도사업(경산 남천 송백~남천 하도1)\1. 계약의뢰\[(공내역서) 2026년도 간선임도사업(경산 남천 송백 ~ 남천 하도1).xlsx]설계내역서 | E16: =HYPERLINK("#"&C16&"!"&ADDRESS(4,COLUMN(설계내역서!A1),1),COLUMN(설계내역서!A1)) -> 1 | F16: =HYPERLINK("#"&C16&"!"&ADDRESS(4,COLUMN(설계내역서!B1),1),COLUMN(설계내역서!B1)) -> 2 | G16: =HYPERLINK("#"&C16&"!"&ADDRESS(4,COLUMN(설계내역서!C1),1),COLUMN(설계내역서!C1)) -> 3 | H16: =HYPERLINK("#"&C16&"!"&ADDRESS(4,COLUMN(설계내역서!D1),1),COLUMN(설계내역서!D1)) -> 4 | I16: =HYPERLINK("#"&C16&"!"&ADDRESS(4,COLUMN(설계내역서!E1),1),COLUMN(설계내역서!E1)) -> 5 | J16: =HYPERLINK("#"&C16&"!A"&ROW(설계내역서!A5),ROW(설계내역서!A5)) -> 5 | K16: =HYPERLINK("#"&C16&"!A"&ROW(설계내역서!A85),ROW(설계내역서!A85)) -> 85 | L16: =HYPERLINK("#"&C16&"!"&ADDRESS(4,COLUMN(설계내역서!F1),1),COLUMN(설계내역서!F1)) -> 6 | M16: =HYPERLINK("#"&C16&"!"&ADDRESS(4,COLUMN(설계내역서!G1),1),COLUMN(설계내역서!G1)) -> 7 | N16: =HYPERLINK("#"&C16&"!"&ADDRESS(4,COLUMN(설계내역서!J1),1),COLUMN(설계내역서!J1)) -> 10 | O16: =HYPERLINK("#"&C16&"!"&ADDRESS(4,COLUMN(설계내역서!K1),1),COLUMN(설계내역서!K1)) -> 11 | P16: =HYPERLINK("#"&C16&"!"&ADDRESS(4,COLUMN(설계내역서!H1),1),COLUMN(설계내역서!H1)) -> 8 | Q16: =HYPERLINK("#"&C16&"!"&ADDRESS(4,COLUMN(설계내역서!I1),1),COLUMN(설계내역서!I1)) -> 9 | R16: =HYPERLINK("#"&C16&"!"&ADDRESS(4,COLUMN(설계내역서!L1),1),COLUMN(설계내역서!L1)) -> 12 | S16: =HYPERLINK("#"&C16&"!"&ADDRESS(4,COLUMN(설계내역서!M1),1),COLUMN(설계내역서!M1)) -> 13 | X16: =HYPERLINK("#"&C16&"!"&ADDRESS(4,COLUMN(설계내역서!O1),1),COLUMN(설계내역서!O1)) -> 15
B17: 12. 총괄내역서 | C17: =IF(D17="","총괄설계내역서",MID(D17,FIND("]",D17)+1,LEN(D17))) -> 총괄설계내역서 | D17: =CELL("filename",총괄설계내역서!A1) -> C:\Users\USER\Desktop\2026 업무폴더\1. 2026 계약현황\2. 사업소 의뢰\2026. 10월\4. 2026년도 간선임도사업(경산 남천 송백~남천 하도1)\1. 계약의뢰\[(공내역서) 2026년도 간선임도사업(경산 남천 송백 ~ 남천 하도1).xlsx]총괄설계내역서 | E17: =HYPERLINK("#"&C17&"!"&ADDRESS(3,COLUMN(총괄설계내역서!A1),1),COLUMN(총괄설계내역서!A1)) -> 1 | F17: =HYPERLINK("#"&C17&"!"&ADDRESS(3,COLUMN(총괄설계내역서!B1),1),COLUMN(총괄설계내역서!B1)) -> 2 | G17: =HYPERLINK("#"&C17&"!"&ADDRESS(3,COLUMN(총괄설계내역서!C1),1),COLUMN(총괄설계내역서!C1)) -> 3 | I17: =HYPERLINK("#"&C17&"!"&ADDRESS(3,COLUMN(총괄설계내역서!E1),1),COLUMN(총괄설계내역서!E1)) -> 5 | J17: =HYPERLINK("#"&C17&"!A"&ROW(총괄설계내역서!A4),ROW(총괄설계내역서!A4)) -> 4 | K17: =HYPERLINK("#"&C17&"!A"&ROW(총괄설계내역서!A38),ROW(총괄설계내역서!A38)) -> 38 | L17: =HYPERLINK("#"&C17&"!"&ADDRESS(3,COLUMN(총괄설계내역서!D1),1),COLUMN(총괄설계내역서!D1)) -> 4 | M17: =HYPERLINK("#"&C17&"!"&ADDRESS(3,COLUMN(총괄설계내역서!I1),1),COLUMN(총괄설계내역서!I1)) -> 9 | N17: =HYPERLINK("#"&C17&"!"&ADDRESS(3,COLUMN(총괄설계내역서!M1),1),COLUMN(총괄설계내역서!M1)) -> 13 | O17: =HYPERLINK("#"&C17&"!"&ADDRESS(3,COLUMN(총괄설계내역서!N1),1),COLUMN(총괄설계내역서!N1)) -> 14 | P17: =HYPERLINK("#"&C17&"!"&ADDRESS(3,COLUMN(총괄설계내역서!O1),1),COLUMN(총괄설계내역서!O1)) -> 15 | Q17: =HYPERLINK("#"&C17&"!"&ADDRESS(3,COLUMN(총괄설계내역서!P1),1),COLUMN(총괄설계내역서!P1)) -> 16 | X17: =HYPERLINK("#"&C17&"!"&ADDRESS(3,COLUMN(총괄설계내역서!H1),1),COLUMN(총괄설계내역서!H1)) -> 8
B18: 13. 중기사용료 | C18: =IF(D18="","기계경비산출조서",MID(D18,FIND("]",D18)+1,LEN(D18))) -> #REF! | D18: =CELL("filename",#REF!) -> #REF! | F18: =HYPERLINK("#"&C18&"!"&ADDRESS(4,COLUMN(#REF!),1),COLUMN(#REF!)) -> #REF! | G18: =HYPERLINK("#"&C18&"!"&ADDRESS(4,COLUMN(#REF!),1),COLUMN(#REF!)) -> #REF! | H18: =HYPERLINK("#"&C18&"!"&ADDRESS(4,COLUMN(#REF!),1),COLUMN(#REF!)) -> #REF! | I18: =HYPERLINK("#"&C18&"!"&ADDRESS(4,COLUMN(#REF!),1),COLUMN(#REF!)) -> #REF! | J18: =HYPERLINK("#"&C18&"!A"&ROW(#REF!),ROW(#REF!)) -> #REF! | K18: =HYPERLINK("#"&C18&"!A"&ROW(#REF!),ROW(#REF!)) -> #REF! | L18: =HYPERLINK("#"&C18&"!"&ADDRESS(4,COLUMN(#REF!),1),COLUMN(#REF!)) -> #REF! | M18: =HYPERLINK("#"&C18&"!"&ADDRESS(4,COLUMN(#REF!),1),COLUMN(#REF!)) -> #REF! | N18: =HYPERLINK("#"&C18&"!"&ADDRESS(4,COLUMN(#REF!),1),COLUMN(#REF!)) -> #REF! | O18: =HYPERLINK("#"&C18&"!"&ADDRESS(4,COLUMN(#REF!),1),COLUMN(#REF!)) -> #REF! | P18: =HYPERLINK("#"&C18&"!"&ADDRESS(4,COLUMN(#REF!),1),COLUMN(#REF!)) -> #REF! | Q18: =HYPERLINK("#"&C18&"!"&ADDRESS(4,COLUMN(#REF!),1),COLUMN(#REF!)) -> #REF! | R18: =HYPERLINK("#"&C18&"!"&ADDRESS(4,COLUMN(#REF!),1),COLUMN(#REF!)) -> #REF! | S18: =HYPERLINK("#"&C18&"!"&ADDRESS(4,COLUMN(#REF!),1),COLUMN(#REF!)) -> #REF! | X18: =HYPERLINK("#"&C18&"!"&ADDRESS(4,COLUMN(#REF!),1),COLUMN(#REF!)) -> #REF!
B19: 14. 일위대가표 | C19: =IF(D19="","일위대가표",MID(D19,FIND("]",D19)+1,LEN(D19))) -> #REF! | D19: =CELL("filename",#REF!) -> #REF! | F19: =HYPERLINK("#"&C19&"!"&ADDRESS(4,COLUMN(#REF!),1),COLUMN(#REF!)) -> #REF! | G19: =HYPERLINK("#"&C19&"!"&ADDRESS(4,COLUMN(#REF!),1),COLUMN(#REF!)) -> #REF! | H19: =HYPERLINK("#"&C19&"!"&ADDRESS(4,COLUMN(#REF!),1),COLUMN(#REF!)) -> #REF! | I19: =HYPERLINK("#"&C19&"!"&ADDRESS(4,COLUMN(#REF!),1),COLUMN(#REF!)) -> #REF! | J19: =HYPERLINK("#"&C19&"!A"&ROW(#REF!),ROW(#REF!)) -> #REF! | K19: =HYPERLINK("#"&C19&"!A"&ROW(#REF!),ROW(#REF!)) -> #REF! | L19: =HYPERLINK("#"&C19&"!"&ADDRESS(4,COLUMN(#REF!),1),COLUMN(#REF!)) -> #REF! | M19: =HYPERLINK("#"&C19&"!"&ADDRESS(4,COLUMN(#REF!),1),COLUMN(#REF!)) -> #REF! | N19: =HYPERLINK("#"&C19&"!"&ADDRESS(4,COLUMN(#REF!),1),COLUMN(#REF!)) -> #REF! | O19: =HYPERLINK("#"&C19&"!"&ADDRESS(4,COLUMN(#REF!),1),COLUMN(#REF!)) -> #REF! | P19: =HYPERLINK("#"&C19&"!"&ADDRESS(4,COLUMN(#REF!),1),COLUMN(#REF!)) -> #REF! | Q19: =HYPERLINK("#"&C19&"!"&ADDRESS(4,COLUMN(#REF!),1),COLUMN(#REF!)) -> #REF! | R19: =HYPERLINK("#"&C19&"!"&ADDRESS(4,COLUMN(#REF!),1),COLUMN(#REF!)) -> #REF! | S19: =HYPERLINK("#"&C19&"!"&ADDRESS(4,COLUMN(#REF!),1),COLUMN(#REF!)) -> #REF! | X19: =HYPERLINK("#"&C19&"!"&ADDRESS(4,COLUMN(#REF!),1),COLUMN(#REF!)) -> #REF!
B20: 15. 단가산출근거 | C20: =IF(D20="","단가산출근거",MID(D20,FIND("]",D20)+1,LEN(D20))) -> #REF! | D20: =CELL("filename",#REF!) -> #REF! | E20: =HYPERLINK("#"&C20&"!"&ADDRESS(4,COLUMN(#REF!),1),COLUMN(#REF!)) -> #REF! | F20: =HYPERLINK("#"&C20&"!"&ADDRESS(4,COLUMN(#REF!),1),COLUMN(#REF!)) -> #REF! | J20: =HYPERLINK("#"&C20&"!A"&ROW(#REF!),ROW(#REF!)) -> #REF! | K20: =HYPERLINK("#"&C20&"!A"&ROW(#REF!),ROW(#REF!)) -> #REF! | L20: =HYPERLINK("#"&C20&"!"&ADDRESS(4,COLUMN(#REF!),1),COLUMN(#REF!)) -> #REF! | N20: =HYPERLINK("#"&C20&"!"&ADDRESS(4,COLUMN(#REF!),1),COLUMN(#REF!)) -> #REF! | P20: =HYPERLINK("#"&C20&"!"&ADDRESS(4,COLUMN(#REF!),1),COLUMN(#REF!)) -> #REF! | R20: =HYPERLINK("#"&C20&"!"&ADDRESS(4,COLUMN(#REF!),1),COLUMN(#REF!)) -> #REF! | X20: =HYPERLINK("#"&C20&"!"&ADDRESS(4,COLUMN(#REF!),1),COLUMN(#REF!)) -> #REF!
B21: 16.
B22: 17.
B23: 18. 표준시장목록표
B24: [공사정보] | D24: =ROW(C33) -> 33
B25: M_DVER | C25: 26.09
B26: PNAME | C26: 2026년도 간선임도사업(경산 남천 송백 ~ 남천 하도1)
B27: PCLAS | C27: 0
B28: SCLAS | C28: 0
B29: K_ORD | C29: 0
B30: PRIPR | C30: True
B31: ACTYP | C31: 1
B32: ACTOP | C32: 2
B33: [초기값] | D33: =ROW(C52) -> 52
B34: P_ORD | C34: 1 | D34: 1 | E34: 0 | F34: 0 | G34: 0 | H34: 0
B35: EXNM_ | C35: =#REF! -> #REF! | D35: =#REF! -> #REF! | E35: =#REF! -> #REF! | F35: =#REF! -> #REF! | G35: =#REF! -> #REF! | H35: =#REF! -> #REF! | I35: =#REF! -> #REF! | J35: =#REF! -> #REF!
B36: EXRNM | C36: False
B37: RXNM_ | C37: 1/8*16/12*25/20
B38: COND_ | C38: L00018L00019L00020L00021
B39: KCDNM | C39: 1
B40: JCDNM | C40: 0
B41: ECDNM | C41: 0
B42: ACDNM | C42: 1
B43: BPNNM | C43: 1
B44: ZCDNM | C44: 2
B45: CHGNM | C45: True
B46: CHBNM | C46: True
B47: CHNNM | C47: True
... B50: S_JDA | C50: True
B51: SUBNM
B52: [인쇄정보] | D52: =ROW(C75) -> 75
B53: BMSTR | C53: 재 료 비 | D53: 노 무 비 | E53: 경 비 | F53: 합 계
B54: BMKNM | C54: TLMS
B55: JEMNM | C55: 123456
B56: JMKN1 | C56: 조달가격 | D56: 조달
B57: JMKN2 | C57: 물가정보 | D57: 물정
B58: JMKN3 | C58: 물가자료 | D58: 물자
B59: JMKN4 | C59: 적산정보 | D59: 적산
B60: JMKN5 | C60: 견적단가 | D60: 견적
B61: JMKN6 | C61: 적용 단가
B62: CAP_CODE | C62: 코드번호
B63: CAP_NO | C63: 호표
B64: CAP_IBRD | C64: 분류번호
B65: CAP_EQCOD | C65: 시설코드
B66: CAP_ITNUM | C66: 공 종
B67: CAP_NAME | C67: 명 칭
B68: CAP_SIZE | C68: 규 격
B69: CAP_QTY | C69: 수 량
B70: CAP_SUNIT | C70: 단위
B71: CAP_AMT | C71: 단 가
B72: CAP_PAGE | C72: 페이지
... B74: CAP_BIGO | C74: 비 고
B75: [PREPARE] | D75: =ROW(C79) -> 79
B76: PREP_VER | C76: w26.10
B77: PREP_COP | C77: 위드산림엔지니어링 #02
B78: PREP_DATE | C78: 2026-10-13 19:59
B79: [.끝.]
