Workbook
Name 당산1: [14]수량산출서!$A$4:$G$28
Name 당산2: [14]수량산출서!$A$29:$G$65
Name 산출집계: [14]산출집계!$A$6:$J$1048576
Name 일위11: [14]일위대가집계표!$A$3:$Q$1048576

Sheet 원가1
AS1: 공사규모: | AT1: 5억미만 | AU1: 공사유형/기간: | AV1: 기타/6이하
A2: [공사명] 노후 교통신호제어기 교체 및 횡단보도 개선 공사 | V2: ="금액: "&NUMBERSTRING(L37,1)&" 원정" -> 금액: 영 원정 | AI2: ="("&"￦"&TEXT(L37,"0,0")&")" -> (￦00) | AS2: 요율적용표
A3: 비 목 | C3: 구 분 | L3: 금 액 | S3: 구 성 비 | AC3: 비 고 | AS3: 간접노무비 | AT3: 0.191 | AU3: 직접재료비 | AV3: =#REF! -> #REF!
A4: 순 공 사 비 원 가 | C4: 재료비 | E4: 직 접 재 료 비 | AU4: 직접노무비 | AV4: =#REF! -> #REF!
E5: 간 접 재 료 비 | AS5: 산재보험료 | AT5: 0.0356 | AU5: 폐기물처리비
E6: 작 업 부 산 물 | AS6: 고용보험료 | AT6: 0.0101 | AU6: 산출경비 | AV6: =#REF! -> #REF!
E7: 소 계 | AS7: 건강보험료 | AT7: 0.03595 | AU7: 고재처리 | AV7: =#REF! -> #REF!
C8: 노무비 | E8: 직접노무비(가) | AS8: 연금보험료 | AT8: 0.0475 | AU8: 도급자관급 | AV8: =#REF! -> #REF!
E9: 간접노무비(나) | S9: =CONCATENATE(" (직노)x",AT3*100,"%") -> (직노)x19.1% | AS9: 노인장기요양보험료 | AT9: 0.1314 | AU9: 관급자관급
E10: 소 계 | AS10: 일반관리비 | AT10: 0.08 | AU10: 한전불입금
C11: 경 비 | E11: 산 출 경 비 | AS11: 기타경비 | AT11: 0.055 | AU11: 사용전검사
E12: 산 재 보 험 료 | S12: =CONCATENATE(" (노)x",AT5*100,"%") -> (노)x3.56% | AS12: 환경보전비 | AT12: 0 | AU12: 공사비계 | AV12: =L37 -> 0
E13: 고 용 보 험 료 | S13: =CONCATENATE(" (노)x",AT6*100,"%") -> (노)x1.01% | AS13: 퇴직공제부금비 | AT13: 0.023 | AU13: 공사 기간 | AV13: 150일 | AW13: 1
E14: 건 강 보 험 료 | S14: =CONCATENATE(" (직노)x",AT7*100,"%") -> (직노)x3.595% | AS14: 석면부담금 | AT14: 6e-05 | AV14: 7-12개월
E15: 연 금 보 험 료 | S15: =CONCATENATE(" (직노)x",AT8*100,"%") -> (직노)x4.75% | AS15: 임금채권부담금 | AT15: 0.0009 | AV15: 13-36개월
E16: 노인장기요양보험료 | S16: =CONCATENATE(" (건강보험료)x",AT9*100,"%") -> (건강보험료)x13.14% | AS16: 손해배상공제료 | AT16: 0.0026477 | AV16: 36개월이상
E17: 산업안전보건관리비 | S17: =IF(AT30<=AT31,AU30,AU31) -> #REF! | AC17: 총공사금액 2천만원이상공사 적용. | AV17: =IF(($L$4+$L$8+$L$11)>=30000000000,7.5%,IF(($L$4+$L$8+$L$11)>=5000000000,7.6%,IF(($L$4+$L$8+$L$11)<5000000000,8%))) -> 0.08
E18: 기 타 경 비 | S18: =CONCATENATE(" (재+노)x",AT11*100,"%") -> (재+노)x5.5% | AS18: 예비-1 | AV18: =IF(($L$4+$L$8+$L$11)>=30000000000,7.5%,IF(($L$4+$L$8+$L$11)>=5000000000,7.6%,IF(($L$4+$L$8+$L$11)<5000000000,7.9%))) -> 0.079
E19: 퇴직공제부금비 | S19: =CONCATENATE(" (직노)x",AT13*100,"%") -> (직노)x2.3% | AC19: 공사예정금액(설계금액+관급) 1억원이상공사 적용. | AS19: 예비-2 | AT19: 0.15 | AV19: =IF(($L$4+$L$8+$L$11)>=30000000000,7.3%,IF(($L$4+$L$8+$L$11)>=5000000000,7.4%,IF(($L$4+$L$8+$L$11)<5000000000,7.7%))) -> 0.077
E20: 환 경 보 전 비 | S20: =CONCATENATE(" (재+직노+산경)x",AT12*100,"%") -> (재+직노+산경)x0%
E21: 건 설 하 도 급 대 금 지급보증서발급수수료 | S21: =CONCATENATE(" (재+직노+산경)x",AT15*100,"%") -> (재+직노+산경)x0.09% | AS21: 이윤 | AT21: 0.1388 | AU21: 이윤삭제액 | AV21: =IF(($L$4+$L$8+$L$11)>=30000000000,7.2%,IF(($L$4+$L$8+$L$11)>=5000000000,7.3%,IF(($L$4+$L$8+$L$11)<5000000000,7.7%))) -> 0.077
E22: 폐 기 물 처 리 비
E23: 예비-2
E24: 석 면 부 담 금 | S24: =CONCATENATE(" (노)x",AT15*100,"%") -> (노)x0.09%
E25: 임금채권부담금 | S25: =CONCATENATE(" (노)x",AT16*100,"%") -> (노)x0.26477%
E26: 소 계 | AV26: =IF(($L$4+$L$8+$L$11)>=30000000000,7.1%,IF(($L$4+$L$8+$L$11)>=5000000000,6.8%,IF(($L$4+$L$8+$L$11)<5000000000,5.8%))) -> 0.058
C27: 계 | AV27: =IF(($L$4+$L$8+$L$11)>=30000000000,7.2%,IF(($L$4+$L$8+$L$11)>=5000000000,7%,IF(($L$4+$L$8+$L$11)<5000000000,5.8%))) -> 0.058
A28: 일 반 관 리 비 | S28: =CONCATENATE(" (재+노+경)x",AT10*100,"%") -> (재+노+경)x8% | AS28: 안전관리비 | AT28: 0.0207 | AV28: =IF(($L$4+$L$8+$L$11)>=30000000000,8.4%,IF(($L$4+$L$8+$L$11)>=5000000000,8.2%,IF(($L$4+$L$8+$L$11)<5000000000,7%))) -> 0.07
A29: 이 윤 | S29: =CONCATENATE(" (노+경+일관)x",AT19*100,"%") -> (노+경+일관)x15% | AS29: 기초액 | AT29: =IF(($L$4+$L$8+$AT$36)>=5000000000,0,IF(($L$4+$L$8+$AT$36)>=500000000,2450000,IF(($L$4+$L$8+$AT$36)<500000000,0))) -> #REF! | AV29: =IF(($L$4+$L$8+$L$11)>=30000000000,8.7%,IF(($L$4+$L$8+$L$11)>=5000000000,8.5%,IF(($L$4+$L$8+$L$11)<5000000000,7.3%))) -> 0.073
AS30: 안전관리비(1) | AT30: =ROUNDDOWN((($L$7+$L$8)*$AT$28+$AT$29)*1.2,0) -> #REF! | AU30: =IF(AT29=0," ((재＋직노)×"&AT28*100&"%)x1.2"," ((재＋직노)×"&AT28*100&"%＋"&TEXT(AT29,"#,###")&")x1.2") -> #REF!
A31: 총 원 가 | AS31: 안전관리비(2) | AT31: =ROUNDDOWN((($L$7+$L$8+$AT$36)*$AT$28+$AT$29),0) -> #REF! | AU31: =IF(AT29=0," (재＋직노+관급자재비)×"&AT28*100&"%"," (재＋직노+관급자재비)×"&AT28*100&"%＋"&TEXT(AT29,"#,###")) -> #REF!
A32: 손해배상공제료 | AS32: 안전관리비(2) | AT32: =ROUNDDOWN((($L$7+$L$8+$AT$36)*$AT$28+$AT$29),0) -> #REF! | AU32: =IF(AT30=0," (재＋직노+관급자재비)×"&AT29*100&"%"," (재＋직노+관급자재비)×"&AT29*100&"%＋"&TEXT(AT30,"#,###")) -> #REF!
A33: 부 가 가 치 세 | S33: 공급가액의 10%
A34: 도 급 액 | AC34: 천단위 미만 절사 | AT34: 부가세적용 | AV34: 1.1
A35: 도급자관급자재 | AC35: 관급자재 내역서 참고
AT36: =INT(AV8/1.1) -> #REF!
A37: 총 공 사 비 | AT37: 관급자재비(부가세제외)
AS38: 안전관리비4천이하 적용안함 | AU38: =L34+L36 -> 0
AS39: 퇴직공제금 3억이하 적용안함 | AU39: =L36+#REF!+L34 -> #REF!

Sheet 내역서
A1: 총줄수-> | B1: 55 | C1: 2.0 | D1: [ 노후 교통신호제어기 교체 및 횡단보도 개선 공사 ] | AB1: 노임 계산 정보 | AF1: 부속재 및 손료
A2: 번호 | B2: 공종코드 | C2: 코드 | D2: 명 칭 | E2: 규 격 | F2: 단위 | G2: 수량 | H2: 재료비 | J2: 노무비 | M2: 경비 | P2: 계 | Q2: 비고 | AB2: 노임계 | AC2: 전체(%) | AD2: 공종별(%) | AE2: 노임 소수 | AF2: CD배관재 | AG2: 일반배관재 | AH2: 소모재 | AI2: 자재계 | AJ2: 노임계
H3: 단가 | I3: 금액 | J3: 수량 | K3: 단가 | L3: 금액 | M3: 단가 | N3: 금액 | O3: 단가 | AI3: =IF(옵션!$C$11=0,"1",옵션!$C$11) -> 1 | AJ3: =IF(옵션!$C$12=0,"1",옵션!$C$12) -> 1
B4: 공종줄 | D4: 1.노후 교통신호제어기 교체 및 횡단보조 개선 공사 : 1-1 노후 교통신호제어기 교체
D5: 1-1. 노후 교통신호제어기 교체
A6: MM978277933 | B6: 00101 | C6: 391115ZZ701Z0010 | D6: 교통신호 제어기-철거 | E6: 일반형(자립형) | F6: 대 | G6: 9
A7: MM978277948 | B7: 00101 | C7: 391115ZZ701Z0009 | D7: 교통신호 제어기-설치 | E7: 일반형(자립형) | F7: 대 | G7: 9
A8: MM067609773 | B8: 00101 | C8: 391115ZZ701Z0011 | D8: 제어기 주기조정(프로그램) | E8: 프로그램 | F8: 식 | G8: 1 | AH8: =G8*H8 -> 0
D9: (합 계)
A11: MM067286547 | B11: 00101 | C11: 391115ZZ701Z0013
A12: MM056642455 | B12: 00101 | C12: 391115ZZ701Z0012 | D12: 1-2. 횡단보도 개선
A13: MM067286545 | B13: 00101 | C13: 391115ZZ701Z0027 | D13: 보행철주 기초 설치(Φ139.8) | F13: 개 | G13: 2
D14: 보행철주 설치 | F14: 본 | G14: 2 | AJ14: =TRUNC(SUM(AJ4:AJ13)) -> 0
D15: 보행등기구 설치(SET) | F15: 조 | G15: 2
D16: 신호케이블 설치(지중-1선) | F16: m | G16: 26
D17: 신호케이블 설치(가공-1선) | F17: m | G17: 31
D18: 조가선 설치 | F18: m | G18: 31
D19: 턴버클 설치 | F19: 개 | G19: 2
D20: (합 계)
B29: 합계줄

Sheet 합산자재
A1: 총줄수-> | B1: 55 | C1: [ 노후 교통신호기 개선 및 이설공사 ] - 합산자재목록
A2: 번호 | B2: … | C2: 코드 | D2: 명 칭 | E2: 규 격 | F2: 단위 | G2: 수량 | H2: 재료비 | I2: 노무비 | J2: 경비 | K2: 지급비 | L2: 계 | M2: 비고
C4: 391115ZZ701Z0001 | D4: LED교통신호등-교체 | E4: 1면 3색(좌회전) | F4: EA | G4: 4 | H4: =TRUNC(#REF!*옵션!$D$11) -> #REF! | L4: =SUM(H4,I4,J4) -> #REF!
C5: 391115ZZ701Z0002 | D5: LED교통신호등-교체 | E5: 1면 3색(진행) | F5: EA | G5: 2 | H5: =TRUNC(#REF!*옵션!$D$11) -> #REF! | L5: =SUM(H5,I5,J5) -> #REF!
C6: 391115ZZ701Z0003 | D6: LED교통신호등-교체 | E6: 1면 4색(진행) | F6: EA | G6: 2 | H6: =TRUNC(#REF!*옵션!$D$11) -> #REF! | L6: =SUM(H6,I6,J6) -> #REF!
C7: 391115ZZ701Z0004 | D7: LED교통신호등-교체 | E7: 3색 보행등(잔여표시기-숫자) | F7: EA | G7: 5 | H7: =TRUNC(#REF!*옵션!$D$11) -> #REF! | L7: =SUM(H7,I7,J7) -> #REF!
C8: 391115ZZ701Z0005 | D8: LED 교통신호등-철거 | E8: (3색) | F8: EA | G8: 6 | H8: =TRUNC(#REF!*옵션!$D$11) -> #REF! | L8: =SUM(H8,I8,J8) -> #REF!
C9: 391115ZZ701Z0006 | D9: LED 교통신호등-철거 | E9: (4색) | F9: EA | G9: 2 | H9: =TRUNC(#REF!*옵션!$D$11) -> #REF! | L9: =SUM(H9,I9,J9) -> #REF!
C10: 391115ZZ701Z0007 | D10: LED 교통신호 보행등-철거 | E10: 2색 | F10: EA | G10: 5 | H10: =TRUNC(#REF!*옵션!$D$11) -> #REF! | L10: =SUM(H10,I10,J10) -> #REF!
C11: 391115ZZ701Z0008 | D11: PE난연케이블-옥외 | E11: 0.6/1kv F-CV 3C×4㎟ | F11: m | G11: 95 | H11: =TRUNC(#REF!*옵션!$D$11) -> #REF! | L11: =SUM(H11,I11,J11) -> #REF!
C12: 391115ZZ701Z0009 | D12: 교통신호제어기 | E12: 일반형(자립형) | F12: 면 | G12: 1 | H12: =TRUNC(#REF!*옵션!$D$11) -> #REF! | L12: =SUM(H12,I12,J12) -> #REF!
C13: 391115ZZ701Z0010 | D13: 교통신호 제어기-철거 | E13: (자립형) | F13: EA | G13: 1 | H13: =TRUNC(#REF!*옵션!$D$11) -> #REF! | L13: =SUM(H13,I13,J13) -> #REF!
C14: 391115ZZ701Z0011 | D14: 난연제어케이블 | E14: F-CVV + 1.5_㎟/5c | F14: m | G14: 428 | H14: =TRUNC(#REF!*옵션!$D$11) -> #REF! | L14: =SUM(H14,I14,J14) -> #REF!
C15: 391115ZZ701Z0012 | D15: 보행철주-교체 | E15: 125φx6m | F15: 본 | G15: 2 | H15: =TRUNC(#REF!*옵션!$D$11) -> #REF! | L15: =SUM(H15,I15,J15) -> #REF!
... C30: 391115ZZ701Z0027 | D30: 횡단보도 투광등 -철거후 재설치 | E30: LED 200W(5구) | F30: EA | G30: 2 | H30: =TRUNC(#REF!*옵션!$D$11) -> #REF! | L30: =SUM(H30,I30,J30) -> #REF!
C31: 391115ZZ701Z0028 | D31: U볼트(조가선용 고정클립) | E31: SUS(10mm) | F31: EA | G31: 8 | L31: =SUM(H31,I31,J31) -> 0
L32: =SUM(H32,I32,J32) -> 0
L33: =SUM(H33,I33,J33) -> 0
L34: =SUM(H34,I34,J34) -> 0
L35: =SUM(H35,I35,J35) -> 0
L36: =SUM(H36,I36,J36) -> 0
L37: =SUM(H37,I37,J37) -> 0
L38: =SUM(H38,I38,J38) -> 0
L39: =SUM(H39,I39,J39) -> 0
L40: =SUM(H40,I40,J40) -> 0
L41: =SUM(H41,I41,J41) -> 0
L42: =SUM(H42,I42,J42) -> 0
L43: =SUM(H43,I43,J43) -> 0
... L55: =SUM(H55,I55,J55) -> 0

Sheet 옵션
B1: 재료비 | C1: 노무비 | D1: 경비 | F1: 계
A2: 총 급 액 | B2: =#REF! -> #REF! | C2: =#REF! -> #REF! | D2: =#REF! -> #REF! | F2: =SUM(B2,C2,D2) -> #REF!
A3: 관급 자재비 | F3: =SUM(B3,C3,D3) -> 0 | H3: 금액조정이 안되나요?
H6: 이지테크에서 변환할 때 2번 옵션을 지정하여 다시 해보세요
H9: 시트를 삭제할 때 에러가 뜨면 1번 옵션으로 하면 됩니다.
B10: 적용율(%) | C10: 끝자리 | D10: 적용율(%)/100 | E10: 일위대가소수
A11: 전체자재 적용율(%)(공종/일위대가) | B11: 100 | C11: 1 | D11: =$B$11/100 -> 1
A12: 전체노임 적용율(%)(공종) | B12: 100 | C12: 1 | D12: =$B$12/100 -> 1 | E12: 2 | H12: 2번 옵션으로 변환했을 때에는 결과값이 다를 수 있습니다.
A13: 전체노임 적용율(%)(일위대가) | B13: 100 | C13: 1 | D13: =$B$13/100 -> 1 | E13: 5
A20: *(그룹별 자재 단가 추가 할증)* | B20: 적용율(%) | D20: 적용율(%)/100
A21: Cable(CAB) 할증(%) | B21: =B11 -> 100 | D21: =$B$21/100 -> 1
A22: Wire (WIR) 할증(%) | B22: =B11 -> 100 | D22: =$B$22/100 -> 1
A23: Pipe (PIP) 할증(%) | B23: =B11 -> 100 | D23: =$B$23/100 -> 1
A24: 제 4그룹 할증(%) | B24: =B11 -> 100 | D24: =$B$24/100 -> 1
A25: 제 5그룹 할증(%) | B25: =B11 -> 100 | D25: =$B$25/100 -> 1
A30: *(그룹별 노임 추가 할증)* | B30: 적용율(%) | C30: 자동부속재(전기) | D30: 자동부속재(통신)
A31: 배관부속재(%) | B31: 15 | C31: 15 | D31: 20
A32: CD관부속재(%) | B32: 40 | C32: 40 | D32: 40
A33: 소모잡자재(%) | B33: 2 | H33: 본 파일은 이지테크에서 2번 옵션으로 만들었습니다.
A34: 방폭할증(%)
A35: 고소할증(%) | B35: 2
A36: 공구손료(%) | B36: 3
A40: *(공종별 노임 적용율(%))* | B40: 적용율(%) | C40: 소수자릿수
A41: 1-1.노후 교통신호기 개선 및 이설 | B41: 100 | C41: 5

Sheet 사용설명
B1: ** 반드시 다음 사항을 숙지하신 다음 수정 작업을 하십시오 **
A2: 1. | B2: 속성이 숫자인 셀을 삭제할 때는 반드시 'Delete' 키를 사용하십시오.
B3: **주의:'Space Bar' 로 지웠을 때는 '#Value' Error가 발생됩니다.
A4: 2. | B4: 일위대가(을지)는 소수점 처리 때문에 셀 속성을 '일반'으로 하였습니다.(소수점 능동 처리)
B5: **참고: (수량*단가)의 결과는 소수 한자리, 금액을 취합한 소계는 1원 이하 절사입니다.
A6: 3. | B6: 내역서에서는 수량에만 셀 속성을 '일반'으로 하였습니다.(소수점 능동 처리)
A7: 4. | B7: 단가수정은 '단가조사서'시트 에서 하십시오.
B8: a)표지와 원가 -> 총괄표 -> 내역서 ->일위대가와 합산자재 ->단가조사서 를 참조하고
B9: 있으므로 단가조사서의 결정단가를 수정하면 전체 금액이 갱신됩니다.
B10: **주의: 금액란은 공식이 걸려있으므로 조심하여 수정하십시오.
B11: b)전체 자재를 일정 요율(%)로 변경할 때는 옵션시트의 자재 적용율을 조정하면 됩니다.
A12: 5. | B12: 노임 단가는 '단가조사서'시트에서 품셈은 '노임근거'시트에서 수정하십시오.
B13: a)전체 노임을 일정 요율(%)로 변경할 때는 '옵션시트'의 전체노임 적용율을 조정하면 됩니다.
B14: b)공종별로 노임을 수정하려면 '옵션시트'의 공종별 노임 적용율을 조정하면 됩니다.
B15: c)케이블 및 전선 자재 단가를 추가로 조정하려면 그룹별 자재 적용율을 조정하면 됩니다.
B16: 그룹은 견적 프로그램에서 엑셀파일이 만들어질때 지정됩니다.
A17: 6. | B17: 겉표지의 모든 정보는 표지를 참조하였습니다.(정보 수정은 표지에서만 하시면 됩니다.)
A18: 7. | B18: 필수 :본 프로그램의 총 금액을 확인한 후 사용하십시오.
A19: 8. | B19: 본 파일의 내용을 인쇄할 경우, 미리보기를 통하여 페이지 절선을 확인 후 인쇄하십시오.
A20: 9. | B20: 관급자재 Sheet가 해당이 없을 경우엔 삭제하십시오.
A21: 10. | B21: 페이지 절선이 맞지 않으면 다음을 참고하십시오.
B33: a. 해당시트의 셀 전체를 선택합니다.
B34: b. 행높이를 적절히 가감하면 페이지 절선을 맞출 수 있습니다.
