Workbook

Sheet 원가계산서
B1: 공 사 원 가 계 산 서
B2: 공사명 : 부산강서고등학교 고교학점제 공간조성사업
B3: 비 목 | E3: 금 액 | F3: 구 성 비 | G3: 비 고
A4: A1 | B4: 순 공 사 원 가 | C4: 재 료 비 | D4: 직 접 재 료 비 | E4: =TRUNC(공종별집계표!F5, 0) -> 0
A5: A2 | D5: 간 접 재 료 비 | E5: 0
A6: A3 | D6: 작업설, 부산물(△) | E6: 0
A7: AS | D7: [ 소 계 ] | E7: =TRUNC(E4+E5-E6, 0) -> 0
A8: B1 | C8: 노 무 비 | D8: 직 접 노 무 비 | E8: =TRUNC(공종별집계표!H5, 0) -> 0
A9: B2 | D9: 간 접 노 무 비 | E9: =TRUNC(E8*0.175, 0) -> 0 | F9: 직접노무비 * 17.5% | G9: 공사기간6개월이하
A10: BS | D10: [ 소 계 ] | E10: =TRUNC(E8+E9, 0) -> 0
A11: C2 | C11: 경 비 | D11: 경 비 | E11: =TRUNC(공종별집계표!J5, 0) -> 0
A12: C4 | D12: 산 재 보 험 료 | E12: =TRUNC(E10*0.0356, 0) -> 0 | F12: 노무비 * 3.56%
A13: C5 | D13: 고 용 보 험 료 | E13: =TRUNC(E10*0.0101, 0) -> 0 | F13: 노무비 * 1.01%
A14: C6 | D14: 국민 건강 보험료 | E14: =TRUNC(E8*0.03595, 0) -> 0 | F14: 직접노무비 * 3.595% | G14: 1개월이상공사
A15: C7 | D15: 국민 연금 보험료 | E15: =TRUNC(E8*0.0475, 0) -> 0 | F15: 직접노무비 * 4.75% | G15: 1개월이상공사
A16: C8 | D16: 퇴직 공제 부금비 | E16: =TRUNC(E8*0.023, 0) -> 0 | F16: 직접노무비 * 2.3% | G16: 추정금액1억이상
A17: CA | D17: 산업안전보건관리비 | E17: =TRUNC((E7+E8+(E34/1.1))*0.0311, 0) -> 0 | F17: (재료비+직노+도급자관급자재비) * 3.11% | G17: 대상액5억미만
A18: CB | D18: 노인장기요양보험료 | E18: =TRUNC(E14*0.1314, 0) -> 0 | F18: 건강보험료 * 13.14% | G18: 1개월이상공사
A19: CG | D19: 기 타 경 비 | E19: =TRUNC((E7+E10)*0.05, 0) -> 0 | F19: (재료비+노무비) * 5% | G19: 공사기간6개월이하
A20: CH | D20: 환 경 보 전 비 | E20: =TRUNC((E7+E8+E11)*0.003, 0) -> 0 | F20: (재료비+직노+경비) * 0.3%
A21: CK | D21: 하도급지급보증수수료 | E21: =TRUNC((E7+E8+E11)*0.00081, 0) -> 0 | F21: (재료비+직노+경비) * 0.081%
A22: CL | D22: 건설기계대여금지급보증서발급수수료 | E22: =TRUNC((E7+E8+E11)*0.0007, 0) -> 0 | F22: (재료비+직노+경비) * 0.07%
A23: CM | D23: 석 면 분 담 금 | E23: =TRUNC(E10*0.00006, 0) -> 0 | F23: 노무비 * 0.006%
A24: CN | D24: 임 금 채 권 부 담 금 | E24: =TRUNC(E10*0.0009, 0) -> 0 | F24: 노무비 * 0.09%
A25: CS | D25: [ 소 계 ] | E25: =TRUNC(E11+E12+E13+E14+E15+E16+E17+E18+E19+E20+E21+E22+E23+E24, 0) -> 0
A26: S1 | B26: 계 | E26: =TRUNC(E7+E10+E25, 0) -> 0
A27: D1 | B27: 일 반 관 리 비 | E27: =TRUNC(E26*0.08, 0) -> 0 | F27: 계 * 8%
A28: D2 | B28: 이 윤 | F28: (노무비+경비+일반관리비) * 15%
A29: D3 | B29: 건설폐기물처리비 | E29: =TRUNC(공종별집계표!T84, 0) -> 0
A30: D4 | B30: 고 재 처 리 비 | E30: =TRUNC(공종별집계표!T83, 0) -> 0
A31: D9 | B31: 공 급 가 액 | E31: =TRUNC(E26+E27+E28+E29+E30, 0) -> 0
A32: DB | B32: 부 가 가 치 세 | E32: =TRUNC(E31*0.1, 0) -> 0 | F32: 공급가액 * 10%
A33: DH | B33: 도 급 액 | E33: =TRUNC(E31+E32, 0) -> 0
A34: DJ | B34: 도급자관급자재비 | E34: =TRUNC(공종별집계표!T85, 0) -> 0
A35: DK | B35: 관급자관급자재비 | E35: =TRUNC(공종별집계표!T86, 0) -> 0
A36: S2 | B36: 총 공 사 비 | E36: =TRUNC(E33+E34+E35, 0) -> 0

Sheet 공종별집계표
A1: 공 종 별 집 계 표
A2: [ 부산강서고등학교 고교학점제 공간조성사업 ]
A3: 품 명 | B3: 규 격 | C3: 단위 | D3: 수량 | E3: 재 료 비 | G3: 노 무 비 | I3: 경 비 | K3: 합 계 | M3: 비 고 | N3: 공종코드 | O3: 변수 | P3: 상위공종 | Q3: 공종구분 | R3: 공종레벨 | S3: 공종소계 | T3: 원가계산서 연결금액
E4: 단 가 | F4: 금 액 | G4: 단 가 | H4: 금 액 | I4: 단 가 | J4: 금 액 | K4: 단 가 | L4: 금 액
A5: 01 부산강서고등학교 고교학점제 공간조성사업 | D5: 1 | E5: =F6+F18+F29+F40+F51+F61+F69+F82 -> 0 | F5: =E5*D5 -> 0 | G5: =H6+H18+H29+H40+H51+H61+H69+H82 -> 0 | H5: =G5*D5 -> 0 | I5: =J6+J18+J29+J40+J51+J61+J69+J82 -> 0 | J5: =I5*D5 -> 0 | K5: =E5+G5+I5 -> 0 | L5: =F5+H5+J5 -> 0 | N5: 01 | R5: 1
A6: 0101 ■시청각실■ | D6: 1 | E6: =F7+F8+F9+F10+F11+F12+F13+F14+F15+F16+F17 -> 0 | F6: =E6*D6 -> 0 | G6: =H7+H8+H9+H10+H11+H12+H13+H14+H15+H16+H17 -> 0 | H6: =G6*D6 -> 0 | I6: =J7+J8+J9+J10+J11+J12+J13+J14+J15+J16+J17 -> 0 | J6: =I6*D6 -> 0 | K6: =E6+G6+I6 -> 0 | L6: =F6+H6+J6 -> 0 | N6: 0101 | P6: 01 | R6: 2
A7: 010101 가 설 공 사 | D7: 1 | E7: =공종별내역서!F26 -> 0 | F7: =E7*D7 -> 0 | G7: =공종별내역서!H26 -> 0 | H7: =G7*D7 -> 0 | I7: =공종별내역서!J26 -> 0 | J7: =I7*D7 -> 0 | K7: =E7+G7+I7 -> 0 | L7: =F7+H7+J7 -> 0 | N7: 010101 | P7: 0101 | R7: 3
A8: 010102 철근콘크리트공사 | D8: 1 | E8: =공종별내역서!F49 -> 0 | F8: =E8*D8 -> 0 | G8: =공종별내역서!H49 -> 0 | H8: =G8*D8 -> 0 | I8: =공종별내역서!J49 -> 0 | J8: =I8*D8 -> 0 | K8: =E8+G8+I8 -> 0 | L8: =F8+H8+J8 -> 0 | N8: 010102 | P8: 0101 | R8: 3
A9: 010103 목 공 사 | D9: 1 | E9: =공종별내역서!F72 -> 0 | F9: =E9*D9 -> 0 | G9: =공종별내역서!H72 -> 0 | H9: =G9*D9 -> 0 | I9: =공종별내역서!J72 -> 0 | J9: =I9*D9 -> 0 | K9: =E9+G9+I9 -> 0 | L9: =F9+H9+J9 -> 0 | N9: 010103 | P9: 0101 | R9: 3
A10: 010104 수 장 공 사 | D10: 1 | E10: =공종별내역서!F95 -> 0 | F10: =E10*D10 -> 0 | G10: =공종별내역서!H95 -> 0 | H10: =G10*D10 -> 0 | I10: =공종별내역서!J95 -> 0 | J10: =I10*D10 -> 0 | K10: =E10+G10+I10 -> 0 | L10: =F10+H10+J10 -> 0 | N10: 010104 | P10: 0101 | R10: 3
A11: 010105 금 속 공 사 | D11: 1 | E11: =공종별내역서!F118 -> 0 | F11: =E11*D11 -> 0 | G11: =공종별내역서!H118 -> 0 | H11: =G11*D11 -> 0 | I11: =공종별내역서!J118 -> 0 | J11: =I11*D11 -> 0 | K11: =E11+G11+I11 -> 0 | L11: =F11+H11+J11 -> 0 | N11: 010105 | P11: 0101 | R11: 3
A12: 010106 미 장 공 사 | D12: 1 | E12: =공종별내역서!F141 -> 0 | F12: =E12*D12 -> 0 | G12: =공종별내역서!H141 -> 0 | H12: =G12*D12 -> 0 | I12: =공종별내역서!J141 -> 0 | J12: =I12*D12 -> 0 | K12: =E12+G12+I12 -> 0 | L12: =F12+H12+J12 -> 0 | N12: 010106 | P12: 0101 | R12: 3
A13: 010107 창호 및 유리공사 | D13: 1 | E13: =공종별내역서!F164 -> 0 | F13: =E13*D13 -> 0 | G13: =공종별내역서!H164 -> 0 | H13: =G13*D13 -> 0 | I13: =공종별내역서!J164 -> 0 | J13: =I13*D13 -> 0 | K13: =E13+G13+I13 -> 0 | L13: =F13+H13+J13 -> 0 | N13: 010107 | P13: 0101 | R13: 3
A14: 010108 칠 공 사 | D14: 1 | E14: =공종별내역서!F187 -> 0 | F14: =E14*D14 -> 0 | G14: =공종별내역서!H187 -> 0 | H14: =G14*D14 -> 0 | I14: =공종별내역서!J187 -> 0 | J14: =I14*D14 -> 0 | K14: =E14+G14+I14 -> 0 | L14: =F14+H14+J14 -> 0 | N14: 010108 | P14: 0101 | R14: 3
A15: 010109 골 재 비 | D15: 1 | E15: =공종별내역서!F210 -> 0 | F15: =E15*D15 -> 0 | G15: =공종별내역서!H210 -> 0 | H15: =G15*D15 -> 0 | I15: =공종별내역서!J210 -> 0 | J15: =I15*D15 -> 0 | K15: =E15+G15+I15 -> 0 | L15: =F15+H15+J15 -> 0 | N15: 010109 | P15: 0101 | R15: 3
A16: 010110 기 타 공 사 | D16: 1 | E16: =공종별내역서!F233 -> 0 | F16: =E16*D16 -> 0 | G16: =공종별내역서!H233 -> 0 | H16: =G16*D16 -> 0 | I16: =공종별내역서!J233 -> 0 | J16: =I16*D16 -> 0 | K16: =E16+G16+I16 -> 0 | L16: =F16+H16+J16 -> 0 | N16: 010110 | P16: 0101 | R16: 3
A17: 010111 철 거 공 사 | D17: 1 | E17: =공종별내역서!F256 -> 0 | F17: =E17*D17 -> 0 | G17: =공종별내역서!H256 -> 0 | H17: =G17*D17 -> 0 | I17: =공종별내역서!J256 -> 0 | J17: =I17*D17 -> 0 | K17: =E17+G17+I17 -> 0 | L17: =F17+H17+J17 -> 0 | N17: 010111 | P17: 0101 | R17: 3
A18: 0102 ■중앙현관■ | D18: 1 | E18: =F19+F20+F21+F22+F23+F24+F25+F26+F27+F28 -> 0 | F18: =E18*D18 -> 0 | G18: =H19+H20+H21+H22+H23+H24+H25+H26+H27+H28 -> 0 | H18: =G18*D18 -> 0 | I18: =J19+J20+J21+J22+J23+J24+J25+J26+J27+J28 -> 0 | J18: =I18*D18 -> 0 | K18: =E18+G18+I18 -> 0 | L18: =F18+H18+J18 -> 0 | N18: 0102 | P18: 01 | R18: 2
A19: 010201 가 설 공 사 | D19: 1 | E19: =공종별내역서!F279 -> 0 | F19: =E19*D19 -> 0 | G19: =공종별내역서!H279 -> 0 | H19: =G19*D19 -> 0 | I19: =공종별내역서!J279 -> 0 | J19: =I19*D19 -> 0 | K19: =E19+G19+I19 -> 0 | L19: =F19+H19+J19 -> 0 | N19: 010201 | P19: 0102 | R19: 3
A20: 010202 목 공 사 | D20: 1 | E20: =공종별내역서!F302 -> 0 | F20: =E20*D20 -> 0 | G20: =공종별내역서!H302 -> 0 | H20: =G20*D20 -> 0 | I20: =공종별내역서!J302 -> 0 | J20: =I20*D20 -> 0 | K20: =E20+G20+I20 -> 0 | L20: =F20+H20+J20 -> 0 | N20: 010202 | P20: 0102 | R20: 3
A21: 010203 수 장 공 사 | D21: 1 | E21: =공종별내역서!F325 -> 0 | F21: =E21*D21 -> 0 | G21: =공종별내역서!H325 -> 0 | H21: =G21*D21 -> 0 | I21: =공종별내역서!J325 -> 0 | J21: =I21*D21 -> 0 | K21: =E21+G21+I21 -> 0 | L21: =F21+H21+J21 -> 0 | N21: 010203 | P21: 0102 | R21: 3
A22: 010204 방 수 공 사 | D22: 1 | E22: =공종별내역서!F348 -> 0 | F22: =E22*D22 -> 0 | G22: =공종별내역서!H348 -> 0 | H22: =G22*D22 -> 0 | I22: =공종별내역서!J348 -> 0 | J22: =I22*D22 -> 0 | K22: =E22+G22+I22 -> 0 | L22: =F22+H22+J22 -> 0 | N22: 010204 | P22: 0102 | R22: 3
A23: 010205 금 속 공 사 | D23: 1 | E23: =공종별내역서!F371 -> 0 | F23: =E23*D23 -> 0 | G23: =공종별내역서!H371 -> 0 | H23: =G23*D23 -> 0 | I23: =공종별내역서!J371 -> 0 | J23: =I23*D23 -> 0 | K23: =E23+G23+I23 -> 0 | L23: =F23+H23+J23 -> 0 | N23: 010205 | P23: 0102 | R23: 3
A24: 010206 미 장 공 사 | D24: 1 | E24: =공종별내역서!F394 -> 0 | F24: =E24*D24 -> 0 | G24: =공종별내역서!H394 -> 0 | H24: =G24*D24 -> 0 | I24: =공종별내역서!J394 -> 0 | J24: =I24*D24 -> 0 | K24: =E24+G24+I24 -> 0 | L24: =F24+H24+J24 -> 0 | N24: 010206 | P24: 0102 | R24: 3
A25: 010207 창호 및 유리공사 | D25: 1 | E25: =공종별내역서!F417 -> 0 | F25: =E25*D25 -> 0 | G25: =공종별내역서!H417 -> 0 | H25: =G25*D25 -> 0 | I25: =공종별내역서!J417 -> 0 | J25: =I25*D25 -> 0 | K25: =E25+G25+I25 -> 0 | L25: =F25+H25+J25 -> 0 | N25: 010207 | P25: 0102 | R25: 3
A26: 010208 칠 공 사 | D26: 1 | E26: =공종별내역서!F440 -> 0 | F26: =E26*D26 -> 0 | G26: =공종별내역서!H440 -> 0 | H26: =G26*D26 -> 0 | I26: =공종별내역서!J440 -> 0 | J26: =I26*D26 -> 0 | K26: =E26+G26+I26 -> 0 | L26: =F26+H26+J26 -> 0 | N26: 010208 | P26: 0102 | R26: 3
A27: 010209 골 재 비 | D27: 1 | E27: =공종별내역서!F463 -> 0 | F27: =E27*D27 -> 0 | G27: =공종별내역서!H463 -> 0 | H27: =G27*D27 -> 0 | I27: =공종별내역서!J463 -> 0 | J27: =I27*D27 -> 0 | K27: =E27+G27+I27 -> 0 | L27: =F27+H27+J27 -> 0 | N27: 010209 | P27: 0102 | R27: 3
A28: 010210 철 거 공 사 | D28: 1 | E28: =공종별내역서!F486 -> 0 | F28: =E28*D28 -> 0 | G28: =공종별내역서!H486 -> 0 | H28: =G28*D28 -> 0 | I28: =공종별내역서!J486 -> 0 | J28: =I28*D28 -> 0 | K28: =E28+G28+I28 -> 0 | L28: =F28+H28+J28 -> 0 | N28: 010210 | P28: 0102 | R28: 3
A29: 0103 ■음악실■ | D29: 1 | E29: =F30+F31+F32+F33+F34+F35+F36+F37+F38+F39 -> 0 | F29: =E29*D29 -> 0 | G29: =H30+H31+H32+H33+H34+H35+H36+H37+H38+H39 -> 0 | H29: =G29*D29 -> 0 | I29: =J30+J31+J32+J33+J34+J35+J36+J37+J38+J39 -> 0 | J29: =I29*D29 -> 0 | K29: =E29+G29+I29 -> 0 | L29: =F29+H29+J29 -> 0 | N29: 0103 | P29: 01 | R29: 2
A30: 010301 가 설 공 사 | D30: 1 | E30: =공종별내역서!F509 -> 0 | F30: =E30*D30 -> 0 | G30: =공종별내역서!H509 -> 0 | H30: =G30*D30 -> 0 | I30: =공종별내역서!J509 -> 0 | J30: =I30*D30 -> 0 | K30: =E30+G30+I30 -> 0 | L30: =F30+H30+J30 -> 0 | N30: 010301 | P30: 0103 | R30: 3
A31: 010302 목 공 사 | D31: 1 | E31: =공종별내역서!F532 -> 0 | F31: =E31*D31 -> 0 | G31: =공종별내역서!H532 -> 0 | H31: =G31*D31 -> 0 | I31: =공종별내역서!J532 -> 0 | J31: =I31*D31 -> 0 | K31: =E31+G31+I31 -> 0 | L31: =F31+H31+J31 -> 0 | N31: 010302 | P31: 0103 | R31: 3
A32: 010303 수 장 공 사 | D32: 1 | E32: =공종별내역서!F555 -> 0 | F32: =E32*D32 -> 0 | G32: =공종별내역서!H555 -> 0 | H32: =G32*D32 -> 0 | I32: =공종별내역서!J555 -> 0 | J32: =I32*D32 -> 0 | K32: =E32+G32+I32 -> 0 | L32: =F32+H32+J32 -> 0 | N32: 010303 | P32: 0103 | R32: 3
A33: 010304 방 수 공 사 | D33: 1 | E33: =공종별내역서!F578 -> 0 | F33: =E33*D33 -> 0 | G33: =공종별내역서!H578 -> 0 | H33: =G33*D33 -> 0 | I33: =공종별내역서!J578 -> 0 | J33: =I33*D33 -> 0 | K33: =E33+G33+I33 -> 0 | L33: =F33+H33+J33 -> 0 | N33: 010304 | P33: 0103 | R33: 3
A34: 010305 금 속 공 사 | D34: 1 | E34: =공종별내역서!F601 -> 0 | F34: =E34*D34 -> 0 | G34: =공종별내역서!H601 -> 0 | H34: =G34*D34 -> 0 | I34: =공종별내역서!J601 -> 0 | J34: =I34*D34 -> 0 | K34: =E34+G34+I34 -> 0 | L34: =F34+H34+J34 -> 0 | N34: 010305 | P34: 0103 | R34: 3
A35: 010306 미 장 공 사 | D35: 1 | E35: =공종별내역서!F624 -> 0 | F35: =E35*D35 -> 0 | G35: =공종별내역서!H624 -> 0 | H35: =G35*D35 -> 0 | I35: =공종별내역서!J624 -> 0 | J35: =I35*D35 -> 0 | K35: =E35+G35+I35 -> 0 | L35: =F35+H35+J35 -> 0 | N35: 010306 | P35: 0103 | R35: 3
A36: 010307 창호 및 유리공사 | D36: 1 | E36: =공종별내역서!F647 -> 0 | F36: =E36*D36 -> 0 | G36: =공종별내역서!H647 -> 0 | H36: =G36*D36 -> 0 | I36: =공종별내역서!J647 -> 0 | J36: =I36*D36 -> 0 | K36: =E36+G36+I36 -> 0 | L36: =F36+H36+J36 -> 0 | N36: 010307 | P36: 0103 | R36: 3
A37: 010308 칠 공 사 | D37: 1 | E37: =공종별내역서!F670 -> 0 | F37: =E37*D37 -> 0 | G37: =공종별내역서!H670 -> 0 | H37: =G37*D37 -> 0 | I37: =공종별내역서!J670 -> 0 | J37: =I37*D37 -> 0 | K37: =E37+G37+I37 -> 0 | L37: =F37+H37+J37 -> 0 | N37: 010308 | P37: 0103 | R37: 3
A38: 010309 골 재 비 | D38: 1 | E38: =공종별내역서!F693 -> 0 | F38: =E38*D38 -> 0 | G38: =공종별내역서!H693 -> 0 | H38: =G38*D38 -> 0 | I38: =공종별내역서!J693 -> 0 | J38: =I38*D38 -> 0 | K38: =E38+G38+I38 -> 0 | L38: =F38+H38+J38 -> 0 | N38: 010309 | P38: 0103 | R38: 3
A39: 010310 철 거 공 사 | D39: 1 | E39: =공종별내역서!F716 -> 0 | F39: =E39*D39 -> 0 | G39: =공종별내역서!H716 -> 0 | H39: =G39*D39 -> 0 | I39: =공종별내역서!J716 -> 0 | J39: =I39*D39 -> 0 | K39: =E39+G39+I39 -> 0 | L39: =F39+H39+J39 -> 0 | N39: 010310 | P39: 0103 | R39: 3
A40: 0104 ■소인수강의실■ | D40: 1 | E40: =F41+F42+F43+F44+F45+F46+F47+F48+F49+F50 -> 0 | F40: =E40*D40 -> 0 | G40: =H41+H42+H43+H44+H45+H46+H47+H48+H49+H50 -> 0 | H40: =G40*D40 -> 0 | I40: =J41+J42+J43+J44+J45+J46+J47+J48+J49+J50 -> 0 | J40: =I40*D40 -> 0 | K40: =E40+G40+I40 -> 0 | L40: =F40+H40+J40 -> 0 | N40: 0104 | P40: 01 | R40: 2
...

Sheet 공종별내역서
A1: [ 부산강서고등학교 고교학점제 공간조성사업 ]
A2: 품 명 | B2: 규 격 | C2: 단위 | D2: 수량 | E2: 재 료 비 | G2: 노 무 비 | I2: 경 비 | K2: 합 계 | M2: 비 고 | N2: 품목코드 | O2: 변수 | P2: 설정 | Q2: 공종코드 | R2: 일위 | S2: 단산 | T2: 자재 | U2: 손료적용 | V2: 손료저장 | W2: 적용율 | X2: JUK1 | Y2: JUK2 | Z2: JUK3 | AA2: JUK4 | AB2: JUK5 | AC2: JUK6 | AD2: JUK7 | AE2: JUK8 | AF2: JUK9 | AG2: JUK10 | AH2: JUK11 | AI2: JUK12 | AJ2: JUK13 | AK2: JUK14 | AL2: JUK15 | AM2: JUK16 | AN2: JUK17 | AO2: JUK18 | AP2: JUK19 | AQ2: JUK20 | AR2: 자재구분 | AS2: 공종구분 | AT2: 공종레벨 | AU2: 공종+자재 | AV2: 고유번호
E3: 단 가 | F3: 금 액 | G3: 단 가 | H3: 금 액 | I3: 단 가 | J3: 금 액 | K3: 단 가 | L3: 금 액
A4: 010101 가 설 공 사 | B4: ■시청각실■ | Q4: 010101
A5: 공사용가설합판설치해체 | B5: 벽체틀+4.8T보통합판 | C5: M2 | D5: 6 | E5: =TRUNC(일위대가목록!E4,0) -> 0 | F5: =TRUNC(E5*D5, 0) -> 0 | G5: =TRUNC(일위대가목록!F4,0) -> 0 | H5: =TRUNC(G5*D5, 0) -> 0 | I5: =TRUNC(일위대가목록!G4,0) -> 0 | J5: =TRUNC(I5*D5, 0) -> 0 | K5: =TRUNC(E5+G5+I5, 0) -> 0 | L5: =TRUNC(F5+H5+J5, 0) -> 0 | M5: 호표 1 | N5: 44F83CA6E32929512738148F68208 | Q5: 010101 | R5: T | S5: F | T5: F | AU5: 01010144F83CA6E32929512738148F68208 | AV5: 4
A6: 콘테이너형 가설사무소 설치 및 해체 | B6: 3.0*6.0m, 6개월 | C6: 개소 | D6: 1 | E6: =TRUNC(일위대가목록!E5,0) -> 0 | F6: =TRUNC(E6*D6, 0) -> 0 | G6: =TRUNC(일위대가목록!F5,0) -> 0 | H6: =TRUNC(G6*D6, 0) -> 0 | I6: =TRUNC(일위대가목록!G5,0) -> 0 | J6: =TRUNC(I6*D6, 0) -> 0 | K6: =TRUNC(E6+G6+I6, 0) -> 0 | L6: =TRUNC(F6+H6+J6, 0) -> 0 | M6: 호표 2 | N6: 44F83CA6D28D19BBA90DBD8DCFCC3 | Q6: 010101 | R6: T | S6: F | T6: F | AU6: 01010144F83CA6D28D19BBA90DBD8DCFCC3 | AV6: 5
A7: 건축물 현장정리 | B7: 개수 | C7: M2 | D7: 170 | E7: =TRUNC(일위대가목록!E6,0) -> 0 | F7: =TRUNC(E7*D7, 0) -> 0 | G7: =TRUNC(일위대가목록!F6,0) -> 0 | H7: =TRUNC(G7*D7, 0) -> 0 | I7: =TRUNC(일위대가목록!G6,0) -> 0 | J7: =TRUNC(I7*D7, 0) -> 0 | K7: =TRUNC(E7+G7+I7, 0) -> 0 | L7: =TRUNC(F7+H7+J7, 0) -> 0 | M7: 호표 3 | N7: 44F83CA6B7C249599A751689AFCBA | Q7: 010101 | R7: T | S7: F | T7: F | AU7: 01010144F83CA6B7C249599A751689AFCBA | AV7: 6
A8: 기존바닥보양 | B8: 천막지(P.E탑지) | C8: M2 | D8: 83 | E8: =TRUNC(일위대가목록!E7,0) -> 0 | F8: =TRUNC(E8*D8, 0) -> 0 | G8: =TRUNC(일위대가목록!F7,0) -> 0 | H8: =TRUNC(G8*D8, 0) -> 0 | I8: =TRUNC(일위대가목록!G7,0) -> 0 | J8: =TRUNC(I8*D8, 0) -> 0 | K8: =TRUNC(E8+G8+I8, 0) -> 0 | L8: =TRUNC(F8+H8+J8, 0) -> 0 | M8: 호표 4 | N8: 44F83CA6B7FF69CB390CC380690AD | Q8: 010101 | R8: T | S8: F | T8: F | AU8: 01010144F83CA6B7FF69CB390CC380690AD | AV8: 7
A9: 준공청소 | C9: M2 | D9: 170 | E9: =TRUNC(일위대가목록!E8,0) -> 0 | F9: =TRUNC(E9*D9, 0) -> 0 | G9: =TRUNC(일위대가목록!F8,0) -> 0 | H9: =TRUNC(G9*D9, 0) -> 0 | I9: =TRUNC(일위대가목록!G8,0) -> 0 | J9: =TRUNC(I9*D9, 0) -> 0 | K9: =TRUNC(E9+G9+I9, 0) -> 0 | L9: =TRUNC(F9+H9+J9, 0) -> 0 | M9: 호표 5 | N9: 44F83CA6B796F98B9F80F38E40C2A | Q9: 010101 | R9: T | S9: F | T9: F | AU9: 01010144F83CA6B796F98B9F80F38E40C2A | AV9: 8
A10: 이동식강관말비계 | B10: 1단(2m), 3개월 | C10: 대 | D10: 2 | E10: =TRUNC(일위대가목록!E9,0) -> 0 | F10: =TRUNC(E10*D10, 0) -> 0 | G10: =TRUNC(일위대가목록!F9,0) -> 0 | H10: =TRUNC(G10*D10, 0) -> 0 | I10: =TRUNC(일위대가목록!G9,0) -> 0 | J10: =TRUNC(I10*D10, 0) -> 0 | K10: =TRUNC(E10+G10+I10, 0) -> 0 | L10: =TRUNC(F10+H10+J10, 0) -> 0 | M10: 호표 6 | N10: 44B73316D0C8C9DF19514082134CC | Q10: 010101 | R10: T | S10: F | T10: F | AU10: 01010144B73316D0C8C9DF19514082134CC | AV10: 9
Q11: 010101
Q12: 010101
Q13: 010101
Q14: 010101
Q15: 010101
Q16: 010101
Q17: 010101
Q18: 010101
Q19: 010101
Q20: 010101
Q21: 010101
Q22: 010101
... Q25: 010101
A26: [ 합 계 ] | F26: =SUMIF(Q5:Q25,"010101",F5:F25) -> 0 | H26: =SUMIF(Q5:Q25,"010101",H5:H25) -> 0 | J26: =SUMIF(Q5:Q25,"010101",J5:J25) -> 0 | L26: =SUMIF(Q5:Q25,"010101",L5:L25) -> 0 | N26: TOTAL
A27: 010102 철근콘크리트공사 | B27: ■시청각실■ | Q27: 010102
A28: 레미콘 - 부산 | B28: 25-18-15 | C28: M3 | D28: 19 | E28: =TRUNC(단가대비표!O43,0) -> 0 | F28: =TRUNC(E28*D28, 0) -> 0 | G28: =TRUNC(단가대비표!P43,0) -> 0 | H28: =TRUNC(G28*D28, 0) -> 0 | I28: =TRUNC(단가대비표!V43,0) -> 0 | J28: =TRUNC(I28*D28, 0) -> 0 | K28: =TRUNC(E28+G28+I28, 0) -> 0 | L28: =TRUNC(F28+H28+J28, 0) -> 0 | N28: 43DA34D6529869CC6EB27B828DB28DAB440E4 | Q28: 010102 | R28: F | S28: F | T28: T | AU28: 01010243DA34D6529869CC6EB27B828DB28DAB440E4 | AV28: 11
A29: 합판거푸집 설치 및 해체 | B29: 복잡 3회, 수직고 7m까지 | C29: M2 | D29: 9 | E29: =TRUNC(일위대가목록!E10,0) -> 0 | F29: =TRUNC(E29*D29, 0) -> 0 | G29: =TRUNC(일위대가목록!F10,0) -> 0 | H29: =TRUNC(G29*D29, 0) -> 0 | I29: =TRUNC(일위대가목록!G10,0) -> 0 | J29: =TRUNC(I29*D29, 0) -> 0 | K29: =TRUNC(E29+G29+I29, 0) -> 0 | L29: =TRUNC(F29+H29+J29, 0) -> 0 | M29: 호표 7 | N29: 44F83976AE93A9DE883BB684C6EEF | Q29: 010102 | R29: T | S29: F | T29: F | AU29: 01010244F83976AE93A9DE883BB684C6EEF | AV29: 12
A30: 레디믹스트콘크리트 인력운반 타설 | B30: 무근구조물 | C30: M3 | D30: 18 | E30: =TRUNC(일위대가목록!E11,0) -> 0 | F30: =TRUNC(E30*D30, 0) -> 0 | G30: =TRUNC(일위대가목록!F11,0) -> 0 | H30: =TRUNC(G30*D30, 0) -> 0 | I30: =TRUNC(일위대가목록!G11,0) -> 0 | J30: =TRUNC(I30*D30, 0) -> 0 | K30: =TRUNC(E30+G30+I30, 0) -> 0 | L30: =TRUNC(F30+H30+J30, 0) -> 0 | M30: 호표 8 | N30: 44F83976DBF469D3BB1C5F88DC6E6 | Q30: 010102 | R30: T | S30: F | T30: F | AU30: 01010244F83976DBF469D3BB1C5F88DC6E6 | AV30: 13
A31: 섬유보강재 | B31: 콘크리트보강섬유(타설시) | C31: M3 | D31: 18 | E31: =TRUNC(일위대가목록!E12,0) -> 0 | F31: =TRUNC(E31*D31, 0) -> 0 | G31: =TRUNC(일위대가목록!F12,0) -> 0 | H31: =TRUNC(G31*D31, 0) -> 0 | I31: =TRUNC(일위대가목록!G12,0) -> 0 | J31: =TRUNC(I31*D31, 0) -> 0 | K31: =TRUNC(E31+G31+I31, 0) -> 0 | L31: =TRUNC(F31+H31+J31, 0) -> 0 | M31: 호표 9 | N31: 44F83B56ABC0391D6D6F8F80BB4D6 | Q31: 010102 | R31: T | S31: F | T31: F | AU31: 01010244F83B56ABC0391D6D6F8F80BB4D6 | AV31: 14
Q32: 010102
Q33: 010102
Q34: 010102
Q35: 010102
Q36: 010102
Q37: 010102
Q38: 010102
Q39: 010102
Q40: 010102
Q41: 010102
Q42: 010102
...

Sheet 일위대가목록
B1: 일 위 대 가 목 록
B2: [ 부산강서고등학교 고교학점제 공간조성사업 ]
A3: 코 드 | B3: 품 명 | C3: 규 격 | D3: 단위 | E3: 재 료 비 | F3: 노 무 비 | G3: 경 비 | H3: 합 계 | I3: 번 호 | J3: 비 고 | K3: 노임계수 | L3: 할증 | M3: 품셈개요 | N3: 장비일위
A4: 44F83CA6E32929512738148F68208 | B4: 공사용가설합판설치해체 | C4: 벽체틀+4.8T보통합판 | D4: M2 | E4: =일위대가!F9 -> 0 | F4: =일위대가!H9 -> 0 | G4: =일위대가!J9 -> 0 | H4: =E4+F4+G4 -> 0 | I4: 호표 1
A5: 44F83CA6D28D19BBA90DBD8DCFCC3 | B5: 콘테이너형 가설사무소 설치 및 해체 | C5: 3.0*6.0m, 6개월 | D5: 개소 | E5: =일위대가!F15 -> 0 | F5: =일위대가!H15 -> 0 | G5: =일위대가!J15 -> 0 | H5: =E5+F5+G5 -> 0 | I5: 호표 2
A6: 44F83CA6B7C249599A751689AFCBA | B6: 건축물 현장정리 | C6: 개수 | D6: M2 | E6: =일위대가!F19 -> 0 | F6: =일위대가!H19 -> 0 | G6: =일위대가!J19 -> 0 | H6: =E6+F6+G6 -> 0 | I6: 호표 3
A7: 44F83CA6B7FF69CB390CC380690AD | B7: 기존바닥보양 | C7: 천막지(P.E탑지) | D7: M2 | E7: =일위대가!F24 -> 0 | F7: =일위대가!H24 -> 0 | G7: =일위대가!J24 -> 0 | H7: =E7+F7+G7 -> 0 | I7: 호표 4
A8: 44F83CA6B796F98B9F80F38E40C2A | B8: 준공청소 | D8: M2 | E8: =일위대가!F28 -> 0 | F8: =일위대가!H28 -> 0 | G8: =일위대가!J28 -> 0 | H8: =E8+F8+G8 -> 0 | I8: 호표 5
A9: 44B73316D0C8C9DF19514082134CC | B9: 이동식강관말비계 | C9: 1단(2m), 3개월 | D9: 대 | E9: =일위대가!F41 -> 0 | F9: =일위대가!H41 -> 0 | G9: =일위대가!J41 -> 0 | H9: =E9+F9+G9 -> 0 | I9: 호표 6
A10: 44F83976AE93A9DE883BB684C6EEF | B10: 합판거푸집 설치 및 해체 | C10: 복잡 3회, 수직고 7m까지 | D10: M2 | E10: =일위대가!F46 -> 0 | F10: =일위대가!H46 -> 0 | G10: =일위대가!J46 -> 0 | H10: =E10+F10+G10 -> 0 | I10: 호표 7
A11: 44F83976DBF469D3BB1C5F88DC6E6 | B11: 레디믹스트콘크리트 인력운반 타설 | C11: 무근구조물 | D11: M3 | E11: =일위대가!F52 -> 0 | F11: =일위대가!H52 -> 0 | G11: =일위대가!J52 -> 0 | H11: =E11+F11+G11 -> 0 | I11: 호표 8
A12: 44F83B56ABC0391D6D6F8F80BB4D6 | B12: 섬유보강재 | C12: 콘크리트보강섬유(타설시) | D12: M3 | E12: =일위대가!F57 -> 0 | F12: =일위대가!H57 -> 0 | G12: =일위대가!J57 -> 0 | H12: =E12+F12+G12 -> 0 | I12: 호표 9
A13: 44F834F68931C9FB00F75B863C7B8 | B13: 마루바탕 설치(내수합판) | C13: 12MM*1220*2440-2겹 | D13: M2 | E13: =일위대가!F62 -> 0 | F13: =일위대가!H62 -> 0 | G13: =일위대가!J62 -> 0 | H13: =E13+F13+G13 -> 0 | I13: 호표 10
A14: 44F834F6894269A180842A84EE6C4 | B14: 마루하지틀설치(H470) | C14: 50*50*2.0T 아연도@305*900,방진고무패드 | D14: M2 | E14: =일위대가!F67 -> 0 | F14: =일위대가!H67 -> 0 | G14: =일위대가!J67 -> 0 | H14: =E14+F14+G14 -> 0 | I14: 호표 11
A15: 44F834F6B66D59574D990E8D16E96 | B15: 벽,띠장설치(미송) | C15: 30*30*D100 @450*600,이중격자 | D15: M2 | E15: =일위대가!F72 -> 0 | F15: =일위대가!H72 -> 0 | G15: =일위대가!J72 -> 0 | H15: =E15+F15+G15 -> 0 | I15: 호표 12
A16: 44F834F6B66D59574D990E8D045C1 | B16: 목조 천정틀 설치(목공) | C16: 미송30*30, @300*600,H250 | D16: M2 | E16: =일위대가!F79 -> 0 | F16: =일위대가!H79 -> 0 | G16: =일위대가!J79 -> 0 | H16: =E16+F16+G16 -> 0 | I16: 호표 13
A17: 44F834F6B66D59574CF2838C090DE | B17: 벽,띠장설치(미송) | C17: 45*45, @450*600 | D17: M2 | E17: =일위대가!F85 -> 0 | F17: =일위대가!H85 -> 0 | G17: =일위대가!J85 -> 0 | H17: =E17+F17+G17 -> 0 | I17: 호표 14
A18: 44F834F6B66D59574CF2838C090DF | B18: 벽,띠장설치(미송) | C18: 45*45,D100 @450*600.이중격자 | D18: M2 | E18: =일위대가!F91 -> 0 | F18: =일위대가!H91 -> 0 | G18: =일위대가!J91 -> 0 | H18: =E18+F18+G18 -> 0 | I18: 호표 15
A19: 44F832A6831379FAEB73CD831B212 | B19: 벽,MDF 1겹설치 | C19: 중밀도섬유판, 9.0*1220*2440mm | D19: M2 | E19: =일위대가!F96 -> 0 | F19: =일위대가!H96 -> 0 | G19: =일위대가!J96 -> 0 | H19: =E19+F19+G19 -> 0 | I19: 호표 16
A20: 44F832A68348B9FD5E17758DB4059 | B20: 마루측판설치(H=500) | C20: 9MM MDF,2겹+방염필름 | D20: M | E20: =일위대가!F101 -> 0 | F20: =일위대가!H101 -> 0 | G20: =일위대가!J101 -> 0 | H20: =E20+F20+G20 -> 0 | I20: 호표 17
A21: 44F832A6835909203C431980A4E74 | B21: 목재창대설치 | C21: 라왕20*180/방염필름마감 | D21: M | E21: =일위대가!F107 -> 0 | F21: =일위대가!H107 -> 0 | G21: =일위대가!J107 -> 0 | H21: =E21+F21+G21 -> 0 | I21: 호표 18
A22: 44B73D263752B9227CE0B189E92DE | B22: 벽, 합판붙임 | C22: 일반 9mm | D22: M2 | E22: =일위대가!F112 -> 0 | F22: =일위대가!H112 -> 0 | G22: =일위대가!J112 -> 0 | H22: =E22+F22+G22 -> 0 | I22: 호표 19
A23: 44B73D263752B9227CE0B189FB9E4 | B23: 천장, 합판붙임 | C23: 일반 9.0mm | D23: M2 | E23: =일위대가!F117 -> 0 | F23: =일위대가!H117 -> 0 | G23: =일위대가!J117 -> 0 | H23: =E23+F23+G23 -> 0 | I23: 호표 20
A24: 44F832A6600679FEA491E28B68CA9 | B24: 실내벽체마감패널설치(주재료별도) | C24: HDC-FSA-15TL,흡음타공패널 | D24: M2 | E24: =일위대가!F123 -> 0 | F24: =일위대가!H123 -> 0 | G24: =일위대가!J123 -> 0 | H24: =E24+F24+G24 -> 0 | I24: 호표 21
A25: 44F834F6894269A181AB3481542D3 | B25: 플로어링 마루 설치 | C25: 22mm, 경질단풍나무(MAPLE), UV도장 | D25: M2 | E25: =일위대가!F129 -> 0 | F25: =일위대가!H129 -> 0 | G25: =일위대가!J129 -> 0 | H25: =E25+F25+G25 -> 0 | I25: 호표 22
A26: 44F834F6894269A181AB34812F20F | B26: 마루귀틀설치(라왕) | C26: 50*50, 방염락카4회 | D26: M | E26: =일위대가!F135 -> 0 | F26: =일위대가!H135 -> 0 | G26: =일위대가!J135 -> 0 | H26: =E26+F26+G26 -> 0 | I26: 호표 23
A27: 44F83146C64209B56A76AF8C198A2 | B27: 흑경 글라스 붙이기(강화) | C27: T=5mm 열전사솔리드 | D27: M2 | E27: =일위대가!F139 -> 0 | F27: =일위대가!H139 -> 0 | G27: =일위대가!J139 -> 0 | H27: =E27+F27+G27 -> 0 | I27: 호표 24
A28: 44F832A6AFCB599777BFF9868D0F7 | B28: 비닐타일 깔기(왁스코팅포함) | C28: 비닐타일, 3*450*450mm, 데코타일LG | D28: M2 | E28: =일위대가!F145 -> 0 | F28: =일위대가!H145 -> 0 | G28: =일위대가!J145 -> 0 | H28: =E28+F28+G28 -> 0 | I28: 호표 25
A29: 44F832A6832DC97BF454928084B25 | B29: 벽,석고판 설치(나사고정) | C29: 석고-1겹,9.5MM*900*1800 | D29: M2 | E29: =일위대가!F150 -> 0 | F29: =일위대가!H150 -> 0 | G29: =일위대가!J150 -> 0 | H29: =E29+F29+G29 -> 0 | I29: 호표 26
A30: 44F832A6832DC9783FC78887528CD | B30: 천장,석고판 2겹 설치 | C30: 9.5MM*900*1800 | D30: M2 | E30: =일위대가!F155 -> 0 | F30: =일위대가!H155 -> 0 | G30: =일위대가!J155 -> 0 | H30: =E30+F30+G30 -> 0 | I30: 호표 27
A31: 44F832A68348B9FF0CF403871AC13 | B31: 인테리어필름 붙임(방염,우드) | C31: 현장설치도 | D31: M2 | E31: =일위대가!F159 -> 0 | F31: =일위대가!H159 -> 0 | G31: =일위대가!J159 -> 0 | H31: =E31+F31+G31 -> 0 | I31: 호표 28
A32: 44F832A6600679FEA491E28B682D4 | B32: 벽,흠음제설치 | C32: 폴리에스터 충진재,24k-50t | D32: M2 | E32: =일위대가!F164 -> 0 | F32: =일위대가!H164 -> 0 | G32: =일위대가!J164 -> 0 | H32: =E32+F32+G32 -> 0 | I32: 호표 29
A33: 44B73D263737C9A21E14D780E0E07 | B33: 천정마감 | C33: 9.5T석고1겹+9TMDF+방염인테리어마감 | D33: M2 | E33: =일위대가!F170 -> 0 | F33: =일위대가!H170 -> 0 | G33: =일위대가!J170 -> 0 | H33: =E33+F33+G33 -> 0 | I33: 호표 30
A34: 44B73D263737C9A21E14D780E0D61 | B34: 천정마감 | C34: 9.5T석고1겹+12.5석고1겹 | D34: M2 | E34: =일위대가!F175 -> 0 | F34: =일위대가!H175 -> 0 | G34: =일위대가!J175 -> 0 | H34: =E34+F34+G34 -> 0 | I34: 호표 31
A35: 44B73D263737C9A21E14D780E0C5A | B35: 천정마감 | C35: 9.5T석고1겹+12.5유공흡음테파보드 | D35: M2 | E35: =일위대가!F180 -> 0 | F35: =일위대가!H180 -> 0 | G35: =일위대가!J180 -> 0 | H35: =E35+F35+G35 -> 0 | I35: 호표 32
A36: 44B73D26419C19577BF6F98128771 | B36: 바닥단열재시공 | C36: 압출발포폴리스티렌단열재, 0.02, 900*1800*50mm | D36: M2 | E36: =일위대가!F185 -> 0 | F36: =일위대가!H185 -> 0 | G36: =일위대가!J185 -> 0 | H36: =E36+F36+G36 -> 0 | I36: 호표 33
A37: 44F835E661B6A9579DFAEA889D8DB | B37: 스텐난간대설치 | C37: H=1000 , D25.4-1.5t@200 + D50.8-1.5t | D37: m | E37: =일위대가!F191 -> 0 | F37: =일위대가!H191 -> 0 | G37: =일위대가!J191 -> 0 | H37: =E37+F37+G37 -> 0 | I37: 호표 34
A38: 44F837264E6C492336132A85A572A | B38: 경량철골천장틀 설치 | C38: M-BAR(H-1M미만,기존스라브용) | D38: M2 | E38: =일위대가!F205 -> 0 | F38: =일위대가!H205 -> 0 | G38: =일위대가!J205 -> 0 | H38: =E38+F38+G38 -> 0 | I38: 호표 35
A39: 44F837264E4189B6FE8408866F315 | B39: 천장 히든점검구 설치 | C39: AL 백색, 450*450mm | D39: 개소 | E39: =일위대가!F213 -> 0 | F39: =일위대가!H213 -> 0 | G39: =일위대가!J213 -> 0 | H39: =E39+F39+G39 -> 0 | I39: 호표 36
A40: 44F831467F7F79DC4338E98D4D105 | B40: 흑경몰딩설치 | C40: 칼라1.5T(HL)=10+15+25 | D40: M | E40: =일위대가!F217 -> 0 | F40: =일위대가!H217 -> 0 | G40: =일위대가!J217 -> 0 | H40: =E40+F40+G40 -> 0 | I40: 호표 37
...

Sheet 일위대가
A1: [ 부산강서고등학교 고교학점제 공간조성사업 ]
A2: 품 명 | B2: 규 격 | C2: 단위 | D2: 수량 | M2: 비 고 | N2: 일위대가 | O2: 품목코드 | P2: 일위 | Q2: 단산 | R2: 자재 | S2: 손료적용 | T2: 손료저장 | U2: 적용율 | V2: JUK1 | W2: JUK2 | X2: JUK3 | Y2: JUK4 | Z2: JUK5 | AA2: JUK6 | AB2: JUK7 | AC2: JUK8 | AD2: JUK9 | AE2: JUK10 | AF2: JUK11 | AG2: JUK12 | AH2: JUK13 | AI2: JUK14 | AJ2: JUK15 | AK2: JUK16 | AL2: JUK17 | AM2: JUK18 | AN2: JUK19 | AO2: JUK20 | AP2: 할증적용 | AQ2: 할증저장 | AR2: 할증율 | AS2: HAL1 | AT2: HAL2 | AU2: HAL3 | AV2: 자재구분 | AW2: 일위대가+자재 | AX2: 장비일위 | AY2: 설정 | AZ2: 할증체크
A4: 공사용가설합판설치해체 벽체틀+4.8T보통합판 M2 ( 호표 1 ) | N4: 44F83CA6E32929512738148F68208
A5: 벽, 띠장설치(미송) | B5: 30*30, @450*900 | C5: M2 | D5: 1 | M5: 호표 144 | N5: 44F83CA6E32929512738148F68208 | O5: 44B73BD60983E92F5452D681C55B0 | P5: T | Q5: F | R5: F | AW5: 44F83CA6E32929512738148F6820844B73BD60983E92F5452D681C55B0
A6: 보통합판 | B6: 보통합판, 1급, 4.8*1220*2440mm | C6: M2 | D6: 1.05 | N6: 44F83CA6E32929512738148F68208 | O6: 43F530863573794AE0E2878A9840B1CEDF732 | P6: F | Q6: F | R6: T | AW6: 44F83CA6E32929512738148F6820843F530863573794AE0E2878A9840B1CEDF732
A7: 일반못 | B7: 일반못, 75mm | C7: kg | D7: 0.02 | N7: 44F83CA6E32929512738148F68208 | O7: 43DA35F6A028393581B4DA84F24C3539F1F78 | P7: F | Q7: F | R7: T | AW7: 44F83CA6E32929512738148F6820843DA35F6A028393581B4DA84F24C3539F1F78
A8: 보통인부 | B8: 일반공사 직종 | C8: 인 | D8: 0.03 | N8: 44F83CA6E32929512738148F68208 | O8: 442235068D967936DE5FCE83AFA0FE33CCFC3 | P8: F | Q8: F | R8: T | AW8: 44F83CA6E32929512738148F68208442235068D967936DE5FCE83AFA0FE33CCFC3
A9: [ 합 계 ] | N9: TOTAL | O9: TOTAL
A11: 콘테이너형 가설사무소 설치 및 해체 3.0*6.0m, 6개월 개소 ( 호표 2 ) | N11: 44F83CA6D28D19BBA90DBD8DCFCC3
A12: 컨테이너하우스 | B12: 컨테이너하우스, 사무실용, 3.0*6.0*2.6m | C12: 개 | D12: 0.23 | M12: 금액제외 | O12: 43DA34D66CC549F22373438DF198C9811098F | P12: F | Q12: F | R12: T | V12: 1 | AW12: 44F83CA6D28D19BBA90DBD8DCFCC343DA34D66CC549F22373438DF198C9811098F | AY12: -
A13: 콘테이너형 가설건축물 설치 및 해체 | B13: 3.0*6.0m | C13: 개소 | D13: 1 | M13: 금액제외 | O13: 44F83CA6D28D19BBA1376484A12D5 | P13: T | Q13: F | R13: F | V13: 1 | AW13: 44F83CA6D28D19BBA90DBD8DCFCC344F83CA6D28D19BBA1376484A12D5 | AY13: -
A14: 경비로 적용 | B14: 합계의 100% | C14: 식 | D14: 1 | N14: 44F83CA6D28D19BBA90DBD8DCFCC3 | O14: 45E032A6180659D6E902668D8A0001 | P14: F | Q14: F | R14: F | S14: 3 | T14: 2 | U14: 1 | AW14: 44F83CA6D28D19BBA90DBD8DCFCC345E032A6180659D6E902668D8A0001
A15: [ 합 계 ] | N15: TOTAL | O15: TOTAL
A17: 건축물 현장정리 개수 M2 ( 호표 3 ) | N17: 44F83CA6B7C249599A751689AFCBA
A18: 보통인부 | B18: 일반공사 직종 | C18: 인 | D18: 0.025 | N18: 44F83CA6B7C249599A751689AFCBA | O18: 442235068D967936DE5FCE83AFA0FE33CCFC3 | P18: F | Q18: F | R18: T | AW18: 44F83CA6B7C249599A751689AFCBA442235068D967936DE5FCE83AFA0FE33CCFC3
A19: [ 합 계 ] | N19: TOTAL | O19: TOTAL
A21: 기존바닥보양 천막지(P.E탑지) M2 ( 호표 4 ) | N21: 44F83CA6B7FF69CB390CC380690AD
A22: 천막지 | B22: P.E탑지 | C22: M2 | D22: 1.15 | N22: 44F83CA6B7FF69CB390CC380690AD | O22: 43DA34D652E0890442993288390ABCFCF915B | P22: F | Q22: F | R22: T | AW22: 44F83CA6B7FF69CB390CC380690AD43DA34D652E0890442993288390ABCFCF915B
A23: 보통인부 | B23: 일반공사 직종 | C23: 인 | D23: 0.01 | N23: 44F83CA6B7FF69CB390CC380690AD | O23: 442235068D967936DE5FCE83AFA0FE33CCFC3 | P23: F | Q23: F | R23: T | AW23: 44F83CA6B7FF69CB390CC380690AD442235068D967936DE5FCE83AFA0FE33CCFC3
A24: [ 합 계 ] | N24: TOTAL | O24: TOTAL
A26: 준공청소 M2 ( 호표 5 ) | N26: 44F83CA6B796F98B9F80F38E40C2A
A27: 보통인부 | B27: 일반공사 직종 | C27: 인 | D27: 0.02 | N27: 44F83CA6B796F98B9F80F38E40C2A | O27: 442235068D967936DE5FCE83AFA0FE33CCFC3 | P27: F | Q27: F | R27: T | AW27: 44F83CA6B796F98B9F80F38E40C2A442235068D967936DE5FCE83AFA0FE33CCFC3
A28: [ 합 계 ] | N28: TOTAL | O28: TOTAL
A30: 이동식강관말비계 1단(2m), 3개월 대 ( 호표 6 ) | N30: 44B73316D0C8C9DF19514082134CC
A31: 비계안정장치 | B31: 비계안정장치, 비계기본틀, 기둥, 1.2*1.7m | C31: 개 | D31: 0.14 | N31: 44B73316D0C8C9DF19514082134CC | O31: 43DA34D6521B09F6302B458C238B8AF3D16B7 | P31: F | Q31: F | R31: T | AW31: 44B73316D0C8C9DF19514082134CC43DA34D6521B09F6302B458C238B8AF3D16B7
A32: 비계안정장치 | B32: 비계안정장치, 가새, 1.2*1.9m | C32: 개 | D32: 0.14 | N32: 44B73316D0C8C9DF19514082134CC | O32: 43DA34D6521B09F6302B458C238B8AF3D16B9 | P32: F | Q32: F | R32: T | AW32: 44B73316D0C8C9DF19514082134CC43DA34D6521B09F6302B458C238B8AF3D16B9
A33: 비계안정장치 | B33: 비계안정장치, 수평띠장, 1829mm | C33: 개 | D33: 0.28 | N33: 44B73316D0C8C9DF19514082134CC | O33: 43DA34D6521B09F6302B458C238B8AF3D1907 | P33: F | Q33: F | R33: T | AW33: 44B73316D0C8C9DF19514082134CC43DA34D6521B09F6302B458C238B8AF3D1907
A34: 비계안정장치 | B34: 비계안정장치, 손잡이기둥 | C34: 개 | D34: 0.28 | N34: 44B73316D0C8C9DF19514082134CC | O34: 43DA34D6521B09F6302B458C238B8AF3FAFDD | P34: F | Q34: F | R34: T | AW34: 44B73316D0C8C9DF19514082134CC43DA34D6521B09F6302B458C238B8AF3FAFDD
A35: 비계안정장치 | B35: 비계안정장치, 손잡이, 1229mm | C35: 개 | D35: 0.14 | N35: 44B73316D0C8C9DF19514082134CC | O35: 43DA34D6521B09F6302B458C238B8AF3FAFDC | P35: F | Q35: F | R35: T | AW35: 44B73316D0C8C9DF19514082134CC43DA34D6521B09F6302B458C238B8AF3FAFDC
A36: 비계안정장치 | B36: 비계안정장치, 손잡이, 1829mm | C36: 개 | D36: 0.28 | N36: 44B73316D0C8C9DF19514082134CC | O36: 43DA34D6521B09F6302B458C238B8AF3FAFDF | P36: F | Q36: F | R36: T | AW36: 44B73316D0C8C9DF19514082134CC43DA34D6521B09F6302B458C238B8AF3FAFDF
A37: 비계안정장치 | B37: 비계안정장치, 바퀴 | C37: 개 | D37: 0.36 | N37: 44B73316D0C8C9DF19514082134CC | O37: 43DA34D6521B09F6302B458C238B8AF3D1903 | P37: F | Q37: F | R37: T | AW37: 44B73316D0C8C9DF19514082134CC43DA34D6521B09F6302B458C238B8AF3D1903
A38: 비계안정장치 | B38: 비계안정장치, 쟈키 | C38: 개 | D38: 0.36 | N38: 44B73316D0C8C9DF19514082134CC | O38: 43DA34D6521B09F6302B458C238B8AF3D1902 | P38: F | Q38: F | R38: T | AW38: 44B73316D0C8C9DF19514082134CC43DA34D6521B09F6302B458C238B8AF3D1902
A39: 비계안정장치 | B39: 비계안정장치, 발판 | C39: 장 | D39: 0.315 | N39: 44B73316D0C8C9DF19514082134CC | O39: 43DA34D6521B09F6302B458C238B8AF3FAFDE | P39: F | Q39: F | R39: T | AW39: 44B73316D0C8C9DF19514082134CC43DA34D6521B09F6302B458C238B8AF3FAFDE
A40: 강관 조립말비계(이동식)설치 및 해체 | B40: 높이 2m, 노무비 | C40: 대 | D40: 1 | M40: 호표 148 | N40: 44B73316D0C8C9DF19514082134CC | O40: 44F83CA6E32979D4CB4ACE83A8A49 | P40: T | Q40: F | R40: F | AW40: 44B73316D0C8C9DF19514082134CC44F83CA6E32979D4CB4ACE83A8A49
A41: [ 합 계 ] | N41: TOTAL | O41: TOTAL
A43: 합판거푸집 설치 및 해체 복잡 3회, 수직고 7m까지 M2 ( 호표 7 ) | N43: 44F83976AE93A9DE883BB684C6EEF
A44: 합판거푸집 - 자재비 | B44: 3회 | C44: M2 | D44: 1 | M44: 호표 149 | N44: 44F83976AE93A9DE883BB684C6EEF | O44: 44F83976AE93A9DE89C2C785551AF | P44: T | Q44: F | R44: F | AW44: 44F83976AE93A9DE883BB684C6EEF44F83976AE93A9DE89C2C785551AF
A45: 합판거푸집 - 인력투입 | B45: 복잡, 수직고 7m까지 | C45: M2 | D45: 1 | M45: 호표 150 | N45: 44F83976AE93A9DE883BB684C6EEF | O45: 44F83976AE93A9DE89C2C7855550A | P45: T | Q45: F | R45: F | AW45: 44F83976AE93A9DE883BB684C6EEF44F83976AE93A9DE89C2C7855550A
A46: [ 합 계 ] | N46: TOTAL | O46: TOTAL
A48: 레디믹스트콘크리트 인력운반 타설 무근구조물 M3 ( 호표 8 ) | N48: 44F83976DBF469D3BB1C5F88DC6E6
...

Sheet 단가산출목록
B1: 단 가 산 출 목 록
B2: [ 부산강서고등학교 고교학점제 공간조성사업 ]
A3: 코 드 | B3: 품 명 | C3: 규 격 | D3: 단위 | E3: 재 료 비 | F3: 노 무 비 | G3: 경 비 | H3: 합 계 | I3: 번 호 | J3: 비 고 | K3: START | L3: 품셈개요
A4: 44F939E666F5599E8E280382D400E | B4: 시멘트운반 | C4: L:10km, 덤프 8ton | D4: 포 | E4: =단가산출서!B73 -> 0 | F4: =단가산출서!C73 -> 0 | G4: =단가산출서!D73 -> 0 | H4: =단가산출서!E73 -> 0 | I4: 산근 1 | K4: 44F939E666F5599E8E280382D400E

Sheet 단가산출서
A1: 단 가 산 출 서
A2: [ 부산강서고등학교 고교학점제 공간조성사업 ]
A3: 산 출 내 역 | B3: 재 료 비 | C3: 노 무 비 | D3: 경 비 | E3: 합 계 | F3: 비 고 | G3: START | H3: 코드 | I3: 품명 | J3: 규격 | K3: 단위 | L3: 수량 | M3: 변수 | N3: 값 | O3: 소계 | P3: 소계 | Q3: 소계 | R3: 소계 | S3: 소계 | T3: 총계
A4: 시멘트운반 L:10km, 덤프 8ton 포 ( 산근 1 ) | G4: 44F939E666F5599E8E280382D400E | I4: 시멘트운반 | J4: L:10km, 덤프 8ton | K4: 포
G5: 44F939E666F5599E8E280382D400E | H5: C | L5: 1
A6: 운반거리 L=10KM 덤프트럭(8톤), 포대당 | B6: 0 | C6: 0 | D6: 0 | E6: 0 | G6: 44F939E666F5599E8E280382D400E | H6: C! | I6: '운반거리 L=10KM 덤프트럭(8톤), 포대당'
B7: 0 | C7: 0 | D7: 0 | E7: 0 | G7: 44F939E666F5599E8E280382D400E | H7: C!
A8: 차량속도= 25/V1,25/V2,40KM/V3,40KM/V4,25KM/V5,25KM/V6 | B8: 0 | C8: 0 | D8: 0 | E8: 0 | G8: 44F939E666F5599E8E280382D400E | H8: C! | I8: '차량속도= 25/V1,25/V2,40KM/V3,40KM/V4,25KM/V5,25KM/V6 '
A9: 하치장○-----------------0------------0---------○10KM | B9: 0 | C9: 0 | D9: 0 | E9: 0 | G9: 44F939E666F5599E8E280382D400E | H9: C! | I9: '하치장○-----------------0------------0---------○10KM '
A10: 운반거리=하치장L1=0.0KM,시내L2=9.5KM,공사장L3=0.5KM | B10: 0 | C10: 0 | D10: 0 | E10: 0 | G10: 44F939E666F5599E8E280382D400E | H10: C! | I10: '운반거리=하치장L1=0.0KM,시내L2=9.5KM,공사장L3=0.5KM'
B11: 0 | C11: 0 | D11: 0 | E11: 0 | G11: 44F939E666F5599E8E280382D400E | H11: C!
A12: 인력운반 (품셈 1-5-1) 적재비(하치장 상차도 미계상,공장상차도 계상) | B12: 0 | C12: 0 | D12: 0 | E12: 0 | G12: 44F939E666F5599E8E280382D400E | H12: C! | I12: '인력운반 (품셈 1-5-1) 적재비(하치장 상차도 미계상,공장상차도 계상)'
A13: L 소운반거리(M) =20 | B13: 0 | C13: 0 | D13: 0 | E13: 0 | G13: 44F939E666F5599E8E280382D400E | H13: C! | I13: L '소운반거리(M)' =20
A14: A 1회 운반량(BG) =1 | B14: 0 | C14: 0 | D14: 0 | E14: 0 | G14: 44F939E666F5599E8E280382D400E | H14: C! | I14: A '1회 운반량(BG)' =1
A15: T 단위(KG) =8000 | B15: 0 | C15: 0 | D15: 0 | E15: 0 | G15: 44F939E666F5599E8E280382D400E | H15: C! | I15: T '단위(KG)' =8000
A16: RT 단위중량(KG) =40 | B16: 0 | C16: 0 | D16: 0 | E16: 0 | G16: 44F939E666F5599E8E280382D400E | H16: C! | I16: RT '단위중량(KG)' =40
A17: MV 운반인부의 속도2500M/HR =2500/60= 41.6667 | B17: 0 | C17: 0 | D17: 0 | E17: 0 | G17: 44F939E666F5599E8E280382D400E | H17: C! | I17: MV '운반인부의 속도2500M/HR' =2500/60=?
A18: T1 어깨메고부리기시간(MIN) =2.0 | B18: 0 | C18: 0 | D18: 0 | E18: 0 | G18: 44F939E666F5599E8E280382D400E | H18: C! | I18: T1 '어깨메고부리기시간(MIN)' =2.0
A19: QT 차량 1대당 적재용량(BG) =T/RT= 200 | B19: 0 | C19: 0 | D19: 0 | E19: 0 | G19: 44F939E666F5599E8E280382D400E | H19: C! | I19: QT '차량 1대당 적재용량(BG)' =T/RT=?
A20: N 차량 1대당 소요운반회수 =QT/A= 200 | B20: 0 | C20: 0 | D20: 0 | E20: 0 | G20: 44F939E666F5599E8E280382D400E | H20: C! | I20: N '차량 1대당 소요운반회수' =QT/A=?
A21: CMS 운반 1회당 소요시간(MIN) =L*2/MV+T1= 2.96 | B21: 0 | C21: 0 | D21: 0 | E21: 0 | G21: 44F939E666F5599E8E280382D400E | H21: C! | I21: CMS '운반 1회당 소요시간(MIN)' =L*2/MV+T1=?
A22: T1A 차량 1대당 적재소요시간(MIN) =CMS*N= 592 | B22: 0 | C22: 0 | D22: 0 | E22: 0 | G22: 44F939E666F5599E8E280382D400E | H22: C! | I22: T1A '차량 1대당 적재소요시간(MIN)' =CMS*N=?
A23: Q 단위당 소요인부(상,하차) =T1A/450*1/QT= 0.007 | B23: 0 | C23: 0 | D23: 0 | E23: 0 | G23: 44F939E666F5599E8E280382D400E | H23: C! | I23: Q '단위당 소요인부(상,하차)' =T1A/450*1/QT=?
B24: 0 | C24: 0 | D24: 0 | E24: 0 | G24: 44F939E666F5599E8E280382D400E | H24: C!
A25: 1.덤프트럭(8톤/HR) | B25: 0 | C25: 0 | D25: 0 | E25: 0 | G25: 44F939E666F5599E8E280382D400E | H25: C! | I25: '1.덤프트럭(8톤/HR)'
A26: T 적재용량(KG) =8000 | B26: 0 | C26: 0 | D26: 0 | E26: 0 | G26: 44F939E666F5599E8E280382D400E | H26: C! | I26: T '적재용량(KG)' =8000
A27: R1 단위중량(KG) =40 | B27: 0 | C27: 0 | D27: 0 | E27: 0 | G27: 44F939E666F5599E8E280382D400E | H27: C! | I27: r1 '단위중량(KG)' =40
A28: Q1 1회 적재량(BG) =T/R1= 200 | B28: 0 | C28: 0 | D28: 0 | E28: 0 | G28: 44F939E666F5599E8E280382D400E | H28: C! | I28: q1 '1회 적재량(BG)' =T/r1=?
A29: f 토량 환산계수 =1 | B29: 0 | C29: 0 | D29: 0 | E29: 0 | G29: 44F939E666F5599E8E280382D400E | H29: C! | I29: f '토량 환산계수' =1
A30: E 작업효율 =0.9 | B30: 0 | C30: 0 | D30: 0 | E30: 0 | G30: 44F939E666F5599E8E280382D400E | H30: C! | I30: E '작업효율' =0.9
B31: 0 | C31: 0 | D31: 0 | E31: 0 | G31: 44F939E666F5599E8E280382D400E | H31: C!
A32: L1 하치장내 운반거리(KM) =0.0 | B32: 0 | C32: 0 | D32: 0 | E32: 0 | G32: 44F939E666F5599E8E280382D400E | H32: C! | I32: L1 '하치장내 운반거리(KM)' =0.0
A33: L2 도로주행 운반거리(KM) =9.5 | B33: 0 | C33: 0 | D33: 0 | E33: 0 | G33: 44F939E666F5599E8E280382D400E | H33: C! | I33: L2 '도로주행 운반거리(KM)' =9.5
A34: L3 공사장내 운반거리(KM) =0.5 | B34: 0 | C34: 0 | D34: 0 | E34: 0 | G34: 44F939E666F5599E8E280382D400E | H34: C! | I34: L3 '공사장내 운반거리(KM)' =0.5
A35: V1 하치장내적재운반속도(KM/HR) =25 | B35: 0 | C35: 0 | D35: 0 | E35: 0 | G35: 44F939E666F5599E8E280382D400E | H35: C! | I35: V1 '하치장내적재운반속도(KM/HR)' =25
A36: V2 하치장내공차운반속도(KM/HR) =25 | B36: 0 | C36: 0 | D36: 0 | E36: 0 | G36: 44F939E666F5599E8E280382D400E | H36: C! | I36: V2 '하치장내공차운반속도(KM/HR)' =25
A37: V3 도로주행적재운반속도(KM/HR) =40 | B37: 0 | C37: 0 | D37: 0 | E37: 0 | G37: 44F939E666F5599E8E280382D400E | H37: C! | I37: V3 '도로주행적재운반속도(KM/HR)' =40
A38: V4 도로주행공차운반속도(KM/HR) =40 | B38: 0 | C38: 0 | D38: 0 | E38: 0 | G38: 44F939E666F5599E8E280382D400E | H38: C! | I38: V4 '도로주행공차운반속도(KM/HR)' =40
A39: V5 공사장내적재운반속도(KM/HR) =25 | B39: 0 | C39: 0 | D39: 0 | E39: 0 | G39: 44F939E666F5599E8E280382D400E | H39: C! | I39: V5 '공사장내적재운반속도(KM/HR)' =25
A40: V6 공사장내공차운반속도(KM/HR) =25 | B40: 0 | C40: 0 | D40: 0 | E40: 0 | G40: 44F939E666F5599E8E280382D400E | H40: C! | I40: V6 '공사장내공차운반속도(KM/HR)' =25
...

Sheet 단가대비표
A1: 단 가 대 비 표
A2: [ 부산강서고등학교 고교학점제 공간조성사업 ]
A3: 코 드 | B3: 품 명 | C3: 규격 | D3: 단위 | E3: 재 료 비 | P3: 노 무 비 | Q3: 경 비 | W3: 번 호 | X3: 비 고 | Y3: 품목구분 | Z3: 노임구분 | AA3: 소수점처리 | AB3: 자재구분
E4: 조달청가격 | F4: PAGE | G4: 거래가격 | H4: PAGE | I4: 유통물가 | J4: PAGE | K4: 물가자료 | L4: PAGE | M4: 조사가격2 | N4: PAGE | O4: 적용단가 | Q4: 조달청가격 | R4: 거래가격 | S4: 유통물가 | T4: 물가자료 | U4: 조사가격2 | V4: 적용단가
A5: 43E43AB6780AE9771A73838D46A3923E44EB4 | B5: 덤프트럭 | C5: 8ton | D5: 대 | W5: 자재 1 | X5: 천원
A6: 43E43AB6780AC942D0CBD18B6752D98FBF555 | B6: 크레인(타이어) | C6: 10ton | D6: 대 | W6: 자재 2 | X6: 천원
A7: 43E43AB6780AA992454577822F9FFC737A43A | B7: 커터(콘크리트 및 아스팔트용) | C7: 320∼400mm | D7: 대 | W7: 자재 3 | X7: 천원
A8: 43E43AB6780AB9BED00128873410C05E6F6EF | B8: 소형브레이커(전기식) | C8: 1.5kw | D8: 대 | W8: 자재 4 | X8: 천원
A9: 43F53086354609109388348BF7B5481023101 | B9: 모래 | C9: (별도) | D9: M3 | W9: 자재 5 | X9: 별도
A10: 43F53086354609109388348BF7B54810237AC | B10: 모래 | C10: 모래, 부산, 도착도 | D10: M3 | W10: 자재 6
A11: 43F530863573794AE0E2878A9840B1CEDF732 | B11: 보통합판 | C11: 보통합판, 1급, 4.8*1220*2440mm | D11: M2 | W11: 자재 7
A12: 43F530863573794AE0E2878A9840B1CEDF736 | B12: 보통합판 | C12: 보통합판, 1급, 9.0*1220*2440mm | D12: M2 | W12: 자재 8
A13: 43F530863573794AE0E2878A9840B1CEDF350 | B13: 내수합판 | C13: 내수합판, 1급, 12*1220*2440mm | D13: M2 | W13: 자재 9
A14: 43F530863573794AE0E0D5852B524F7EB38BD | B14: 중밀도섬유판 | C14: 중밀도섬유판, 6.0*1220*2440mm | D14: M2 | W14: 자재 10
A15: 43F530863573794AE0E0D5852B524F7EB38BB | B15: 중밀도섬유판 | C15: 중밀도섬유판, 9.0*1220*2440mm | D15: M2 | W15: 자재 11
A16: 43F530863573794AE0E0D5852B524F7EB38BA | B16: 중밀도섬유판 | C16: 중밀도섬유판, 12*1220*2440mm | D16: M2 | W16: 자재 12
A17: 43F530863573794AE0E0D5852BD74C6A73427 | B17: 폴리에스터 충진재 | C17: 24K 50T | D17: ㎡ | W17: 자재 13
A18: 43F530863573794AE0E0D5850834F4DD1DF42 | B18: 템바보드 상하부마감재 | C18: 25*15 | D18: M | W18: 자재 14
A19: 43F530863573794AE0E0A08AE18A7790A416C | B19: 자작합판 | C19: 1220*2400*4T | D19: M2 | W19: 자재 15
A20: 43F530863573794AE094558749EBC63A22759 | B20: 오징어합판 | C20: 4*1220*2440mm | D20: M2 | W20: 자재 16
A21: 43F5308635CB69891DD30585975CCB4979775 | B21: 철강설 | C21: 철강설, 고철, 작업설부산물 | D21: kg | W21: 자재 17 | X21: 수집상차도
A22: 43F5308635CB69891DD30585975CCB4979650 | B22: 철강설 | C22: 철강설, 스텐레스, 작업설부산물 | D22: kg | W22: 자재 18 | X22: 수집상차도
A23: 43F533567304C9634114AE8C5C0ADED36E66D | B23: 산소가스 | C23: 산소가스, 6000L | D23: 병 | W23: 자재 19 | X23: 대기압상태기준
A24: 43F535064899798CF0AEE18C4A2CA3F77CC88 | B24: C-RUNNER | C24: 152*40*0.8T | D24: M | W24: 자재 20
A25: 43F53476C10F79BBB2800B849AB363F56E6CC | B25: 경유 | C25: 경유, 저유황 | D25: L | W25: 자재 21
A26: 43F53476C119C97F7EB56A82E0B519A49DA23 | B26: 아세틸렌가스 | C26: 아세틸렌가스, kg | D26: kg | W26: 자재 22
A27: 43C9386627D269083D0D5B8BF812DEE65602A | B27: 브레이드 | C27: D320-400,T:3.2 | D27: 개 | W27: 자재 23
A28: 43DA34D6528E291183176888E7DBF54F3BAA5 | B28: 일반구조용압연강판 | C28: 일반구조용압연강판, 1.4mm | D28: kg | W28: 자재 24
A29: 43DA34D6528E291183176888E7DBF54F3BAA4 | B29: 일반구조용압연강판 | C29: 일반구조용압연강판, 1.6mm | D29: kg | W29: 자재 25
A30: 43DA34D6528E291183176888E7DBF54F3BAA3 | B30: 일반구조용압연강판 | C30: 일반구조용압연강판, 2.3mm | D30: kg | W30: 자재 26
A31: 43DA34D6528E291183176888E7DBF54F9CC6A | B31: 도장용융아연도강판 | C31: 도장용융아연도강판, 폴리에스터(양면), 1.60mm | D31: kg | W31: 자재 27
A32: 43DA34D6528E291183176888E7DBF5B3FA7E3 | B32: 합금화용융아연도금강판 | C32: 합금화용융아연도금강판, 갈바륨, 1.60mm | D32: kg | W32: 자재 28
A33: 43DA34D6528E29118316418E41F81A8B72E04 | B33: 스테인리스강판 | C33: 스테인리스강판, STS304, 0.8mm | D33: kg | W33: 자재 29
A34: 43DA34D6528E29118316418E41F81A8B72981 | B34: 스테인리스강판 | C34: 스테인리스강판, STS304, 1.2mm | D34: kg | W34: 자재 30
A35: 43DA34D6528E29118316418E41F81A8B72980 | B35: 스테인리스강판 | C35: 스테인리스강판, STS304, 1.5mm | D35: kg | W35: 자재 31
... A40: 43DA34D6528E393C0E650D834715ACB8E3A7A | B40: 각재 | C40: 각재, 라왕, 일반증기건조 | D40: 재 | W40: 자재 36
A41: 43DA34D6528E393C0E650D834715ACB8E3B12 | B41: 후로링못 | D41: M2 | W41: 자재 37
A42: 43DA34D6529869CC6EB303881CA0777ACEE25 | B42: 모르타르 | C42: 모르타르, 자동수평모르타르, 산업용(회색) | D42: kg | W42: 자재 38
A43: 43DA34D6529869CC6EB27B828DB28DAB440E4 | B43: 레미콘 - 부산 | C43: 25-18-15 | D43: M3 | W43: 자재 39
A44: 43DA34D6529869CC6700BA8B65A968EA3F47E | B44: 콘크리트보강섬유 | C44: 콘크리트보강섬유, 포/m3 | D44: 포 | W44: 자재 40
...
