Workbook

Sheet 원가계산서
B1: 공 사 원 가 계 산 서
B2: 공사명 : 부산강서고등학교 고교학점제 공간조성사업
B3: 비 목 | E3: 금 액 | F3: 구 성 비 | G3: 비 고
A4: A1 | B4: 순 공 사 원 가 | C4: 재 료 비 | D4: 직 접 재 료 비 | E4: =TRUNC(공종별집계표!F5, 0) -> 0
A5: A2 | D5: 간 접 재 료 비 | E5: 0
A6: A3 | D6: 작업설, 부산물(△) | E6: 0
A7: AS | D7: [ 소 계 ] | E7: =TRUNC(E4+E5-E6, 0) -> 0
A8: B1 | C8: 노 무 비 | D8: 직 접 노 무 비 | E8: =TRUNC(공종별집계표!H5, 0) -> 0
A9: B2 | D9: 간 접 노 무 비 | E9: =TRUNC(E8*0.175, 0) -> 0 | F9: 직접노무비 * 17.5% | G9: 공사기간6개월이하
A10: BS | D10: [ 소 계 ] | E10: =TRUNC(E8+E9, 0) -> 0
A11: C2 | C11: 경 비 | D11: 경 비 | E11: =TRUNC(공종별집계표!J5, 0) -> 0
A12: C4 | D12: 산 재 보 험 료 | E12: =TRUNC(E10*0.0356, 0) -> 0 | F12: 노무비 * 3.56%
A13: C5 | D13: 고 용 보 험 료 | E13: =TRUNC(E10*0.0101, 0) -> 0 | F13: 노무비 * 1.01%
A14: C6 | D14: 국민 건강 보험료 | E14: =TRUNC(E8*0.03595, 0) -> 0 | F14: 직접노무비 * 3.595% | G14: 1개월이상공사
A15: C7 | D15: 국민 연금 보험료 | E15: =TRUNC(E8*0.0475, 0) -> 0 | F15: 직접노무비 * 4.75% | G15: 1개월이상공사
A16: C8 | D16: 퇴직 공제 부금비 | E16: =TRUNC(E8*0.023, 0) -> 0 | F16: 직접노무비 * 2.3% | G16: 추정금액1억이상
A17: CA | D17: 산업안전보건관리비 | E17: =TRUNC((E7+E8+(E34/1.1))*0.0311, 0) -> 0 | F17: (재료비+직노+도급자관급자재비) * 3.11% | G17: 대상액5억미만
A18: CB | D18: 노인장기요양보험료 | E18: =TRUNC(E14*0.1314, 0) -> 0 | F18: 건강보험료 * 13.14% | G18: 1개월이상공사
A19: CG | D19: 기 타 경 비 | E19: =TRUNC((E7+E10)*0.05, 0) -> 0 | F19: (재료비+노무비) * 5% | G19: 공사기간6개월이하
A20: CH | D20: 환 경 보 전 비 | E20: =TRUNC((E7+E8+E11)*0.003, 0) -> 0 | F20: (재료비+직노+경비) * 0.3%
A21: CK | D21: 하도급지급보증수수료 | E21: =TRUNC((E7+E8+E11)*0.00081, 0) -> 0 | F21: (재료비+직노+경비) * 0.081%
A22: CL | D22: 건설기계대여금지급보증서발급수수료 | E22: =TRUNC((E7+E8+E11)*0.0007, 0) -> 0 | F22: (재료비+직노+경비) * 0.07%
A23: CM | D23: 석 면 분 담 금 | E23: =TRUNC(E10*0.00006, 0) -> 0 | F23: 노무비 * 0.006%
A24: CN | D24: 임 금 채 권 부 담 금 | E24: =TRUNC(E10*0.0009, 0) -> 0 | F24: 노무비 * 0.09%
A25: CS | D25: [ 소 계 ] | E25: =TRUNC(E11+E12+E13+E14+E15+E16+E17+E18+E19+E20+E21+E22+E23+E24, 0) -> 0
A26: S1 | B26: 계 | E26: =TRUNC(E7+E10+E25, 0) -> 0
A27: D1 | B27: 일 반 관 리 비 | E27: =TRUNC(E26*0.08, 0) -> 0 | F27: 계 * 8%
A28: D2 | B28: 이 윤 | F28: (노무비+경비+일반관리비) * 15%
A29: D3 | B29: 건설폐기물처리비 | E29: =TRUNC(공종별집계표!T84, 0) -> 0
A30: D4 | B30: 고 재 처 리 비 | E30: =TRUNC(공종별집계표!T83, 0) -> 0
A31: D9 | B31: 공 급 가 액 | E31: =TRUNC(E26+E27+E28+E29+E30, 0) -> 0
A32: DB | B32: 부 가 가 치 세 | E32: =TRUNC(E31*0.1, 0) -> 0 | F32: 공급가액 * 10%
A33: DH | B33: 도 급 액 | E33: =TRUNC(E31+E32, 0) -> 0
A34: DJ | B34: 도급자관급자재비 | E34: =TRUNC(공종별집계표!T85, 0) -> 0
A35: DK | B35: 관급자관급자재비 | E35: =TRUNC(공종별집계표!T86, 0) -> 0
A36: S2 | B36: 총 공 사 비 | E36: =TRUNC(E33+E34+E35, 0) -> 0

Sheet 공종별집계표
A1: 공 종 별 집 계 표
A2: [ 부산강서고등학교 고교학점제 공간조성사업 ]
A3: 품 명 | B3: 규 격 | C3: 단위 | D3: 수량 | E3: 재 료 비 | G3: 노 무 비 | I3: 경 비 | K3: 합 계 | M3: 비 고 | N3: 공종코드 | O3: 변수 | P3: 상위공종 | Q3: 공종구분 | R3: 공종레벨 | S3: 공종소계 | T3: 원가계산서 연결금액
E4: 단 가 | F4: 금 액 | G4: 단 가 | H4: 금 액 | I4: 단 가 | J4: 금 액 | K4: 단 가 | L4: 금 액
A5: 01 부산강서고등학교 고교학점제 공간조성사업 | D5: 1 | E5: =F6+F18+F29+F40+F51+F61+F69+F82 -> 0 | F5: =E5*D5 -> 0 | G5: =H6+H18+H29+H40+H51+H61+H69+H82 -> 0 | H5: =G5*D5 -> 0 | I5: =J6+J18+J29+J40+J51+J61+J69+J82 -> 0 | J5: =I5*D5 -> 0 | K5: =E5+G5+I5 -> 0 | L5: =F5+H5+J5 -> 0 | N5: 01 | R5: 1
A6: 0101 ■시청각실■ | D6: 1 | E6: =F7+F8+F9+F10+F11+F12+F13+F14+F15+F16+F17 -> 0 | F6: =E6*D6 -> 0 | G6: =H7+H8+H9+H10+H11+H12+H13+H14+H15+H16+H17 -> 0 | H6: =G6*D6 -> 0 | I6: =J7+J8+J9+J10+J11+J12+J13+J14+J15+J16+J17 -> 0 | J6: =I6*D6 -> 0 | K6: =E6+G6+I6 -> 0 | L6: =F6+H6+J6 -> 0 | N6: 0101 | P6: 01 | R6: 2
A7: 010101 가 설 공 사 | D7: 1 | E7: =공종별내역서!F26 -> 0 | F7: =E7*D7 -> 0 | G7: =공종별내역서!H26 -> 0 | H7: =G7*D7 -> 0 | I7: =공종별내역서!J26 -> 0 | J7: =I7*D7 -> 0 | K7: =E7+G7+I7 -> 0 | L7: =F7+H7+J7 -> 0 | N7: 010101 | P7: 0101 | R7: 3
A8: 010102 철근콘크리트공사 | D8: 1 | E8: =공종별내역서!F49 -> 0 | F8: =E8*D8 -> 0 | G8: =공종별내역서!H49 -> 0 | H8: =G8*D8 -> 0 | I8: =공종별내역서!J49 -> 0 | J8: =I8*D8 -> 0 | K8: =E8+G8+I8 -> 0 | L8: =F8+H8+J8 -> 0 | N8: 010102 | P8: 0101 | R8: 3
A9: 010103 목 공 사 | D9: 1 | E9: =공종별내역서!F72 -> 0 | F9: =E9*D9 -> 0 | G9: =공종별내역서!H72 -> 0 | H9: =G9*D9 -> 0 | I9: =공종별내역서!J72 -> 0 | J9: =I9*D9 -> 0 | K9: =E9+G9+I9 -> 0 | L9: =F9+H9+J9 -> 0 | N9: 010103 | P9: 0101 | R9: 3
A10: 010104 수 장 공 사 | D10: 1 | E10: =공종별내역서!F95 -> 0 | F10: =E10*D10 -> 0 | G10: =공종별내역서!H95 -> 0 | H10: =G10*D10 -> 0 | I10: =공종별내역서!J95 -> 0 | J10: =I10*D10 -> 0 | K10: =E10+G10+I10 -> 0 | L10: =F10+H10+J10 -> 0 | N10: 010104 | P10: 0101 | R10: 3
A11: 010105 금 속 공 사 | D11: 1 | E11: =공종별내역서!F118 -> 0 | F11: =E11*D11 -> 0 | G11: =공종별내역서!H118 -> 0 | H11: =G11*D11 -> 0 | I11: =공종별내역서!J118 -> 0 | J11: =I11*D11 -> 0 | K11: =E11+G11+I11 -> 0 | L11: =F11+H11+J11 -> 0 | N11: 010105 | P11: 0101 | R11: 3
A12: 010106 미 장 공 사 | D12: 1 | E12: =공종별내역서!F141 -> 0 | F12: =E12*D12 -> 0 | G12: =공종별내역서!H141 -> 0 | H12: =G12*D12 -> 0 | I12: =공종별내역서!J141 -> 0 | J12: =I12*D12 -> 0 | K12: =E12+G12+I12 -> 0 | L12: =F12+H12+J12 -> 0 | N12: 010106 | P12: 0101 | R12: 3
A13: 010107 창호 및 유리공사 | D13: 1 | E13: =공종별내역서!F164 -> 0 | F13: =E13*D13 -> 0 | G13: =공종별내역서!H164 -> 0 | H13: =G13*D13 -> 0 | I13: =공종별내역서!J164 -> 0 | J13: =I13*D13 -> 0 | K13: =E13+G13+I13 -> 0 | L13: =F13+H13+J13 -> 0 | N13: 010107 | P13: 0101 | R13: 3
A14: 010108 칠 공 사 | D14: 1 | E14: =공종별내역서!F187 -> 0 | F14: =E14*D14 -> 0 | G14: =공종별내역서!H187 -> 0 | H14: =G14*D14 -> 0 | I14: =공종별내역서!J187 -> 0 | J14: =I14*D14 -> 0 | K14: =E14+G14+I14 -> 0 | L14: =F14+H14+J14 -> 0 | N14: 010108 | P14: 0101 | R14: 3
A15: 010109 골 재 비 | D15: 1 | E15: =공종별내역서!F210 -> 0 | F15: =E15*D15 -> 0 | G15: =공종별내역서!H210 -> 0 | H15: =G15*D15 -> 0 | I15: =공종별내역서!J210 -> 0 | J15: =I15*D15 -> 0 | K15: =E15+G15+I15 -> 0 | L15: =F15+H15+J15 -> 0 | N15: 010109 | P15: 0101 | R15: 3
A16: 010110 기 타 공 사 | D16: 1 | E16: =공종별내역서!F233 -> 0 | F16: =E16*D16 -> 0 | G16: =공종별내역서!H233 -> 0 | H16: =G16*D16 -> 0 | I16: =공종별내역서!J233 -> 0 | J16: =I16*D16 -> 0 | K16: =E16+G16+I16 -> 0 | L16: =F16+H16+J16 -> 0 | N16: 010110 | P16: 0101 | R16: 3
A17: 010111 철 거 공 사 | D17: 1 | E17: =공종별내역서!F256 -> 0 | F17: =E17*D17 -> 0 | G17: =공종별내역서!H256 -> 0 | H17: =G17*D17 -> 0 | I17: =공종별내역서!J256 -> 0 | J17: =I17*D17 -> 0 | K17: =E17+G17+I17 -> 0 | L17: =F17+H17+J17 -> 0 | N17: 010111 | P17: 0101 | R17: 3
A18: 0102 ■중앙현관■ | D18: 1 | E18: =F19+F20+F21+F22+F23+F24+F25+F26+F27+F28 -> 0 | F18: =E18*D18 -> 0 | G18: =H19+H20+H21+H22+H23+H24+H25+H26+H27+H28 -> 0 | H18: =G18*D18 -> 0 | I18: =J19+J20+J21+J22+J23+J24+J25+J26+J27+J28 -> 0 | J18: =I18*D18 -> 0 | K18: =E18+G18+I18 -> 0 | L18: =F18+H18+J18 -> 0 | N18: 0102 | P18: 01 | R18: 2
A19: 010201 가 설 공 사 | D19: 1 | E19: =공종별내역서!F279 -> 0 | F19: =E19*D19 -> 0 | G19: =공종별내역서!H279 -> 0 | H19: =G19*D19 -> 0 | I19: =공종별내역서!J279 -> 0 | J19: =I19*D19 -> 0 | K19: =E19+G19+I19 -> 0 | L19: =F19+H19+J19 -> 0 | N19: 010201 | P19: 0102 | R19: 3
A20: 010202 목 공 사 | D20: 1 | E20: =공종별내역서!F302 -> 0 | F20: =E20*D20 -> 0 | G20: =공종별내역서!H302 -> 0 | H20: =G20*D20 -> 0 | I20: =공종별내역서!J302 -> 0 | J20: =I20*D20 -> 0 | K20: =E20+G20+I20 -> 0 | L20: =F20+H20+J20 -> 0 | N20: 010202 | P20: 0102 | R20: 3
A21: 010203 수 장 공 사 | D21: 1 | E21: =공종별내역서!F325 -> 0 | F21: =E21*D21 -> 0 | G21: =공종별내역서!H325 -> 0 | H21: =G21*D21 -> 0 | I21: =공종별내역서!J325 -> 0 | J21: =I21*D21 -> 0 | K21: =E21+G21+I21 -> 0 | L21: =F21+H21+J21 -> 0 | N21: 010203 | P21: 0102 | R21: 3
A22: 010204 방 수 공 사 | D22: 1 | E22: =공종별내역서!F348 -> 0 | F22: =E22*D22 -> 0 | G22: =공종별내역서!H348 -> 0 | H22: =G22*D22 -> 0 | I22: =공종별내역서!J348 -> 0 | J22: =I22*D22 -> 0 | K22: =E22+G22+I22 -> 0 | L22: =F22+H22+J22 -> 0 | N22: 010204 | P22: 0102 | R22: 3
A23: 010205 금 속 공 사 | D23: 1 | E23: =공종별내역서!F371 -> 0 | F23: =E23*D23 -> 0 | G23: =공종별내역서!H371 -> 0 | H23: =G23*D23 -> 0 | I23: =공종별내역서!J371 -> 0 | J23: =I23*D23 -> 0 | K23: =E23+G23+I23 -> 0 | L23: =F23+H23+J23 -> 0 | N23: 010205 | P23: 0102 | R23: 3
A24: 010206 미 장 공 사 | D24: 1 | E24: =공종별내역서!F394 -> 0 | F24: =E24*D24 -> 0 | G24: =공종별내역서!H394 -> 0 | H24: =G24*D24 -> 0 | I24: =공종별내역서!J394 -> 0 | J24: =I24*D24 -> 0 | K24: =E24+G24+I24 -> 0 | L24: =F24+H24+J24 -> 0 | N24: 010206 | P24: 0102 | R24: 3
A25: 010207 창호 및 유리공사 | D25: 1 | E25: =공종별내역서!F417 -> 0 | F25: =E25*D25 -> 0 | G25: =공종별내역서!H417 -> 0 | H25: =G25*D25 -> 0 | I25: =공종별내역서!J417 -> 0 | J25: =I25*D25 -> 0 | K25: =E25+G25+I25 -> 0 | L25: =F25+H25+J25 -> 0 | N25: 010207 | P25: 0102 | R25: 3
A26: 010208 칠 공 사 | D26: 1 | E26: =공종별내역서!F440 -> 0 | F26: =E26*D26 -> 0 | G26: =공종별내역서!H440 -> 0 | H26: =G26*D26 -> 0 | I26: =공종별내역서!J440 -> 0 | J26: =I26*D26 -> 0 | K26: =E26+G26+I26 -> 0 | L26: =F26+H26+J26 -> 0 | N26: 010208 | P26: 0102 | R26: 3
A27: 010209 골 재 비 | D27: 1 | E27: =공종별내역서!F463 -> 0 | F27: =E27*D27 -> 0 | G27: =공종별내역서!H463 -> 0 | H27: =G27*D27 -> 0 | I27: =공종별내역서!J463 -> 0 | J27: =I27*D27 -> 0 | K27: =E27+G27+I27 -> 0 | L27: =F27+H27+J27 -> 0 | N27: 010209 | P27: 0102 | R27: 3
A28: 010210 철 거 공 사 | D28: 1 | E28: =공종별내역서!F486 -> 0 | F28: =E28*D28 -> 0 | G28: =공종별내역서!H486 -> 0 | H28: =G28*D28 -> 0 | I28: =공종별내역서!J486 -> 0 | J28: =I28*D28 -> 0 | K28: =E28+G28+I28 -> 0 | L28: =F28+H28+J28 -> 0 | N28: 010210 | P28: 0102 | R28: 3
A29: 0103 ■음악실■ | D29: 1 | E29: =F30+F31+F32+F33+F34+F35+F36+F37+F38+F39 -> 0 | F29: =E29*D29 -> 0 | G29: =H30+H31+H32+H33+H34+H35+H36+H37+H38+H39 -> 0 | H29: =G29*D29 -> 0 | I29: =J30+J31+J32+J33+J34+J35+J36+J37+J38+J39 -> 0 | J29: =I29*D29 -> 0 | K29: =E29+G29+I29 -> 0 | L29: =F29+H29+J29 -> 0 | N29: 0103 | P29: 01 | R29: 2
A30: 010301 가 설 공 사 | D30: 1 | E30: =공종별내역서!F509 -> 0 | F30: =E30*D30 -> 0 | G30: =공종별내역서!H509 -> 0 | H30: =G30*D30 -> 0 | I30: =공종별내역서!J509 -> 0 | J30: =I30*D30 -> 0 | K30: =E30+G30+I30 -> 0 | L30: =F30+H30+J30 -> 0 | N30: 010301 | P30: 0103 | R30: 3
A31: 010302 목 공 사 | D31: 1 | E31: =공종별내역서!F532 -> 0 | F31: =E31*D31 -> 0 | G31: =공종별내역서!H532 -> 0 | H31: =G31*D31 -> 0 | I31: =공종별내역서!J532 -> 0 | J31: =I31*D31 -> 0 | K31: =E31+G31+I31 -> 0 | L31: =F31+H31+J31 -> 0 | N31: 010302 | P31: 0103 | R31: 3
A32: 010303 수 장 공 사 | D32: 1 | E32: =공종별내역서!F555 -> 0 | F32: =E32*D32 -> 0 | G32: =공종별내역서!H555 -> 0 | H32: =G32*D32 -> 0 | I32: =공종별내역서!J555 -> 0 | J32: =I32*D32 -> 0 | K32: =E32+G32+I32 -> 0 | L32: =F32+H32+J32 -> 0 | N32: 010303 | P32: 0103 | R32: 3
A33: 010304 방 수 공 사 | D33: 1 | E33: =공종별내역서!F578 -> 0 | F33: =E33*D33 -> 0 | G33: =공종별내역서!H578 -> 0 | H33: =G33*D33 -> 0 | I33: =공종별내역서!J578 -> 0 | J33: =I33*D33 -> 0 | K33: =E33+G33+I33 -> 0 | L33: =F33+H33+J33 -> 0 | N33: 010304 | P33: 0103 | R33: 3
A34: 010305 금 속 공 사 | D34: 1 | E34: =공종별내역서!F601 -> 0 | F34: =E34*D34 -> 0 | G34: =공종별내역서!H601 -> 0 | H34: =G34*D34 -> 0 | I34: =공종별내역서!J601 -> 0 | J34: =I34*D34 -> 0 | K34: =E34+G34+I34 -> 0 | L34: =F34+H34+J34 -> 0 | N34: 010305 | P34: 0103 | R34: 3
A35: 010306 미 장 공 사 | D35: 1 | E35: =공종별내역서!F624 -> 0 | F35: =E35*D35 -> 0 | G35: =공종별내역서!H624 -> 0 | H35: =G35*D35 -> 0 | I35: =공종별내역서!J624 -> 0 | J35: =I35*D35 -> 0 | K35: =E35+G35+I35 -> 0 | L35: =F35+H35+J35 -> 0 | N35: 010306 | P35: 0103 | R35: 3
A36: 010307 창호 및 유리공사 | D36: 1 | E36: =공종별내역서!F647 -> 0 | F36: =E36*D36 -> 0 | G36: =공종별내역서!H647 -> 0 | H36: =G36*D36 -> 0 | I36: =공종별내역서!J647 -> 0 | J36: =I36*D36 -> 0 | K36: =E36+G36+I36 -> 0 | L36: =F36+H36+J36 -> 0 | N36: 010307 | P36: 0103 | R36: 3
A37: 010308 칠 공 사 | D37: 1 | E37: =공종별내역서!F670 -> 0 | F37: =E37*D37 -> 0 | G37: =공종별내역서!H670 -> 0 | H37: =G37*D37 -> 0 | I37: =공종별내역서!J670 -> 0 | J37: =I37*D37 -> 0 | K37: =E37+G37+I37 -> 0 | L37: =F37+H37+J37 -> 0 | N37: 010308 | P37: 0103 | R37: 3
A38: 010309 골 재 비 | D38: 1 | E38: =공종별내역서!F693 -> 0 | F38: =E38*D38 -> 0 | G38: =공종별내역서!H693 -> 0 | H38: =G38*D38 -> 0 | I38: =공종별내역서!J693 -> 0 | J38: =I38*D38 -> 0 | K38: =E38+G38+I38 -> 0 | L38: =F38+H38+J38 -> 0 | N38: 010309 | P38: 0103 | R38: 3
A39: 010310 철 거 공 사 | D39: 1 | E39: =공종별내역서!F716 -> 0 | F39: =E39*D39 -> 0 | G39: =공종별내역서!H716 -> 0 | H39: =G39*D39 -> 0 | I39: =공종별내역서!J716 -> 0 | J39: =I39*D39 -> 0 | K39: =E39+G39+I39 -> 0 | L39: =F39+H39+J39 -> 0 | N39: 010310 | P39: 0103 | R39: 3
A40: 0104 ■소인수강의실■ | D40: 1 | E40: =F41+F42+F43+F44+F45+F46+F47+F48+F49+F50 -> 0 | F40: =E40*D40 -> 0 | G40: =H41+H42+H43+H44+H45+H46+H47+H48+H49+H50 -> 0 | H40: =G40*D40 -> 0 | I40: =J41+J42+J43+J44+J45+J46+J47+J48+J49+J50 -> 0 | J40: =I40*D40 -> 0 | K40: =E40+G40+I40 -> 0 | L40: =F40+H40+J40 -> 0 | N40: 0104 | P40: 01 | R40: 2
A41: 010401 가 설 공 사 | D41: 1 | E41: =공종별내역서!F739 -> 0 | F41: =E41*D41 -> 0 | G41: =공종별내역서!H739 -> 0 | H41: =G41*D41 -> 0 | I41: =공종별내역서!J739 -> 0 | J41: =I41*D41 -> 0 | K41: =E41+G41+I41 -> 0 | L41: =F41+H41+J41 -> 0 | N41: 010401 | P41: 0104 | R41: 3
A42: 010402 목 공 사 | D42: 1 | E42: =공종별내역서!F762 -> 0 | F42: =E42*D42 -> 0 | G42: =공종별내역서!H762 -> 0 | H42: =G42*D42 -> 0 | I42: =공종별내역서!J762 -> 0 | J42: =I42*D42 -> 0 | K42: =E42+G42+I42 -> 0 | L42: =F42+H42+J42 -> 0 | N42: 010402 | P42: 0104 | R42: 3
A43: 010403 수 장 공 사 | D43: 1 | E43: =공종별내역서!F785 -> 0 | F43: =E43*D43 -> 0 | G43: =공종별내역서!H785 -> 0 | H43: =G43*D43 -> 0 | I43: =공종별내역서!J785 -> 0 | J43: =I43*D43 -> 0 | K43: =E43+G43+I43 -> 0 | L43: =F43+H43+J43 -> 0 | N43: 010403 | P43: 0104 | R43: 3
A44: 010404 방 수 공 사 | D44: 1 | E44: =공종별내역서!F808 -> 0 | F44: =E44*D44 -> 0 | G44: =공종별내역서!H808 -> 0 | H44: =G44*D44 -> 0 | I44: =공종별내역서!J808 -> 0 | J44: =I44*D44 -> 0 | K44: =E44+G44+I44 -> 0 | L44: =F44+H44+J44 -> 0 | N44: 010404 | P44: 0104 | R44: 3
A45: 010405 금 속 공 사 | D45: 1 | E45: =공종별내역서!F831 -> 0 | F45: =E45*D45 -> 0 | G45: =공종별내역서!H831 -> 0 | H45: =G45*D45 -> 0 | I45: =공종별내역서!J831 -> 0 | J45: =I45*D45 -> 0 | K45: =E45+G45+I45 -> 0 | L45: =F45+H45+J45 -> 0 | N45: 010405 | P45: 0104 | R45: 3
A46: 010406 미 장 공 사 | D46: 1 | E46: =공종별내역서!F854 -> 0 | F46: =E46*D46 -> 0 | G46: =공종별내역서!H854 -> 0 | H46: =G46*D46 -> 0 | I46: =공종별내역서!J854 -> 0 | J46: =I46*D46 -> 0 | K46: =E46+G46+I46 -> 0 | L46: =F46+H46+J46 -> 0 | N46: 010406 | P46: 0104 | R46: 3
A47: 010407 창호 및 유리공사 | D47: 1 | E47: =공종별내역서!F877 -> 0 | F47: =E47*D47 -> 0 | G47: =공종별내역서!H877 -> 0 | H47: =G47*D47 -> 0 | I47: =공종별내역서!J877 -> 0 | J47: =I47*D47 -> 0 | K47: =E47+G47+I47 -> 0 | L47: =F47+H47+J47 -> 0 | N47: 010407 | P47: 0104 | R47: 3
A48: 010408 칠 공 사 | D48: 1 | E48: =공종별내역서!F900 -> 0 | F48: =E48*D48 -> 0 | G48: =공종별내역서!H900 -> 0 | H48: =G48*D48 -> 0 | I48: =공종별내역서!J900 -> 0 | J48: =I48*D48 -> 0 | K48: =E48+G48+I48 -> 0 | L48: =F48+H48+J48 -> 0 | N48: 010408 | P48: 0104 | R48: 3
A49: 010409 철 거 공 사 | D49: 1 | E49: =공종별내역서!F923 -> 0 | F49: =E49*D49 -> 0 | G49: =공종별내역서!H923 -> 0 | H49: =G49*D49 -> 0 | I49: =공종별내역서!J923 -> 0 | J49: =I49*D49 -> 0 | K49: =E49+G49+I49 -> 0 | L49: =F49+H49+J49 -> 0 | N49: 010409 | P49: 0104 | R49: 3
A50: 010410 구조물설치공사 | D50: 1 | E50: =공종별내역서!F946 -> 0 | F50: =E50*D50 -> 0 | G50: =공종별내역서!H946 -> 0 | H50: =G50*D50 -> 0 | I50: =공종별내역서!J946 -> 0 | J50: =I50*D50 -> 0 | K50: =E50+G50+I50 -> 0 | L50: =F50+H50+J50 -> 0 | N50: 010410 | P50: 0104 | R50: 3
A51: 0105 ■상담실■ | D51: 1 | E51: =F52+F53+F54+F55+F56+F57+F58+F59+F60 -> 0 | F51: =E51*D51 -> 0 | G51: =H52+H53+H54+H55+H56+H57+H58+H59+H60 -> 0 | H51: =G51*D51 -> 0 | I51: =J52+J53+J54+J55+J56+J57+J58+J59+J60 -> 0 | J51: =I51*D51 -> 0 | K51: =E51+G51+I51 -> 0 | L51: =F51+H51+J51 -> 0 | N51: 0105 | P51: 01 | R51: 2
A52: 010501 가 설 공 사 | D52: 1 | E52: =공종별내역서!F969 -> 0 | F52: =E52*D52 -> 0 | G52: =공종별내역서!H969 -> 0 | H52: =G52*D52 -> 0 | I52: =공종별내역서!J969 -> 0 | J52: =I52*D52 -> 0 | K52: =E52+G52+I52 -> 0 | L52: =F52+H52+J52 -> 0 | N52: 010501 | P52: 0105 | R52: 3
A53: 010502 목 공 사 | D53: 1 | E53: =공종별내역서!F992 -> 0 | F53: =E53*D53 -> 0 | G53: =공종별내역서!H992 -> 0 | H53: =G53*D53 -> 0 | I53: =공종별내역서!J992 -> 0 | J53: =I53*D53 -> 0 | K53: =E53+G53+I53 -> 0 | L53: =F53+H53+J53 -> 0 | N53: 010502 | P53: 0105 | R53: 3
A54: 010503 수 장 공 사 | D54: 1 | E54: =공종별내역서!F1015 -> 0 | F54: =E54*D54 -> 0 | G54: =공종별내역서!H1015 -> 0 | H54: =G54*D54 -> 0 | I54: =공종별내역서!J1015 -> 0 | J54: =I54*D54 -> 0 | K54: =E54+G54+I54 -> 0 | L54: =F54+H54+J54 -> 0 | N54: 010503 | P54: 0105 | R54: 3
A55: 010504 방 수 공 사 | D55: 1 | E55: =공종별내역서!F1038 -> 0 | F55: =E55*D55 -> 0 | G55: =공종별내역서!H1038 -> 0 | H55: =G55*D55 -> 0 | I55: =공종별내역서!J1038 -> 0 | J55: =I55*D55 -> 0 | K55: =E55+G55+I55 -> 0 | L55: =F55+H55+J55 -> 0 | N55: 010504 | P55: 0105 | R55: 3
A56: 010505 금 속 공 사 | D56: 1 | E56: =공종별내역서!F1061 -> 0 | F56: =E56*D56 -> 0 | G56: =공종별내역서!H1061 -> 0 | H56: =G56*D56 -> 0 | I56: =공종별내역서!J1061 -> 0 | J56: =I56*D56 -> 0 | K56: =E56+G56+I56 -> 0 | L56: =F56+H56+J56 -> 0 | N56: 010505 | P56: 0105 | R56: 3
A57: 010506 미 장 공 사 | D57: 1 | E57: =공종별내역서!F1084 -> 0 | F57: =E57*D57 -> 0 | G57: =공종별내역서!H1084 -> 0 | H57: =G57*D57 -> 0 | I57: =공종별내역서!J1084 -> 0 | J57: =I57*D57 -> 0 | K57: =E57+G57+I57 -> 0 | L57: =F57+H57+J57 -> 0 | N57: 010506 | P57: 0105 | R57: 3
A58: 010507 창호 및 유리공사 | D58: 1 | E58: =공종별내역서!F1107 -> 0 | F58: =E58*D58 -> 0 | G58: =공종별내역서!H1107 -> 0 | H58: =G58*D58 -> 0 | I58: =공종별내역서!J1107 -> 0 | J58: =I58*D58 -> 0 | K58: =E58+G58+I58 -> 0 | L58: =F58+H58+J58 -> 0 | N58: 010507 | P58: 0105 | R58: 3
A59: 010508 칠 공 사 | D59: 1 | E59: =공종별내역서!F1130 -> 0 | F59: =E59*D59 -> 0 | G59: =공종별내역서!H1130 -> 0 | H59: =G59*D59 -> 0 | I59: =공종별내역서!J1130 -> 0 | J59: =I59*D59 -> 0 | K59: =E59+G59+I59 -> 0 | L59: =F59+H59+J59 -> 0 | N59: 010508 | P59: 0105 | R59: 3
A60: 010509 철 거 공 사 | D60: 1 | E60: =공종별내역서!F1153 -> 0 | F60: =E60*D60 -> 0 | G60: =공종별내역서!H1153 -> 0 | H60: =G60*D60 -> 0 | I60: =공종별내역서!J1153 -> 0 | J60: =I60*D60 -> 0 | K60: =E60+G60+I60 -> 0 | L60: =F60+H60+J60 -> 0 | N60: 010509 | P60: 0105 | R60: 3
A61: 0106 ■복도■ | D61: 1 | E61: =F62+F63+F64+F65+F66+F67+F68 -> 0 | F61: =E61*D61 -> 0 | G61: =H62+H63+H64+H65+H66+H67+H68 -> 0 | H61: =G61*D61 -> 0 | I61: =J62+J63+J64+J65+J66+J67+J68 -> 0 | J61: =I61*D61 -> 0 | K61: =E61+G61+I61 -> 0 | L61: =F61+H61+J61 -> 0 | N61: 0106 | P61: 01 | R61: 2
A62: 010601 가 설 공 사 | D62: 1 | E62: =공종별내역서!F1176 -> 0 | F62: =E62*D62 -> 0 | G62: =공종별내역서!H1176 -> 0 | H62: =G62*D62 -> 0 | I62: =공종별내역서!J1176 -> 0 | J62: =I62*D62 -> 0 | K62: =E62+G62+I62 -> 0 | L62: =F62+H62+J62 -> 0 | N62: 010601 | P62: 0106 | R62: 3
A63: 010602 목 공 사 | D63: 1 | E63: =공종별내역서!F1199 -> 0 | F63: =E63*D63 -> 0 | G63: =공종별내역서!H1199 -> 0 | H63: =G63*D63 -> 0 | I63: =공종별내역서!J1199 -> 0 | J63: =I63*D63 -> 0 | K63: =E63+G63+I63 -> 0 | L63: =F63+H63+J63 -> 0 | N63: 010602 | P63: 0106 | R63: 3
A64: 010603 수 장 공 사 | D64: 1 | E64: =공종별내역서!F1222 -> 0 | F64: =E64*D64 -> 0 | G64: =공종별내역서!H1222 -> 0 | H64: =G64*D64 -> 0 | I64: =공종별내역서!J1222 -> 0 | J64: =I64*D64 -> 0 | K64: =E64+G64+I64 -> 0 | L64: =F64+H64+J64 -> 0 | N64: 010603 | P64: 0106 | R64: 3
A65: 010604 금 속 공 사 | D65: 1 | E65: =공종별내역서!F1245 -> 0 | F65: =E65*D65 -> 0 | G65: =공종별내역서!H1245 -> 0 | H65: =G65*D65 -> 0 | I65: =공종별내역서!J1245 -> 0 | J65: =I65*D65 -> 0 | K65: =E65+G65+I65 -> 0 | L65: =F65+H65+J65 -> 0 | N65: 010604 | P65: 0106 | R65: 3
A66: 010605 미 장 공 사 | D66: 1 | E66: =공종별내역서!F1268 -> 0 | F66: =E66*D66 -> 0 | G66: =공종별내역서!H1268 -> 0 | H66: =G66*D66 -> 0 | I66: =공종별내역서!J1268 -> 0 | J66: =I66*D66 -> 0 | K66: =E66+G66+I66 -> 0 | L66: =F66+H66+J66 -> 0 | N66: 010605 | P66: 0106 | R66: 3
A67: 010606 칠 공 사 | D67: 1 | E67: =공종별내역서!F1291 -> 0 | F67: =E67*D67 -> 0 | G67: =공종별내역서!H1291 -> 0 | H67: =G67*D67 -> 0 | I67: =공종별내역서!J1291 -> 0 | J67: =I67*D67 -> 0 | K67: =E67+G67+I67 -> 0 | L67: =F67+H67+J67 -> 0 | N67: 010606 | P67: 0106 | R67: 3
A68: 010607 철 거 공 사 | D68: 1 | E68: =공종별내역서!F1314 -> 0 | F68: =E68*D68 -> 0 | G68: =공종별내역서!H1314 -> 0 | H68: =G68*D68 -> 0 | I68: =공종별내역서!J1314 -> 0 | J68: =I68*D68 -> 0 | K68: =E68+G68+I68 -> 0 | L68: =F68+H68+J68 -> 0 | N68: 010607 | P68: 0106 | R68: 3
A69: 0107 ■Wee클래스■ | D69: 1 | E69: =F70+F71+F72+F73+F74+F75+F76+F77+F78+F79+F80+F81 -> 0 | F69: =E69*D69 -> 0 | G69: =H70+H71+H72+H73+H74+H75+H76+H77+H78+H79+H80+H81 -> 0 | H69: =G69*D69 -> 0 | I69: =J70+J71+J72+J73+J74+J75+J76+J77+J78+J79+J80+J81 -> 0 | J69: =I69*D69 -> 0 | K69: =E69+G69+I69 -> 0 | L69: =F69+H69+J69 -> 0 | N69: 0107 | P69: 01 | R69: 2
A70: 010701 가 설 공 사 | D70: 1 | E70: =공종별내역서!F1337 -> 0 | F70: =E70*D70 -> 0 | G70: =공종별내역서!H1337 -> 0 | H70: =G70*D70 -> 0 | I70: =공종별내역서!J1337 -> 0 | J70: =I70*D70 -> 0 | K70: =E70+G70+I70 -> 0 | L70: =F70+H70+J70 -> 0 | N70: 010701 | P70: 0107 | R70: 3
A71: 010702 돌공사및타일공사 | D71: 1 | E71: =공종별내역서!F1360 -> 0 | F71: =E71*D71 -> 0 | G71: =공종별내역서!H1360 -> 0 | H71: =G71*D71 -> 0 | I71: =공종별내역서!J1360 -> 0 | J71: =I71*D71 -> 0 | K71: =E71+G71+I71 -> 0 | L71: =F71+H71+J71 -> 0 | N71: 010702 | P71: 0107 | R71: 3
A72: 010703 목 공 사 | D72: 1 | E72: =공종별내역서!F1383 -> 0 | F72: =E72*D72 -> 0 | G72: =공종별내역서!H1383 -> 0 | H72: =G72*D72 -> 0 | I72: =공종별내역서!J1383 -> 0 | J72: =I72*D72 -> 0 | K72: =E72+G72+I72 -> 0 | L72: =F72+H72+J72 -> 0 | N72: 010703 | P72: 0107 | R72: 3
A73: 010704 수 장 공 사 | D73: 1 | E73: =공종별내역서!F1406 -> 0 | F73: =E73*D73 -> 0 | G73: =공종별내역서!H1406 -> 0 | H73: =G73*D73 -> 0 | I73: =공종별내역서!J1406 -> 0 | J73: =I73*D73 -> 0 | K73: =E73+G73+I73 -> 0 | L73: =F73+H73+J73 -> 0 | N73: 010704 | P73: 0107 | R73: 3
A74: 010705 방 수 공 사 | D74: 1 | E74: =공종별내역서!F1429 -> 0 | F74: =E74*D74 -> 0 | G74: =공종별내역서!H1429 -> 0 | H74: =G74*D74 -> 0 | I74: =공종별내역서!J1429 -> 0 | J74: =I74*D74 -> 0 | K74: =E74+G74+I74 -> 0 | L74: =F74+H74+J74 -> 0 | N74: 010705 | P74: 0107 | R74: 3
A75: 010706 금 속 공 사 | D75: 1 | E75: =공종별내역서!F1452 -> 0 | F75: =E75*D75 -> 0 | G75: =공종별내역서!H1452 -> 0 | H75: =G75*D75 -> 0 | I75: =공종별내역서!J1452 -> 0 | J75: =I75*D75 -> 0 | K75: =E75+G75+I75 -> 0 | L75: =F75+H75+J75 -> 0 | N75: 010706 | P75: 0107 | R75: 3
A76: 010707 미 장 공 사 | D76: 1 | E76: =공종별내역서!F1475 -> 0 | F76: =E76*D76 -> 0 | G76: =공종별내역서!H1475 -> 0 | H76: =G76*D76 -> 0 | I76: =공종별내역서!J1475 -> 0 | J76: =I76*D76 -> 0 | K76: =E76+G76+I76 -> 0 | L76: =F76+H76+J76 -> 0 | N76: 010707 | P76: 0107 | R76: 3
A77: 010708 창호 및 유리공사 | D77: 1 | E77: =공종별내역서!F1498 -> 0 | F77: =E77*D77 -> 0 | G77: =공종별내역서!H1498 -> 0 | H77: =G77*D77 -> 0 | I77: =공종별내역서!J1498 -> 0 | J77: =I77*D77 -> 0 | K77: =E77+G77+I77 -> 0 | L77: =F77+H77+J77 -> 0 | N77: 010708 | P77: 0107 | R77: 3
A78: 010709 칠 공 사 | D78: 1 | E78: =공종별내역서!F1521 -> 0 | F78: =E78*D78 -> 0 | G78: =공종별내역서!H1521 -> 0 | H78: =G78*D78 -> 0 | I78: =공종별내역서!J1521 -> 0 | J78: =I78*D78 -> 0 | K78: =E78+G78+I78 -> 0 | L78: =F78+H78+J78 -> 0 | N78: 010709 | P78: 0107 | R78: 3
A79: 010710 골 재 비 | D79: 1 | E79: =공종별내역서!F1544 -> 0 | F79: =E79*D79 -> 0 | G79: =공종별내역서!H1544 -> 0 | H79: =G79*D79 -> 0 | I79: =공종별내역서!J1544 -> 0 | J79: =I79*D79 -> 0 | K79: =E79+G79+I79 -> 0 | L79: =F79+H79+J79 -> 0 | N79: 010710 | P79: 0107 | R79: 3
A80: 010711 철 거 공 사 | D80: 1 | E80: =공종별내역서!F1567 -> 0 | F80: =E80*D80 -> 0 | G80: =공종별내역서!H1567 -> 0 | H80: =G80*D80 -> 0 | I80: =공종별내역서!J1567 -> 0 | J80: =I80*D80 -> 0 | K80: =E80+G80+I80 -> 0 | L80: =F80+H80+J80 -> 0 | N80: 010711 | P80: 0107 | R80: 3
A81: 010712 구조물설치공사 | D81: 1 | E81: =공종별내역서!F1590 -> 0 | F81: =E81*D81 -> 0 | G81: =공종별내역서!H1590 -> 0 | H81: =G81*D81 -> 0 | I81: =공종별내역서!J1590 -> 0 | J81: =I81*D81 -> 0 | K81: =E81+G81+I81 -> 0 | L81: =F81+H81+J81 -> 0 | N81: 010712 | P81: 0107 | R81: 3
A82: 0108 폐기물상차및운반 | D82: 1 | E82: =공종별내역서!F1613 -> 0 | F82: =E82*D82 -> 0 | G82: =공종별내역서!H1613 -> 0 | H82: =G82*D82 -> 0 | I82: =공종별내역서!J1613 -> 0 | J82: =I82*D82 -> 0 | K82: =E82+G82+I82 -> 0 | L82: =F82+H82+J82 -> 0 | N82: 0108 | P82: 01 | R82: 2
A83: 0109 철거공사로 인한 고재처리 | D83: 1 | E83: =공종별내역서!F1636 -> 0 | F83: =E83*D83 -> 0 | G83: =공종별내역서!H1636 -> 0 | H83: =G83*D83 -> 0 | I83: =공종별내역서!J1636 -> 0 | J83: =I83*D83 -> 0 | K83: =E83+G83+I83 -> 0 | L83: =F83+H83+J83 -> 0 | N83: 0109 | Q83: 7 | R83: 2 | T83: =L83*1 -> 0
A84: 0110 건설폐기물처리 | D84: 1 | E84: =공종별내역서!F1659 -> 0 | F84: =E84*D84 -> 0 | G84: =공종별내역서!H1659 -> 0 | H84: =G84*D84 -> 0 | I84: =공종별내역서!J1659 -> 0 | J84: =I84*D84 -> 0 | K84: =E84+G84+I84 -> 0 | L84: =F84+H84+J84 -> 0 | N84: 0110 | Q84: 6 | R84: 2 | T84: =L84*1 -> 0
A85: 0111 도급자 관급자재비 | D85: 1 | E85: =공종별내역서!F1682 -> 0 | F85: =E85*D85 -> 0 | G85: =공종별내역서!H1682 -> 0 | H85: =G85*D85 -> 0 | I85: =공종별내역서!J1682 -> 0 | J85: =I85*D85 -> 0 | K85: =E85+G85+I85 -> 0 | L85: =F85+H85+J85 -> 0 | N85: 0111 | Q85: 4 | R85: 2 | T85: =L85*1 -> 0
A86: 0112 관급자 관급자재비 | D86: 1 | E86: =공종별내역서!F1705 -> 0 | F86: =E86*D86 -> 0 | G86: =공종별내역서!H1705 -> 0 | H86: =G86*D86 -> 0 | I86: =공종별내역서!J1705 -> 0 | J86: =I86*D86 -> 0 | K86: =E86+G86+I86 -> 0 | L86: =F86+H86+J86 -> 0 | N86: 0112 | Q86: 3 | R86: 2 | T86: =L86*1 -> 0
A88: [ 합 계 ] | F88: =F5 -> 0 | H88: =H5 -> 0 | J88: =J5 -> 0 | L88: =L5 -> 0

Sheet 공종별내역서
A1: [ 부산강서고등학교 고교학점제 공간조성사업 ]
A2: 품 명 | B2: 규 격 | C2: 단위 | D2: 수량 | E2: 재 료 비 | G2: 노 무 비 | I2: 경 비 | K2: 합 계 | M2: 비 고 | N2: 품목코드 | O2: 변수 | P2: 설정 | Q2: 공종코드 | R2: 일위 | S2: 단산 | T2: 자재 | U2: 손료적용 | V2: 손료저장 | W2: 적용율 | X2: JUK1 | Y2: JUK2 | Z2: JUK3 | AA2: JUK4 | AB2: JUK5 | AC2: JUK6 | AD2: JUK7 | AE2: JUK8 | AF2: JUK9 | AG2: JUK10 | AH2: JUK11 | AI2: JUK12 | AJ2: JUK13 | AK2: JUK14 | AL2: JUK15 | AM2: JUK16 | AN2: JUK17 | AO2: JUK18 | AP2: JUK19 | AQ2: JUK20 | AR2: 자재구분 | AS2: 공종구분 | AT2: 공종레벨 | AU2: 공종+자재 | AV2: 고유번호
E3: 단 가 | F3: 금 액 | G3: 단 가 | H3: 금 액 | I3: 단 가 | J3: 금 액 | K3: 단 가 | L3: 금 액
A4: 010101 가 설 공 사 | B4: ■시청각실■ | Q4: 010101
A5: 공사용가설합판설치해체 | B5: 벽체틀+4.8T보통합판 | C5: M2 | D5: 6 | E5: =TRUNC(일위대가목록!E4,0) -> 0 | F5: =TRUNC(E5*D5, 0) -> 0 | G5: =TRUNC(일위대가목록!F4,0) -> 0 | H5: =TRUNC(G5*D5, 0) -> 0 | I5: =TRUNC(일위대가목록!G4,0) -> 0 | J5: =TRUNC(I5*D5, 0) -> 0 | K5: =TRUNC(E5+G5+I5, 0) -> 0 | L5: =TRUNC(F5+H5+J5, 0) -> 0 | M5: 호표 1 | N5: 44F83CA6E32929512738148F68208 | Q5: 010101 | R5: T | S5: F | T5: F | AU5: 01010144F83CA6E32929512738148F68208 | AV5: 4
A6: 콘테이너형 가설사무소 설치 및 해체 | B6: 3.0*6.0m, 6개월 | C6: 개소 | D6: 1 | E6: =TRUNC(일위대가목록!E5,0) -> 0 | F6: =TRUNC(E6*D6, 0) -> 0 | G6: =TRUNC(일위대가목록!F5,0) -> 0 | H6: =TRUNC(G6*D6, 0) -> 0 | I6: =TRUNC(일위대가목록!G5,0) -> 0 | J6: =TRUNC(I6*D6, 0) -> 0 | K6: =TRUNC(E6+G6+I6, 0) -> 0 | L6: =TRUNC(F6+H6+J6, 0) -> 0 | M6: 호표 2 | N6: 44F83CA6D28D19BBA90DBD8DCFCC3 | Q6: 010101 | R6: T | S6: F | T6: F | AU6: 01010144F83CA6D28D19BBA90DBD8DCFCC3 | AV6: 5
A7: 건축물 현장정리 | B7: 개수 | C7: M2 | D7: 170 | E7: =TRUNC(일위대가목록!E6,0) -> 0 | F7: =TRUNC(E7*D7, 0) -> 0 | G7: =TRUNC(일위대가목록!F6,0) -> 0 | H7: =TRUNC(G7*D7, 0) -> 0 | I7: =TRUNC(일위대가목록!G6,0) -> 0 | J7: =TRUNC(I7*D7, 0) -> 0 | K7: =TRUNC(E7+G7+I7, 0) -> 0 | L7: =TRUNC(F7+H7+J7, 0) -> 0 | M7: 호표 3 | N7: 44F83CA6B7C249599A751689AFCBA | Q7: 010101 | R7: T | S7: F | T7: F | AU7: 01010144F83CA6B7C249599A751689AFCBA | AV7: 6
A8: 기존바닥보양 | B8: 천막지(P.E탑지) | C8: M2 | D8: 83 | E8: =TRUNC(일위대가목록!E7,0) -> 0 | F8: =TRUNC(E8*D8, 0) -> 0 | G8: =TRUNC(일위대가목록!F7,0) -> 0 | H8: =TRUNC(G8*D8, 0) -> 0 | I8: =TRUNC(일위대가목록!G7,0) -> 0 | J8: =TRUNC(I8*D8, 0) -> 0 | K8: =TRUNC(E8+G8+I8, 0) -> 0 | L8: =TRUNC(F8+H8+J8, 0) -> 0 | M8: 호표 4 | N8: 44F83CA6B7FF69CB390CC380690AD | Q8: 010101 | R8: T | S8: F | T8: F | AU8: 01010144F83CA6B7FF69CB390CC380690AD | AV8: 7
A9: 준공청소 | C9: M2 | D9: 170 | E9: =TRUNC(일위대가목록!E8,0) -> 0 | F9: =TRUNC(E9*D9, 0) -> 0 | G9: =TRUNC(일위대가목록!F8,0) -> 0 | H9: =TRUNC(G9*D9, 0) -> 0 | I9: =TRUNC(일위대가목록!G8,0) -> 0 | J9: =TRUNC(I9*D9, 0) -> 0 | K9: =TRUNC(E9+G9+I9, 0) -> 0 | L9: =TRUNC(F9+H9+J9, 0) -> 0 | M9: 호표 5 | N9: 44F83CA6B796F98B9F80F38E40C2A | Q9: 010101 | R9: T | S9: F | T9: F | AU9: 01010144F83CA6B796F98B9F80F38E40C2A | AV9: 8
A10: 이동식강관말비계 | B10: 1단(2m), 3개월 | C10: 대 | D10: 2 | E10: =TRUNC(일위대가목록!E9,0) -> 0 | F10: =TRUNC(E10*D10, 0) -> 0 | G10: =TRUNC(일위대가목록!F9,0) -> 0 | H10: =TRUNC(G10*D10, 0) -> 0 | I10: =TRUNC(일위대가목록!G9,0) -> 0 | J10: =TRUNC(I10*D10, 0) -> 0 | K10: =TRUNC(E10+G10+I10, 0) -> 0 | L10: =TRUNC(F10+H10+J10, 0) -> 0 | M10: 호표 6 | N10: 44B73316D0C8C9DF19514082134CC | Q10: 010101 | R10: T | S10: F | T10: F | AU10: 01010144B73316D0C8C9DF19514082134CC | AV10: 9
Q11: 010101
Q12: 010101
Q13: 010101
Q14: 010101
Q15: 010101
Q16: 010101
Q17: 010101
Q18: 010101
Q19: 010101
Q20: 010101
Q21: 010101
Q22: 010101
... Q25: 010101
A26: [ 합 계 ] | F26: =SUMIF(Q5:Q25,"010101",F5:F25) -> 0 | H26: =SUMIF(Q5:Q25,"010101",H5:H25) -> 0 | J26: =SUMIF(Q5:Q25,"010101",J5:J25) -> 0 | L26: =SUMIF(Q5:Q25,"010101",L5:L25) -> 0 | N26: TOTAL
A27: 010102 철근콘크리트공사 | B27: ■시청각실■ | Q27: 010102
A28: 레미콘 - 부산 | B28: 25-18-15 | C28: M3 | D28: 19 | E28: =TRUNC(단가대비표!O43,0) -> 0 | F28: =TRUNC(E28*D28, 0) -> 0 | G28: =TRUNC(단가대비표!P43,0) -> 0 | H28: =TRUNC(G28*D28, 0) -> 0 | I28: =TRUNC(단가대비표!V43,0) -> 0 | J28: =TRUNC(I28*D28, 0) -> 0 | K28: =TRUNC(E28+G28+I28, 0) -> 0 | L28: =TRUNC(F28+H28+J28, 0) -> 0 | N28: 43DA34D6529869CC6EB27B828DB28DAB440E4 | Q28: 010102 | R28: F | S28: F | T28: T | AU28: 01010243DA34D6529869CC6EB27B828DB28DAB440E4 | AV28: 11
A29: 합판거푸집 설치 및 해체 | B29: 복잡 3회, 수직고 7m까지 | C29: M2 | D29: 9 | E29: =TRUNC(일위대가목록!E10,0) -> 0 | F29: =TRUNC(E29*D29, 0) -> 0 | G29: =TRUNC(일위대가목록!F10,0) -> 0 | H29: =TRUNC(G29*D29, 0) -> 0 | I29: =TRUNC(일위대가목록!G10,0) -> 0 | J29: =TRUNC(I29*D29, 0) -> 0 | K29: =TRUNC(E29+G29+I29, 0) -> 0 | L29: =TRUNC(F29+H29+J29, 0) -> 0 | M29: 호표 7 | N29: 44F83976AE93A9DE883BB684C6EEF | Q29: 010102 | R29: T | S29: F | T29: F | AU29: 01010244F83976AE93A9DE883BB684C6EEF | AV29: 12
A30: 레디믹스트콘크리트 인력운반 타설 | B30: 무근구조물 | C30: M3 | D30: 18 | E30: =TRUNC(일위대가목록!E11,0) -> 0 | F30: =TRUNC(E30*D30, 0) -> 0 | G30: =TRUNC(일위대가목록!F11,0) -> 0 | H30: =TRUNC(G30*D30, 0) -> 0 | I30: =TRUNC(일위대가목록!G11,0) -> 0 | J30: =TRUNC(I30*D30, 0) -> 0 | K30: =TRUNC(E30+G30+I30, 0) -> 0 | L30: =TRUNC(F30+H30+J30, 0) -> 0 | M30: 호표 8 | N30: 44F83976DBF469D3BB1C5F88DC6E6 | Q30: 010102 | R30: T | S30: F | T30: F | AU30: 01010244F83976DBF469D3BB1C5F88DC6E6 | AV30: 13
A31: 섬유보강재 | B31: 콘크리트보강섬유(타설시) | C31: M3 | D31: 18 | E31: =TRUNC(일위대가목록!E12,0) -> 0 | F31: =TRUNC(E31*D31, 0) -> 0 | G31: =TRUNC(일위대가목록!F12,0) -> 0 | H31: =TRUNC(G31*D31, 0) -> 0 | I31: =TRUNC(일위대가목록!G12,0) -> 0 | J31: =TRUNC(I31*D31, 0) -> 0 | K31: =TRUNC(E31+G31+I31, 0) -> 0 | L31: =TRUNC(F31+H31+J31, 0) -> 0 | M31: 호표 9 | N31: 44F83B56ABC0391D6D6F8F80BB4D6 | Q31: 010102 | R31: T | S31: F | T31: F | AU31: 01010244F83B56ABC0391D6D6F8F80BB4D6 | AV31: 14
Q32: 010102
Q33: 010102
Q34: 010102
Q35: 010102
Q36: 010102
Q37: 010102
Q38: 010102
Q39: 010102
Q40: 010102
Q41: 010102
Q42: 010102
Q43: 010102
... Q48: 010102
A49: [ 합 계 ] | F49: =SUMIF(Q28:Q48,"010102",F28:F48) -> 0 | H49: =SUMIF(Q28:Q48,"010102",H28:H48) -> 0 | J49: =SUMIF(Q28:Q48,"010102",J28:J48) -> 0 | L49: =SUMIF(Q28:Q48,"010102",L28:L48) -> 0 | N49: TOTAL
A50: 010103 목 공 사 | B50: ■시청각실■ | Q50: 010103
A51: 마루바탕 설치(내수합판) | B51: 12MM*1220*2440-2겹 | C51: M2 | D51: 20 | E51: =TRUNC(일위대가목록!E13,0) -> 0 | F51: =TRUNC(E51*D51, 0) -> 0 | G51: =TRUNC(일위대가목록!F13,0) -> 0 | H51: =TRUNC(G51*D51, 0) -> 0 | I51: =TRUNC(일위대가목록!G13,0) -> 0 | J51: =TRUNC(I51*D51, 0) -> 0 | K51: =TRUNC(E51+G51+I51, 0) -> 0 | L51: =TRUNC(F51+H51+J51, 0) -> 0 | M51: 호표 10 | N51: 44F834F68931C9FB00F75B863C7B8 | Q51: 010103 | R51: T | S51: F | T51: F | AU51: 01010344F834F68931C9FB00F75B863C7B8 | AV51: 16
A52: 마루하지틀설치(H470) | B52: 50*50*2.0T 아연도@305*900,방진고무패드 | C52: M2 | D52: 20 | E52: =TRUNC(일위대가목록!E14,0) -> 0 | F52: =TRUNC(E52*D52, 0) -> 0 | G52: =TRUNC(일위대가목록!F14,0) -> 0 | H52: =TRUNC(G52*D52, 0) -> 0 | I52: =TRUNC(일위대가목록!G14,0) -> 0 | J52: =TRUNC(I52*D52, 0) -> 0 | K52: =TRUNC(E52+G52+I52, 0) -> 0 | L52: =TRUNC(F52+H52+J52, 0) -> 0 | M52: 호표 11 | N52: 44F834F6894269A180842A84EE6C4 | Q52: 010103 | R52: T | S52: F | T52: F | AU52: 01010344F834F6894269A180842A84EE6C4 | AV52: 17
A53: 벽,띠장설치(미송) | B53: 30*30*D100 @450*600,이중격자 | C53: M2 | D53: 7 | E53: =TRUNC(일위대가목록!E15,0) -> 0 | F53: =TRUNC(E53*D53, 0) -> 0 | G53: =TRUNC(일위대가목록!F15,0) -> 0 | H53: =TRUNC(G53*D53, 0) -> 0 | I53: =TRUNC(일위대가목록!G15,0) -> 0 | J53: =TRUNC(I53*D53, 0) -> 0 | K53: =TRUNC(E53+G53+I53, 0) -> 0 | L53: =TRUNC(F53+H53+J53, 0) -> 0 | M53: 호표 12 | N53: 44F834F6B66D59574D990E8D16E96 | Q53: 010103 | R53: T | S53: F | T53: F | AU53: 01010344F834F6B66D59574D990E8D16E96 | AV53: 18
A54: 목조 천정틀 설치(목공) | B54: 미송30*30, @300*600,H250 | C54: M2 | D54: 9 | E54: =TRUNC(일위대가목록!E16,0) -> 0 | F54: =TRUNC(E54*D54, 0) -> 0 | G54: =TRUNC(일위대가목록!F16,0) -> 0 | H54: =TRUNC(G54*D54, 0) -> 0 | I54: =TRUNC(일위대가목록!G16,0) -> 0 | J54: =TRUNC(I54*D54, 0) -> 0 | K54: =TRUNC(E54+G54+I54, 0) -> 0 | L54: =TRUNC(F54+H54+J54, 0) -> 0 | M54: 호표 13 | N54: 44F834F6B66D59574D990E8D045C1 | Q54: 010103 | R54: T | S54: F | T54: F | AU54: 01010344F834F6B66D59574D990E8D045C1 | AV54: 19
A55: 벽,띠장설치(미송) | B55: 45*45, @450*600 | C55: M2 | D55: 70 | E55: =TRUNC(일위대가목록!E17,0) -> 0 | F55: =TRUNC(E55*D55, 0) -> 0 | G55: =TRUNC(일위대가목록!F17,0) -> 0 | H55: =TRUNC(G55*D55, 0) -> 0 | I55: =TRUNC(일위대가목록!G17,0) -> 0 | J55: =TRUNC(I55*D55, 0) -> 0 | K55: =TRUNC(E55+G55+I55, 0) -> 0 | L55: =TRUNC(F55+H55+J55, 0) -> 0 | M55: 호표 14 | N55: 44F834F6B66D59574CF2838C090DE | Q55: 010103 | R55: T | S55: F | T55: F | AU55: 01010344F834F6B66D59574CF2838C090DE | AV55: 20
A56: 벽,띠장설치(미송) | B56: 45*45,D100 @450*600.이중격자 | C56: M2 | D56: 63 | E56: =TRUNC(일위대가목록!E18,0) -> 0 | F56: =TRUNC(E56*D56, 0) -> 0 | G56: =TRUNC(일위대가목록!F18,0) -> 0 | H56: =TRUNC(G56*D56, 0) -> 0 | I56: =TRUNC(일위대가목록!G18,0) -> 0 | J56: =TRUNC(I56*D56, 0) -> 0 | K56: =TRUNC(E56+G56+I56, 0) -> 0 | L56: =TRUNC(F56+H56+J56, 0) -> 0 | M56: 호표 15 | N56: 44F834F6B66D59574CF2838C090DF | Q56: 010103 | R56: T | S56: F | T56: F | AU56: 01010344F834F6B66D59574CF2838C090DF | AV56: 21
A57: 벽,MDF 1겹설치 | B57: 중밀도섬유판, 9.0*1220*2440mm | C57: M2 | D57: 27 | E57: =TRUNC(일위대가목록!E19,0) -> 0 | F57: =TRUNC(E57*D57, 0) -> 0 | G57: =TRUNC(일위대가목록!F19,0) -> 0 | H57: =TRUNC(G57*D57, 0) -> 0 | I57: =TRUNC(일위대가목록!G19,0) -> 0 | J57: =TRUNC(I57*D57, 0) -> 0 | K57: =TRUNC(E57+G57+I57, 0) -> 0 | L57: =TRUNC(F57+H57+J57, 0) -> 0 | M57: 호표 16 | N57: 44F832A6831379FAEB73CD831B212 | Q57: 010103 | R57: T | S57: F | T57: F | AU57: 01010344F832A6831379FAEB73CD831B212 | AV57: 22
A58: 마루측판설치(H=500) | B58: 9MM MDF,2겹+방염필름 | C58: M | D58: 9 | E58: =TRUNC(일위대가목록!E20,0) -> 0 | F58: =TRUNC(E58*D58, 0) -> 0 | G58: =TRUNC(일위대가목록!F20,0) -> 0 | H58: =TRUNC(G58*D58, 0) -> 0 | I58: =TRUNC(일위대가목록!G20,0) -> 0 | J58: =TRUNC(I58*D58, 0) -> 0 | K58: =TRUNC(E58+G58+I58, 0) -> 0 | L58: =TRUNC(F58+H58+J58, 0) -> 0 | M58: 호표 17 | N58: 44F832A68348B9FD5E17758DB4059 | Q58: 010103 | R58: T | S58: F | T58: F | AU58: 01010344F832A68348B9FD5E17758DB4059 | AV58: 23
A59: 목재창대설치 | B59: 라왕20*180/방염필름마감 | C59: M | D59: 60 | E59: =TRUNC(일위대가목록!E21,0) -> 0 | F59: =TRUNC(E59*D59, 0) -> 0 | G59: =TRUNC(일위대가목록!F21,0) -> 0 | H59: =TRUNC(G59*D59, 0) -> 0 | I59: =TRUNC(일위대가목록!G21,0) -> 0 | J59: =TRUNC(I59*D59, 0) -> 0 | K59: =TRUNC(E59+G59+I59, 0) -> 0 | L59: =TRUNC(F59+H59+J59, 0) -> 0 | M59: 호표 18 | N59: 44F832A6835909203C431980A4E74 | Q59: 010103 | R59: T | S59: F | T59: F | AU59: 01010344F832A6835909203C431980A4E74 | AV59: 24
A60: 벽, 합판붙임 | B60: 일반 9mm | C60: M2 | D60: 7 | E60: =TRUNC(일위대가목록!E22,0) -> 0 | F60: =TRUNC(E60*D60, 0) -> 0 | G60: =TRUNC(일위대가목록!F22,0) -> 0 | H60: =TRUNC(G60*D60, 0) -> 0 | I60: =TRUNC(일위대가목록!G22,0) -> 0 | J60: =TRUNC(I60*D60, 0) -> 0 | K60: =TRUNC(E60+G60+I60, 0) -> 0 | L60: =TRUNC(F60+H60+J60, 0) -> 0 | M60: 호표 19 | N60: 44B73D263752B9227CE0B189E92DE | Q60: 010103 | R60: T | S60: F | T60: F | AU60: 01010344B73D263752B9227CE0B189E92DE | AV60: 25
A61: 천장, 합판붙임 | B61: 일반 9.0mm | C61: M2 | D61: 9 | E61: =TRUNC(일위대가목록!E23,0) -> 0 | F61: =TRUNC(E61*D61, 0) -> 0 | G61: =TRUNC(일위대가목록!F23,0) -> 0 | H61: =TRUNC(G61*D61, 0) -> 0 | I61: =TRUNC(일위대가목록!G23,0) -> 0 | J61: =TRUNC(I61*D61, 0) -> 0 | K61: =TRUNC(E61+G61+I61, 0) -> 0 | L61: =TRUNC(F61+H61+J61, 0) -> 0 | M61: 호표 20 | N61: 44B73D263752B9227CE0B189FB9E4 | Q61: 010103 | R61: T | S61: F | T61: F | AU61: 01010344B73D263752B9227CE0B189FB9E4 | AV61: 26
Q62: 010103
Q63: 010103
Q64: 010103
Q65: 010103
Q66: 010103
Q67: 010103
Q68: 010103
Q69: 010103
Q70: 010103
Q71: 010103
A72: [ 합 계 ] | F72: =SUMIF(Q51:Q71,"010103",F51:F71) -> 0 | H72: =SUMIF(Q51:Q71,"010103",H51:H71) -> 0 | J72: =SUMIF(Q51:Q71,"010103",J51:J71) -> 0 | L72: =SUMIF(Q51:Q71,"010103",L51:L71) -> 0 | N72: TOTAL
A73: 010104 수 장 공 사 | B73: ■시청각실■ | Q73: 010104
A74: 벽체마감패널 | B74: HDC-FSA-15TL,흡음타공패널 | C74: M2 | D74: 140 | E74: =TRUNC(단가대비표!O60,0) -> 0 | F74: =TRUNC(E74*D74, 0) -> 0 | G74: =TRUNC(단가대비표!P60,0) -> 0 | H74: =TRUNC(G74*D74, 0) -> 0 | I74: =TRUNC(단가대비표!V60,0) -> 0 | J74: =TRUNC(I74*D74, 0) -> 0 | K74: =TRUNC(E74+G74+I74, 0) -> 0 | L74: =TRUNC(F74+H74+J74, 0) -> 0 | M74: 관급자재 | N74: 43DA34D652C5A9AECB1C3B81E221E66F503EA | Q74: 010104 | R74: F | S74: F | T74: T | AU74: 01010443DA34D652C5A9AECB1C3B81E221E66F503EA | AV74: 28
A75: 실내벽체마감패널설치(주재료별도) | B75: HDC-FSA-15TL,흡음타공패널 | C75: M2 | D75: 108 | E75: =TRUNC(일위대가목록!E24,0) -> 0 | F75: =TRUNC(E75*D75, 0) -> 0 | G75: =TRUNC(일위대가목록!F24,0) -> 0 | H75: =TRUNC(G75*D75, 0) -> 0 | I75: =TRUNC(일위대가목록!G24,0) -> 0 | J75: =TRUNC(I75*D75, 0) -> 0 | K75: =TRUNC(E75+G75+I75, 0) -> 0 | L75: =TRUNC(F75+H75+J75, 0) -> 0 | M75: 호표 21 | N75: 44F832A6600679FEA491E28B68CA9 | Q75: 010104 | R75: T | S75: F | T75: F | AU75: 01010444F832A6600679FEA491E28B68CA9 | AV75: 29
A76: 플로어링 마루 설치 | B76: 22mm, 경질단풍나무(MAPLE), UV도장 | C76: M2 | D76: 20 | E76: =TRUNC(일위대가목록!E25,0) -> 0 | F76: =TRUNC(E76*D76, 0) -> 0 | G76: =TRUNC(일위대가목록!F25,0) -> 0 | H76: =TRUNC(G76*D76, 0) -> 0 | I76: =TRUNC(일위대가목록!G25,0) -> 0 | J76: =TRUNC(I76*D76, 0) -> 0 | K76: =TRUNC(E76+G76+I76, 0) -> 0 | L76: =TRUNC(F76+H76+J76, 0) -> 0 | M76: 호표 22 | N76: 44F834F6894269A181AB3481542D3 | Q76: 010104 | R76: T | S76: F | T76: F | AU76: 01010444F834F6894269A181AB3481542D3 | AV76: 30
A77: 마루귀틀설치(라왕) | B77: 50*50, 방염락카4회 | C77: M | D77: 13 | E77: =TRUNC(일위대가목록!E26,0) -> 0 | F77: =TRUNC(E77*D77, 0) -> 0 | G77: =TRUNC(일위대가목록!F26,0) -> 0 | H77: =TRUNC(G77*D77, 0) -> 0 | I77: =TRUNC(일위대가목록!G26,0) -> 0 | J77: =TRUNC(I77*D77, 0) -> 0 | K77: =TRUNC(E77+G77+I77, 0) -> 0 | L77: =TRUNC(F77+H77+J77, 0) -> 0 | M77: 호표 23 | N77: 44F834F6894269A181AB34812F20F | Q77: 010104 | R77: T | S77: F | T77: F | AU77: 01010444F834F6894269A181AB34812F20F | AV77: 31
A78: 흑경 글라스 붙이기(강화) | B78: T=5mm 열전사솔리드 | C78: M2 | D78: 16 | E78: =TRUNC(일위대가목록!E27,0) -> 0 | F78: =TRUNC(E78*D78, 0) -> 0 | G78: =TRUNC(일위대가목록!F27,0) -> 0 | H78: =TRUNC(G78*D78, 0) -> 0 | I78: =TRUNC(일위대가목록!G27,0) -> 0 | J78: =TRUNC(I78*D78, 0) -> 0 | K78: =TRUNC(E78+G78+I78, 0) -> 0 | L78: =TRUNC(F78+H78+J78, 0) -> 0 | M78: 호표 24 | N78: 44F83146C64209B56A76AF8C198A2 | Q78: 010104 | R78: T | S78: F | T78: F | AU78: 01010444F83146C64209B56A76AF8C198A2 | AV78: 32
A79: 비닐타일 깔기(왁스코팅포함) | B79: 비닐타일, 3*450*450mm, 데코타일LG | C79: M2 | D79: 150 | E79: =TRUNC(일위대가목록!E28,0) -> 0 | F79: =TRUNC(E79*D79, 0) -> 0 | G79: =TRUNC(일위대가목록!F28,0) -> 0 | H79: =TRUNC(G79*D79, 0) -> 0 | I79: =TRUNC(일위대가목록!G28,0) -> 0 | J79: =TRUNC(I79*D79, 0) -> 0 | K79: =TRUNC(E79+G79+I79, 0) -> 0 | L79: =TRUNC(F79+H79+J79, 0) -> 0 | M79: 호표 25 | N79: 44F832A6AFCB599777BFF9868D0F7 | Q79: 010104 | R79: T | S79: F | T79: F | AU79: 01010444F832A6AFCB599777BFF9868D0F7 | AV79: 33
A80: 벽,석고판 설치(나사고정) | B80: 석고-1겹,9.5MM*900*1800 | C80: M2 | D80: 27 | E80: =TRUNC(일위대가목록!E29,0) -> 0 | F80: =TRUNC(E80*D80, 0) -> 0 | G80: =TRUNC(일위대가목록!F29,0) -> 0 | H80: =TRUNC(G80*D80, 0) -> 0 | I80: =TRUNC(일위대가목록!G29,0) -> 0 | J80: =TRUNC(I80*D80, 0) -> 0 | K80: =TRUNC(E80+G80+I80, 0) -> 0 | L80: =TRUNC(F80+H80+J80, 0) -> 0 | M80: 호표 26 | N80: 44F832A6832DC97BF454928084B25 | Q80: 010104 | R80: T | S80: F | T80: F | AU80: 01010444F832A6832DC97BF454928084B25 | AV80: 34
A81: 천장,석고판 2겹 설치 | B81: 9.5MM*900*1800 | C81: M2 | D81: 24 | E81: =TRUNC(일위대가목록!E30,0) -> 0 | F81: =TRUNC(E81*D81, 0) -> 0 | G81: =TRUNC(일위대가목록!F30,0) -> 0 | H81: =TRUNC(G81*D81, 0) -> 0 | I81: =TRUNC(일위대가목록!G30,0) -> 0 | J81: =TRUNC(I81*D81, 0) -> 0 | K81: =TRUNC(E81+G81+I81, 0) -> 0 | L81: =TRUNC(F81+H81+J81, 0) -> 0 | M81: 호표 27 | N81: 44F832A6832DC9783FC78887528CD | Q81: 010104 | R81: T | S81: F | T81: F | AU81: 01010444F832A6832DC9783FC78887528CD | AV81: 35
A82: 인테리어필름 붙임(방염,우드) | B82: 현장설치도 | C82: M2 | D82: 27 | E82: =TRUNC(일위대가목록!E31,0) -> 0 | F82: =TRUNC(E82*D82, 0) -> 0 | G82: =TRUNC(일위대가목록!F31,0) -> 0 | H82: =TRUNC(G82*D82, 0) -> 0 | I82: =TRUNC(일위대가목록!G31,0) -> 0 | J82: =TRUNC(I82*D82, 0) -> 0 | K82: =TRUNC(E82+G82+I82, 0) -> 0 | L82: =TRUNC(F82+H82+J82, 0) -> 0 | M82: 호표 28 | N82: 44F832A68348B9FF0CF403871AC13 | Q82: 010104 | R82: T | S82: F | T82: F | AU82: 01010444F832A68348B9FF0CF403871AC13 | AV82: 36
A83: 벽,흠음제설치 | B83: 폴리에스터 충진재,24k-50t | C83: M2 | D83: 105 | E83: =TRUNC(일위대가목록!E32,0) -> 0 | F83: =TRUNC(E83*D83, 0) -> 0 | G83: =TRUNC(일위대가목록!F32,0) -> 0 | H83: =TRUNC(G83*D83, 0) -> 0 | I83: =TRUNC(일위대가목록!G32,0) -> 0 | J83: =TRUNC(I83*D83, 0) -> 0 | K83: =TRUNC(E83+G83+I83, 0) -> 0 | L83: =TRUNC(F83+H83+J83, 0) -> 0 | M83: 호표 29 | N83: 44F832A6600679FEA491E28B682D4 | Q83: 010104 | R83: T | S83: F | T83: F | AU83: 01010444F832A6600679FEA491E28B682D4 | AV83: 37
A84: 천정마감 | B84: 9.5T석고1겹+9TMDF+방염인테리어마감 | C84: M2 | D84: 21 | E84: =TRUNC(일위대가목록!E33,0) -> 0 | F84: =TRUNC(E84*D84, 0) -> 0 | G84: =TRUNC(일위대가목록!F33,0) -> 0 | H84: =TRUNC(G84*D84, 0) -> 0 | I84: =TRUNC(일위대가목록!G33,0) -> 0 | J84: =TRUNC(I84*D84, 0) -> 0 | K84: =TRUNC(E84+G84+I84, 0) -> 0 | L84: =TRUNC(F84+H84+J84, 0) -> 0 | M84: 호표 30 | N84: 44B73D263737C9A21E14D780E0E07 | Q84: 010104 | R84: T | S84: F | T84: F | AU84: 01010444B73D263737C9A21E14D780E0E07 | AV84: 38
A85: 천정마감 | B85: 9.5T석고1겹+12.5석고1겹 | C85: M2 | D85: 77 | E85: =TRUNC(일위대가목록!E34,0) -> 0 | F85: =TRUNC(E85*D85, 0) -> 0 | G85: =TRUNC(일위대가목록!F34,0) -> 0 | H85: =TRUNC(G85*D85, 0) -> 0 | I85: =TRUNC(일위대가목록!G34,0) -> 0 | J85: =TRUNC(I85*D85, 0) -> 0 | K85: =TRUNC(E85+G85+I85, 0) -> 0 | L85: =TRUNC(F85+H85+J85, 0) -> 0 | M85: 호표 31 | N85: 44B73D263737C9A21E14D780E0D61 | Q85: 010104 | R85: T | S85: F | T85: F | AU85: 01010444B73D263737C9A21E14D780E0D61 | AV85: 39
A86: 천정마감 | B86: 9.5T석고1겹+12.5유공흡음테파보드 | C86: M2 | D86: 51 | E86: =TRUNC(일위대가목록!E35,0) -> 0 | F86: =TRUNC(E86*D86, 0) -> 0 | G86: =TRUNC(일위대가목록!F35,0) -> 0 | H86: =TRUNC(G86*D86, 0) -> 0 | I86: =TRUNC(일위대가목록!G35,0) -> 0 | J86: =TRUNC(I86*D86, 0) -> 0 | K86: =TRUNC(E86+G86+I86, 0) -> 0 | L86: =TRUNC(F86+H86+J86, 0) -> 0 | M86: 호표 32 | N86: 44B73D263737C9A21E14D780E0C5A | Q86: 010104 | R86: T | S86: F | T86: F | AU86: 01010444B73D263737C9A21E14D780E0C5A | AV86: 40
A87: 바닥단열재시공 | B87: 압출발포폴리스티렌단열재, 0.02, 900*1800*50mm | C87: M2 | D87: 170 | E87: =TRUNC(일위대가목록!E36,0) -> 0 | F87: =TRUNC(E87*D87, 0) -> 0 | G87: =TRUNC(일위대가목록!F36,0) -> 0 | H87: =TRUNC(G87*D87, 0) -> 0 | I87: =TRUNC(일위대가목록!G36,0) -> 0 | J87: =TRUNC(I87*D87, 0) -> 0 | K87: =TRUNC(E87+G87+I87, 0) -> 0 | L87: =TRUNC(F87+H87+J87, 0) -> 0 | M87: 호표 33 | N87: 44B73D26419C19577BF6F98128771 | Q87: 010104 | R87: T | S87: F | T87: F | AU87: 01010444B73D26419C19577BF6F98128771 | AV87: 41
Q88: 010104
Q89: 010104
Q90: 010104
Q91: 010104
Q92: 010104
Q93: 010104
Q94: 010104
A95: [ 합 계 ] | F95: =SUMIF(Q74:Q94,"010104",F74:F94) -> 0 | H95: =SUMIF(Q74:Q94,"010104",H74:H94) -> 0 | J95: =SUMIF(Q74:Q94,"010104",J74:J94) -> 0 | L95: =SUMIF(Q74:Q94,"010104",L74:L94) -> 0 | N95: TOTAL
A96: 010105 금 속 공 사 | B96: ■시청각실■ | Q96: 010105
A97: 스텐난간대설치 | B97: H=1000 , D25.4-1.5t@200 + D50.8-1.5t | C97: m | D97: 5 | E97: =TRUNC(일위대가목록!E37,0) -> 0 | F97: =TRUNC(E97*D97, 0) -> 0 | G97: =TRUNC(일위대가목록!F37,0) -> 0 | H97: =TRUNC(G97*D97, 0) -> 0 | I97: =TRUNC(일위대가목록!G37,0) -> 0 | J97: =TRUNC(I97*D97, 0) -> 0 | K97: =TRUNC(E97+G97+I97, 0) -> 0 | L97: =TRUNC(F97+H97+J97, 0) -> 0 | M97: 호표 34 | N97: 44F835E661B6A9579DFAEA889D8DB | Q97: 010105 | R97: T | S97: F | T97: F | AU97: 01010544F835E661B6A9579DFAEA889D8DB | AV97: 43
A98: 경량철골천장틀 설치 | B98: M-BAR(H-1M미만,기존스라브용) | C98: M2 | D98: 170 | E98: =TRUNC(일위대가목록!E38,0) -> 0 | F98: =TRUNC(E98*D98, 0) -> 0 | G98: =TRUNC(일위대가목록!F38,0) -> 0 | H98: =TRUNC(G98*D98, 0) -> 0 | I98: =TRUNC(일위대가목록!G38,0) -> 0 | J98: =TRUNC(I98*D98, 0) -> 0 | K98: =TRUNC(E98+G98+I98, 0) -> 0 | L98: =TRUNC(F98+H98+J98, 0) -> 0 | M98: 호표 35 | N98: 44F837264E6C492336132A85A572A | Q98: 010105 | R98: T | S98: F | T98: F | AU98: 01010544F837264E6C492336132A85A572A | AV98: 44
A99: 천장 히든점검구 설치 | B99: AL 백색, 450*450mm | C99: 개소 | D99: 11 | E99: =TRUNC(일위대가목록!E39,0) -> 0 | F99: =TRUNC(E99*D99, 0) -> 0 | G99: =TRUNC(일위대가목록!F39,0) -> 0 | H99: =TRUNC(G99*D99, 0) -> 0 | I99: =TRUNC(일위대가목록!G39,0) -> 0 | J99: =TRUNC(I99*D99, 0) -> 0 | K99: =TRUNC(E99+G99+I99, 0) -> 0 | L99: =TRUNC(F99+H99+J99, 0) -> 0 | M99: 호표 36 | N99: 44F837264E4189B6FE8408866F315 | Q99: 010105 | R99: T | S99: F | T99: F | AU99: 01010544F837264E4189B6FE8408866F315 | AV99: 45
A100: 흑경몰딩설치 | B100: 칼라1.5T(HL)=10+15+25 | C100: M | D100: 53 | E100: =TRUNC(일위대가목록!E40,0) -> 0 | F100: =TRUNC(E100*D100, 0) -> 0 | G100: =TRUNC(일위대가목록!F40,0) -> 0 | H100: =TRUNC(G100*D100, 0) -> 0 | I100: =TRUNC(일위대가목록!G40,0) -> 0 | J100: =TRUNC(I100*D100, 0) -> 0 | K100: =TRUNC(E100+G100+I100, 0) -> 0 | L100: =TRUNC(F100+H100+J100, 0) -> 0 | M100: 호표 37 | N100: 44F831467F7F79DC4338E98D4D105 | Q100: 010105 | R100: T | S100: F | T100: F | AU100: 01010544F831467F7F79DC4338E98D4D105 | AV100: 46
A101: 스텐레스스틸몰딩20*260 | B101: 칼라1.5T(HL)=20+20+260+20+20 | C101: M | D101: 12 | E101: =TRUNC(일위대가목록!E41,0) -> 0 | F101: =TRUNC(E101*D101, 0) -> 0 | G101: =TRUNC(일위대가목록!F41,0) -> 0 | H101: =TRUNC(G101*D101, 0) -> 0 | I101: =TRUNC(일위대가목록!G41,0) -> 0 | J101: =TRUNC(I101*D101, 0) -> 0 | K101: =TRUNC(E101+G101+I101, 0) -> 0 | L101: =TRUNC(F101+H101+J101, 0) -> 0 | M101: 호표 38 | N101: 44F831467F7F79DC4338E98D4D104 | Q101: 010105 | R101: T | S101: F | T101: F | AU101: 01010544F831467F7F79DC4338E98D4D104 | AV101: 47
A102: 스텐레스스틸몰딩15*15 | B102: 칼라1.5T(HL)=15+15+15+15+15 | C102: M | D102: 37 | E102: =TRUNC(일위대가목록!E42,0) -> 0 | F102: =TRUNC(E102*D102, 0) -> 0 | G102: =TRUNC(일위대가목록!F42,0) -> 0 | H102: =TRUNC(G102*D102, 0) -> 0 | I102: =TRUNC(일위대가목록!G42,0) -> 0 | J102: =TRUNC(I102*D102, 0) -> 0 | K102: =TRUNC(E102+G102+I102, 0) -> 0 | L102: =TRUNC(F102+H102+J102, 0) -> 0 | M102: 호표 39 | N102: 44F831467F7F79DC4338E98D4D107 | Q102: 010105 | R102: T | S102: F | T102: F | AU102: 01010544F831467F7F79DC4338E98D4D107 | AV102: 48
A103: 스텐레스스틸몰딩20*120 | B103: 칼라1.5T(HL)=20+120+20+120 | C103: M | D103: 12 | E103: =TRUNC(일위대가목록!E43,0) -> 0 | F103: =TRUNC(E103*D103, 0) -> 0 | G103: =TRUNC(일위대가목록!F43,0) -> 0 | H103: =TRUNC(G103*D103, 0) -> 0 | I103: =TRUNC(일위대가목록!G43,0) -> 0 | J103: =TRUNC(I103*D103, 0) -> 0 | K103: =TRUNC(E103+G103+I103, 0) -> 0 | L103: =TRUNC(F103+H103+J103, 0) -> 0 | M103: 호표 40 | N103: 44F831467F7F79DC4338E98D4D106 | Q103: 010105 | R103: T | S103: F | T103: F | AU103: 01010544F831467F7F79DC4338E98D4D106 | AV103: 49
A104: 천정간접등박스설치(W420) | B104: 갈바철판1.6T,20+15+70+100+110+50+30+30 | C104: M | D104: 17 | E104: =TRUNC(일위대가목록!E44,0) -> 0 | F104: =TRUNC(E104*D104, 0) -> 0 | G104: =TRUNC(일위대가목록!F44,0) -> 0 | H104: =TRUNC(G104*D104, 0) -> 0 | I104: =TRUNC(일위대가목록!G44,0) -> 0 | J104: =TRUNC(I104*D104, 0) -> 0 | K104: =TRUNC(E104+G104+I104, 0) -> 0 | L104: =TRUNC(F104+H104+J104, 0) -> 0 | M104: 호표 41 | N104: 44F832A6831379FAEB73CD830AEF6 | Q104: 010105 | R104: T | S104: F | T104: F | AU104: 01010544F832A6831379FAEB73CD830AEF6 | AV104: 50
A105: 계단재료분리대(20+50+15+94+20,-W181) | B105: T1.6도장용융아연도강판(우레탐폼사춤) | C105: M | D105: 94 | E105: =TRUNC(일위대가목록!E45,0) -> 0 | F105: =TRUNC(E105*D105, 0) -> 0 | G105: =TRUNC(일위대가목록!F45,0) -> 0 | H105: =TRUNC(G105*D105, 0) -> 0 | I105: =TRUNC(일위대가목록!G45,0) -> 0 | J105: =TRUNC(I105*D105, 0) -> 0 | K105: =TRUNC(E105+G105+I105, 0) -> 0 | L105: =TRUNC(F105+H105+J105, 0) -> 0 | M105: 호표 42 | N105: 44F832A6CAA1396B80072685527BF | Q105: 010105 | R105: T | S105: F | T105: F | AU105: 01010544F832A6CAA1396B80072685527BF | AV105: 51
A106: AL 히든몰딩 설치 | B106: 10MM 1PL용 | C106: M | D106: 60 | E106: =TRUNC(일위대가목록!E46,0) -> 0 | F106: =TRUNC(E106*D106, 0) -> 0 | G106: =TRUNC(일위대가목록!F46,0) -> 0 | H106: =TRUNC(G106*D106, 0) -> 0 | I106: =TRUNC(일위대가목록!G46,0) -> 0 | J106: =TRUNC(I106*D106, 0) -> 0 | K106: =TRUNC(E106+G106+I106, 0) -> 0 | L106: =TRUNC(F106+H106+J106, 0) -> 0 | M106: 호표 43 | N106: 44F832A62A53593AAD422B8914BDA | Q106: 010105 | R106: T | S106: F | T106: F | AU106: 01010544F832A62A53593AAD422B8914BDA | AV106: 52
...

Sheet 일위대가목록
B1: 일 위 대 가 목 록
B2: [ 부산강서고등학교 고교학점제 공간조성사업 ]
A3: 코 드 | B3: 품 명 | C3: 규 격 | D3: 단위 | E3: 재 료 비 | F3: 노 무 비 | G3: 경 비 | H3: 합 계 | I3: 번 호 | J3: 비 고 | K3: 노임계수 | L3: 할증 | M3: 품셈개요 | N3: 장비일위
A4: 44F83CA6E32929512738148F68208 | B4: 공사용가설합판설치해체 | C4: 벽체틀+4.8T보통합판 | D4: M2 | E4: =일위대가!F9 -> 0 | F4: =일위대가!H9 -> 0 | G4: =일위대가!J9 -> 0 | H4: =E4+F4+G4 -> 0 | I4: 호표 1
A5: 44F83CA6D28D19BBA90DBD8DCFCC3 | B5: 콘테이너형 가설사무소 설치 및 해체 | C5: 3.0*6.0m, 6개월 | D5: 개소 | E5: =일위대가!F15 -> 0 | F5: =일위대가!H15 -> 0 | G5: =일위대가!J15 -> 0 | H5: =E5+F5+G5 -> 0 | I5: 호표 2
A6: 44F83CA6B7C249599A751689AFCBA | B6: 건축물 현장정리 | C6: 개수 | D6: M2 | E6: =일위대가!F19 -> 0 | F6: =일위대가!H19 -> 0 | G6: =일위대가!J19 -> 0 | H6: =E6+F6+G6 -> 0 | I6: 호표 3
A7: 44F83CA6B7FF69CB390CC380690AD | B7: 기존바닥보양 | C7: 천막지(P.E탑지) | D7: M2 | E7: =일위대가!F24 -> 0 | F7: =일위대가!H24 -> 0 | G7: =일위대가!J24 -> 0 | H7: =E7+F7+G7 -> 0 | I7: 호표 4
A8: 44F83CA6B796F98B9F80F38E40C2A | B8: 준공청소 | D8: M2 | E8: =일위대가!F28 -> 0 | F8: =일위대가!H28 -> 0 | G8: =일위대가!J28 -> 0 | H8: =E8+F8+G8 -> 0 | I8: 호표 5
A9: 44B73316D0C8C9DF19514082134CC | B9: 이동식강관말비계 | C9: 1단(2m), 3개월 | D9: 대 | E9: =일위대가!F41 -> 0 | F9: =일위대가!H41 -> 0 | G9: =일위대가!J41 -> 0 | H9: =E9+F9+G9 -> 0 | I9: 호표 6
A10: 44F83976AE93A9DE883BB684C6EEF | B10: 합판거푸집 설치 및 해체 | C10: 복잡 3회, 수직고 7m까지 | D10: M2 | E10: =일위대가!F46 -> 0 | F10: =일위대가!H46 -> 0 | G10: =일위대가!J46 -> 0 | H10: =E10+F10+G10 -> 0 | I10: 호표 7
A11: 44F83976DBF469D3BB1C5F88DC6E6 | B11: 레디믹스트콘크리트 인력운반 타설 | C11: 무근구조물 | D11: M3 | E11: =일위대가!F52 -> 0 | F11: =일위대가!H52 -> 0 | G11: =일위대가!J52 -> 0 | H11: =E11+F11+G11 -> 0 | I11: 호표 8
A12: 44F83B56ABC0391D6D6F8F80BB4D6 | B12: 섬유보강재 | C12: 콘크리트보강섬유(타설시) | D12: M3 | E12: =일위대가!F57 -> 0 | F12: =일위대가!H57 -> 0 | G12: =일위대가!J57 -> 0 | H12: =E12+F12+G12 -> 0 | I12: 호표 9
A13: 44F834F68931C9FB00F75B863C7B8 | B13: 마루바탕 설치(내수합판) | C13: 12MM*1220*2440-2겹 | D13: M2 | E13: =일위대가!F62 -> 0 | F13: =일위대가!H62 -> 0 | G13: =일위대가!J62 -> 0 | H13: =E13+F13+G13 -> 0 | I13: 호표 10
A14: 44F834F6894269A180842A84EE6C4 | B14: 마루하지틀설치(H470) | C14: 50*50*2.0T 아연도@305*900,방진고무패드 | D14: M2 | E14: =일위대가!F67 -> 0 | F14: =일위대가!H67 -> 0 | G14: =일위대가!J67 -> 0 | H14: =E14+F14+G14 -> 0 | I14: 호표 11
A15: 44F834F6B66D59574D990E8D16E96 | B15: 벽,띠장설치(미송) | C15: 30*30*D100 @450*600,이중격자 | D15: M2 | E15: =일위대가!F72 -> 0 | F15: =일위대가!H72 -> 0 | G15: =일위대가!J72 -> 0 | H15: =E15+F15+G15 -> 0 | I15: 호표 12
A16: 44F834F6B66D59574D990E8D045C1 | B16: 목조 천정틀 설치(목공) | C16: 미송30*30, @300*600,H250 | D16: M2 | E16: =일위대가!F79 -> 0 | F16: =일위대가!H79 -> 0 | G16: =일위대가!J79 -> 0 | H16: =E16+F16+G16 -> 0 | I16: 호표 13
A17: 44F834F6B66D59574CF2838C090DE | B17: 벽,띠장설치(미송) | C17: 45*45, @450*600 | D17: M2 | E17: =일위대가!F85 -> 0 | F17: =일위대가!H85 -> 0 | G17: =일위대가!J85 -> 0 | H17: =E17+F17+G17 -> 0 | I17: 호표 14
A18: 44F834F6B66D59574CF2838C090DF | B18: 벽,띠장설치(미송) | C18: 45*45,D100 @450*600.이중격자 | D18: M2 | E18: =일위대가!F91 -> 0 | F18: =일위대가!H91 -> 0 | G18: =일위대가!J91 -> 0 | H18: =E18+F18+G18 -> 0 | I18: 호표 15
A19: 44F832A6831379FAEB73CD831B212 | B19: 벽,MDF 1겹설치 | C19: 중밀도섬유판, 9.0*1220*2440mm | D19: M2 | E19: =일위대가!F96 -> 0 | F19: =일위대가!H96 -> 0 | G19: =일위대가!J96 -> 0 | H19: =E19+F19+G19 -> 0 | I19: 호표 16
A20: 44F832A68348B9FD5E17758DB4059 | B20: 마루측판설치(H=500) | C20: 9MM MDF,2겹+방염필름 | D20: M | E20: =일위대가!F101 -> 0 | F20: =일위대가!H101 -> 0 | G20: =일위대가!J101 -> 0 | H20: =E20+F20+G20 -> 0 | I20: 호표 17
A21: 44F832A6835909203C431980A4E74 | B21: 목재창대설치 | C21: 라왕20*180/방염필름마감 | D21: M | E21: =일위대가!F107 -> 0 | F21: =일위대가!H107 -> 0 | G21: =일위대가!J107 -> 0 | H21: =E21+F21+G21 -> 0 | I21: 호표 18
A22: 44B73D263752B9227CE0B189E92DE | B22: 벽, 합판붙임 | C22: 일반 9mm | D22: M2 | E22: =일위대가!F112 -> 0 | F22: =일위대가!H112 -> 0 | G22: =일위대가!J112 -> 0 | H22: =E22+F22+G22 -> 0 | I22: 호표 19
A23: 44B73D263752B9227CE0B189FB9E4 | B23: 천장, 합판붙임 | C23: 일반 9.0mm | D23: M2 | E23: =일위대가!F117 -> 0 | F23: =일위대가!H117 -> 0 | G23: =일위대가!J117 -> 0 | H23: =E23+F23+G23 -> 0 | I23: 호표 20
A24: 44F832A6600679FEA491E28B68CA9 | B24: 실내벽체마감패널설치(주재료별도) | C24: HDC-FSA-15TL,흡음타공패널 | D24: M2 | E24: =일위대가!F123 -> 0 | F24: =일위대가!H123 -> 0 | G24: =일위대가!J123 -> 0 | H24: =E24+F24+G24 -> 0 | I24: 호표 21
A25: 44F834F6894269A181AB3481542D3 | B25: 플로어링 마루 설치 | C25: 22mm, 경질단풍나무(MAPLE), UV도장 | D25: M2 | E25: =일위대가!F129 -> 0 | F25: =일위대가!H129 -> 0 | G25: =일위대가!J129 -> 0 | H25: =E25+F25+G25 -> 0 | I25: 호표 22
A26: 44F834F6894269A181AB34812F20F | B26: 마루귀틀설치(라왕) | C26: 50*50, 방염락카4회 | D26: M | E26: =일위대가!F135 -> 0 | F26: =일위대가!H135 -> 0 | G26: =일위대가!J135 -> 0 | H26: =E26+F26+G26 -> 0 | I26: 호표 23
A27: 44F83146C64209B56A76AF8C198A2 | B27: 흑경 글라스 붙이기(강화) | C27: T=5mm 열전사솔리드 | D27: M2 | E27: =일위대가!F139 -> 0 | F27: =일위대가!H139 -> 0 | G27: =일위대가!J139 -> 0 | H27: =E27+F27+G27 -> 0 | I27: 호표 24
A28: 44F832A6AFCB599777BFF9868D0F7 | B28: 비닐타일 깔기(왁스코팅포함) | C28: 비닐타일, 3*450*450mm, 데코타일LG | D28: M2 | E28: =일위대가!F145 -> 0 | F28: =일위대가!H145 -> 0 | G28: =일위대가!J145 -> 0 | H28: =E28+F28+G28 -> 0 | I28: 호표 25
A29: 44F832A6832DC97BF454928084B25 | B29: 벽,석고판 설치(나사고정) | C29: 석고-1겹,9.5MM*900*1800 | D29: M2 | E29: =일위대가!F150 -> 0 | F29: =일위대가!H150 -> 0 | G29: =일위대가!J150 -> 0 | H29: =E29+F29+G29 -> 0 | I29: 호표 26
A30: 44F832A6832DC9783FC78887528CD | B30: 천장,석고판 2겹 설치 | C30: 9.5MM*900*1800 | D30: M2 | E30: =일위대가!F155 -> 0 | F30: =일위대가!H155 -> 0 | G30: =일위대가!J155 -> 0 | H30: =E30+F30+G30 -> 0 | I30: 호표 27
A31: 44F832A68348B9FF0CF403871AC13 | B31: 인테리어필름 붙임(방염,우드) | C31: 현장설치도 | D31: M2 | E31: =일위대가!F159 -> 0 | F31: =일위대가!H159 -> 0 | G31: =일위대가!J159 -> 0 | H31: =E31+F31+G31 -> 0 | I31: 호표 28
A32: 44F832A6600679FEA491E28B682D4 | B32: 벽,흠음제설치 | C32: 폴리에스터 충진재,24k-50t | D32: M2 | E32: =일위대가!F164 -> 0 | F32: =일위대가!H164 -> 0 | G32: =일위대가!J164 -> 0 | H32: =E32+F32+G32 -> 0 | I32: 호표 29
A33: 44B73D263737C9A21E14D780E0E07 | B33: 천정마감 | C33: 9.5T석고1겹+9TMDF+방염인테리어마감 | D33: M2 | E33: =일위대가!F170 -> 0 | F33: =일위대가!H170 -> 0 | G33: =일위대가!J170 -> 0 | H33: =E33+F33+G33 -> 0 | I33: 호표 30
A34: 44B73D263737C9A21E14D780E0D61 | B34: 천정마감 | C34: 9.5T석고1겹+12.5석고1겹 | D34: M2 | E34: =일위대가!F175 -> 0 | F34: =일위대가!H175 -> 0 | G34: =일위대가!J175 -> 0 | H34: =E34+F34+G34 -> 0 | I34: 호표 31
A35: 44B73D263737C9A21E14D780E0C5A | B35: 천정마감 | C35: 9.5T석고1겹+12.5유공흡음테파보드 | D35: M2 | E35: =일위대가!F180 -> 0 | F35: =일위대가!H180 -> 0 | G35: =일위대가!J180 -> 0 | H35: =E35+F35+G35 -> 0 | I35: 호표 32
A36: 44B73D26419C19577BF6F98128771 | B36: 바닥단열재시공 | C36: 압출발포폴리스티렌단열재, 0.02, 900*1800*50mm | D36: M2 | E36: =일위대가!F185 -> 0 | F36: =일위대가!H185 -> 0 | G36: =일위대가!J185 -> 0 | H36: =E36+F36+G36 -> 0 | I36: 호표 33
A37: 44F835E661B6A9579DFAEA889D8DB | B37: 스텐난간대설치 | C37: H=1000 , D25.4-1.5t@200 + D50.8-1.5t | D37: m | E37: =일위대가!F191 -> 0 | F37: =일위대가!H191 -> 0 | G37: =일위대가!J191 -> 0 | H37: =E37+F37+G37 -> 0 | I37: 호표 34
A38: 44F837264E6C492336132A85A572A | B38: 경량철골천장틀 설치 | C38: M-BAR(H-1M미만,기존스라브용) | D38: M2 | E38: =일위대가!F205 -> 0 | F38: =일위대가!H205 -> 0 | G38: =일위대가!J205 -> 0 | H38: =E38+F38+G38 -> 0 | I38: 호표 35
A39: 44F837264E4189B6FE8408866F315 | B39: 천장 히든점검구 설치 | C39: AL 백색, 450*450mm | D39: 개소 | E39: =일위대가!F213 -> 0 | F39: =일위대가!H213 -> 0 | G39: =일위대가!J213 -> 0 | H39: =E39+F39+G39 -> 0 | I39: 호표 36
A40: 44F831467F7F79DC4338E98D4D105 | B40: 흑경몰딩설치 | C40: 칼라1.5T(HL)=10+15+25 | D40: M | E40: =일위대가!F217 -> 0 | F40: =일위대가!H217 -> 0 | G40: =일위대가!J217 -> 0 | H40: =E40+F40+G40 -> 0 | I40: 호표 37
A41: 44F831467F7F79DC4338E98D4D104 | B41: 스텐레스스틸몰딩20*260 | C41: 칼라1.5T(HL)=20+20+260+20+20 | D41: M | E41: =일위대가!F221 -> 0 | F41: =일위대가!H221 -> 0 | G41: =일위대가!J221 -> 0 | H41: =E41+F41+G41 -> 0 | I41: 호표 38
A42: 44F831467F7F79DC4338E98D4D107 | B42: 스텐레스스틸몰딩15*15 | C42: 칼라1.5T(HL)=15+15+15+15+15 | D42: M | E42: =일위대가!F225 -> 0 | F42: =일위대가!H225 -> 0 | G42: =일위대가!J225 -> 0 | H42: =E42+F42+G42 -> 0 | I42: 호표 39
A43: 44F831467F7F79DC4338E98D4D106 | B43: 스텐레스스틸몰딩20*120 | C43: 칼라1.5T(HL)=20+120+20+120 | D43: M | E43: =일위대가!F229 -> 0 | F43: =일위대가!H229 -> 0 | G43: =일위대가!J229 -> 0 | H43: =E43+F43+G43 -> 0 | I43: 호표 40
A44: 44F832A6831379FAEB73CD830AEF6 | B44: 천정간접등박스설치(W420) | C44: 갈바철판1.6T,20+15+70+100+110+50+30+30 | D44: M | E44: =일위대가!F234 -> 0 | F44: =일위대가!H234 -> 0 | G44: =일위대가!J234 -> 0 | H44: =E44+F44+G44 -> 0 | I44: 호표 41
A45: 44F832A6CAA1396B80072685527BF | B45: 계단재료분리대(20+50+15+94+20,-W181) | C45: T1.6도장용융아연도강판(우레탐폼사춤) | D45: M | E45: =일위대가!F239 -> 0 | F45: =일위대가!H239 -> 0 | G45: =일위대가!J239 -> 0 | H45: =E45+F45+G45 -> 0 | I45: 호표 42
A46: 44F832A62A53593AAD422B8914BDA | B46: AL 히든몰딩 설치 | C46: 10MM 1PL용 | D46: M | E46: =일위대가!F245 -> 0 | F46: =일위대가!H245 -> 0 | G46: =일위대가!J245 -> 0 | H46: =E46+F46+G46 -> 0 | I46: 호표 43
A47: 44B73896D594B9E1FC889185CFFF1 | B47: 창호안전난간대 설치 | C47: 스텐레스 Φ38.1 2단 | D47: M | E47: =일위대가!F254 -> 0 | F47: =일위대가!H254 -> 0 | G47: =일위대가!J254 -> 0 | H47: =E47+F47+G47 -> 0 | I47: 호표 44
A48: 44F83A6601F09992B7B10B8FECAE9 | B48: 모르타르 바름 | C48: 바닥, 45mm | D48: M2 | E48: =일위대가!F259 -> 0 | F48: =일위대가!H259 -> 0 | G48: =일위대가!J259 -> 0 | H48: =E48+F48+G48 -> 0 | I48: 호표 45
A49: 44F83A6697A2693F1C1E5A8A5FAF8 | B49: 창틀주위 보수 | C49: W200,보수몰탈 | D49: M | E49: =일위대가!F264 -> 0 | F49: =일위대가!H264 -> 0 | G49: =일위대가!J264 -> 0 | H49: =E49+F49+G49 -> 0 | I49: 호표 46
A50: 44F8314642BAF9CB8B1F768578506 | B50: ACD01[EGI인테리어방음문] | C50: 1.800 x 2.100 = 3.780,견적 | D50: EA | E50: =일위대가!F268 -> 0 | F50: =일위대가!H268 -> 0 | G50: =일위대가!J268 -> 0 | H50: =E50+F50+G50 -> 0 | I50: 호표 47
A51: 44F8339613621919AEBF8786C871D | B51: 내부천정수성페인트칠(친환경,유광) | C51: 로울러칠2회(GB면-줄퍼티) | D51: M2 | E51: =일위대가!F276 -> 0 | F51: =일위대가!H276 -> 0 | G51: =일위대가!J276 -> 0 | H51: =E51+F51+G51 -> 0 | I51: 호표 48
A52: 44F83396136249E84467A885A1941 | B52: 걸레받이페인트칠 -H70 | C52: G.B.면(줄퍼티),친환경 | D52: M | E52: =일위대가!F280 -> 0 | F52: =일위대가!H280 -> 0 | G52: =일위대가!J280 -> 0 | H52: =E52+F52+G52 -> 0 | I52: 호표 49
A53: 44F83396136249E84467A885A1934 | B53: 걸레받이페인트칠-H70(바탕4.8mm합판사공포함) | C53: 합판면(줄퍼티),친환경 | D53: M | E53: =일위대가!F285 -> 0 | F53: =일위대가!H285 -> 0 | G53: =일위대가!J285 -> 0 | H53: =E53+F53+G53 -> 0 | I53: 호표 50
A54: 44F93C16AF08D92AB806D98C6F888 | B54: 기포콘크리트철거(인력) | C54: 소형브레이커(전기식), 무근, 3.5m3/일당 | D54: M3 | E54: =일위대가!F292 -> 0 | F54: =일위대가!H292 -> 0 | G54: =일위대가!J292 -> 0 | H54: =E54+F54+G54 -> 0 | I54: 호표 51
A55: 44F93C16AF73D97EA420178E2E803 | B55: 천정빔박스철거 | C55: 200*200*3000 | D55: EA | E55: =일위대가!F296 -> 0 | F55: =일위대가!H296 -> 0 | G55: =일위대가!J296 -> 0 | H55: =E55+F55+G55 -> 0 | I55: 호표 52
A56: 44F93C16AFB949F27E4B418E3CA30 | B56: 흡음텍스 해체 | D56: M2 | E56: =일위대가!F301 -> 0 | F56: =일위대가!H301 -> 0 | G56: =일위대가!J301 -> 0 | H56: =E56+F56+G56 -> 0 | I56: 호표 53
A57: 44F93C16AFB949F27E4ABA811AC94 | B57: 경량천장철골틀 해체 | D57: M2 | E57: =일위대가!F307 -> 0 | F57: =일위대가!H307 -> 0 | G57: =일위대가!J307 -> 0 | H57: =E57+F57+G57 -> 0 | I57: 호표 54
A58: 44F93C16AFB949F27F6F90853A25D | B58: 인테리어벽면철거 | C58: 벽틀포함 | D58: M2 | E58: =일위대가!F313 -> 0 | F58: =일위대가!H313 -> 0 | G58: =일위대가!J313 -> 0 | H58: =E58+F58+G58 -> 0 | I58: 호표 55
A59: 44B73D26E1A429E807E8D38D8E9A4 | B59: 커튼철거 | C59: 재사용안함 | D59: M2 | E59: =일위대가!F317 -> 0 | F59: =일위대가!H317 -> 0 | G59: =일위대가!J317 -> 0 | H59: =E59+F59+G59 -> 0 | I59: 호표 56
A60: 44B73D26E1A429E807E8D38D8E886 | B60: 안전난간대 철거 | C60: 스텐 | D60: M | E60: =일위대가!F321 -> 0 | F60: =일위대가!H321 -> 0 | G60: =일위대가!J321 -> 0 | H60: =E60+F60+G60 -> 0 | I60: 호표 57
A61: 44B73D26E1A429E807E8D38D8E884 | B61: 스텐난간대 철거 | C61: H=1000 | D61: M | E61: =일위대가!F325 -> 0 | F61: =일위대가!H325 -> 0 | G61: =일위대가!J325 -> 0 | H61: =E61+F61+G61 -> 0 | I61: 호표 58
A62: 44B633B614DB09D9C911F48A248BD | B62: 창호주위컷팅 | D62: M | E62: =일위대가!F331 -> 0 | F62: =일위대가!H331 -> 0 | G62: =일위대가!J331 -> 0 | H62: =E62+F62+G62 -> 0 | I62: 호표 59
A63: 44B633B614603998E69BE082820A5 | B63: 창호철거(인력) | C63: 목재미서기창 | D63: M2 | E63: =일위대가!F335 -> 0 | F63: =일위대가!H335 -> 0 | G63: =일위대가!J335 -> 0 | H63: =E63+F63+G63 -> 0 | I63: 호표 60
A64: 44B633B614603998E69BE082827D3 | B64: 창호철거(인력) | C64: 철제창호 | D64: M2 | E64: =일위대가!F339 -> 0 | F64: =일위대가!H339 -> 0 | G64: =일위대가!J339 -> 0 | H64: =E64+F64+G64 -> 0 | I64: 호표 61
A65: 44B633B614603998E69BE082F5019 | B65: 바닥철거 | C65: 마루틀&마루널 | D65: M2 | E65: =일위대가!F344 -> 0 | F65: =일위대가!H344 -> 0 | G65: =일위대가!J344 -> 0 | H65: =E65+F65+G65 -> 0 | I65: 호표 62
A66: 44B633B614603998E69BE082E4927 | B66: 바닥철거 | C66: 몰탈(T50) | D66: M2 | E66: =일위대가!F348 -> 0 | F66: =일위대가!H348 -> 0 | G66: =일위대가!J348 -> 0 | H66: =E66+F66+G66 -> 0 | I66: 호표 63
A67: 44B633B614603998E69BE0821F616 | B67: PVC계바닥재 해체 | C67: 타일형 | D67: M2 | E67: =일위대가!F352 -> 0 | F67: =일위대가!H352 -> 0 | G67: =일위대가!J352 -> 0 | H67: =E67+F67+G67 -> 0 | I67: 호표 64
A68: 44B633B614603998E69BE38FC5F4C | B68: 후로링블럭철거 | C68: 바닥(바탕제외) | D68: M2 | E68: =일위대가!F356 -> 0 | F68: =일위대가!H356 -> 0 | G68: =일위대가!J356 -> 0 | H68: =E68+F68+G68 -> 0 | I68: 호표 65
A69: 44B633B614603998E7B9AF889BB15 | B69: AL몰딩 철거 | D69: M | E69: =일위대가!F360 -> 0 | F69: =일위대가!H360 -> 0 | G69: =일위대가!J360 -> 0 | H69: =E69+F69+G69 -> 0 | I69: 호표 66
A70: 44B633B614603998E7B9AF889BB17 | B70: 걸레받이,허리몰딩철거 | C70: H-100 | D70: M | E70: =일위대가!F364 -> 0 | F70: =일위대가!H364 -> 0 | G70: =일위대가!J364 -> 0 | H70: =E70+F70+G70 -> 0 | I70: 호표 67
A71: 44B633B614603998E7B9AF889BB11 | B71: 창호목재후레임철거 | C71: 20*200(라왕목) | D71: M | E71: =일위대가!F368 -> 0 | F71: =일위대가!H368 -> 0 | G71: =일위대가!J368 -> 0 | H71: =E71+F71+G71 -> 0 | I71: 호표 68
A72: 44B633B6146029F17DA96C83A3A3C | B72: 고무논슬립철거 | D72: M | E72: =일위대가!F372 -> 0 | F72: =일위대가!H372 -> 0 | G72: =일위대가!J372 -> 0 | H72: =E72+F72+G72 -> 0 | I72: 호표 69
A73: 44B633B6146029F17DA96F88E3BE7 | B73: 바닥단열재철거 | C73: T45 | D73: M2 | E73: =일위대가!F376 -> 0 | F73: =일위대가!H376 -> 0 | G73: =일위대가!J376 -> 0 | H73: =E73+F73+G73 -> 0 | I73: 호표 70
A74: 44B633B6146029F17DA96F88E3F42 | B74: 고정식의자 철거 | C74: 재사용안합피 | D74: EA | E74: =일위대가!F382 -> 0 | F74: =일위대가!H382 -> 0 | G74: =일위대가!J382 -> 0 | H74: =E74+F74+G74 -> 0 | I74: 호표 71
A75: 44F834F6B66D59574D990E8D16BC1 | B75: 벽,띠장설치(미송) | C75: 30*30, @450*600 | D75: M2 | E75: =일위대가!F388 -> 0 | F75: =일위대가!H388 -> 0 | G75: =일위대가!J388 -> 0 | H75: =E75+F75+G75 -> 0 | I75: 호표 72
A76: 44F834F6B66D59574D990E8D16E91 | B76: 벽,띠장설치(미송) | C76: 30*30*D435 @450*600,이중격자 | D76: M2 | E76: =일위대가!F393 -> 0 | F76: =일위대가!H393 -> 0 | G76: =일위대가!J393 -> 0 | H76: =E76+F76+G76 -> 0 | I76: 호표 73
A77: 44F834F6B66D59574D990E8D16E90 | B77: 벽,띠장설치(미송) | C77: 30*30*D380 @450*600,이중격자 | D77: M2 | E77: =일위대가!F398 -> 0 | F77: =일위대가!H398 -> 0 | G77: =일위대가!J398 -> 0 | H77: =E77+F77+G77 -> 0 | I77: 호표 74
A78: 44F832A6835909203C431980A4E75 | B78: 목재창대설치 | C78: 라왕20*220/방염필름마감 | D78: M | E78: =일위대가!F404 -> 0 | F78: =일위대가!H404 -> 0 | G78: =일위대가!J404 -> 0 | H78: =E78+F78+G78 -> 0 | I78: 호표 75
A79: 44F832A6835909203C431980A4E7A | B79: 목재창대설치 | C79: 라왕20*240/방염필름마감 | D79: M | E79: =일위대가!F410 -> 0 | F79: =일위대가!H410 -> 0 | G79: =일위대가!J410 -> 0 | H79: =E79+F79+G79 -> 0 | I79: 호표 76
A80: 44F83146C642195CD4064C8F49C46 | B80: 브론즈 칼라유리(강화) | C80: 5.0mm,백페인트글라스 | D80: M2 | E80: =일위대가!F414 -> 0 | F80: =일위대가!H414 -> 0 | G80: =일위대가!J414 -> 0 | H80: =E80+F80+G80 -> 0 | I80: 호표 77
A81: 44F832A68313492BCF83558A880BD | B81: 천정-무석면 택스보수 | C81: 300*600*6mm,아미택스 | D81: M2 | E81: =일위대가!F421 -> 0 | F81: =일위대가!H421 -> 0 | G81: =일위대가!J421 -> 0 | H81: =E81+F81+G81 -> 0 | I81: 호표 78
A82: 44F832A6832DC9783FC78887528CE | B82: 천장,석고판 1겹 설치 | C82: 9.5MM*900*1800 | D82: M2 | E82: =일위대가!F426 -> 0 | F82: =일위대가!H426 -> 0 | G82: =일위대가!J426 -> 0 | H82: =E82+F82+G82 -> 0 | I82: 호표 79
A83: 44F832A6600679FF4ED0028E48A81 | B83: DRY WALL(C-STUD65),DW1 | C83: 석고보드9.5T,2겹,양면 | D83: M2 | E83: =일위대가!F442 -> 0 | F83: =일위대가!H442 -> 0 | G83: =일위대가!J442 -> 0 | H83: =E83+F83+G83 -> 0 | I83: 호표 80
A84: 44F832A6600679FF4ED0028E48A82 | B84: DRY WALL(C-STUD65-2겹),DW3 | C84: 석고보드9.5T,2겹,양면 | D84: M2 | E84: =일위대가!F458 -> 0 | F84: =일위대가!H458 -> 0 | G84: =일위대가!J458 -> 0 | H84: =E84+F84+G84 -> 0 | I84: 호표 81
A85: 44F832A6600679FF4ED0028E48D58 | B85: DRY WALL(C-STUD/150) | C85: 석고보드9.5t 2겹 양면 | D85: M2 | E85: =일위대가!F474 -> 0 | F85: =일위대가!H474 -> 0 | G85: =일위대가!J474 -> 0 | H85: =E85+F85+G85 -> 0 | I85: 호표 82
A86: 44F832A6600679FF4DC90682A0AFC | B86: 벽,템바보드 설치(직각형) | C86: 15t,20*20*2400,직각 | D86: M2 | E86: =일위대가!F479 -> 0 | F86: =일위대가!H479 -> 0 | G86: =일위대가!J479 -> 0 | H86: =E86+F86+G86 -> 0 | I86: 호표 83
A87: 44F832A6600679FF4DC90682A0B84 | B87: 템바보드마구리몰딩 | C87: 25*15 | D87: M | E87: =일위대가!F484 -> 0 | F87: =일위대가!H484 -> 0 | G87: =일위대가!J484 -> 0 | H87: =E87+F87+G87 -> 0 | I87: 호표 84
A88: 44F832A6600679FF4DC90682A0B83 | B88: 템바보드수직마감몰딩 | C88: 10*70 | D88: M | E88: =일위대가!F488 -> 0 | F88: =일위대가!H488 -> 0 | G88: =일위대가!J488 -> 0 | H88: =E88+F88+G88 -> 0 | I88: 호표 85
A89: 44F832A6600679FF4DC90682A0B80 | B89: 템바보드수직마감몰딩 | C89: 10*110 | D89: M | E89: =일위대가!F492 -> 0 | F89: =일위대가!H492 -> 0 | G89: =일위대가!J492 -> 0 | H89: =E89+F89+G89 -> 0 | I89: 호표 86
A90: 44F835E661A4199DAA0E8F861E49C | B90: 창호주위코킹 | C90: 창호주위 | D90: M | E90: =일위대가!F497 -> 0 | F90: =일위대가!H497 -> 0 | G90: =일위대가!J497 -> 0 | H90: =E90+F90+G90 -> 0 | I90: 호표 87
A91: 44F831467F7F79DC4338E98D4D109 | B91: 스텐레스스틸프레임30*690 | C91: 칼라1.5T(HL)=120+30+690+30+120,내부보강 | D91: M | E91: =일위대가!F501 -> 0 | F91: =일위대가!H501 -> 0 | G91: =일위대가!J501 -> 0 | H91: =E91+F91+G91 -> 0 | I91: 호표 88
A92: 44F832A6831379FAEB73CD830AEF7 | B92: 천정간접등박스설치(W420),원형 | C92: 갈바철판1.6T,20+15+70+100+110+50+30+30 | D92: M | E92: =일위대가!F506 -> 0 | F92: =일위대가!H506 -> 0 | G92: =일위대가!J506 -> 0 | H92: =E92+F92+G92 -> 0 | I92: 호표 89
A93: 44F832A6CAA1396B80072685525F1 | B93: 스테인리스재료분리대 | C93: 바닥, W20*H25*1.5t | D93: M | E93: =일위대가!F516 -> 0 | F93: =일위대가!H516 -> 0 | G93: =일위대가!J516 -> 0 | H93: =E93+F93+G93 -> 0 | I93: 호표 90
A94: 44F83A6601CB791F32E44E8A29C21 | B94: 바닥 자동수평몰탈 | C94: T15MM | D94: M2 | E94: =일위대가!F524 -> 0 | F94: =일위대가!H524 -> 0 | G94: =일위대가!J524 -> 0 | H94: =E94+F94+G94 -> 0 | I94: 호표 91
A95: 44F831463002A95B0F15FD8062B61 | B95: 창문틀주위우레탄폼충진 | D95: M | E95: =일위대가!F529 -> 0 | F95: =일위대가!H529 -> 0 | G95: =일위대가!J529 -> 0 | H95: =E95+F95+G95 -> 0 | I95: 호표 92
A96: 45D23DB6092D69D38BD88E8908093 | B96: SSD/01[칼라스텐레스 고정창 및 여닫이문] | C96: 1.200 X 2.650 = 3.180(부속철물 ,유리 포함) | D96: EA | E96: =일위대가!F543 -> 0 | F96: =일위대가!H543 -> 0 | G96: =일위대가!J543 -> 0 | H96: =E96+F96+G96 -> 0 | I96: 호표 93
A97: 44F8339613621918810C1F8262A63 | B97: 내부수성페인트칠(친환경,유광) | C97: 로울러칠2회(GB면-줄퍼티) | D97: M2 | E97: =일위대가!F551 -> 0 | F97: =일위대가!H551 -> 0 | G97: =일위대가!J551 -> 0 | H97: =E97+F97+G97 -> 0 | I97: 호표 94
A98: 44F93C16AFB949F27E4B418E3C929 | B98: 천정 텍스 해체 | D98: M2 | E98: =일위대가!F556 -> 0 | F98: =일위대가!H556 -> 0 | G98: =일위대가!J556 -> 0 | H98: =E98+F98+G98 -> 0 | I98: 호표 95
A99: 44B633B614DB09D9C911F48A24946 | B99: 후로링바닥컷팅 | D99: M | E99: =일위대가!F564 -> 0 | F99: =일위대가!H564 -> 0 | G99: =일위대가!J564 -> 0 | H99: =E99+F99+G99 -> 0 | I99: 호표 96
A100: 44B633B614603998E69BE082820A4 | B100: 창호철거(인력) | C100: 목재미서기문 | D100: M2 | E100: =일위대가!F568 -> 0 | F100: =일위대가!H568 -> 0 | G100: =일위대가!J568 -> 0 | H100: =E100+F100+G100 -> 0 | I100: 호표 97
...

Sheet 일위대가
A1: [ 부산강서고등학교 고교학점제 공간조성사업 ]
A2: 품 명 | B2: 규 격 | C2: 단위 | D2: 수량 | M2: 비 고 | N2: 일위대가 | O2: 품목코드 | P2: 일위 | Q2: 단산 | R2: 자재 | S2: 손료적용 | T2: 손료저장 | U2: 적용율 | V2: JUK1 | W2: JUK2 | X2: JUK3 | Y2: JUK4 | Z2: JUK5 | AA2: JUK6 | AB2: JUK7 | AC2: JUK8 | AD2: JUK9 | AE2: JUK10 | AF2: JUK11 | AG2: JUK12 | AH2: JUK13 | AI2: JUK14 | AJ2: JUK15 | AK2: JUK16 | AL2: JUK17 | AM2: JUK18 | AN2: JUK19 | AO2: JUK20 | AP2: 할증적용 | AQ2: 할증저장 | AR2: 할증율 | AS2: HAL1 | AT2: HAL2 | AU2: HAL3 | AV2: 자재구분 | AW2: 일위대가+자재 | AX2: 장비일위 | AY2: 설정 | AZ2: 할증체크
A4: 공사용가설합판설치해체 벽체틀+4.8T보통합판 M2 ( 호표 1 ) | N4: 44F83CA6E32929512738148F68208
A5: 벽, 띠장설치(미송) | B5: 30*30, @450*900 | C5: M2 | D5: 1 | M5: 호표 144 | N5: 44F83CA6E32929512738148F68208 | O5: 44B73BD60983E92F5452D681C55B0 | P5: T | Q5: F | R5: F | AW5: 44F83CA6E32929512738148F6820844B73BD60983E92F5452D681C55B0
A6: 보통합판 | B6: 보통합판, 1급, 4.8*1220*2440mm | C6: M2 | D6: 1.05 | N6: 44F83CA6E32929512738148F68208 | O6: 43F530863573794AE0E2878A9840B1CEDF732 | P6: F | Q6: F | R6: T | AW6: 44F83CA6E32929512738148F6820843F530863573794AE0E2878A9840B1CEDF732
A7: 일반못 | B7: 일반못, 75mm | C7: kg | D7: 0.02 | N7: 44F83CA6E32929512738148F68208 | O7: 43DA35F6A028393581B4DA84F24C3539F1F78 | P7: F | Q7: F | R7: T | AW7: 44F83CA6E32929512738148F6820843DA35F6A028393581B4DA84F24C3539F1F78
A8: 보통인부 | B8: 일반공사 직종 | C8: 인 | D8: 0.03 | N8: 44F83CA6E32929512738148F68208 | O8: 442235068D967936DE5FCE83AFA0FE33CCFC3 | P8: F | Q8: F | R8: T | AW8: 44F83CA6E32929512738148F68208442235068D967936DE5FCE83AFA0FE33CCFC3
A9: [ 합 계 ] | N9: TOTAL | O9: TOTAL
A11: 콘테이너형 가설사무소 설치 및 해체 3.0*6.0m, 6개월 개소 ( 호표 2 ) | N11: 44F83CA6D28D19BBA90DBD8DCFCC3
A12: 컨테이너하우스 | B12: 컨테이너하우스, 사무실용, 3.0*6.0*2.6m | C12: 개 | D12: 0.23 | M12: 금액제외 | O12: 43DA34D66CC549F22373438DF198C9811098F | P12: F | Q12: F | R12: T | V12: 1 | AW12: 44F83CA6D28D19BBA90DBD8DCFCC343DA34D66CC549F22373438DF198C9811098F | AY12: -
A13: 콘테이너형 가설건축물 설치 및 해체 | B13: 3.0*6.0m | C13: 개소 | D13: 1 | M13: 금액제외 | O13: 44F83CA6D28D19BBA1376484A12D5 | P13: T | Q13: F | R13: F | V13: 1 | AW13: 44F83CA6D28D19BBA90DBD8DCFCC344F83CA6D28D19BBA1376484A12D5 | AY13: -
A14: 경비로 적용 | B14: 합계의 100% | C14: 식 | D14: 1 | N14: 44F83CA6D28D19BBA90DBD8DCFCC3 | O14: 45E032A6180659D6E902668D8A0001 | P14: F | Q14: F | R14: F | S14: 3 | T14: 2 | U14: 1 | AW14: 44F83CA6D28D19BBA90DBD8DCFCC345E032A6180659D6E902668D8A0001
A15: [ 합 계 ] | N15: TOTAL | O15: TOTAL
A17: 건축물 현장정리 개수 M2 ( 호표 3 ) | N17: 44F83CA6B7C249599A751689AFCBA
A18: 보통인부 | B18: 일반공사 직종 | C18: 인 | D18: 0.025 | N18: 44F83CA6B7C249599A751689AFCBA | O18: 442235068D967936DE5FCE83AFA0FE33CCFC3 | P18: F | Q18: F | R18: T | AW18: 44F83CA6B7C249599A751689AFCBA442235068D967936DE5FCE83AFA0FE33CCFC3
A19: [ 합 계 ] | N19: TOTAL | O19: TOTAL
A21: 기존바닥보양 천막지(P.E탑지) M2 ( 호표 4 ) | N21: 44F83CA6B7FF69CB390CC380690AD
A22: 천막지 | B22: P.E탑지 | C22: M2 | D22: 1.15 | N22: 44F83CA6B7FF69CB390CC380690AD | O22: 43DA34D652E0890442993288390ABCFCF915B | P22: F | Q22: F | R22: T | AW22: 44F83CA6B7FF69CB390CC380690AD43DA34D652E0890442993288390ABCFCF915B
A23: 보통인부 | B23: 일반공사 직종 | C23: 인 | D23: 0.01 | N23: 44F83CA6B7FF69CB390CC380690AD | O23: 442235068D967936DE5FCE83AFA0FE33CCFC3 | P23: F | Q23: F | R23: T | AW23: 44F83CA6B7FF69CB390CC380690AD442235068D967936DE5FCE83AFA0FE33CCFC3
A24: [ 합 계 ] | N24: TOTAL | O24: TOTAL
A26: 준공청소 M2 ( 호표 5 ) | N26: 44F83CA6B796F98B9F80F38E40C2A
A27: 보통인부 | B27: 일반공사 직종 | C27: 인 | D27: 0.02 | N27: 44F83CA6B796F98B9F80F38E40C2A | O27: 442235068D967936DE5FCE83AFA0FE33CCFC3 | P27: F | Q27: F | R27: T | AW27: 44F83CA6B796F98B9F80F38E40C2A442235068D967936DE5FCE83AFA0FE33CCFC3
A28: [ 합 계 ] | N28: TOTAL | O28: TOTAL
A30: 이동식강관말비계 1단(2m), 3개월 대 ( 호표 6 ) | N30: 44B73316D0C8C9DF19514082134CC
A31: 비계안정장치 | B31: 비계안정장치, 비계기본틀, 기둥, 1.2*1.7m | C31: 개 | D31: 0.14 | N31: 44B73316D0C8C9DF19514082134CC | O31: 43DA34D6521B09F6302B458C238B8AF3D16B7 | P31: F | Q31: F | R31: T | AW31: 44B73316D0C8C9DF19514082134CC43DA34D6521B09F6302B458C238B8AF3D16B7
A32: 비계안정장치 | B32: 비계안정장치, 가새, 1.2*1.9m | C32: 개 | D32: 0.14 | N32: 44B73316D0C8C9DF19514082134CC | O32: 43DA34D6521B09F6302B458C238B8AF3D16B9 | P32: F | Q32: F | R32: T | AW32: 44B73316D0C8C9DF19514082134CC43DA34D6521B09F6302B458C238B8AF3D16B9
A33: 비계안정장치 | B33: 비계안정장치, 수평띠장, 1829mm | C33: 개 | D33: 0.28 | N33: 44B73316D0C8C9DF19514082134CC | O33: 43DA34D6521B09F6302B458C238B8AF3D1907 | P33: F | Q33: F | R33: T | AW33: 44B73316D0C8C9DF19514082134CC43DA34D6521B09F6302B458C238B8AF3D1907
A34: 비계안정장치 | B34: 비계안정장치, 손잡이기둥 | C34: 개 | D34: 0.28 | N34: 44B73316D0C8C9DF19514082134CC | O34: 43DA34D6521B09F6302B458C238B8AF3FAFDD | P34: F | Q34: F | R34: T | AW34: 44B73316D0C8C9DF19514082134CC43DA34D6521B09F6302B458C238B8AF3FAFDD
A35: 비계안정장치 | B35: 비계안정장치, 손잡이, 1229mm | C35: 개 | D35: 0.14 | N35: 44B73316D0C8C9DF19514082134CC | O35: 43DA34D6521B09F6302B458C238B8AF3FAFDC | P35: F | Q35: F | R35: T | AW35: 44B73316D0C8C9DF19514082134CC43DA34D6521B09F6302B458C238B8AF3FAFDC
A36: 비계안정장치 | B36: 비계안정장치, 손잡이, 1829mm | C36: 개 | D36: 0.28 | N36: 44B73316D0C8C9DF19514082134CC | O36: 43DA34D6521B09F6302B458C238B8AF3FAFDF | P36: F | Q36: F | R36: T | AW36: 44B73316D0C8C9DF19514082134CC43DA34D6521B09F6302B458C238B8AF3FAFDF
A37: 비계안정장치 | B37: 비계안정장치, 바퀴 | C37: 개 | D37: 0.36 | N37: 44B73316D0C8C9DF19514082134CC | O37: 43DA34D6521B09F6302B458C238B8AF3D1903 | P37: F | Q37: F | R37: T | AW37: 44B73316D0C8C9DF19514082134CC43DA34D6521B09F6302B458C238B8AF3D1903
A38: 비계안정장치 | B38: 비계안정장치, 쟈키 | C38: 개 | D38: 0.36 | N38: 44B73316D0C8C9DF19514082134CC | O38: 43DA34D6521B09F6302B458C238B8AF3D1902 | P38: F | Q38: F | R38: T | AW38: 44B73316D0C8C9DF19514082134CC43DA34D6521B09F6302B458C238B8AF3D1902
A39: 비계안정장치 | B39: 비계안정장치, 발판 | C39: 장 | D39: 0.315 | N39: 44B73316D0C8C9DF19514082134CC | O39: 43DA34D6521B09F6302B458C238B8AF3FAFDE | P39: F | Q39: F | R39: T | AW39: 44B73316D0C8C9DF19514082134CC43DA34D6521B09F6302B458C238B8AF3FAFDE
A40: 강관 조립말비계(이동식)설치 및 해체 | B40: 높이 2m, 노무비 | C40: 대 | D40: 1 | M40: 호표 148 | N40: 44B73316D0C8C9DF19514082134CC | O40: 44F83CA6E32979D4CB4ACE83A8A49 | P40: T | Q40: F | R40: F | AW40: 44B73316D0C8C9DF19514082134CC44F83CA6E32979D4CB4ACE83A8A49
A41: [ 합 계 ] | N41: TOTAL | O41: TOTAL
A43: 합판거푸집 설치 및 해체 복잡 3회, 수직고 7m까지 M2 ( 호표 7 ) | N43: 44F83976AE93A9DE883BB684C6EEF
A44: 합판거푸집 - 자재비 | B44: 3회 | C44: M2 | D44: 1 | M44: 호표 149 | N44: 44F83976AE93A9DE883BB684C6EEF | O44: 44F83976AE93A9DE89C2C785551AF | P44: T | Q44: F | R44: F | AW44: 44F83976AE93A9DE883BB684C6EEF44F83976AE93A9DE89C2C785551AF
A45: 합판거푸집 - 인력투입 | B45: 복잡, 수직고 7m까지 | C45: M2 | D45: 1 | M45: 호표 150 | N45: 44F83976AE93A9DE883BB684C6EEF | O45: 44F83976AE93A9DE89C2C7855550A | P45: T | Q45: F | R45: F | AW45: 44F83976AE93A9DE883BB684C6EEF44F83976AE93A9DE89C2C7855550A
A46: [ 합 계 ] | N46: TOTAL | O46: TOTAL
A48: 레디믹스트콘크리트 인력운반 타설 무근구조물 M3 ( 호표 8 ) | N48: 44F83976DBF469D3BB1C5F88DC6E6
A49: 콘크리트공 | B49: 일반공사 직종 | C49: 인 | D49: 0.13 | N49: 44F83976DBF469D3BB1C5F88DC6E6 | O49: 442235068D967936DE5FCE83AFA0FE33CCE39 | P49: F | Q49: F | R49: T | V49: 1 | AW49: 44F83976DBF469D3BB1C5F88DC6E6442235068D967936DE5FCE83AFA0FE33CCE39
A50: 보통인부 | B50: 일반공사 직종 | C50: 인 | D50: 0.13 | N50: 44F83976DBF469D3BB1C5F88DC6E6 | O50: 442235068D967936DE5FCE83AFA0FE33CCFC3 | P50: F | Q50: F | R50: T | V50: 1 | AW50: 44F83976DBF469D3BB1C5F88DC6E6442235068D967936DE5FCE83AFA0FE33CCFC3
A51: 공구손료 | B51: 인력품의 2% | C51: 식 | D51: 1 | N51: 44F83976DBF469D3BB1C5F88DC6E6 | O51: 45E032A6180659D6E902668D8A0001 | P51: F | Q51: F | R51: F | S51: 1 | T51: 2 | U51: 0.02 | AW51: 44F83976DBF469D3BB1C5F88DC6E645E032A6180659D6E902668D8A0001
A52: [ 합 계 ] | N52: TOTAL | O52: TOTAL
A54: 섬유보강재 콘크리트보강섬유(타설시) M3 ( 호표 9 ) | N54: 44F83B56ABC0391D6D6F8F80BB4D6
A55: 콘크리트보강섬유 | B55: 콘크리트보강섬유, 포/m3 | C55: 포 | D55: 1 | N55: 44F83B56ABC0391D6D6F8F80BB4D6 | O55: 43DA34D6529869CC6700BA8B65A968EA3F47E | P55: F | Q55: F | R55: T | AW55: 44F83B56ABC0391D6D6F8F80BB4D643DA34D6529869CC6700BA8B65A968EA3F47E
A56: 보통인부 | B56: 일반공사 직종 | C56: 인 | D56: 0.05 | N56: 44F83B56ABC0391D6D6F8F80BB4D6 | O56: 442235068D967936DE5FCE83AFA0FE33CCFC3 | P56: F | Q56: F | R56: T | AW56: 44F83B56ABC0391D6D6F8F80BB4D6442235068D967936DE5FCE83AFA0FE33CCFC3
A57: [ 합 계 ] | N57: TOTAL | O57: TOTAL
A59: 마루바탕 설치(내수합판) 12MM*1220*2440-2겹 M2 ( 호표 10 ) | N59: 44F834F68931C9FB00F75B863C7B8
A60: 내수합판 | B60: 내수합판, 1급, 12*1220*2440mm | C60: M2 | D60: 2.06 | N60: 44F834F68931C9FB00F75B863C7B8 | O60: 43F530863573794AE0E2878A9840B1CEDF350 | P60: F | Q60: F | R60: T | AW60: 44F834F68931C9FB00F75B863C7B843F530863573794AE0E2878A9840B1CEDF350
A61: 마루바탕 설치 | B61: 합판 깔기 기준 | C61: M2 | D61: 2 | M61: 호표 151 | N61: 44F834F68931C9FB00F75B863C7B8 | O61: 44F834F68931C9FB00F75A85BCDE9 | P61: T | Q61: F | R61: F | AW61: 44F834F68931C9FB00F75B863C7B844F834F68931C9FB00F75A85BCDE9
A62: [ 합 계 ] | N62: TOTAL | O62: TOTAL
A64: 마루하지틀설치(H470) 50*50*2.0T 아연도@305*900,방진고무패드 M2 ( 호표 11 ) | N64: 44F834F6894269A180842A84EE6C4
A65: 아연도각파이프제작설치 | B65: 50*50*t2.0mm, 2.934kg/m,규격철물 | C65: M | D65: 6.943 | M65: 호표 152 | N65: 44F834F6894269A180842A84EE6C4 | O65: 44F834F68942599AAEE5A6843DC17 | P65: T | Q65: F | R65: F | AW65: 44F834F6894269A180842A84EE6C444F834F68942599AAEE5A6843DC17
A66: 방진고무패드 | B66: 5mm*50MM | C66: M | D66: 6.943 | N66: 44F834F6894269A180842A84EE6C4 | O66: 43DA35F697CD498DFF7E628ADF8F63B9AD66A | P66: F | Q66: F | R66: T | AW66: 44F834F6894269A180842A84EE6C443DA35F697CD498DFF7E628ADF8F63B9AD66A
A67: [ 합 계 ] | N67: TOTAL | O67: TOTAL
A69: 벽,띠장설치(미송) 30*30*D100 @450*600,이중격자 M2 ( 호표 12 ) | N69: 44F834F6B66D59574D990E8D16E96
A70: 각재 | B70: 각재, 미송 | C70: 재 | D70: 2.2485 | N70: 44F834F6B66D59574D990E8D16E96 | O70: 43DA34D6528E393C0E650D834715ACB8E3DC1 | P70: F | Q70: F | R70: T | AW70: 44F834F6B66D59574D990E8D16E9643DA34D6528E393C0E650D834715ACB8E3DC1
A71: 벽체틀 설치 | B71: 자재 별도 | C71: M2 | D71: 2 | M71: 호표 145 | N71: 44F834F6B66D59574D990E8D16E96 | O71: 44F834F6B66D49B0C55D3A8BC983B | P71: T | Q71: F | R71: F | AW71: 44F834F6B66D59574D990E8D16E9644F834F6B66D49B0C55D3A8BC983B
A72: [ 합 계 ] | N72: TOTAL | O72: TOTAL
A74: 목조 천정틀 설치(목공) 미송30*30, @300*600,H250 M2 ( 호표 13 ) | N74: 44F834F6B66D59574D990E8D045C1
A75: 각재 | B75: 각재, 미송 | C75: 재 | D75: 2.5955 | N75: 44F834F6B66D59574D990E8D045C1 | O75: 43DA34D6528E393C0E650D834715ACB8E3DC1 | P75: F | Q75: F | R75: T | AW75: 44F834F6B66D59574D990E8D045C143DA34D6528E393C0E650D834715ACB8E3DC1
A76: 건축목공 | B76: 일반공사 직종 | C76: 인 | D76: 0.1 | N76: 44F834F6B66D59574D990E8D045C1 | O76: 442235068D967936DE5FCE83AFA0FE33CCD17 | P76: F | Q76: F | R76: T | V76: 1 | AW76: 44F834F6B66D59574D990E8D045C1442235068D967936DE5FCE83AFA0FE33CCD17
A77: 보통인부 | B77: 일반공사 직종 | C77: 인 | D77: 0.01 | N77: 44F834F6B66D59574D990E8D045C1 | O77: 442235068D967936DE5FCE83AFA0FE33CCFC3 | P77: F | Q77: F | R77: T | V77: 1 | AW77: 44F834F6B66D59574D990E8D045C1442235068D967936DE5FCE83AFA0FE33CCFC3
A78: 공구손료 | B78: 인력품의 3% | C78: 식 | D78: 1 | N78: 44F834F6B66D59574D990E8D045C1 | O78: 45E032A6180659D6E902668D8A0001 | P78: F | Q78: F | R78: F | S78: 1 | T78: 2 | U78: 0.03 | AW78: 44F834F6B66D59574D990E8D045C145E032A6180659D6E902668D8A0001
A79: [ 합 계 ] | N79: TOTAL | O79: TOTAL
A81: 벽,띠장설치(미송) 45*45, @450*600 M2 ( 호표 14 ) | N81: 44F834F6B66D59574CF2838C090DE
A82: 각재 | B82: 각재, 미송 | C82: 재 | D82: 2.4841 | N82: 44F834F6B66D59574CF2838C090DE | O82: 43DA34D6528E393C0E650D834715ACB8E3DC1 | P82: F | Q82: F | R82: T | AW82: 44F834F6B66D59574CF2838C090DE43DA34D6528E393C0E650D834715ACB8E3DC1
A83: 일반못 | B83: 일반못, 50mm | C83: kg | D83: 0.03 | N83: 44F834F6B66D59574CF2838C090DE | O83: 43DA35F6A028393581B4DA84F24C3539F1CAD | P83: F | Q83: F | R83: T | AW83: 44F834F6B66D59574CF2838C090DE43DA35F6A028393581B4DA84F24C3539F1CAD
A84: 벽체틀 설치 | B84: 자재 별도 | C84: M2 | D84: 1 | M84: 호표 145 | N84: 44F834F6B66D59574CF2838C090DE | O84: 44F834F6B66D49B0C55D3A8BC983B | P84: T | Q84: F | R84: F | AW84: 44F834F6B66D59574CF2838C090DE44F834F6B66D49B0C55D3A8BC983B
A85: [ 합 계 ] | N85: TOTAL | O85: TOTAL
A87: 벽,띠장설치(미송) 45*45,D100 @450*600.이중격자 M2 ( 호표 15 ) | N87: 44F834F6B66D59574CF2838C090DF
A88: 각재 | B88: 각재, 미송 | C88: 재 | D88: 2.4841 | N88: 44F834F6B66D59574CF2838C090DF | O88: 43DA34D6528E393C0E650D834715ACB8E3DC1 | P88: F | Q88: F | R88: T | AW88: 44F834F6B66D59574CF2838C090DF43DA34D6528E393C0E650D834715ACB8E3DC1
A89: 일반못 | B89: 일반못, 50mm | C89: kg | D89: 0.03 | N89: 44F834F6B66D59574CF2838C090DF | O89: 43DA35F6A028393581B4DA84F24C3539F1CAD | P89: F | Q89: F | R89: T | AW89: 44F834F6B66D59574CF2838C090DF43DA35F6A028393581B4DA84F24C3539F1CAD
A90: 벽체틀 설치 | B90: 자재 별도 | C90: M2 | D90: 1 | M90: 호표 145 | N90: 44F834F6B66D59574CF2838C090DF | O90: 44F834F6B66D49B0C55D3A8BC983B | P90: T | Q90: F | R90: F | AW90: 44F834F6B66D59574CF2838C090DF44F834F6B66D49B0C55D3A8BC983B
A91: [ 합 계 ] | N91: TOTAL | O91: TOTAL
A93: 벽,MDF 1겹설치 중밀도섬유판, 9.0*1220*2440mm M2 ( 호표 16 ) | N93: 44F832A6831379FAEB73CD831B212
A94: 중밀도섬유판 | B94: 중밀도섬유판, 9.0*1220*2440mm | C94: M2 | D94: 1.03 | N94: 44F832A6831379FAEB73CD831B212 | O94: 43F530863573794AE0E0D5852B524F7EB38BB | P94: F | Q94: F | R94: T | AW94: 44F832A6831379FAEB73CD831B21243F530863573794AE0E0D5852B524F7EB38BB
A95: 벽체합판 설치 | B95: 합판 별도 | C95: M2 | D95: 1 | M95: 호표 154 | N95: 44F832A6831379FAEB73CD831B212 | O95: 44F832A68348B9FD5E17758DB417F | P95: T | Q95: F | R95: F | AW95: 44F832A6831379FAEB73CD831B21244F832A68348B9FD5E17758DB417F
A96: [ 합 계 ] | N96: TOTAL | O96: TOTAL
A98: 마루측판설치(H=500) 9MM MDF,2겹+방염필름 M ( 호표 17 ) | N98: 44F832A68348B9FD5E17758DB4059
A99: 벽,MDF 2겹설치 | B99: 중밀도섬유판, 9.0*1220*2440mm | C99: M2 | D99: 0.5 | M99: 호표 155 | N99: 44F832A68348B9FD5E17758DB4059 | O99: 44F832A6831379FAEB73CD831B211 | P99: T | Q99: F | R99: F | AW99: 44F832A68348B9FD5E17758DB405944F832A6831379FAEB73CD831B211
A100: 인테리어필름 붙임(방염,우드) | B100: 현장설치도 | C100: M2 | D100: 0.5 | M100: 호표 28 | N100: 44F832A68348B9FD5E17758DB4059 | O100: 44F832A68348B9FF0CF403871AC13 | P100: T | Q100: F | R100: F | AW100: 44F832A68348B9FD5E17758DB405944F832A68348B9FF0CF403871AC13
A101: [ 합 계 ] | N101: TOTAL | O101: TOTAL
A103: 목재창대설치 라왕20*180/방염필름마감 M ( 호표 18 ) | N103: 44F832A6835909203C431980A4E74
A104: 판재 | B104: 판재, 라왕, 일반증기건조 | C104: 재 | D104: 1.167 | N104: 44F832A6835909203C431980A4E74 | O104: 43DA34D6528E393C073B2082D7A3F8FC4622B | P104: F | Q104: F | R104: T | AW104: 44F832A6835909203C431980A4E7443DA34D6528E393C073B2082D7A3F8FC4622B
A105: 걸레받이 설치 | B105: 중밀도섬유판, H=120~300mm 기준 | C105: M | D105: 1 | M105: 호표 157 | N105: 44F832A6835909203C431980A4E74 | O105: 44F832A6AF8D89175A9C428A40290 | P105: T | Q105: F | R105: F | AW105: 44F832A6835909203C431980A4E7444F832A6AF8D89175A9C428A40290
A106: 인테리어필름 붙임(방염,우드) | B106: W=300 이하 | C106: M2 | D106: 0.2 | M106: 호표 158 | N106: 44F832A6835909203C431980A4E74 | O106: 44F832A68348B9FF0CF403871AC12 | P106: T | Q106: F | R106: F | AW106: 44F832A6835909203C431980A4E7444F832A68348B9FF0CF403871AC12
A107: [ 합 계 ] | N107: TOTAL | O107: TOTAL
A109: 벽, 합판붙임 일반 9mm M2 ( 호표 19 ) | N109: 44B73D263752B9227CE0B189E92DE
A110: 보통합판 | B110: 보통합판, 1급, 9.0*1220*2440mm | C110: M2 | D110: 1.03 | N110: 44B73D263752B9227CE0B189E92DE | O110: 43F530863573794AE0E2878A9840B1CEDF736 | P110: F | Q110: F | R110: T | AW110: 44B73D263752B9227CE0B189E92DE43F530863573794AE0E2878A9840B1CEDF736
A111: 벽체합판 설치 | B111: 합판 별도 | C111: M2 | D111: 1 | M111: 호표 154 | N111: 44B73D263752B9227CE0B189E92DE | O111: 44F832A68348B9FD5E17758DB417F | P111: T | Q111: F | R111: F | AW111: 44B73D263752B9227CE0B189E92DE44F832A68348B9FD5E17758DB417F
A112: [ 합 계 ] | N112: TOTAL | O112: TOTAL
A114: 천장, 합판붙임 일반 9.0mm M2 ( 호표 20 ) | N114: 44B73D263752B9227CE0B189FB9E4
A115: 보통합판 | B115: 보통합판, 1급, 9.0*1220*2440mm | C115: M2 | D115: 1.03 | N115: 44B73D263752B9227CE0B189FB9E4 | O115: 43F530863573794AE0E2878A9840B1CEDF736 | P115: F | Q115: F | R115: T | AW115: 44B73D263752B9227CE0B189FB9E443F530863573794AE0E2878A9840B1CEDF736
A116: 천정, 합판붙임 | B116: 합판 별도 | C116: M2 | D116: 1 | M116: 호표 159 | N116: 44B73D263752B9227CE0B189FB9E4 | O116: 44F832A68348B9FD5E17748353C9A | P116: T | Q116: F | R116: F | AW116: 44B73D263752B9227CE0B189FB9E444F832A68348B9FD5E17748353C9A
A117: [ 합 계 ] | N117: TOTAL | O117: TOTAL
A119: 실내벽체마감패널설치(주재료별도) HDC-FSA-15TL,흡음타공패널 M2 ( 호표 21 ) | N119: 44F832A6600679FEA491E28B68CA9
A120: 벽체마감패널 | B120: HDC-FSA-15TL,흡음타공패널 | C120: M2 | D120: 1 | M120: 관급자재 | N120: 44F832A6600679FEA491E28B68CA9 | O120: 43DA34D652C5A9AECB1C3B81E221E66F503EA | P120: F | Q120: F | R120: T | AW120: 44F832A6600679FEA491E28B68CA943DA34D652C5A9AECB1C3B81E221E66F503EA
A121: 수장합판 설치 | B121: 접착붙임(합판 별도) | C121: M2 | D121: 1 | M121: 호표 160 | N121: 44F832A6600679FEA491E28B68CA9 | O121: 44F832A68348B9FE6509CC8A5D872 | P121: T | Q121: F | R121: F | V121: 1 | AW121: 44F832A6600679FEA491E28B68CA944F832A68348B9FE6509CC8A5D872
...

Sheet 단가산출목록
B1: 단 가 산 출 목 록
B2: [ 부산강서고등학교 고교학점제 공간조성사업 ]
A3: 코 드 | B3: 품 명 | C3: 규 격 | D3: 단위 | E3: 재 료 비 | F3: 노 무 비 | G3: 경 비 | H3: 합 계 | I3: 번 호 | J3: 비 고 | K3: START | L3: 품셈개요
A4: 44F939E666F5599E8E280382D400E | B4: 시멘트운반 | C4: L:10km, 덤프 8ton | D4: 포 | E4: =단가산출서!B73 -> 0 | F4: =단가산출서!C73 -> 0 | G4: =단가산출서!D73 -> 0 | H4: =단가산출서!E73 -> 0 | I4: 산근 1 | K4: 44F939E666F5599E8E280382D400E

Sheet 단가산출서
A1: 단 가 산 출 서
A2: [ 부산강서고등학교 고교학점제 공간조성사업 ]
A3: 산 출 내 역 | B3: 재 료 비 | C3: 노 무 비 | D3: 경 비 | E3: 합 계 | F3: 비 고 | G3: START | H3: 코드 | I3: 품명 | J3: 규격 | K3: 단위 | L3: 수량 | M3: 변수 | N3: 값 | O3: 소계 | P3: 소계 | Q3: 소계 | R3: 소계 | S3: 소계 | T3: 총계
A4: 시멘트운반 L:10km, 덤프 8ton 포 ( 산근 1 ) | G4: 44F939E666F5599E8E280382D400E | I4: 시멘트운반 | J4: L:10km, 덤프 8ton | K4: 포
G5: 44F939E666F5599E8E280382D400E | H5: C | L5: 1
A6: 운반거리 L=10KM 덤프트럭(8톤), 포대당 | B6: 0 | C6: 0 | D6: 0 | E6: 0 | G6: 44F939E666F5599E8E280382D400E | H6: C! | I6: '운반거리 L=10KM 덤프트럭(8톤), 포대당'
B7: 0 | C7: 0 | D7: 0 | E7: 0 | G7: 44F939E666F5599E8E280382D400E | H7: C!
A8: 차량속도= 25/V1,25/V2,40KM/V3,40KM/V4,25KM/V5,25KM/V6 | B8: 0 | C8: 0 | D8: 0 | E8: 0 | G8: 44F939E666F5599E8E280382D400E | H8: C! | I8: '차량속도= 25/V1,25/V2,40KM/V3,40KM/V4,25KM/V5,25KM/V6 '
A9: 하치장○-----------------0------------0---------○10KM | B9: 0 | C9: 0 | D9: 0 | E9: 0 | G9: 44F939E666F5599E8E280382D400E | H9: C! | I9: '하치장○-----------------0------------0---------○10KM '
A10: 운반거리=하치장L1=0.0KM,시내L2=9.5KM,공사장L3=0.5KM | B10: 0 | C10: 0 | D10: 0 | E10: 0 | G10: 44F939E666F5599E8E280382D400E | H10: C! | I10: '운반거리=하치장L1=0.0KM,시내L2=9.5KM,공사장L3=0.5KM'
B11: 0 | C11: 0 | D11: 0 | E11: 0 | G11: 44F939E666F5599E8E280382D400E | H11: C!
A12: 인력운반 (품셈 1-5-1) 적재비(하치장 상차도 미계상,공장상차도 계상) | B12: 0 | C12: 0 | D12: 0 | E12: 0 | G12: 44F939E666F5599E8E280382D400E | H12: C! | I12: '인력운반 (품셈 1-5-1) 적재비(하치장 상차도 미계상,공장상차도 계상)'
A13: L 소운반거리(M) =20 | B13: 0 | C13: 0 | D13: 0 | E13: 0 | G13: 44F939E666F5599E8E280382D400E | H13: C! | I13: L '소운반거리(M)' =20
A14: A 1회 운반량(BG) =1 | B14: 0 | C14: 0 | D14: 0 | E14: 0 | G14: 44F939E666F5599E8E280382D400E | H14: C! | I14: A '1회 운반량(BG)' =1
A15: T 단위(KG) =8000 | B15: 0 | C15: 0 | D15: 0 | E15: 0 | G15: 44F939E666F5599E8E280382D400E | H15: C! | I15: T '단위(KG)' =8000
A16: RT 단위중량(KG) =40 | B16: 0 | C16: 0 | D16: 0 | E16: 0 | G16: 44F939E666F5599E8E280382D400E | H16: C! | I16: RT '단위중량(KG)' =40
A17: MV 운반인부의 속도2500M/HR =2500/60= 41.6667 | B17: 0 | C17: 0 | D17: 0 | E17: 0 | G17: 44F939E666F5599E8E280382D400E | H17: C! | I17: MV '운반인부의 속도2500M/HR' =2500/60=?
A18: T1 어깨메고부리기시간(MIN) =2.0 | B18: 0 | C18: 0 | D18: 0 | E18: 0 | G18: 44F939E666F5599E8E280382D400E | H18: C! | I18: T1 '어깨메고부리기시간(MIN)' =2.0
A19: QT 차량 1대당 적재용량(BG) =T/RT= 200 | B19: 0 | C19: 0 | D19: 0 | E19: 0 | G19: 44F939E666F5599E8E280382D400E | H19: C! | I19: QT '차량 1대당 적재용량(BG)' =T/RT=?
A20: N 차량 1대당 소요운반회수 =QT/A= 200 | B20: 0 | C20: 0 | D20: 0 | E20: 0 | G20: 44F939E666F5599E8E280382D400E | H20: C! | I20: N '차량 1대당 소요운반회수' =QT/A=?
A21: CMS 운반 1회당 소요시간(MIN) =L*2/MV+T1= 2.96 | B21: 0 | C21: 0 | D21: 0 | E21: 0 | G21: 44F939E666F5599E8E280382D400E | H21: C! | I21: CMS '운반 1회당 소요시간(MIN)' =L*2/MV+T1=?
A22: T1A 차량 1대당 적재소요시간(MIN) =CMS*N= 592 | B22: 0 | C22: 0 | D22: 0 | E22: 0 | G22: 44F939E666F5599E8E280382D400E | H22: C! | I22: T1A '차량 1대당 적재소요시간(MIN)' =CMS*N=?
A23: Q 단위당 소요인부(상,하차) =T1A/450*1/QT= 0.007 | B23: 0 | C23: 0 | D23: 0 | E23: 0 | G23: 44F939E666F5599E8E280382D400E | H23: C! | I23: Q '단위당 소요인부(상,하차)' =T1A/450*1/QT=?
B24: 0 | C24: 0 | D24: 0 | E24: 0 | G24: 44F939E666F5599E8E280382D400E | H24: C!
A25: 1.덤프트럭(8톤/HR) | B25: 0 | C25: 0 | D25: 0 | E25: 0 | G25: 44F939E666F5599E8E280382D400E | H25: C! | I25: '1.덤프트럭(8톤/HR)'
A26: T 적재용량(KG) =8000 | B26: 0 | C26: 0 | D26: 0 | E26: 0 | G26: 44F939E666F5599E8E280382D400E | H26: C! | I26: T '적재용량(KG)' =8000
A27: R1 단위중량(KG) =40 | B27: 0 | C27: 0 | D27: 0 | E27: 0 | G27: 44F939E666F5599E8E280382D400E | H27: C! | I27: r1 '단위중량(KG)' =40
A28: Q1 1회 적재량(BG) =T/R1= 200 | B28: 0 | C28: 0 | D28: 0 | E28: 0 | G28: 44F939E666F5599E8E280382D400E | H28: C! | I28: q1 '1회 적재량(BG)' =T/r1=?
A29: f 토량 환산계수 =1 | B29: 0 | C29: 0 | D29: 0 | E29: 0 | G29: 44F939E666F5599E8E280382D400E | H29: C! | I29: f '토량 환산계수' =1
A30: E 작업효율 =0.9 | B30: 0 | C30: 0 | D30: 0 | E30: 0 | G30: 44F939E666F5599E8E280382D400E | H30: C! | I30: E '작업효율' =0.9
B31: 0 | C31: 0 | D31: 0 | E31: 0 | G31: 44F939E666F5599E8E280382D400E | H31: C!
A32: L1 하치장내 운반거리(KM) =0.0 | B32: 0 | C32: 0 | D32: 0 | E32: 0 | G32: 44F939E666F5599E8E280382D400E | H32: C! | I32: L1 '하치장내 운반거리(KM)' =0.0
A33: L2 도로주행 운반거리(KM) =9.5 | B33: 0 | C33: 0 | D33: 0 | E33: 0 | G33: 44F939E666F5599E8E280382D400E | H33: C! | I33: L2 '도로주행 운반거리(KM)' =9.5
A34: L3 공사장내 운반거리(KM) =0.5 | B34: 0 | C34: 0 | D34: 0 | E34: 0 | G34: 44F939E666F5599E8E280382D400E | H34: C! | I34: L3 '공사장내 운반거리(KM)' =0.5
A35: V1 하치장내적재운반속도(KM/HR) =25 | B35: 0 | C35: 0 | D35: 0 | E35: 0 | G35: 44F939E666F5599E8E280382D400E | H35: C! | I35: V1 '하치장내적재운반속도(KM/HR)' =25
A36: V2 하치장내공차운반속도(KM/HR) =25 | B36: 0 | C36: 0 | D36: 0 | E36: 0 | G36: 44F939E666F5599E8E280382D400E | H36: C! | I36: V2 '하치장내공차운반속도(KM/HR)' =25
A37: V3 도로주행적재운반속도(KM/HR) =40 | B37: 0 | C37: 0 | D37: 0 | E37: 0 | G37: 44F939E666F5599E8E280382D400E | H37: C! | I37: V3 '도로주행적재운반속도(KM/HR)' =40
A38: V4 도로주행공차운반속도(KM/HR) =40 | B38: 0 | C38: 0 | D38: 0 | E38: 0 | G38: 44F939E666F5599E8E280382D400E | H38: C! | I38: V4 '도로주행공차운반속도(KM/HR)' =40
A39: V5 공사장내적재운반속도(KM/HR) =25 | B39: 0 | C39: 0 | D39: 0 | E39: 0 | G39: 44F939E666F5599E8E280382D400E | H39: C! | I39: V5 '공사장내적재운반속도(KM/HR)' =25
A40: V6 공사장내공차운반속도(KM/HR) =25 | B40: 0 | C40: 0 | D40: 0 | E40: 0 | G40: 44F939E666F5599E8E280382D400E | H40: C! | I40: V6 '공사장내공차운반속도(KM/HR)' =25
B41: 0 | C41: 0 | D41: 0 | E41: 0 | G41: 44F939E666F5599E8E280382D400E | H41: C!
A42: T1 적재시간(MIN) =CMS= 2.96 | B42: 0 | C42: 0 | D42: 0 | E42: 0 | G42: 44F939E666F5599E8E280382D400E | H42: C! | I42: t1 '적재시간(MIN)' =CMS=?
A43: T2 왕복시간(MIN) =((L1/V1)+(L1/V2)+(L2/V3)+(L2/V4)+(L3/V5)+(L3/V6))*60= 30.9 | B43: 0 | C43: 0 | D43: 0 | E43: 0 | G43: 44F939E666F5599E8E280382D400E | H43: C! | I43: t2 '왕복시간(MIN)' =((L1/V1)+(L1/V2)+(L2/V3)+(L2/V4)+(L3/V5)+(L3/V6))*60=?
A44: T3 적하시간(MIN) =CMS= 2.96 | B44: 0 | C44: 0 | D44: 0 | E44: 0 | G44: 44F939E666F5599E8E280382D400E | H44: C! | I44: t3 '적하시간(MIN)' =CMS=?
A45: T4 적재대기시간(MIN) =0.42 | B45: 0 | C45: 0 | D45: 0 | E45: 0 | G45: 44F939E666F5599E8E280382D400E | H45: C! | I45: t4 '적재대기시간(MIN)' =0.42
A46: T5 적재함덮개 및 해체시간(MIN) =3.77 | B46: 0 | C46: 0 | D46: 0 | E46: 0 | G46: 44F939E666F5599E8E280382D400E | H46: C! | I46: t5 '적재함덮개 및 해체시간(MIN)' =3.77
A47: T6 세륜시간 (MIN) =1.5 | B47: 0 | C47: 0 | D47: 0 | E47: 0 | G47: 44F939E666F5599E8E280382D400E | H47: C! | I47: t6 '세륜시간 (MIN)' =1.5
B48: 0 | C48: 0 | D48: 0 | E48: 0 | G48: 44F939E666F5599E8E280382D400E | H48: C!
A49: CM 1회 싸이클 시간(MIN) =T1+T2+T3+T4+T5+T6= 42.51 | B49: 0 | C49: 0 | D49: 0 | E49: 0 | G49: 44F939E666F5599E8E280382D400E | H49: C! | I49: Cm '1회 싸이클 시간(MIN)' =t1+t2+t3+t4+t5+t6=?
A50: Q 시간당 작업량(BG/HR) =60*Q1*F*E/CM= 254.058 | B50: 0 | G50: 44F939E666F5599E8E280382D400E | H50: C! | I50: Q '시간당 작업량(BG/HR)' =60*q1*f*E/Cm=?
A51: Z 공제시간(HR) =(CM-(T1+T3))/CM= 0.8607 | B51: 0 | G51: 44F939E666F5599E8E280382D400E | H51: C! | I51: Z '공제시간(HR)' =(Cm-(t1+t3))/Cm=?
A52: 재료비: 21561 / 254.058*Z = 73 | B52: 0 | G52: 44F939E666F5599E8E280382D400E | H52: C! | I52: '재료비:' ~00000602008000000.M~ / {Q}*Z =?EQ+
A53: 노무비: 50008 / 254.058 = 196.8 | B53: 0 | G53: 44F939E666F5599E8E280382D400E | H53: C! | I53: '노무비:' ~00000602008000000.L~ / {Q} =?EQ+
A54: 경 비: 10544 / 254.058 = 41.5 | B54: 0 | G54: 44F939E666F5599E8E280382D400E | H54: C! | I54: '경 비:' ~00000602008000000.E~ / {Q} =?EQ+
A55: 소 계 | B55: 0 | G55: 44F939E666F5599E8E280382D400E | H55: C! | I55: >'소 계'
B56: 0 | G56: 44F939E666F5599E8E280382D400E | H56: C!
A57: 2.인력운반 (품셈 1-5-1) 적하비 | B57: 0 | G57: 44F939E666F5599E8E280382D400E | H57: C! | I57: '2.인력운반 (품셈 1-5-1) 적하비'
A58: L 소운반거리(M) =20 | B58: 0 | G58: 44F939E666F5599E8E280382D400E | H58: C! | I58: L '소운반거리(M)' =20
A59: A 1회 운반량(BG) =1 | B59: 0 | G59: 44F939E666F5599E8E280382D400E | H59: C! | I59: A '1회 운반량(BG)' =1
A60: T 단위(KG) =8000 | B60: 0 | G60: 44F939E666F5599E8E280382D400E | H60: C! | I60: T '단위(KG)' =8000
A61: RT 단위중량(KG) =40 | B61: 0 | G61: 44F939E666F5599E8E280382D400E | H61: C! | I61: RT '단위중량(KG)' =40
A62: MV 운반인부의 속도2500M/HR =2500/60= 41.6667 | B62: 0 | G62: 44F939E666F5599E8E280382D400E | H62: C! | I62: MV '운반인부의 속도2500M/HR' =2500/60=?
A63: T1 어깨메고부리기시간(MIN) =2.0 | B63: 0 | G63: 44F939E666F5599E8E280382D400E | H63: C! | I63: T1 '어깨메고부리기시간(MIN)' =2.0
A64: QT 차량 1대당 적재용량(BG) =T/RT= 200 | B64: 0 | G64: 44F939E666F5599E8E280382D400E | H64: C! | I64: QT '차량 1대당 적재용량(BG)' =T/RT=?
A65: N 차량 1대당 소요운반회수 =QT/A= 200 | B65: 0 | G65: 44F939E666F5599E8E280382D400E | H65: C! | I65: N '차량 1대당 소요운반회수' =QT/A=?
A66: CMS 운반 1회당 소요시간(MIN) =L*2/MV+T1= 2.96 | B66: 0 | G66: 44F939E666F5599E8E280382D400E | H66: C! | I66: CMS '운반 1회당 소요시간(MIN)' =L*2/MV+T1=?
A67: T1A 차량 1대당 적재소요시간(MIN) =CMS*N= 592 | B67: 0 | G67: 44F939E666F5599E8E280382D400E | H67: C! | I67: T1A '차량 1대당 적재소요시간(MIN)' =CMS*N=?
A68: Q 단위당 소요인부(상,하차) =T1A/450*1/QT= 0.007 | B68: 0 | G68: 44F939E666F5599E8E280382D400E | H68: C! | I68: Q '단위당 소요인부(상,하차)' =T1A/450*1/QT=?
B69: 0 | G69: 44F939E666F5599E8E280382D400E | H69: C!
A70: 보통인부 | B70: 0 | G70: 44F939E666F5599E8E280382D400E | H70: C! | I70: '보통인부'
A71: 노무비: 172698*Q = 1208.8 | B71: 0 | G71: 44F939E666F5599E8E280382D400E | H71: C! | I71: '노무비:'~L001010101000002.L~*Q =?EQ+
A72: 소 계 | B72: 0 | G72: 44F939E666F5599E8E280382D400E | H72: C! | I72: >'소 계'
A73: 총 계 | B73: 0

Sheet 단가대비표
A1: 단 가 대 비 표
A2: [ 부산강서고등학교 고교학점제 공간조성사업 ]
A3: 코 드 | B3: 품 명 | C3: 규격 | D3: 단위 | E3: 재 료 비 | P3: 노 무 비 | Q3: 경 비 | W3: 번 호 | X3: 비 고 | Y3: 품목구분 | Z3: 노임구분 | AA3: 소수점처리 | AB3: 자재구분
E4: 조달청가격 | F4: PAGE | G4: 거래가격 | H4: PAGE | I4: 유통물가 | J4: PAGE | K4: 물가자료 | L4: PAGE | M4: 조사가격2 | N4: PAGE | O4: 적용단가 | Q4: 조달청가격 | R4: 거래가격 | S4: 유통물가 | T4: 물가자료 | U4: 조사가격2 | V4: 적용단가
A5: 43E43AB6780AE9771A73838D46A3923E44EB4 | B5: 덤프트럭 | C5: 8ton | D5: 대 | W5: 자재 1 | X5: 천원
A6: 43E43AB6780AC942D0CBD18B6752D98FBF555 | B6: 크레인(타이어) | C6: 10ton | D6: 대 | W6: 자재 2 | X6: 천원
A7: 43E43AB6780AA992454577822F9FFC737A43A | B7: 커터(콘크리트 및 아스팔트용) | C7: 320∼400mm | D7: 대 | W7: 자재 3 | X7: 천원
A8: 43E43AB6780AB9BED00128873410C05E6F6EF | B8: 소형브레이커(전기식) | C8: 1.5kw | D8: 대 | W8: 자재 4 | X8: 천원
A9: 43F53086354609109388348BF7B5481023101 | B9: 모래 | C9: (별도) | D9: M3 | W9: 자재 5 | X9: 별도
A10: 43F53086354609109388348BF7B54810237AC | B10: 모래 | C10: 모래, 부산, 도착도 | D10: M3 | W10: 자재 6
A11: 43F530863573794AE0E2878A9840B1CEDF732 | B11: 보통합판 | C11: 보통합판, 1급, 4.8*1220*2440mm | D11: M2 | W11: 자재 7
A12: 43F530863573794AE0E2878A9840B1CEDF736 | B12: 보통합판 | C12: 보통합판, 1급, 9.0*1220*2440mm | D12: M2 | W12: 자재 8
A13: 43F530863573794AE0E2878A9840B1CEDF350 | B13: 내수합판 | C13: 내수합판, 1급, 12*1220*2440mm | D13: M2 | W13: 자재 9
A14: 43F530863573794AE0E0D5852B524F7EB38BD | B14: 중밀도섬유판 | C14: 중밀도섬유판, 6.0*1220*2440mm | D14: M2 | W14: 자재 10
A15: 43F530863573794AE0E0D5852B524F7EB38BB | B15: 중밀도섬유판 | C15: 중밀도섬유판, 9.0*1220*2440mm | D15: M2 | W15: 자재 11
A16: 43F530863573794AE0E0D5852B524F7EB38BA | B16: 중밀도섬유판 | C16: 중밀도섬유판, 12*1220*2440mm | D16: M2 | W16: 자재 12
A17: 43F530863573794AE0E0D5852BD74C6A73427 | B17: 폴리에스터 충진재 | C17: 24K 50T | D17: ㎡ | W17: 자재 13
A18: 43F530863573794AE0E0D5850834F4DD1DF42 | B18: 템바보드 상하부마감재 | C18: 25*15 | D18: M | W18: 자재 14
A19: 43F530863573794AE0E0A08AE18A7790A416C | B19: 자작합판 | C19: 1220*2400*4T | D19: M2 | W19: 자재 15
A20: 43F530863573794AE094558749EBC63A22759 | B20: 오징어합판 | C20: 4*1220*2440mm | D20: M2 | W20: 자재 16
A21: 43F5308635CB69891DD30585975CCB4979775 | B21: 철강설 | C21: 철강설, 고철, 작업설부산물 | D21: kg | W21: 자재 17 | X21: 수집상차도
A22: 43F5308635CB69891DD30585975CCB4979650 | B22: 철강설 | C22: 철강설, 스텐레스, 작업설부산물 | D22: kg | W22: 자재 18 | X22: 수집상차도
A23: 43F533567304C9634114AE8C5C0ADED36E66D | B23: 산소가스 | C23: 산소가스, 6000L | D23: 병 | W23: 자재 19 | X23: 대기압상태기준
A24: 43F535064899798CF0AEE18C4A2CA3F77CC88 | B24: C-RUNNER | C24: 152*40*0.8T | D24: M | W24: 자재 20
A25: 43F53476C10F79BBB2800B849AB363F56E6CC | B25: 경유 | C25: 경유, 저유황 | D25: L | W25: 자재 21
A26: 43F53476C119C97F7EB56A82E0B519A49DA23 | B26: 아세틸렌가스 | C26: 아세틸렌가스, kg | D26: kg | W26: 자재 22
A27: 43C9386627D269083D0D5B8BF812DEE65602A | B27: 브레이드 | C27: D320-400,T:3.2 | D27: 개 | W27: 자재 23
A28: 43DA34D6528E291183176888E7DBF54F3BAA5 | B28: 일반구조용압연강판 | C28: 일반구조용압연강판, 1.4mm | D28: kg | W28: 자재 24
A29: 43DA34D6528E291183176888E7DBF54F3BAA4 | B29: 일반구조용압연강판 | C29: 일반구조용압연강판, 1.6mm | D29: kg | W29: 자재 25
A30: 43DA34D6528E291183176888E7DBF54F3BAA3 | B30: 일반구조용압연강판 | C30: 일반구조용압연강판, 2.3mm | D30: kg | W30: 자재 26
A31: 43DA34D6528E291183176888E7DBF54F9CC6A | B31: 도장용융아연도강판 | C31: 도장용융아연도강판, 폴리에스터(양면), 1.60mm | D31: kg | W31: 자재 27
A32: 43DA34D6528E291183176888E7DBF5B3FA7E3 | B32: 합금화용융아연도금강판 | C32: 합금화용융아연도금강판, 갈바륨, 1.60mm | D32: kg | W32: 자재 28
A33: 43DA34D6528E29118316418E41F81A8B72E04 | B33: 스테인리스강판 | C33: 스테인리스강판, STS304, 0.8mm | D33: kg | W33: 자재 29
A34: 43DA34D6528E29118316418E41F81A8B72981 | B34: 스테인리스강판 | C34: 스테인리스강판, STS304, 1.2mm | D34: kg | W34: 자재 30
A35: 43DA34D6528E29118316418E41F81A8B72980 | B35: 스테인리스강판 | C35: 스테인리스강판, STS304, 1.5mm | D35: kg | W35: 자재 31
... A40: 43DA34D6528E393C0E650D834715ACB8E3A7A | B40: 각재 | C40: 각재, 라왕, 일반증기건조 | D40: 재 | W40: 자재 36
A41: 43DA34D6528E393C0E650D834715ACB8E3B12 | B41: 후로링못 | D41: M2 | W41: 자재 37
A42: 43DA34D6529869CC6EB303881CA0777ACEE25 | B42: 모르타르 | C42: 모르타르, 자동수평모르타르, 산업용(회색) | D42: kg | W42: 자재 38
A43: 43DA34D6529869CC6EB27B828DB28DAB440E4 | B43: 레미콘 - 부산 | C43: 25-18-15 | D43: M3 | W43: 자재 39
A44: 43DA34D6529869CC6700BA8B65A968EA3F47E | B44: 콘크리트보강섬유 | C44: 콘크리트보강섬유, 포/m3 | D44: 포 | W44: 자재 40
A45: 43DA34D6529869CF227F93836243DFE1E4C76 | B45: 시멘트 | C45: 시멘트(별도) | D45: kg | W45: 자재 41 | X45: 별도
A46: 43DA34D6529869CF227F93836243DFE1E4C73 | B46: 시멘트 | C46: 대리점 | D46: 포 | W46: 자재 42
A47: 43DA34D6529869CF227F93836243DF8F74849 | B47: 특수시멘트 | C47: 특수시멘트, 백색시멘트 | D47: kg | W47: 자재 43
A48: 43DA34D652AAF9876F437B8EC6D7332FD1E29 | B48: 조인트테이프 | C48: 7.5cm, 일반 | D48: M | W48: 자재 44
A49: 43DA34D652BB59ECC49E23810EF72BD574D35 | B49: 인조대리석상판류/판재가공 | C49: 제작 및 본딩시공 | D49: M | W49: 자재 45 | Y49: C
A50: 43DA34D652C5A9AD3BAE0485132F06B347270 | B50: 섬유단열재 | C50: 섬유단열재, 유리솜, 밀도24kg/㎥, 50mm, 유리면매트 | D50: M2 | W50: 자재 46
A51: 43DA34D652C5A9AD3A9A5E87A0FA0D27C4049 | B51: 압출발포폴리스티렌단열재 | C51: 압출발포폴리스티렌단열재, 0.02, 900*1800*50mm | D51: M2 | W51: 자재 47
A52: 43DA34D652C5A9AECB1C3B81F30BC50C39FD4 | B52: 조립식온돌판넬 | C52: 1700*850*15 | D52: 매 | W52: 자재 48
A53: 43DA34D652C5A9AECB1C3B81F30BC50C39FD5 | B53: 조립식온돌판넬 | C53: 1700*425*15 | D53: 매 | W53: 자재 49
A54: 43DA34D652C5A9AECB1C3B81F30BC50C39FD6 | B54: 조립식온돌판넬 | C54: 850*850*15 | D54: 매 | W54: 자재 50
A55: 43DA34D652C5A9AECB1C3B81F30BC50C39FD7 | B55: 조립식온돌판넬 | C55: 850*425*15 | D55: 매 | W55: 자재 51
A56: 43DA34D652C5A9AECB1C3B81F30BC50C39FD8 | B56: 보조블럭 | C56: 425*212.5*15 | D56: 매 | W56: 자재 52
A57: 43DA34D652C5A9AECB1C3B81F30BC50C39FD9 | B57: 온돌마감재 | C57: 1700*850 | D57: 매 | W57: 자재 53
A58: 43DA34D652C5A9AECB1C3B81F30BC50C39C1C | B58: 온돌바닥단열재 | C58: t2mm*1m | D58: M2 | W58: 자재 54
A59: 43DA34D652C5A9AECB1C3B81F30BC50C39C1D | B59: 통신용개별온도조절기 | C59: 4KW | D59: EA | W59: 자재 55
A60: 43DA34D652C5A9AECB1C3B81E221E66F503EA | B60: 벽체마감패널 | C60: HDC-FSA-15TL,흡음타공패널 | D60: M2 | W60: 자재 56 | X60: 관급자재
A61: 43DA34D652E089067095E782BDCFB4F6D2802 | B61: 방염 페브릭천 | C61: 방염 | D61: M2 | W61: 자재 57
A62: 43DA34D652E0890670921388D126862E913B2 | B62: 인테리어필름 | C62: 방염,우드 | D62: M2 | W62: 자재 58
A63: 43DA34D652E0890670921388D126862E91183 | B63: 인테리어필름 | C63: 방염,우드 | D63: M2 | W63: 자재 59
A64: 43DA34D652E08906709EC384F1C5FE5366750 | B64: 석고보드 | C64: 석고보드, 평보드, 9.5*900*1800mm(㎡) | D64: M2 | W64: 자재 60
A65: 43DA34D652E08906709EC384F1C5FE53666B7 | B65: 석고보드 | C65: 석고보드, 평보드, 12.5*900*1800mm(㎡) | D65: M2 | W65: 자재 61
A66: 43DA34D652E08906709EC08FA306A439F10F4 | B66: 유공흡음테파보드사운드윈 | C66: 12.5T 1200*2400 | D66: M2 | W66: 자재 62
A67: 43DA34D652E0890569A78B8C8A9089D576149 | B67: 불연천장재 | C67: 불연천장재, 무석면텍스, 6*300*600mm | D67: M2 | W67: 자재 63
A68: 43DA34D652E0890569A1628450FAA9FA48A53 | B68: 경량철골천장틀 | C68: 경량철골천장틀, M-BAR더블, 50*19*0.5mm | D68: M | W68: 자재 64
A69: 43DA34D652E0890569A1628450FAA9FA48D2C | B69: 경량철골천장틀 | C69: 경량철골천장틀, 달대볼트, 상6*1000mm | D69: 개 | W69: 자재 65
A70: 43DA34D652E0890569A1628450FAA9FA48E32 | B70: 경량철골천장틀 | C70: 경량철골천장틀, 캐링찬넬, 38*12*1.2mm | D70: M | W70: 자재 66
A71: 43DA34D652E0890569A1628450FAA9FA48E33 | B71: 경량철골천장틀 | C71: 경량철골천장틀, 마이너찬넬, 19*10*1.2mm | D71: M | W71: 자재 67
A72: 43DA34D652E0890569A1628450FAA9FA48E30 | B72: 경량철골천장틀 | C72: 경량철골천장틀, 행가및핀, 110*23*18*2.3mm | D72: 조 | W72: 자재 68
... A80: 43DA34D652E0890569A1628450FAA9FA5ACFE | B80: METAL C-RUNNER | C80: ㉿ 0.8T, 67*40 | D80: M | W80: 자재 76
A81: 43DA34D652E0890569A1628450FAA9FA5D4EC | B81: STUD-SPACER | D81: 개 | W81: 자재 77
A82: 43DA34D652E08904429EC4828AF8491E14D82 | B82: 플로어링보드 | C82: 플로어링보드, 22mm, 경질단풍나무 | D82: M2 | W82: 자재 78
A83: 43DA34D652E08904429EC482D2E0613080576 | B83: 우레탄폼 | D83: L | W83: 자재 79 | X83: 750ML/CAN=4000
A84: 43DA34D652E08904429940861AFC09E4B2289 | B84: 템바보드(방염필름마감) | C84: 20*20*2400*15T(직각) | D84: M2 | W84: 자재 80
A85: 43DA34D652E0890442993288390ABCFCF915B | B85: 천막지 | C85: P.E탑지 | D85: M2 | W85: 자재 81
A86: 43DA34D652E08904429B7082ABD15CB58FB34 | B86: 비닐타일 | C86: 비닐타일, 3*450*450mm, 데코타일 | D86: M2 | W86: 자재 82
A87: 43DA34D652F2E9035F421C8362E46765A8E74 | B87: 유리문 | C87: 유리문, 12*1200*2300mm, 브론즈 | D87: 개 | W87: 자재 83 | X87: 시공비포함
A88: 43DA34D652F2E9035F421C8362E4676561A9D | B88: 강화유리문손잡이 | C88: 스텐손잡이(고급형) | D88: 개 | W88: 자재 84
A89: 43DA34D652F2E9035EBD79877916FB5E4BC4B | B89: ABS 여닫이 문틀 | C89: 155MM | D89: M2 | W89: 자재 85
A90: 43DA34D652F2E9035EBD79877916FB5E4BDBC | B90: ABS 여닫이 문틀(람마형) | C90: 155MM,편개 | D90: M2 | W90: 자재 86
A91: 43DA34D652F2E90357040A8BEE745586FB274 | B91: AL히든점검구 | C91: 450*450 ADS450 | D91: 조 | W91: 자재 87
A92: 43DA34D652F2E90357040A8BEE745586FB275 | B92: AL히든몰딩 | C92: 10MM용 M101 | D92: M | W92: 자재 88
A93: 43DA34D652F2E900828D6286E7E8F62E74365 | B93: 합성수지문(여닫이문) | C93: ABS 도어 | D93: M2 | W93: 자재 89
A94: 43DA34D652F2E900828D6286E7E8F62E741BB | B94: 합성수지문(여닫이문) 타공도어 | C94: ABS 도어 | D94: M2 | W94: 자재 90
A95: 43DA34D652F2E90192D0D186B0FC0A4AC0D3D | B95: 강화유리 | C95: 강화유리, 투명, 5mm | D95: M2 | W95: 자재 91
A96: 43DA34D652F2E90192D0D186B0FC0A4AC0D37 | B96: 강화유리 | C96: 강화유리, 칼라, 5mm, 그린 | D96: M2 | W96: 자재 92
A97: 43DA34D652F2E90192D0D186B0FC0A4AC0C70 | B97: 강화유리 | C97: 강화유리, 브론즈, 8mm, | D97: M2 | W97: 자재 93
A98: 43DA34D652F2E90192D0D186B0FC0A4AC0C72 | B98: 강화유리 | C98: 강화유리, 브론즈, 12mm, | D98: M2 | W98: 자재 94
A99: 43DA34D6520AB9497150A88FCC9971D090236 | B99: 인조대리석 | C99: T=12*760*3680 | D99: M2 | W99: 자재 95
... A120: 43DA35F6A028393126459484ACF61473C9A98 | B120: 플로어힌지 | C120: 플로어힌지, KS3호, 105kg, 강화유리문(K-8300) | D120: 조 | W120: 자재 116
A121: 43DA35F6A028393126459484ACF6255568BD5 | B121: 가네모네힌지/BLACK | C121: 도어상부 | D121: EA | W121: 자재 117 | X121: https://smartstore.naver.com/skyhard/products/7081
A122: 43DA35F6A028393126459484ACF6255568BD4 | B122: 가네모네힌지/BLACK | C122: 도어하부 | D122: EA | W122: 자재 118 | X122: https://smartstore.naver.com/skyhard/products/7081
A123: 43DA35F6A028393DD72FB28C981B17111FBD1 | B123: 도어핸들 | C123: 레버형, 스테인리스 | D123: 조 | W123: 자재 119
A124: 43DA35F6A0DAA9BD27E9768B24E27AFE077E4 | B124: 연마지 | C124: 연마지, #120~180, 230*280mm | D124: 장 | W124: 자재 120
A125: 43DA35F697DFD95A31633E81E7BE28E6B8412 | B125: 초산비닐계접착제 | C125: 초산비닐계접착제, 일반목공용 | D125: kg | W125: 자재 121
A126: 43DA35F697DFD95A31633E81E7BE28E6B8522 | B126: 초산비닐계접착제 | C126: 초산비닐계접착제, 비닐타일용 | D126: kg | W126: 자재 122
A127: 43DA35F697DFD95A31633E81E7BE28E6B8520 | B127: 초산비닐계접착제 | C127: 초산비닐계접착제, 스치로폴, 암면 | D127: kg | W127: 자재 123
A128: 43DA35F697DFD95A3166F28843BD8C750CA9C | B128: 타일본드 | C128: 건식본드, 20kg/can | D128: kg | W128: 자재 124
A129: 43DA35F697DFD95A316795893DBF084401806 | B129: 퍼티 | C129: 퍼티, #319퍼티, 회색 | D129: L | W129: 자재 125
A130: 43DA35F697DFD95A316795893DBF0844123DA | B130: 퍼티 | C130: 퍼티, 친환경, 내부 | D130: kg | W130: 자재 126
A131: 43DA35F697DFD95A316795893DBF08442C97F | B131: 퍼티 | C131: 퍼티, 319퍼티, 백색 | D131: kg | W131: 자재 127 | X131: 1L=1.55kg
...
