Workbook
Name _________MAG100: #REF!
Name _________MAG200: #REF!
Name _________MAG300: #REF!
Name _________MAG40: #REF!
Name _________MAG400: #REF!
Name _________MAG450: #REF!
Name _________MAG65: #REF!
Name ________MAG100: #REF!
Name ________MAG200: #REF!
Name ________MAG300: #REF!
Name ________MAG40: #REF!
Name ________MAG400: #REF!
Name ________MAG450: #REF!
Name ________MAG65: #REF!
Name _______MAG100: #REF!
Name _______MAG200: #REF!
Name _______MAG300: #REF!
Name _______MAG40: #REF!
Name _______MAG400: #REF!
Name _______MAG450: #REF!
Name _______MAG65: #REF!
Name ______MAG100: #REF!
Name ______MAG200: #REF!
Name ______MAG300: #REF!
Name ______MAG40: #REF!
Name ______MAG400: #REF!
Name ______MAG450: #REF!
Name ______MAG65: #REF!
Name _____MAG100: #REF!
Name _____MAG200: #REF!
Name _____MAG300: #REF!
Name _____MAG40: #REF!
Name _____MAG400: #REF!
Name _____MAG450: #REF!
Name _____MAG65: #REF!
Name ____MAG100: #REF!
Name ____MAG200: #REF!
Name ____MAG300: #REF!
Name ____MAG40: #REF!
Name ____MAG400: #REF!
Name ____MAG450: #REF!
Name ____MAG65: #REF!
Name ___MAG100: #REF!
Name ___MAG200: #REF!
Name ___MAG300: #REF!
Name ___MAG40: #REF!
Name ___MAG400: #REF!
Name ___MAG450: #REF!
Name ___MAG65: #REF!
Name __MAG100: #REF!
Name __MAG200: #REF!
Name __MAG300: #REF!
Name __MAG40: #REF!
Name __MAG400: #REF!
Name __MAG450: #REF!
Name __MAG65: #REF!
Name _1: #N/A
Name _1____0a1z1: [1]진접!#REF!
Name _1_0a1z1: [1]진접!#REF!
Name _10G_0Extr: #REF!

Sheet 갑지
A1: 설계자 | C1: 검산자 | E1: 팀 장 | G1: 과 장 | I1: 2026 년 10 월 설계
B3: 2026년도
A4: 안동 공공하수처리장 유입동 세목스크린 교체공사
B6: 위 치 : | C6: 경상북도 안동시 수하동 일원
B7: 공 사 개 요 :
C8: 1. | D8: 기 계 | E8: 세목스크린 2대
C14: 총 공 사 비: | E14: =" 금 "&NUMBERSTRING(H14,1)&" 원" -> 금 삼억오천일백팔십만 원 | H14: =SUM(H15:I16) -> 351800000
C15: 도급공사비: | E15: =" 금 "&NUMBERSTRING(H15,1)&" 원" -> 금 삼천일백팔십만 원 | H15: =원가계산서!F33 -> 31800000
C16: 관급자재대: | E16: =" 금 "&NUMBERSTRING(H16,1)&" 원" -> 금 삼억이천만 원 | H16: =원가계산서!F34 -> 320000000

Sheet 원가계산서
B1: 원가계산서
B3: 비 목 | E3: 구분 | F3: 금 액 | G3: 요율 | H3: 산 출 근 거
C4: 재 | D4: 직 접 재 료 비 | E4: 1
C5: 료 | D5: 간 접 재 료 비 | E5: 2 | F5: =내역서!L13 -> 11,700,000
C6: 비 | D6: 작업설.부산물등(△) | E6: 3
D7: 소 계 | E7: A | F7: =TRUNC((F4+F5+F6),0) -> 11700000 | H7: (1 + 2 + 3 )
C8: 노 | D8: 직 접 노 무 비 | E8: 4 | F8: =내역서!J13 -> 13,064,231
B9: 순 | C9: 무 | D9: 간 접 노 무 비 | E9: 5 | F9: =TRUNC(F8*0.191,0) -> 2495268 | G9: 19.1% | H9: 4 × 0.191
C10: 비 | D10: 소 계 | E10: B | F10: =TRUNC((F8+F9),0) -> 15559499 | H10: ( 4 + 5 )
B11: 공 | D11: 산 출 경 비 | E11: 6 | F11: =내역서!N13 -> 0
D12: 산 재 보 험 료 | E12: 7 | F12: =TRUNC(F10*0.0356,0) -> 553918 | G12: 3.56% | H12: B × 0.0356
B13: 사 | D13: 고 용 보 험 료 | E13: 8 | F13: =TRUNC(F10*0.0101,0) -> 157150 | G13: 1.01% | H13: B × 0.0101
C14: 경 | D14: 건 강 보 험 료 | E14: 9 | F14: =TRUNC(F8*0.03595,0) -> 469659 | G14: 3.595% | H14: 4 × 0.03595
B15: 원 | D15: 연 금 보 험 료 | E15: 10 | F15: =TRUNC(F8*0.0475,0) -> 620550 | G15: 4.75% | H15: 4 × 0.0475
D16: 노인장기요양 보 험 료 | E16: 11 | F16: =TRUNC(F14*0.1314,0) -> 61713 | G16: 13.14% | H16: 9 × 0.1314
B17: 가 | D17: 퇴 직 공 제 부 금 비 | E17: 12 | F17: =TRUNC(F8*0.023,0) -> 300477 | G17: 2.3% | H17: 4 × 0.023
D18: 건설기계대여금지급보증서발급액 | E18: 13 | F18: =TRUNC((F7+F8+F11)*0.0051,0) -> 126297 | G18: 0.51% | H18: (A + 4 + 6) × 0.0051
D19: 산 업 안 전 보건관리비 | E19: 14 | F19: =TRUNC((F7+F8)*0.0315,0) -> 780073 | G19: 3.15% | H19: (A + 4) × 0.0315
D20: 환 경 보 전 비 | E20: 16 | F20: =TRUNC((F7+F8+F11)*0.005,0) -> 123821 | G20: 0.5% | H20: (A + 4 + 6) ×0.005
D21: 공 사 이 행 보증수수료 | E21: 17
C22: 비 | D22: 하도급대금지급보증수수료 | E22: 18 | F22: =TRUNC((F7+F8+F11)*0,0) -> 0 | G22: 0% | H22: (A + 4 + 6) ×0.0
D23: 석 면 분 담 금 | E23: 19 | F23: =TRUNC(F10*0.00006,0) -> 933 | G23: 0.006% | H23: B × 0.00006
D24: 임 금 채 권 부 담 금 | E24: 20 | F24: =TRUNC(F10*0.0009,0) -> 14003 | G24: 0.09% | H24: B × 0.0009
D25: 기 타 경 비 | E25: 21 | F25: =TRUNC((F7+F10)*0.055,0) -> 1499272 | G25: 5.5% | H25: (A + B) × 0.055
D26: 소 계 | E26: C | F26: =TRUNC((F11+F12+F13+F14+F15+F16+F17+F18+F19+F20+F21+F22+F23+F24+F25),0) -> 4707866 | H26: (6:21)
D27: 순 공 사 원 가 | E27: D | F27: =TRUNC((F7+F10+F26),0) -> 31967365 | H27: (A + B + C)
D28: 일 반 관 리 비 | E28: E | F28: =TRUNC(F27*0.08,0) -> 2557389 | G28: 8% | H28: D × 0.08
D29: 이 윤 | E29: F | F29: =TRUNC((F10+F26+F28)*0.1485,0)-218 -> 3389257 | G29: 14.85% | H29: (B + C + E) ×0.1485
D30: 고 재 처 리 비 | E30: G | F30: =내역서!H38 -> -9004920 | L30: =내역서!H38 -> -9004920
D31: 총 원 가 | E31: H | F31: =TRUNC((F27+F28+F29+F30),0) -> 28909091 | H31: (D + E + F + G)
D32: 부 가 가 치 세 | E32: I | F32: =IF(L52<> "0.9",TRUNC(F31*0.1,0),TRUNC(F31*0.1,0)+1) -> 2890909 | G32: 10% | H32: H × 0.1
D33: 도 급 액 | E33: J | F33: =TRUNC((F31+F32),5) -> 31800000 | H33: (H + I)
D34: 관 급 자 재 대 | E34: K | F34: =내역서!H42 -> 320000000 | L34: =내역서!H42 -> 320000000 | M34: =내역서!H45 -> 1800000
D35: 폐 기 물 처 리 비 | E35: L
D36: 총 공 사 비 | E36: M | F36: =TRUNC((F33+F34+F35),0) -> 351800000 | H36: (J + K + L)
L52: =RIGHT(F31*0.1,3) -> 9.1

Sheet 내역서총괄표
B1: 내역서총괄표
B3: 공종 | C3: 품 명 | D3: 규 격 | E3: 수 량 | F3: 단위 | G3: 합 계 | H3: 노무비 | I3: 재료비 | J3: 경 비 | K3: 비 고
B4: 1. | C4: 안동 공공하수처리장 유입동 세목스크린 교체공사 | G4: =H4+I4+J4 -> 24764231 | H4: =내역서!J5 -> 13,064,231 | I4: =내역서!L5 -> 11,700,000 | J4: =내역서!N5 -> 0
C5: 순직접공사비 | G5: =H5+I5+J5 -> 24764231 | H5: =내역서!J13 -> 13,064,231 | I5: =내역서!L13 -> 11,700,000 | J5: =내역서!N13 -> 0
C6: 간접노무비 | E6: 19.1 | F6: % | G6: =원가계산서!F9 -> 2495268
C7: 산재보험료 | E7: 3.56 | F7: % | G7: =원가계산서!F12 -> 553918
C8: 고용보험료 | E8: 1.01 | F8: % | G8: =원가계산서!F13 -> 157150
C9: 건강보험료 | E9: 3.595 | F9: % | G9: =원가계산서!F14 -> 469659
C10: 연금보험료 | E10: 4.75 | F10: % | G10: =원가계산서!F15 -> 620550
C11: 노인장기요양보험료 | E11: 13.14 | F11: % | G11: =원가계산서!F16 -> 61713
C12: 퇴직공제부금비 | E12: 2.3 | F12: % | G12: =원가계산서!F17 -> 300477
C13: 건설기계대여금지급보증서발급액 | E13: 0.51 | F13: % | G13: =원가계산서!F18 -> 126297
C14: 산업안전보건관리비 | E14: 3.15 | F14: % | G14: =원가계산서!F19 -> 780073
C15: 환경보전비 | E15: 0.5 | F15: % | G15: =원가계산서!F20 -> 123821
C16: 하도급대금지급보증수수료 | F16: % | G16: =원가계산서!F22 -> 0
C17: 석면분담금 | E17: 0.006 | F17: % | G17: =원가계산서!F23 -> 933
C18: 임금채권부담금 | E18: 0.09 | F18: % | G18: =원가계산서!F24 -> 14003
C19: 기타경비 | E19: 5.5 | F19: % | G19: =원가계산서!F25 -> 1499272
C20: 순공사원가 | G20: =원가계산서!F27 -> 31967365
C21: 일반관리비 | E21: 8 | F21: % | G21: =원가계산서!F28 -> 2557389
C22: 이윤 | E22: 14.85 | F22: % | G22: =원가계산서!F29 -> 3389257
C23: 총원가 | G23: =원가계산서!F31 -> 28909091
C24: 부가가치세 | E24: 10 | F24: % | G24: =원가계산서!F32 -> 2890909
C25: 도급액 | G25: =원가계산서!F33 -> 31800000
C26: 총공사비 | G26: =원가계산서!F36 -> 351800000

Sheet 내역서
B1: 내역서
B3: 공종 | C3: 품 명 | D3: 규 격 | E3: 수 량 | F3: 단위 | G3: 합 계 | I3: 노무비 | K3: 재료비 | M3: 경 비 | O3: 비 고
G4: 단 가 | H4: 금 액 | I4: 단 가 | J4: 금 액 | K4: 단 가 | L4: 금 액 | M4: 단 가 | N4: 금 액
B5: 1. | C5: 안동 공공하수처리장 유입동 세목스크린 교체공사 | G5: =I5+K5+M5 -> 0 | H5: =J5+L5+N5 -> 24764231 | J5: =TEXT(J6+J8,"#,##0") -> 13,064,231 | L5: =TEXT(L6+L8,"#,##0") -> 11,700,000 | N5: =TEXT(N6+N8,"#,##0") -> 0
B6: 1) | C6: 철거공사 | G6: =I6+K6+M6 -> 0 | H6: =J6+L6+N6 -> 12043588 | J6: =TEXT(SUM(J7:J7),"#,##0") -> 12,043,588 | L6: =TEXT(SUM(L7:L7),"#,##0") -> 0 | N6: =TEXT(SUM(N7:N7),"#,##0") -> 0
C7: 세목스크린 철거 | D7: 재사용 고려x, 설치품의 60% | E7: 2 | F7: 대 | G7: =I7+K7+M7 -> 6021794 | H7: =J7+L7+N7 -> 12043588 | I7: =일위대가총괄표!G4 -> 6021794 | J7: =TRUNC(E7*I7,0) -> 12043588 | K7: =일위대가총괄표!H4 -> 0 | L7: =TRUNC(E7*K7,0) -> 0 | M7: =일위대가총괄표!I4 -> 0 | N7: =TRUNC(E7*M7,0) -> 0 | O7: 일위1참조
B8: 2) | C8: 부대공사 | G8: =I8+K8+M8 -> 0 | H8: =J8+L8+N8 -> 12720643 | J8: =TEXT(SUM(J9:J12),"#,##0") -> 1,020,643 | L8: =TEXT(SUM(L9:L12),"#,##0") -> 11,700,000 | N8: =TEXT(SUM(N9:N12),"#,##0") -> 0
C9: 흡입준설 | D9: 20t | E9: 4 | F9: 일 | G9: =I9+K9+M9 -> 2750000 | H9: =J9+L9+N9 -> 11000000 | I9: =자재단가!AA5 -> 0 | J9: =TRUNC(E9*I9,0) -> 0 | K9: =자재단가!R5 -> 2750000 | L9: =TRUNC(E9*K9,0) -> 11000000 | M9: =자재단가!AC5 -> 0 | N9: =TRUNC(E9*M9,0) -> 0
C10: 수문 물막이 판(SS 400) | D10: 16t×1.2m×1.4m, 기초볼트 및 가스켓 | E10: 1 | F10: EA | G10: =I10+K10+M10 -> 700000 | H10: =J10+L10+N10 -> 700000 | I10: =자재단가!AA6 -> 0 | J10: =TRUNC(E10*I10,0) -> 0 | K10: =자재단가!R6 -> 700000 | L10: =TRUNC(E10*K10,0) -> 700000 | M10: =자재단가!AC6 -> 0 | N10: =TRUNC(E10*M10,0) -> 0
C11: 수문 물막이판 설치 | D11: 설치중량: 0.2t | E11: 1 | F11: EA | G11: =I11+K11+M11 -> 1020643 | H11: =J11+L11+N11 -> 1020643 | I11: =일위대가총괄표!G8 -> 1020643 | J11: =TRUNC(E11*I11,0) -> 1020643 | K11: =일위대가총괄표!H8 -> 0 | L11: =TRUNC(E11*K11,0) -> 0 | M11: =일위대가총괄표!I8 -> 0 | N11: =TRUNC(E11*M11,0) -> 0 | O11: 일위5참조
G12: =I12+K12+M12 -> 0 | H12: =J12+L12+N12 -> 0
C13: 순직접공사비 | G13: =I13+K13+M13 -> 0 | H13: =J13+L13+N13 -> 24764231 | J13: =TEXT(J5,"#,##0") -> 13,064,231 | L13: =TEXT(L5,"#,##0") -> 11,700,000 | N13: =TEXT(N5,"#,##0") -> 0
C14: 간접노무비 | E14: 19.1 | F14: % | G14: =I14+K14+M14 -> 0 | H14: =원가계산서!F9 -> 2495268
C15: 산재보험료 | E15: 3.56 | F15: % | G15: =I15+K15+M15 -> 0 | H15: =원가계산서!F12 -> 553918
C16: 고용보험료 | E16: 1.01 | F16: % | G16: =I16+K16+M16 -> 0 | H16: =원가계산서!F13 -> 157150
C17: 건강보험료 | E17: 3.595 | F17: % | G17: =I17+K17+M17 -> 0 | H17: =원가계산서!F14 -> 469659
C18: 연금보험료 | E18: 4.75 | F18: % | G18: =I18+K18+M18 -> 0 | H18: =원가계산서!F15 -> 620550
C19: 노인장기요양보험료 | E19: 13.14 | F19: % | G19: =I19+K19+M19 -> 0 | H19: =원가계산서!F16 -> 61713
C20: 퇴직공제부금비 | E20: 2.3 | F20: % | G20: =I20+K20+M20 -> 0 | H20: =원가계산서!F17 -> 300477
C21: 건설기계대여금지급보증서발급액 | E21: 0.51 | F21: % | G21: =I21+K21+M21 -> 0 | H21: =원가계산서!F18 -> 126297
C22: 산업안전보건관리비 | E22: 3.15 | F22: % | G22: =I22+K22+M22 -> 0 | H22: =원가계산서!F19 -> 780073
C23: 환경보전비 | E23: 0.5 | F23: % | G23: =I23+K23+M23 -> 0 | H23: =원가계산서!F20 -> 123821
C24: 하도급대금지급보증수수료 | F24: % | G24: =I24+K24+M24 -> 0 | H24: =원가계산서!F22 -> 0
C25: 석면분담금 | E25: 0.006 | F25: % | G25: =I25+K25+M25 -> 0 | H25: =원가계산서!F23 -> 933
C26: 임금채권부담금 | E26: 0.09 | F26: % | G26: =I26+K26+M26 -> 0 | H26: =원가계산서!F24 -> 14003
C27: 기타경비 | E27: 5.5 | F27: % | G27: =I27+K27+M27 -> 0 | H27: =원가계산서!F25 -> 1499272
C28: 순공사원가 | G28: =I28+K28+M28 -> 0 | H28: =원가계산서!F27 -> 31967365
C29: 일반관리비 | E29: 8 | F29: % | G29: =I29+K29+M29 -> 0 | H29: =원가계산서!F28 -> 2557389
C30: 이윤 | E30: 14.85 | F30: % | G30: =I30+K30+M30 -> 0 | H30: =원가계산서!F29 -> 3389257
C31: 총원가 | G31: =I31+K31+M31 -> 0 | H31: =원가계산서!F31 -> 28909091
C32: 부가가치세 | E32: 10 | F32: % | G32: =I32+K32+M32 -> 0 | H32: =원가계산서!F32 -> 2890909
C33: 도급액 | G33: =I33+K33+M33 -> 0 | H33: =원가계산서!F33 -> 31800000
C34: 총공사비 | G34: =I34+K34+M34 -> 0 | H34: =원가계산서!F36 -> 351800000
G35: =I35+K35+M35 -> 0 | H35: =J35+L35+N35 -> 0
G36: =I36+K36+M36 -> 0 | H36: =J36+L36+N36 -> 0
G37: =I37+K37+M37 -> 0 | H37: =J37+L37+N37 -> 0
B38: ※ | C38: 고재처리비 | G38: =I38+K38+M38 -> 0 | H38: =J38+L38+N38 -> -9004920 | J38: =TEXT(SUM(J39:J41),"#,##0") -> 0 | L38: =TEXT(SUM(L39:L41),"#,##0") -> -9,004,920 | N38: =TEXT(SUM(N39:N41),"#,##0") -> 0
C39: 고 철(STS) | D39: 27종(Ton당) | E39: 4.62 | F39: Ton | G39: =I39+K39+M39 -> -1850000 | H39: =J39+L39+N39 -> -8547000 | I39: =자재단가!AA7 -> 0 | J39: =TRUNC(E39*I39,0) -> 0 | K39: =자재단가!R7 -> -1850000 | L39: =TRUNC(E39*K39,0) -> -8547000 | M39: =자재단가!AC7 -> 0 | N39: =TRUNC(E39*M39,0) -> 0
C40: 고 철 | D40: 중량A(Ton당) | E40: 1.06 | F40: Ton | G40: =I40+K40+M40 -> -432000 | H40: =J40+L40+N40 -> -457920 | I40: =자재단가!AA8 -> 0 | J40: =TRUNC(E40*I40,0) -> 0 | K40: =자재단가!R8 -> -432000 | L40: =TRUNC(E40*K40,0) -> -457920 | M40: =자재단가!AC8 -> 0 | N40: =TRUNC(E40*M40,0) -> 0
G41: =I41+K41+M41 -> 0 | H41: =J41+L41+N41 -> 0
...

Sheet 일위대가총괄표
B1: 일위대가총괄표
B3: 호 표 | C3: 품 명 | D3: 규 격 | E3: 단위 | F3: 합 계 | G3: 노무비 | H3: 재료비 | I3: 경 비 | J3: 비 고 | Z3: 당초합계 | AA3: 당초노무비 | AB3: 당초재료비 | AC3: 당초경비
B4: 제1호표 | C4: 세목스크린 철거 | D4: 재사용 고려x, 설치품의 60% | E4: 대 | F4: =G4+H4+I4 -> 6021794 | G4: =일위대가!J5 -> 6021794 | H4: =일위대가!L5 -> 0 | I4: =일위대가!N5 -> 0 | Z4: 6021794 | AA4: 6021794
B5: 제2호표 | C5: 세목스크린 설치 | D5: 일반기기설치: 2.31t | E5: 대 | F5: =G5+H5+I5 -> 10036324 | G5: =일위대가!J8 -> 10036324 | H5: =일위대가!L8 -> 0 | I5: =일위대가!N8 -> 0 | Z5: 10036324 | AA5: 10036324
B6: 제3호표 | C6: 일반 기기 설치 | D6: 설치중량 1~5t 미만 | E6: Ton | F6: =G6+H6+I6 -> 4252680 | G6: =일위대가!J11 -> 4252680 | H6: =일위대가!L11 -> 0 | I6: =일위대가!N11 -> 0 | Z6: 4252680 | AA6: 4252680
B7: 제4호표 | C7: 일반 기기 설치 | E7: Ton | F7: =G7+H7+I7 -> 4252680 | G7: =일위대가!J14 -> 4252680 | H7: =일위대가!L14 -> 0 | I7: =일위대가!N14 -> 0 | Z7: 4252680 | AA7: 4252680
B8: 제5호표 | C8: 수문 물막이판 설치 | D8: 설치중량: 0.2t | E8: EA | F8: =G8+H8+I8 -> 1020643 | G8: =일위대가!J22 -> 1020643 | H8: =일위대가!L22 -> 0 | I8: =일위대가!N22 -> 0 | Z8: 1020643 | AA8: 1020643
B9: 제6호표 | C9: 일반 기기 설치 | D9: 설치중량: 0.5t미만, 20%가산 | E9: Ton | F9: =G9+H9+I9 -> 5103216 | G9: =일위대가!J25 -> 5103216 | H9: =일위대가!L25 -> 0 | I9: =일위대가!N25 -> 0 | Z9: 5103216 | AA9: 5103216

Sheet 일위대가
B1: 일위대가
B3: 호 표 | C3: 품 명 | D3: 규 격 | E3: 수 량 | F3: 단위 | G3: 합 계 | I3: 노무비 | K3: 재료비 | M3: 경 비 | O3: 비 고
G4: 단 가 | H4: 금 액 | I4: 단 가 | J4: 금 액 | K4: 단 가 | L4: 금 액 | M4: 단 가 | N4: 금 액
B5: 제1호표 | C5: 세목스크린 철거 | D5: 재사용 고려x, 설치품의 60% | F5: 대 | H5: =J5+L5+N5 -> 6021794 | J5: =TRUNC(J6) -> 6021794 | L5: =TRUNC(L6) -> 0 | N5: =TRUNC(N6) -> 0
C6: 세목스크린 설치 | D6: 일반기기설치: 2.31t | E6: 0.6 | F6: 대 | G6: =I6+K6+M6 -> 10036324 | H6: =J6+L6+N6 -> 6021794.4 | I6: =일위대가총괄표!G5 -> 10036324 | J6: =TRUNC(E6*I6,1) -> 6021794.4 | K6: =일위대가총괄표!H5 -> 0 | L6: =TRUNC(E6*K6,1) -> 0 | M6: =일위대가총괄표!I5 -> 0 | N6: =TRUNC(E6*M6,1) -> 0 | O6: 일위2참조
J7: =TRUNC(E7*I7,1) -> 0 | L7: =TRUNC(E7*K7,1) -> 0 | N7: =TRUNC(E7*M7,1) -> 0
B8: 제2호표 | C8: 세목스크린 설치 | D8: 일반기기설치: 2.31t | F8: 대 | H8: =J8+L8+N8 -> 10036324 | J8: =TRUNC(J9) -> 10036324 | L8: =TRUNC(L9) -> 0 | N8: =TRUNC(N9) -> 0
C9: 일반 기기 설치 | D9: 설치중량 1~5t 미만 | E9: 2.36 | F9: Ton | G9: =I9+K9+M9 -> 4252680 | H9: =J9+L9+N9 -> 10036325 | I9: =일위대가총괄표!G6 -> 4252680 | J9: =TRUNC(E9*I9,1) -> 10036325 | K9: =일위대가총괄표!H6 -> 0 | L9: =TRUNC(E9*K9,1) -> 0 | M9: =일위대가총괄표!I6 -> 0 | N9: =TRUNC(E9*M9,1) -> 0 | O9: 일위3참조
J10: =TRUNC(E10*I10,1) -> 0 | L10: =TRUNC(E10*K10,1) -> 0 | N10: =TRUNC(E10*M10,1) -> 0
B11: 제3호표 | C11: 일반 기기 설치 | D11: 설치중량 1~5t 미만 | F11: Ton | H11: =J11+L11+N11 -> 4252680 | J11: =TRUNC(J12) -> 4252680 | L11: =TRUNC(L12) -> 0 | N11: =TRUNC(N12) -> 0
C12: 일반 기기 설치 | E12: 1 | F12: Ton | G12: =I12+K12+M12 -> 4252680 | H12: =J12+L12+N12 -> 4252680 | I12: =일위대가총괄표!G7 -> 4252680 | J12: =TRUNC(E12*I12,1) -> 4252680 | K12: =일위대가총괄표!H7 -> 0 | L12: =TRUNC(E12*K12,1) -> 0 | M12: =일위대가총괄표!I7 -> 0 | N12: =TRUNC(E12*M12,1) -> 0 | O12: 일위4참조
J13: =TRUNC(E13*I13,1) -> 0 | L13: =TRUNC(E13*K13,1) -> 0 | N13: =TRUNC(E13*M13,1) -> 0
B14: 제4호표 | C14: 일반 기기 설치 | F14: Ton | H14: =J14+L14+N14 -> 4252680 | J14: =TRUNC(J15+J16+J17+J18+J19+J20) -> 4252680 | L14: =TRUNC(L15+L16+L17+L18+L19+L20) -> 0 | N14: =TRUNC(N15+N16+N17+N18+N19+N20) -> 0
C15: 비 계 공 | E15: 2.86 | F15: 인 | G15: =I15+K15+M15 -> 284440 | H15: =J15+L15+N15 -> 813498.4 | I15: =노임단가!F4 -> 284440 | J15: =TRUNC(E15*I15,1) -> 813498.4 | K15: =노임단가!AB4 -> 0 | L15: =TRUNC(E15*K15,1) -> 0 | M15: =노임단가!AC4 -> 0 | N15: =TRUNC(E15*M15,1) -> 0
C16: 특별인부 | E16: 3.9 | F16: 인 | G16: =I16+K16+M16 -> 228717 | H16: =J16+L16+N16 -> 891996.3 | I16: =노임단가!F5 -> 228717 | J16: =TRUNC(E16*I16,1) -> 891996.3 | K16: =노임단가!AB5 -> 0 | L16: =TRUNC(E16*K16,1) -> 0 | M16: =노임단가!AC5 -> 0 | N16: =TRUNC(E16*M16,1) -> 0
C17: 기계설비공 | E17: 7.24 | F17: 인 | G17: =I17+K17+M17 -> 242647 | H17: =J17+L17+N17 -> 1756764.2 | I17: =노임단가!F6 -> 242647 | J17: =TRUNC(E17*I17,1) -> 1756764.2 | K17: =노임단가!AB6 -> 0 | L17: =TRUNC(E17*K17,1) -> 0 | M17: =노임단가!AC6 -> 0 | N17: =TRUNC(E17*M17,1) -> 0
C18: 기계산업기사 | D18: 초급기술자 | E18: 0.5 | F18: 인 | G18: =I18+K18+M18 -> 263602 | H18: =J18+L18+N18 -> 131801 | I18: =노임단가!F7 -> 263602 | J18: =TRUNC(E18*I18,1) -> 131801 | K18: =노임단가!AB7 -> 0 | L18: =TRUNC(E18*K18,1) -> 0 | M18: =노임단가!AC7 -> 0 | N18: =TRUNC(E18*M18,1) -> 0
C19: 용 접 공 | E19: 0.95 | F19: 인 | G19: =I19+K19+M19 -> 286330 | H19: =J19+L19+N19 -> 272013.5 | I19: =노임단가!F8 -> 286330 | J19: =TRUNC(E19*I19,1) -> 272013.5 | K19: =노임단가!AB8 -> 0 | L19: =TRUNC(E19*K19,1) -> 0 | M19: =노임단가!AC8 -> 0 | N19: =TRUNC(E19*M19,1) -> 0
C20: 검사 및 교정 | D20: 기술관리를 제외한 본품의 | E20: 10 | F20: % | G20: =I20+K20+M20 -> 3866073.4 | H20: =J20+L20+N20 -> 386607.3 | I20: =J19+J18+J17+J16+J15 -> 3866073.4 | J20: =TRUNC(E20*1/100*I20,1) -> 386607.3 | L20: =TRUNC(E20*1/100*K20,1) -> 0 | N20: =TRUNC(E20*1/100*M20,1) -> 0
J21: =TRUNC(E21*I21,1) -> 0 | L21: =TRUNC(E21*K21,1) -> 0 | N21: =TRUNC(E21*M21,1) -> 0
B22: 제5호표 | C22: 수문 물막이판 설치 | D22: 설치중량: 0.2t | F22: EA | H22: =J22+L22+N22 -> 1020643 | J22: =TRUNC(J23) -> 1020643 | L22: =TRUNC(L23) -> 0 | N22: =TRUNC(N23) -> 0
C23: 일반 기기 설치 | D23: 설치중량: 0.5t미만, 20%가산 | E23: 0.2 | F23: Ton | G23: =I23+K23+M23 -> 5103216 | H23: =J23+L23+N23 -> 1020643.2 | I23: =일위대가총괄표!G9 -> 5103216 | J23: =TRUNC(E23*I23,1) -> 1020643.2 | K23: =일위대가총괄표!H9 -> 0 | L23: =TRUNC(E23*K23,1) -> 0 | M23: =일위대가총괄표!I9 -> 0 | N23: =TRUNC(E23*M23,1) -> 0 | O23: 일위6참조
J24: =TRUNC(E24*I24,1) -> 0 | L24: =TRUNC(E24*K24,1) -> 0 | N24: =TRUNC(E24*M24,1) -> 0
B25: 제6호표 | C25: 일반 기기 설치 | D25: 설치중량: 0.5t미만, 20%가산 | F25: Ton | H25: =J25+L25+N25 -> 5103216 | J25: =TRUNC(J26) -> 5103216 | L25: =TRUNC(L26) -> 0 | N25: =TRUNC(N26) -> 0
C26: 일반 기기 설치 | E26: 1.2 | F26: Ton | G26: =I26+K26+M26 -> 4252680 | H26: =J26+L26+N26 -> 5103216 | I26: =일위대가총괄표!G7 -> 4252680 | J26: =TRUNC(E26*I26,1) -> 5103216 | K26: =일위대가총괄표!H7 -> 0 | L26: =TRUNC(E26*K26,1) -> 0 | M26: =일위대가총괄표!I7 -> 0 | N26: =TRUNC(E26*M26,1) -> 0 | O26: 일위4참조
J27: =TRUNC(E27*I27,1) -> 0 | L27: =TRUNC(E27*K27,1) -> 0 | N27: =TRUNC(E27*M27,1) -> 0
J28: =TRUNC(E28*I28,1) -> 0 | L28: =TRUNC(E28*K28,1) -> 0 | N28: =TRUNC(E28*M28,1) -> 0
J29: =TRUNC(E29*I29,1) -> 0 | L29: =TRUNC(E29*K29,1) -> 0 | N29: =TRUNC(E29*M29,1) -> 0
J30: =TRUNC(E30*I30,1) -> 0 | L30: =TRUNC(E30*K30,1) -> 0 | N30: =TRUNC(E30*M30,1) -> 0
J31: =TRUNC(E31*I31,1) -> 0 | L31: =TRUNC(E31*K31,1) -> 0 | N31: =TRUNC(E31*M31,1) -> 0
J32: =TRUNC(E32*I32,1) -> 0 | L32: =TRUNC(E32*K32,1) -> 0 | N32: =TRUNC(E32*M32,1) -> 0
J33: =TRUNC(E33*I33,1) -> 0 | L33: =TRUNC(E33*K33,1) -> 0 | N33: =TRUNC(E33*M33,1) -> 0
J34: =TRUNC(E34*I34,1) -> 0 | L34: =TRUNC(E34*K34,1) -> 0 | N34: =TRUNC(E34*M34,1) -> 0
J35: =TRUNC(E35*I35,1) -> 0 | L35: =TRUNC(E35*K35,1) -> 0 | N35: =TRUNC(E35*M35,1) -> 0
J36: =TRUNC(E36*I36,1) -> 0 | L36: =TRUNC(E36*K36,1) -> 0 | N36: =TRUNC(E36*M36,1) -> 0
J37: =TRUNC(E37*I37,1) -> 0 | L37: =TRUNC(E37*K37,1) -> 0 | N37: =TRUNC(E37*M37,1) -> 0
J38: =TRUNC(E38*I38,1) -> 0 | L38: =TRUNC(E38*K38,1) -> 0 | N38: =TRUNC(E38*M38,1) -> 0
J39: =TRUNC(E39*I39,1) -> 0 | L39: =TRUNC(E39*K39,1) -> 0 | N39: =TRUNC(E39*M39,1) -> 0

Sheet 자재단가
B1: 자재단가
B3: No | C3: 품 명 | D3: 규 격 | E3: 단위 | F3: 가격정보 | H3: 물가자료 | J3: 유통물가 | L3: 물가정보 | N3: 거래가격 | P3: 견적가1 | R3: 적용단가 | S3: 비 고 | Z3: 당초합계 | AA3: 당초노무비 | AB3: 당초재료비 | AC3: 당초경비
F4: 단 가 | G4: page | H4: 단 가 | I4: page | J4: 단 가 | K4: page | L4: 단 가 | M4: page | N4: 단 가 | O4: page | P4: 단 가 | Q4: page
B5: 1 | C5: 흡입준설 | D5: 20t | E5: 일 | P5: 2750000 | Q5: 한진기술 | R5: =MIN(F5,H5,J5,L5,N5,P5) -> 2750000 | Z5: 2750000
B6: 2 | C6: 수문 물막이 판(SS 400) | D6: 16t×1.2m×1.4m, 기초볼트 및 가스켓 | E6: EA | P6: 700000 | Q6: 이엠텍 | R6: =MIN(F6,H6,J6,L6,N6,P6) -> 700000 | Z6: 700000
B7: 3 | C7: 고 철(STS) | D7: 27종(Ton당) | E7: Ton | H7: -1650000 | I7: 하47(26.10) | J7: -1850000 | K7: 1198(26.10) | L7: -1750000 | M7: 부84(26.10) | N7: -1750000 | O7: 1472(26.10) | R7: =MIN(F7,H7,J7,L7,N7,P7) -> -1850000 | Z7: -1850000
B8: 4 | C8: 고 철 | D8: 중량A(Ton당) | E8: Ton | H8: -335000 | I8: 하47(26.10) | J8: -432000 | K8: 1198(26.10) | L8: -300000 | M8: 부84(26.10) | N8: -380000 | O8: 1472(26.10) | R8: =MIN(F8,H8,J8,L8,N8,P8) -> -432000 | Z8: -432000
B9: 5 | C9: NM-104 세목스크린(현장설치도) | D9: W 1.3m×6.5mL ,20mm, 2.2kw | E9: 대 | L9: 168500000 | M9: 유니 | N9: 165000000 | O9: 성윤산업 | P9: 159100000 | Q9: HK테크 | R9: =MIN(F9,H9,J9,L9,N9,P9) -> 159100000 | Z9: 159100000

Sheet 노임단가
B1: 노임단가
B3: No | C3: 품 명 | D3: 규 격 | E3: 단위 | F3: 적용단가 | G3: 비 고 | Z3: 당초합계 | AA3: 당초노무비 | AB3: 당초재료비 | AC3: 당초경비
B4: 1 | C4: 비 계 공 | E4: 인 | F4: 284440 | G4: 2026년(하) | Z4: 284440
B5: 2 | C5: 특별인부 | E5: 인 | F5: 228717 | G5: 2026년(하) | Z5: 228717
B6: 3 | C6: 기계설비공 | E6: 인 | F6: 242647 | G6: 2026년(하) | Z6: 242647
B7: 4 | C7: 기계산업기사 | D7: 초급기술자 | E7: 인 | F7: 263602 | G7: 2026년(하) | Z7: 263602
B8: 5 | C8: 용 접 공 | E8: 인 | F8: 286330 | G8: 2026년(하) | Z8: 286330
B9: 6
B10: 7
B11: 8
B12: 9
B13: 10
B14: 11
B15: 12
B16: 13
B17: 14
B18: 15
B19: 16
B20: 17
... B33: 30
