Workbook

Sheet 표지
A10: 공폐가 석면(지정폐기물) 처리 용역 - 검산동 성당지구 새뜰마을사업 공폐가 철거 공사 -
A25: 김 제 시

Sheet 원가계산서
B1: 공 사 원 가 계 산 서
B2: 공사명 : 검산동성당지구 새뜰마을사업 공폐가 석면폐기물처리공사 | F2: ="금액 : "&NUMBERSTRING(E15,1)&"원정 (\"&TEXT(E15,"###,##0")&" 원) " -> 금액 : 이천사백삼십사만이천원정 (\24,342,000 원)
B3: 비 목 | E3: 금 액 | F3: 구 성 비 | G3: 비 고
A4: A1 | B4: 순 공 사 원 가 | C4: 재 료 비 | D4: 직 접 재 료 비 | E4: =TRUNC(공종별집계표!F5,0) -> 0
A5: A2 | D5: 간 접 재 료 비 | E5: 0
A6: A3 | D6: 작업설, 부산물(△) | E6: 0
A7: AS | D7: [ 소 계 ] | E7: =TRUNC(E4+E5-E6,0) -> 0
A8: B1 | C8: 노 무 비 | D8: 직 접 노 무 비 | E8: =TRUNC(공종별집계표!H5,0) -> 0
A9: B2 | D9: 간 접 노 무 비 | E9: =TRUNC(E8*0.175,0) -> 0
A10: BS | D10: [ 소 계 ] | E10: =TRUNC(E8+E9,0) -> 0
A11: D4 | B11: 석면폐기물처리비 | E11: =TRUNC(공종별집계표!T7+공종별집계표!T9+공종별집계표!T11+공종별집계표!T13+공종별집계표!T15+공종별집계표!T17,0) -> 22129950
A12: D9 | B12: 공 급 가 액 | E12: =TRUNC(E11,0) -> 22129950
A13: DB | B13: 부 가 가 치 세 | E13: =TRUNC(E12*0.1,0) -> 2212995 | F13: 공급가액 * 10%
A14: DH | B14: 도 급 액 | E14: =TRUNC(E12+E13,-3) -> 24342000
A15: S2 | B15: 총 용 역 비 | E15: =TRUNC(E14+0,0) -> 24342000

Sheet 공종별집계표
A1: 공 종 별 집 계 표
A2: [ 검산동성당지구 새뜰마을사업 공폐가 석면폐기물처리공사 ]
A3: 품 명 | B3: 규 격 | C3: 단위 | D3: 수량 | E3: 재 료 비 | G3: 노 무 비 | I3: 경 비 | K3: 합 계 | M3: 비 고 | N3: 공종코드 | O3: 변수 | P3: 상위공종 | Q3: 공종구분 | R3: 공종레벨 | S3: 공종소계 | T3: 원가계산서 연결금액
E4: 단 가 | F4: 금 액 | G4: 단 가 | H4: 금 액 | I4: 단 가 | J4: 금 액 | K4: 단 가 | L4: 금 액
A5: 01 검산동성당지구 새뜰마을사업 공폐가 석면폐기물처리공사 | D5: 1 | E5: =F6+F8+F10+F12+F14+F16 -> 0 | F5: =E5*D5 -> 0 | G5: =H6+H8+H10+H12+H14+H16 -> 0 | H5: =G5*D5 -> 0 | I5: =J6+J8+J10+J12+J14+J16 -> 0 | J5: =I5*D5 -> 0 | K5: =E5+G5+I5 -> 0 | L5: =F5+H5+J5 -> 0 | N5: 01 | R5: 1
A6: 0101 ■ 검산동 710-25번지 | D6: 1 | F6: =E6*D6 -> 0 | H6: =G6*D6 -> 0 | J6: =I6*D6 -> 0 | K6: =E6+G6+I6 -> 0 | L6: =F6+H6+J6 -> 0 | N6: 0101 | P6: 01 | R6: 2
A7: 010101 건설폐기물처리비 | B7: [ 검산동 710-25번지 ] | D7: 1 | E7: =공종별내역서!F27 -> 0 | F7: =E7*D7 -> 0 | G7: =공종별내역서!H27 -> 0 | H7: =G7*D7 -> 0 | I7: =공종별내역서!J27 -> 4057400 | J7: =I7*D7 -> 4057400 | K7: =E7+G7+I7 -> 4057400 | L7: =F7+H7+J7 -> 4057400 | N7: 010101 | Q7: 6 | R7: 3 | T7: =L7*1 -> 4057400
A8: 0102 ■ 검산동 703번지 | D8: 1 | F8: =E8*D8 -> 0 | H8: =G8*D8 -> 0 | J8: =I8*D8 -> 0 | K8: =E8+G8+I8 -> 0 | L8: =F8+H8+J8 -> 0 | N8: 0102 | P8: 01 | R8: 2
A9: 010201 건설폐기물처리비 | B9: [ 검산동 703번지 ] | D9: 1 | E9: =공종별내역서!F51 -> 0 | F9: =E9*D9 -> 0 | G9: =공종별내역서!H51 -> 0 | H9: =G9*D9 -> 0 | I9: =공종별내역서!J51 -> 3604250 | J9: =I9*D9 -> 3604250 | K9: =E9+G9+I9 -> 3604250 | L9: =F9+H9+J9 -> 3604250 | N9: 010201 | Q9: 6 | R9: 3 | T9: =L9*1 -> 3604250
A10: 0103 ■ 검산동 796-37번지 | D10: 1 | F10: =E10*D10 -> 0 | H10: =G10*D10 -> 0 | J10: =I10*D10 -> 0 | K10: =E10+G10+I10 -> 0 | L10: =F10+H10+J10 -> 0 | N10: 0103 | P10: 01 | R10: 2
A11: 010301 건설폐기물처리비 | B11: [ 검산동 796-37번지 ] | D11: 1 | E11: =공종별내역서!F75 -> 0 | F11: =E11*D11 -> 0 | G11: =공종별내역서!H75 -> 0 | H11: =G11*D11 -> 0 | I11: =공종별내역서!J75 -> 3446000 | J11: =I11*D11 -> 3446000 | K11: =E11+G11+I11 -> 3446000 | L11: =F11+H11+J11 -> 3446000 | N11: 010301 | Q11: 6 | R11: 3 | T11: =L11*1 -> 3446000
A12: 0104 ■ 검산동 807-1번지 | D12: 1 | F12: =E12*D12 -> 0 | H12: =G12*D12 -> 0 | J12: =I12*D12 -> 0 | K12: =E12+G12+I12 -> 0 | L12: =F12+H12+J12 -> 0 | N12: 0104 | P12: 01 | R12: 2
A13: 010401 건설폐기물처리비 | B13: [ 검산동 807-1번지 ] | D13: 1 | E13: =공종별내역서!F99 -> 0 | F13: =E13*D13 -> 0 | G13: =공종별내역서!H99 -> 0 | H13: =G13*D13 -> 0 | I13: =공종별내역서!J99 -> 4403750 | J13: =I13*D13 -> 4403750 | K13: =E13+G13+I13 -> 4403750 | L13: =F13+H13+J13 -> 4403750 | N13: 010401 | Q13: 6 | R13: 3 | T13: =L13*1 -> 4403750
A14: 0105 ■ 검산동 809-1번지 | D14: 1 | F14: =E14*D14 -> 0 | H14: =G14*D14 -> 0 | J14: =I14*D14 -> 0 | K14: =E14+G14+I14 -> 0 | L14: =F14+H14+J14 -> 0 | N14: 0105 | P14: 01 | R14: 2
A15: 010501 건설폐기물처리비 | B15: [ 검산동 809-1번지 ] | D15: 1 | E15: =공종별내역서!F123 -> 0 | F15: =E15*D15 -> 0 | G15: =공종별내역서!H123 -> 0 | H15: =G15*D15 -> 0 | I15: =공종별내역서!J123 -> 3347900 | J15: =I15*D15 -> 3347900 | K15: =E15+G15+I15 -> 3347900 | L15: =F15+H15+J15 -> 3347900 | N15: 010501 | Q15: 6 | R15: 3 | T15: =L15*1 -> 3347900
A16: 0106 ■ 검산동 821-1번지 | D16: 1 | F16: =E16*D16 -> 0 | H16: =G16*D16 -> 0 | J16: =I16*D16 -> 0 | K16: =E16+G16+I16 -> 0 | L16: =F16+H16+J16 -> 0 | N16: 0106 | P16: 01 | R16: 2
A17: 010601 건설폐기물처리비 | B17: [ 검산동 821-1번지 ] | D17: 1 | E17: =공종별내역서!F147 -> 0 | F17: =E17*D17 -> 0 | G17: =공종별내역서!H147 -> 0 | H17: =G17*D17 -> 0 | I17: =공종별내역서!J147 -> 3270650 | J17: =I17*D17 -> 3270650 | K17: =E17+G17+I17 -> 3270650 | L17: =F17+H17+J17 -> 3270650 | N17: 010601 | Q17: 6 | R17: 3 | T17: =L17*1 -> 3270650
A25: [ 합 계 ] | F25: =F5 -> 0 | H25: =H5 -> 0 | J25: =J5 -> 0 | L25: =L5 -> 0

Sheet 공종별내역서
A1: [ 검산동성당지구 새뜰마을사업 공폐가 석면폐기물처리공사 ]
A2: 품 명 | B2: 규 격 | C2: 단위 | D2: 수량 | E2: 재 료 비 | G2: 노 무 비 | I2: 경 비 | K2: 합 계 | M2: 비 고 | N2: 품목코드 | O2: 변수 | P2: 설정 | Q2: 공종코드 | R2: 일위 | S2: 단산 | T2: 자재 | U2: 손료적용 | V2: 손료저장 | W2: 적용율 | X2: JUK1 | Y2: JUK2 | Z2: JUK3 | AA2: JUK4 | AB2: JUK5 | AC2: JUK6 | AD2: JUK7 | AE2: JUK8 | AF2: JUK9 | AG2: JUK10 | AH2: JUK11 | AI2: JUK12 | AJ2: JUK13 | AK2: JUK14 | AL2: JUK15 | AM2: JUK16 | AN2: JUK17 | AO2: JUK18 | AP2: JUK19 | AQ2: JUK20 | AR2: 자재구분 | AS2: 공종구분 | AT2: 공종레벨 | AU2: 공종+자재 | AV2: 고유번호
E3: 단 가 | F3: 금 액 | G3: 단 가 | H3: 금 액 | I3: 단 가 | J3: 금 액 | K3: 단 가 | L3: 금 액
A4: 010101 건설폐기물처리비 | B4: [ 검산동 710-25번지 ] | Q4: 010101
A5: 폐석면(슬레이트)최종처리비 | C5: TON | D5: 2.169 | E5: =TRUNC(단가대비표!O5,0) -> 0 | F5: =TRUNC(E5*D5,0) -> 0 | G5: =TRUNC(단가대비표!P5,0) -> 0 | H5: =TRUNC(G5*D5,0) -> 0 | I5: =TRUNC(단가대비표!V5,0) -> 600000 | J5: =TRUNC(I5*D5,0) -> 1301400 | K5: =TRUNC(E5+G5+I5,0) -> 600000 | L5: =TRUNC(F5+H5+J5,0) -> 1301400 | N5: 50CBE19FA437D607F72CF53529A01F | Q5: 010101 | R5: F | S5: F | T5: T | AU5: 01010150CBE19FA437D607F72CF53529A01F | AV5: 7
A6: 지정폐기물처리비(고형화) | B6: 슬레이트 | C6: TON | D6: 0.208 | E6: =TRUNC(단가대비표!O6,0) -> 0 | F6: =TRUNC(E6*D6,0) -> 0 | G6: =TRUNC(단가대비표!P6,0) -> 0 | H6: =TRUNC(G6*D6,0) -> 0 | I6: =TRUNC(단가대비표!V6,0) -> 750000 | J6: =TRUNC(I6*D6,0) -> 156000 | K6: =TRUNC(E6+G6+I6,0) -> 750000 | L6: =TRUNC(F6+H6+J6,0) -> 156000 | N6: 50CBE19FA437D607F72CF53529A01D | Q6: 010101 | R6: F | S6: F | T6: T | AU6: 01010150CBE19FA437D607F72CF53529A01D | AV6: 8
A7: 폐석면 최종처리 운반비 | B7: 회당10톤기준 | C7: 회 | D7: 1 | E7: =TRUNC(단가대비표!O7,0) -> 0 | F7: =TRUNC(E7*D7,0) -> 0 | G7: =TRUNC(단가대비표!P7,0) -> 0 | H7: =TRUNC(G7*D7,0) -> 0 | I7: =TRUNC(단가대비표!V7,0) -> 1300000 | J7: =TRUNC(I7*D7,0) -> 1300000 | K7: =TRUNC(E7+G7+I7,0) -> 1300000 | L7: =TRUNC(F7+H7+J7,0) -> 1300000 | N7: 50CBE19FA437D607F72CF53529A01A | Q7: 010101 | R7: F | S7: F | T7: T | AU7: 01010150CBE19FA437D607F72CF53529A01A | AV7: 9
A8: 지정폐기물운반비(고형화) | B8: 적재량 12톤/회 | C8: 회 | D8: 1 | E8: =TRUNC(단가대비표!O8,0) -> 0 | F8: =TRUNC(E8*D8,0) -> 0 | G8: =TRUNC(단가대비표!P8,0) -> 0 | H8: =TRUNC(G8*D8,0) -> 0 | I8: =TRUNC(단가대비표!V8,0) -> 1300000 | J8: =TRUNC(I8*D8,0) -> 1300000 | K8: =TRUNC(E8+G8+I8,0) -> 1300000 | L8: =TRUNC(F8+H8+J8,0) -> 1300000 | N8: 50CBE19FA437D607F72CF53529A01B | Q8: 010101 | R8: F | S8: F | T8: T | AU8: 01010150CBE19FA437D607F72CF53529A01B | AV8: 10
Q9: 010101
Q10: 010101
Q11: 010101
Q12: 010101
Q13: 010101
Q14: 010101
Q15: 010101
Q16: 010101
Q17: 010101
Q18: 010101
Q19: 010101
Q20: 010101
... Q26: 010101
A27: [ 합 계 ] | F27: =SUMIF(Q5:Q26,"010101",F5:F26) -> 0 | H27: =SUMIF(Q5:Q26,"010101",H5:H26) -> 0 | J27: =SUMIF(Q5:Q26,"010101",J5:J26) -> 4057400 | L27: =SUMIF(Q5:Q26,"010101",L5:L26) -> 4057400 | N27: TOTAL
A28: 010201 건설폐기물처리비 | B28: [ 검산동 703번지 ] | Q28: 010201
A29: 폐석면(슬레이트)최종처리비 | C29: TON | D29: 1.495 | E29: =TRUNC(단가대비표!O5,0) -> 0 | F29: =TRUNC(E29*D29,0) -> 0 | G29: =TRUNC(단가대비표!P5,0) -> 0 | H29: =TRUNC(G29*D29,0) -> 0 | I29: =TRUNC(단가대비표!V5,0) -> 600000 | J29: =TRUNC(I29*D29,0) -> 897000 | K29: =TRUNC(E29+G29+I29,0) -> 600000 | L29: =TRUNC(F29+H29+J29,0) -> 897000 | N29: 50CBE19FA437D607F72CF53529A01F | Q29: 010201 | R29: F | S29: F | T29: T | AU29: 01020150CBE19FA437D607F72CF53529A01F | AV29: 15
A30: 지정폐기물처리비(고형화) | B30: 슬레이트 | C30: TON | D30: 0.143 | E30: =TRUNC(단가대비표!O6,0) -> 0 | F30: =TRUNC(E30*D30,0) -> 0 | G30: =TRUNC(단가대비표!P6,0) -> 0 | H30: =TRUNC(G30*D30,0) -> 0 | I30: =TRUNC(단가대비표!V6,0) -> 750000 | J30: =TRUNC(I30*D30,0) -> 107250 | K30: =TRUNC(E30+G30+I30,0) -> 750000 | L30: =TRUNC(F30+H30+J30,0) -> 107250 | N30: 50CBE19FA437D607F72CF53529A01D | Q30: 010201 | R30: F | S30: F | T30: T | AU30: 01020150CBE19FA437D607F72CF53529A01D | AV30: 16
A31: 폐석면 최종처리 운반비 | B31: 회당10톤기준 | C31: 회 | D31: 1 | E31: =TRUNC(단가대비표!O7,0) -> 0 | F31: =TRUNC(E31*D31,0) -> 0 | G31: =TRUNC(단가대비표!P7,0) -> 0 | H31: =TRUNC(G31*D31,0) -> 0 | I31: =TRUNC(단가대비표!V7,0) -> 1300000 | J31: =TRUNC(I31*D31,0) -> 1300000 | K31: =TRUNC(E31+G31+I31,0) -> 1300000 | L31: =TRUNC(F31+H31+J31,0) -> 1300000 | N31: 50CBE19FA437D607F72CF53529A01A | Q31: 010201 | R31: F | S31: F | T31: T | AU31: 01020150CBE19FA437D607F72CF53529A01A | AV31: 17
A32: 지정폐기물운반비(고형화) | B32: 적재량 12톤/회 | C32: 회 | D32: 1 | E32: =TRUNC(단가대비표!O8,0) -> 0 | F32: =TRUNC(E32*D32,0) -> 0 | G32: =TRUNC(단가대비표!P8,0) -> 0 | H32: =TRUNC(G32*D32,0) -> 0 | I32: =TRUNC(단가대비표!V8,0) -> 1300000 | J32: =TRUNC(I32*D32,0) -> 1300000 | K32: =TRUNC(E32+G32+I32,0) -> 1300000 | L32: =TRUNC(F32+H32+J32,0) -> 1300000 | N32: 50CBE19FA437D607F72CF53529A01B | Q32: 010201 | R32: F | S32: F | T32: T | AU32: 01020150CBE19FA437D607F72CF53529A01B | AV32: 18
Q33: 010201
Q34: 010201
Q35: 010201
Q36: 010201
Q37: 010201
Q38: 010201
Q39: 010201
Q40: 010201
Q41: 010201
Q42: 010201
Q43: 010201
Q44: 010201
... Q50: 010201
A51: [ 합 계 ] | F51: =SUMIF(Q29:Q50,"010201",F29:F50) -> 0 | H51: =SUMIF(Q29:Q50,"010201",H29:H50) -> 0 | J51: =SUMIF(Q29:Q50,"010201",J29:J50) -> 3604250 | L51: =SUMIF(Q29:Q50,"010201",L29:L50) -> 3604250 | N51: TOTAL
A52: 010301 건설폐기물처리비 | B52: [ 검산동 796-37번지 ] | Q52: 010301
A53: 폐석면(슬레이트)최종처리비 | C53: TON | D53: 1.26 | E53: =TRUNC(단가대비표!O5,0) -> 0 | F53: =TRUNC(E53*D53,0) -> 0 | G53: =TRUNC(단가대비표!P5,0) -> 0 | H53: =TRUNC(G53*D53,0) -> 0 | I53: =TRUNC(단가대비표!V5,0) -> 600000 | J53: =TRUNC(I53*D53,0) -> 756000 | K53: =TRUNC(E53+G53+I53,0) -> 600000 | L53: =TRUNC(F53+H53+J53,0) -> 756000 | N53: 50CBE19FA437D607F72CF53529A01F | Q53: 010301 | R53: F | S53: F | T53: T | AU53: 01030150CBE19FA437D607F72CF53529A01F | AV53: 23
A54: 지정폐기물처리비(고형화) | B54: 슬레이트 | C54: TON | D54: 0.12 | E54: =TRUNC(단가대비표!O6,0) -> 0 | F54: =TRUNC(E54*D54,0) -> 0 | G54: =TRUNC(단가대비표!P6,0) -> 0 | H54: =TRUNC(G54*D54,0) -> 0 | I54: =TRUNC(단가대비표!V6,0) -> 750000 | J54: =TRUNC(I54*D54,0) -> 90000 | K54: =TRUNC(E54+G54+I54,0) -> 750000 | L54: =TRUNC(F54+H54+J54,0) -> 90000 | N54: 50CBE19FA437D607F72CF53529A01D | Q54: 010301 | R54: F | S54: F | T54: T | AU54: 01030150CBE19FA437D607F72CF53529A01D | AV54: 24
A55: 폐석면 최종처리 운반비 | B55: 회당10톤기준 | C55: 회 | D55: 1 | E55: =TRUNC(단가대비표!O7,0) -> 0 | F55: =TRUNC(E55*D55,0) -> 0 | G55: =TRUNC(단가대비표!P7,0) -> 0 | H55: =TRUNC(G55*D55,0) -> 0 | I55: =TRUNC(단가대비표!V7,0) -> 1300000 | J55: =TRUNC(I55*D55,0) -> 1300000 | K55: =TRUNC(E55+G55+I55,0) -> 1300000 | L55: =TRUNC(F55+H55+J55,0) -> 1300000 | N55: 50CBE19FA437D607F72CF53529A01A | Q55: 010301 | R55: F | S55: F | T55: T | AU55: 01030150CBE19FA437D607F72CF53529A01A | AV55: 25
A56: 지정폐기물운반비(고형화) | B56: 적재량 12톤/회 | C56: 회 | D56: 1 | E56: =TRUNC(단가대비표!O8,0) -> 0 | F56: =TRUNC(E56*D56,0) -> 0 | G56: =TRUNC(단가대비표!P8,0) -> 0 | H56: =TRUNC(G56*D56,0) -> 0 | I56: =TRUNC(단가대비표!V8,0) -> 1300000 | J56: =TRUNC(I56*D56,0) -> 1300000 | K56: =TRUNC(E56+G56+I56,0) -> 1300000 | L56: =TRUNC(F56+H56+J56,0) -> 1300000 | N56: 50CBE19FA437D607F72CF53529A01B | Q56: 010301 | R56: F | S56: F | T56: T | AU56: 01030150CBE19FA437D607F72CF53529A01B | AV56: 26
Q57: 010301
Q58: 010301
Q59: 010301
Q60: 010301
Q61: 010301
Q62: 010301
Q63: 010301
Q64: 010301
Q65: 010301
Q66: 010301
Q67: 010301
Q68: 010301
... Q74: 010301
A75: [ 합 계 ] | F75: =SUMIF(Q53:Q74,"010301",F53:F74) -> 0 | H75: =SUMIF(Q53:Q74,"010301",H53:H74) -> 0 | J75: =SUMIF(Q53:Q74,"010301",J53:J74) -> 3446000 | L75: =SUMIF(Q53:Q74,"010301",L53:L74) -> 3446000 | N75: TOTAL
A76: 010401 건설폐기물처리비 | B76: [ 검산동 807-1번지 ] | Q76: 010401
A77: 폐석면(슬레이트)최종처리비 | C77: TON | D77: 2.685 | E77: =TRUNC(단가대비표!O5,0) -> 0 | F77: =TRUNC(E77*D77,0) -> 0 | G77: =TRUNC(단가대비표!P5,0) -> 0 | H77: =TRUNC(G77*D77,0) -> 0 | I77: =TRUNC(단가대비표!V5,0) -> 600000 | J77: =TRUNC(I77*D77,0) -> 1611000 | K77: =TRUNC(E77+G77+I77,0) -> 600000 | L77: =TRUNC(F77+H77+J77,0) -> 1611000 | N77: 50CBE19FA437D607F72CF53529A01F | Q77: 010401 | R77: F | S77: F | T77: T | AU77: 01040150CBE19FA437D607F72CF53529A01F | AV77: 31
A78: 지정폐기물처리비(고형화) | B78: 슬레이트 | C78: TON | D78: 0.257 | E78: =TRUNC(단가대비표!O6,0) -> 0 | F78: =TRUNC(E78*D78,0) -> 0 | G78: =TRUNC(단가대비표!P6,0) -> 0 | H78: =TRUNC(G78*D78,0) -> 0 | I78: =TRUNC(단가대비표!V6,0) -> 750000 | J78: =TRUNC(I78*D78,0) -> 192750 | K78: =TRUNC(E78+G78+I78,0) -> 750000 | L78: =TRUNC(F78+H78+J78,0) -> 192750 | N78: 50CBE19FA437D607F72CF53529A01D | Q78: 010401 | R78: F | S78: F | T78: T | AU78: 01040150CBE19FA437D607F72CF53529A01D | AV78: 32
A79: 폐석면 최종처리 운반비 | B79: 회당10톤기준 | C79: 회 | D79: 1 | E79: =TRUNC(단가대비표!O7,0) -> 0 | F79: =TRUNC(E79*D79,0) -> 0 | G79: =TRUNC(단가대비표!P7,0) -> 0 | H79: =TRUNC(G79*D79,0) -> 0 | I79: =TRUNC(단가대비표!V7,0) -> 1300000 | J79: =TRUNC(I79*D79,0) -> 1300000 | K79: =TRUNC(E79+G79+I79,0) -> 1300000 | L79: =TRUNC(F79+H79+J79,0) -> 1300000 | N79: 50CBE19FA437D607F72CF53529A01A | Q79: 010401 | R79: F | S79: F | T79: T | AU79: 01040150CBE19FA437D607F72CF53529A01A | AV79: 33
A80: 지정폐기물운반비(고형화) | B80: 적재량 12톤/회 | C80: 회 | D80: 1 | E80: =TRUNC(단가대비표!O8,0) -> 0 | F80: =TRUNC(E80*D80,0) -> 0 | G80: =TRUNC(단가대비표!P8,0) -> 0 | H80: =TRUNC(G80*D80,0) -> 0 | I80: =TRUNC(단가대비표!V8,0) -> 1300000 | J80: =TRUNC(I80*D80,0) -> 1300000 | K80: =TRUNC(E80+G80+I80,0) -> 1300000 | L80: =TRUNC(F80+H80+J80,0) -> 1300000 | N80: 50CBE19FA437D607F72CF53529A01B | Q80: 010401 | R80: F | S80: F | T80: T | AU80: 01040150CBE19FA437D607F72CF53529A01B | AV80: 34
Q81: 010401
Q82: 010401
Q83: 010401
Q84: 010401
Q85: 010401
Q86: 010401
Q87: 010401
Q88: 010401
Q89: 010401
Q90: 010401
Q91: 010401
Q92: 010401
... Q98: 010401
A99: [ 합 계 ] | F99: =SUMIF(Q77:Q98,"010401",F77:F98) -> 0 | H99: =SUMIF(Q77:Q98,"010401",H77:H98) -> 0 | J99: =SUMIF(Q77:Q98,"010401",J77:J98) -> 4403750 | L99: =SUMIF(Q77:Q98,"010401",L77:L98) -> 4403750 | N99: TOTAL
A100: 010501 건설폐기물처리비 | B100: [ 검산동 809-1번지 ] | Q100: 010501
A101: 폐석면(슬레이트)최종처리비 | C101: TON | D101: 1.114 | E101: =TRUNC(단가대비표!O5,0) -> 0 | F101: =TRUNC(E101*D101,0) -> 0 | G101: =TRUNC(단가대비표!P5,0) -> 0 | H101: =TRUNC(G101*D101,0) -> 0 | I101: =TRUNC(단가대비표!V5,0) -> 600000 | J101: =TRUNC(I101*D101,0) -> 668400 | K101: =TRUNC(E101+G101+I101,0) -> 600000 | L101: =TRUNC(F101+H101+J101,0) -> 668400 | N101: 50CBE19FA437D607F72CF53529A01F | Q101: 010501 | R101: F | S101: F | T101: T | AU101: 01050150CBE19FA437D607F72CF53529A01F | AV101: 41
A102: 지정폐기물처리비(고형화) | B102: 슬레이트 | C102: TON | D102: 0.106 | E102: =TRUNC(단가대비표!O6,0) -> 0 | F102: =TRUNC(E102*D102,0) -> 0 | G102: =TRUNC(단가대비표!P6,0) -> 0 | H102: =TRUNC(G102*D102,0) -> 0 | I102: =TRUNC(단가대비표!V6,0) -> 750000 | J102: =TRUNC(I102*D102,0) -> 79500 | K102: =TRUNC(E102+G102+I102,0) -> 750000 | L102: =TRUNC(F102+H102+J102,0) -> 79500 | N102: 50CBE19FA437D607F72CF53529A01D | Q102: 010501 | R102: F | S102: F | T102: T | AU102: 01050150CBE19FA437D607F72CF53529A01D | AV102: 42
A103: 폐석면 최종처리 운반비 | B103: 회당10톤기준 | C103: 회 | D103: 1 | E103: =TRUNC(단가대비표!O7,0) -> 0 | F103: =TRUNC(E103*D103,0) -> 0 | G103: =TRUNC(단가대비표!P7,0) -> 0 | H103: =TRUNC(G103*D103,0) -> 0 | I103: =TRUNC(단가대비표!V7,0) -> 1300000 | J103: =TRUNC(I103*D103,0) -> 1300000 | K103: =TRUNC(E103+G103+I103,0) -> 1300000 | L103: =TRUNC(F103+H103+J103,0) -> 1300000 | N103: 50CBE19FA437D607F72CF53529A01A | Q103: 010501 | R103: F | S103: F | T103: T | AU103: 01050150CBE19FA437D607F72CF53529A01A | AV103: 43
A104: 지정폐기물운반비(고형화) | B104: 적재량 12톤/회 | C104: 회 | D104: 1 | E104: =TRUNC(단가대비표!O8,0) -> 0 | F104: =TRUNC(E104*D104,0) -> 0 | G104: =TRUNC(단가대비표!P8,0) -> 0 | H104: =TRUNC(G104*D104,0) -> 0 | I104: =TRUNC(단가대비표!V8,0) -> 1300000 | J104: =TRUNC(I104*D104,0) -> 1300000 | K104: =TRUNC(E104+G104+I104,0) -> 1300000 | L104: =TRUNC(F104+H104+J104,0) -> 1300000 | N104: 50CBE19FA437D607F72CF53529A01B | Q104: 010501 | R104: F | S104: F | T104: T | AU104: 01050150CBE19FA437D607F72CF53529A01B | AV104: 44
Q105: 010501
Q106: 010501
Q107: 010501
Q108: 010501
Q109: 010501
Q110: 010501
Q111: 010501
Q112: 010501
Q113: 010501
Q114: 010501
Q115: 010501
Q116: 010501
... Q122: 010501
A123: [ 합 계 ] | F123: =SUMIF(Q101:Q122,"010501",F101:F122) -> 0 | H123: =SUMIF(Q101:Q122,"010501",H101:H122) -> 0 | J123: =SUMIF(Q101:Q122,"010501",J101:J122) -> 3347900 | L123: =SUMIF(Q101:Q122,"010501",L101:L122) -> 3347900 | N123: TOTAL
A124: 010601 건설폐기물처리비 | B124: [ 검산동 821-1번지 ] | Q124: 010601
A125: 폐석면(슬레이트)최종처리비 | C125: TON | D125: 0.999 | E125: =TRUNC(단가대비표!O5,0) -> 0 | F125: =TRUNC(E125*D125,0) -> 0 | G125: =TRUNC(단가대비표!P5,0) -> 0 | H125: =TRUNC(G125*D125,0) -> 0 | I125: =TRUNC(단가대비표!V5,0) -> 600000 | J125: =TRUNC(I125*D125,0) -> 599400 | K125: =TRUNC(E125+G125+I125,0) -> 600000 | L125: =TRUNC(F125+H125+J125,0) -> 599400 | N125: 50CBE19FA437D607F72CF53529A01F | Q125: 010601 | R125: F | S125: F | T125: T | AU125: 01060150CBE19FA437D607F72CF53529A01F | AV125: 51
...

Sheet 단가대비표
A1: 단 가 대 비 표
A2: [ 검산동성당지구 새뜰마을사업 공폐가 석면폐기물처리공사 ]
A3: 코 드 | B3: 품 명 | C3: 규격 | D3: 단위 | E3: 재 료 비 | P3: 노 무 비 | Q3: 경 비 | W3: 번 호 | X3: 비 고 | Y3: 품목구분 | Z3: 노임구분 | AA3: 소수점처리 | AB3: 자재구분
E4: 조달청가격 | F4: PAGE | G4: 거래가격 | H4: PAGE | I4: 유통물가 | J4: PAGE | K4: 물가자료 | L4: PAGE | M4: 조사가격2 | N4: PAGE | O4: 적용단가 | Q4: 조달청가격 | R4: 거래가격 | S4: 유통물가 | T4: 물가자료 | U4: 조사가격2 | V4: 적용단가
A5: 50CBE19FA437D607F72CF53529A01F | B5: 폐석면(슬레이트)최종처리비 | D5: TON | E5: 0 | G5: 0 | I5: 0 | K5: 0 | M5: 0 | O5: 0 | P5: 0 | Q5: 0 | R5: 0 | S5: 0 | T5: 0 | U5: 600000 | V5: =SMALL(Q5:U5,COUNTIF(Q5:U5,0)+1) -> 600000 | W5: 자재 1 | Y5: C
A6: 50CBE19FA437D607F72CF53529A01D | B6: 지정폐기물처리비(고형화) | C6: 슬레이트 | D6: TON | E6: 0 | G6: 0 | I6: 0 | K6: 0 | M6: 0 | O6: 0 | P6: 0 | Q6: 0 | R6: 0 | S6: 0 | T6: 0 | U6: 750000 | V6: =SMALL(Q6:U6,COUNTIF(Q6:U6,0)+1) -> 750000 | W6: 자재 2 | Y6: C
A7: 50CBE19FA437D607F72CF53529A01A | B7: 폐석면 최종처리 운반비 | C7: 회당10톤기준 | D7: 회 | E7: 0 | G7: 0 | I7: 0 | K7: 0 | M7: 0 | O7: 0 | P7: 0 | Q7: 0 | R7: 0 | S7: 0 | T7: 0 | U7: 1300000 | V7: =SMALL(Q7:U7,COUNTIF(Q7:U7,0)+1) -> 1300000 | W7: 자재 3 | Y7: C
A8: 50CBE19FA437D607F72CF53529A01B | B8: 지정폐기물운반비(고형화) | C8: 적재량 12톤/회 | D8: 회 | E8: 0 | G8: 0 | I8: 0 | K8: 0 | M8: 0 | O8: 0 | P8: 0 | Q8: 0 | R8: 0 | S8: 0 | T8: 0 | U8: 1300000 | V8: =SMALL(Q8:U8,COUNTIF(Q8:U8,0)+1) -> 1300000 | W8: 자재 4 | Y8: C

Sheet  공사설정 
A1: 이 Sheet는 수정하지 마십시요
A2: 공사구분 | B2: A | C2: 타이틀
A3: 확정내역 | B3: 원내역
A4: 자재단가적용 | B4: 5
A5: 경비단가적용 | B5: 5
A6: 품목코드형식 | B6: XXXX-XXXX-XXXXXXXXX
A7: 내역금액소수점처리 | B7: C | C7: T
A8: 일위대가내역소수점처리 | B8: C | C8: 2
A9: 단가명 | B9: 조달청가격 | C9: 거래가격 | D9: 유통물가 | E9: 물가자료 | F9: 조사가격2 | G9: TTTTT
A10: 환율 | B10: 1472 | C10: 0 | D10: 0
A11: 시간당작업량 | B11: R | C11: 4
A12: 1회 사이클시간 | B12: R | C12: 4
A13: 시간당 작업사이클 | B13: R | C13: 3
A14: 일반변수 | B14: R | C14: 5
A15: 시간당 노임산출 계수 | B15: A | C15: 1/8*16/12*25/20 | D15: 1/8*16/12*25/20 | E15: 1/8*16/12*25/20 | F15: 1
A16: 재료비 할증 계수 | B16: 1.11 | C16: 1.12
A17: 노무비 할증 계수 | B17: 1 | C17: 1.5 | D17: 1.16 | E17: 1.6 | F17: 1.6 | G17: 1.6 | H17: 1.94 | I17: 1.94 | J17: 1.94 | K17: 1 | L17: 1 | M17: 1
A18: 경비 할증 계수 | B18: 1.25 | C18: 1.071
A19: 내역,일위대가 품명,규격,단위 따로적용
A20: 내역단가 소수점처리 | B20: C | C20: 1
A21: 코드 | B21: 공종구분명 | C21: 원가비목코드
A22: 1 | B22: 작 업 부 산 물 | C22: A3
A23: 2 | B23: 운 반 비 | C23: C1
A24: 3 | B24: 관 급 자 재 비 | C24: DJ
A25: 4 | B25: 사 급 자 재 비 | C25: D3
A26: 5 | B26: 외 자 재
A27: 6 | B27: 석면폐기물처리비 | C27: D4
A28: 7 | B28: ...
A29: 8 | B29: ...
A30: 9 | B30: ...
A31: A | B31: ....
A32: B | B32: .....
A33: C | B33: ....
A34: D | B34: ....
A35: E | B35: ....
A36: F | B36: ....
A37: G | B37: ....
A38: H | B38: ....
A39: I | B39: ....
A40: J | B40: ....
A43: 단가 순서 | B43: 1234

Sheet Sheet1
