Workbook

Sheet 내역서
A1: 공 종 명 | B1: 규 격 | C1: 수량 | D1: 단위 | E1: 합 계 | G1: 노 무 비 | I1: 재 료 비 | K1: 경 비 | M1: 비 고
E2: 단 가 | F2: 금 액 | G2: 단 가 | H2: 금 액 | I2: 단 가 | J2: 금 액 | K2: 단 가 | L2: 금 액 | S2: 할 증 | T2: 화폐변환 | U2: OP값 | V2: EQ | W2: LA | X2: MA | Y2: 금액계상
A3: 2026 도시계획도로 개설 및 개선사업(충열로 일원 보도정비) | C3: 0 | O3: A
A4: 01.【 토 공 】 | C4: 1 | D4: 식 | P4: 10 | R4: A01
A5: 02.【 배 수 공 】 | C5: 1 | D5: 식 | P5: 20 | R5: A02
A6: 03.【 포 장 공 】 | C6: 1 | D6: 식 | P6: 30 | R6: A03
A7: 04.【 부 대 공 】 | C7: 1 | D7: 식 | P7: 40 | R7: A04
A8: 05.【 사 급 자 재 대 】 | C8: 1 | D8: 식 | P8: 50 | R8: A05 | AA8: MA+ = | AB8: 4105429 | AC8: MA = | AD8: 4105429
A9: ◈ 소 계 | P9: 60 | Q9: * | R9: F | X9: .MA=MA(10,0,50)_x000D_ .LA=LA(10,0,50)_x000D_ .EQ=EQ(10,0,50)_x000D_ | AA9: LA+ = | AB9: 2203666.3 | AC9: LA = | AD9: 2203666.3
A10: 06. 간 접 노 무 비 | B10: 19.10 % | C10: 1 | D10: 식 | P10: 70 | R10: F | X10: .LA=LA(60) * 19.10/100_x000D_ | AA10: EQ+ = | AB10: 489186.22 | AC10: EQ = | AD10: 489186.22
A11: 07. 산 재 보 험 료 | B11: 3.56 % | C11: 1 | D11: 식 | P11: 80 | R11: F | X11: .EQ=LA(60,70) * 3.56/100_x000D_ | AA11: EQ+ = | AB11: 138785.98 | AC11: EQ = | AD11: 138785.98
A12: 08. 고 용 보 험 료 | B12: 1.01 % | C12: 1 | D12: 식 | P12: 90 | R12: F | X12: .EQ=LA(60,70) * 1.01/100_x000D_ | AA12: EQ+ = | AB12: 414773.84 | AC12: EQ = | AD12: 414773.84
A13: 09. 건 강 보 험 료 | B13: 3.595 % | C13: 1 | D13: 식 | P13: 100 | R13: F | X13: .EQ=LA(60) * 3.595/100_x000D_ | AA13: EQ+ = | AB13: 548032.2 | AC13: EQ = | AD13: 548032.2
A14: 10. 연 금 보 험 료 | B14: 4.75 % | C14: 1 | D14: 식 | P14: 110 | R14: F | X14: .EQ=LA(60) * 4.75/100_x000D_ | AA14: EQ+ = | AB14: 54501.172 | AC14: EQ = | AD14: 54501.172
A15: 11. 노인장기요양보험료 | B15: 13.14 % | C15: 1 | D15: 식 | P15: 120 | R15: F | X15: .EQ=TOT(100) * 13.14/100_x000D_ | AA15: EQ+ = | AB15: 125609.72 | AC15: EQ = | AD15: 125609.72
A16: 12. 건설기계대여지급보증서발급 | B16: 0.68 % | C16: 1 | D16: 식 | P16: 130 | R16: F | X16: .EQ=TOT(60) * 0.68/100_x000D_ | AA16: A+ = | AB16: 492752.89 | AC16: A = | AD16: 492752.89
A17: 13. 산업안전보건관리비 | B17: 3.15 % | C17: 1 | D17: 식 | P17: 140 | R17: F | X17: .A= ((LA(60)+MA(60)+tot(260)/1.1) * 3.15/100)_x000D_ .B= ((LA(60)+MA(60)) * 3.15/100)*1.2_x000D_ .EQ= MIN(A,B)_x000D_ | AA17: EQ+ = | AB17: 166248.16 | AC17: EQ = | AD17: 166248.16
A18: 14. 환 경 보 전 비 | B18: 0.90 % | C18: 1 | D18: 식 | P18: 150 | R18: F | X18: .EQ=TOT(60) * 0.90/100_x000D_ | AA18: EQ+ = | AB18: 981563.82 | AC18: EQ = | AD18: 981563.82
A19: 15. 기 타 경 비 | B19: 5.50 % | C19: 1 | D19: 식 | P19: 160 | R19: F | X19: .EQ=(MA(60)+LA(60,70)) * 5.50/100_x000D_ _x000D_ | AA19: EQ+ = | AB19: 824.47116 | AC19: EQ = | AD19: 824.47116
A20: 16. 석 면 분 담 금 | B20: 0.006 % | C20: 1 | D20: 식 | P20: 170 | R20: F | X20: .EQ=LA(60,70) * 0.006/100_x000D_ | AA20: EQ+ = | AB20: 12367.067 | AC20: EQ = | AD20: 12367.067
A21: 17. 임금채권부담금 | B21: 0.09 % | C21: 1 | D21: 식 | P21: 180 | R21: F | X21: .EQ=LA(60,70) * 0.09/100_x000D_
A22: 18. 안 전 관 리 비 | C22: 1 | D22: 식 | P22: 190 | R22: A06 | AA22: MA+ = | AB22: 4335679 | AC22: MA = | AD22: 4335679
A23: ◈ 순 공 사 비 | P23: 200 | Q23: * | R23: F | X23: .MA=MA(60,0,190)_x000D_ .LA=LA(60,0,190)_x000D_ .EQ=EQ(60,0,190)_x000D_ | AA23: EQ+ = | AB23: 2141306.3 | AC23: EQ = | AD23: 2141306.3
A24: 19. 일 반 관 리 비 | B24: 8.00 % | C24: 1 | D24: 식 | P24: 210 | R24: F | X24: .EQ=TOT(200) * 8.00/100_x000D_ | AA24: EQ+ = | AB24: 3719638.2 | AC24: EQ = | AD24: 3719638.2
A25: 20. 이 윤 | B25: 15.00 % | C25: 1 | D25: 식 | P25: 220 | R25: F | X25: .EQ=(TOT(200,210)-MA(60)) * 15/100 - 762/1.1_x000D_ | AA25: MA+ = | AB25: 4335679 | AC25: MA = | AD25: 4335679
A26: ◈ 공 급 가 액 | P26: 230 | Q26: * | R26: F | X26: .MA=MA(200,0,220)_x000D_ .LA=LA(200,0,220)_x000D_ .EQ=EQ(200,0,220)_x000D_ | AA26: EQ+ = | AB26: 3262727.3 | AC26: EQ = | AD26: 3262727.3
A27: 21. 부 가 가 치 세 | B27: 10.00 % | C27: 1 | D27: 식 | P27: 240 | R27: F | X27: .EQ=TOT(230) * 10.0/100_x000D_ | AA27: MA+ = | AB27: 4335679 | AC27: MA = | AD27: 4335679
A28: ◈ 도 급 예 정 액 | P28: 250 | Q28: * | R28: F | X28: .MA=MA(230,0,240)_x000D_ .LA=LA(230,0,240)_x000D_ .EQ=EQ(230,0,240)_x000D_ | AA28: LA+ = | AB28: 14351410 | AC28: LA = | AD28: 14351410
A29: 23. 관 급 자 재 대 | B29: 도급자관급 | C29: 1 | D29: 식 | P29: 260 | R29: A07 | AA29: EQ+ = | AB29: 17202911 | AC29: EQ = | AD29: 17202911
A30: 24. 폐기물 처리비 | C30: 1 | D30: 식 | P30: 270 | R30: B | AA30: MA+ = | AB30: 28764424 | AC30: MA = | AD30: 28764424
A31: ◈ 총 공 사 비 | P31: 280 | Q31: * | R31: F | X31: .MA=MA(250,0,270)_x000D_ .LA=LA(250,0,270)_x000D_ .EQ=EQ(250,0,270)_x000D_ | AA31: LA+ = | AB31: 15077338 | AC31: LA = | AD31: 15077338
P53: 290 | Q53: S | AA53: EQ+ = | AB53: 24746238 | AC53: EQ = | AD53: 24746238
A55: 01.【 토 공 】 | C55: 1 | D55: 식 | O55: A01
A56: .가) 기존 포장 철거 | P56: 10
A57: .. 구조물헐기(무근) | B57: 대형30cm미만 | C57: 45 | D57: m³ | P57: 20 | R57: SA00450 | T57: F
A58: .. 아스콘포장깨기 | B58: 굴착기 0.7m³ | C58: 14 | D58: m³ | P58: 30 | R58: SA01200 | T58: F
A59: .. 아스콘포장절단 | C59: 366 | D59: m | P59: 40 | R59: SA01500 | T59: F
A60: .. 보도용 블럭 장비사용 철거 | B60: B-TYPE | C60: 352 | D60: m² | P60: 50 | R60: SE03640 | T60: F
A61: .. 우수받이 철거 | B61: 410×510×600 | C61: 8 | D61: 개소 | P61: 60 | R61: SX2110 | T61: F
A62: .. 폐기물상차 | B62: 굴착기 0.7m³ | C62: 102 | D62: m³ | P62: 70 | R62: SA02100 | T62: F
...

Sheet 일위대가_호표
A1: 일위대가_호표
A2: 공 종 명 | B2: 규 격 | C2: 수량 | D2: 단위 | E2: 합 계 | G2: 재 료 비 | I2: 노 무 비 | K2: 경 비 | M2: 비 고
E3: 단 가 | F3: 금 액 | G3: 단 가 | H3: 금 액 | I3: 단 가 | J3: 금 액 | K3: 단 가 | L3: 금 액 | S3: 할 증 | T3: 화폐변환 | U3: OP값 | V3: EQ | W3: LA | X3: MA | Y3: 금액계상

Sheet 중기사용료목록
A1: 중기사용료목록
A2: 공 종 명 | B2: 규 격 | C2: 수 량 | D2: 단 위 | E2: 재 료 비 | F2: 노 무 비 | G2: 경 비 | H2: 합 계 | I2: 비 고
A3: 굴삭기(무한궤도) | B3: 0.2 M3 | C3: 1 | D3: HR | E3: =중기사용료!G10 -> 9619 | F3: =중기사용료!G12 -> 59025 | G3: =중기사용료!G7 -> 13873 | H3: =E3+F3+G3 -> 82517 | K3: E00000201002000000 | O3: =HYPERLINK("#중기사용료!A3","E00000201002000000 →") -> E00000201002000000 →
A4: 굴삭기(무한궤도) | B4: 0.6 M3 | C4: 1 | D4: HR | E4: =중기사용료!G22 -> 19785 | F4: =중기사용료!G24 -> 59025 | G4: =중기사용료!G19 -> 23423 | H4: =E4+F4+G4 -> 102233 | K4: E00000201006000000 | O4: =HYPERLINK("#중기사용료!A15","E00000201006000000 →") -> E00000201006000000 →
A5: 굴삭기(무한궤도) | B5: 0.7 M3 | C5: 1 | D5: HR | E5: =중기사용료!G34 -> 22501 | F5: =중기사용료!G36 -> 59025 | G5: =중기사용료!G31 -> 24554 | H5: =E5+F5+G5 -> 106080 | K5: E00000201007000000 | O5: =HYPERLINK("#중기사용료!A27","E00000201007000000 →") -> E00000201007000000 →
A6: 굴삭기(무한궤도) | B6: 1.0 M3 | C6: 1 | D6: HR | E6: =중기사용료!G46 -> 37826 | F6: =중기사용료!G48 -> 59025 | G6: =중기사용료!G43 -> 29621 | H6: =E6+F6+G6 -> 126472 | K6: E00000201010000000 | O6: =HYPERLINK("#중기사용료!A39","E00000201010000000 →") -> E00000201010000000 →
A7: 굴삭기(무한궤도)+브레이카 | B7: 0.7M3(리핑암) | C7: 1 | D7: HR | E7: =중기사용료!G59 -> 21395 | F7: =중기사용료!G61 -> 59025 | G7: =중기사용료!G56 -> 37850 | H7: =E7+F7+G7 -> 118270 | K7: E00000201107010000 | O7: =HYPERLINK("#중기사용료!A51","E00000201107010000 →") -> E00000201107010000 →
A8: 굴삭기(타이어) | B8: 0.6 M3 | C8: 1 | D8: HR | E8: =중기사용료!G71 -> 22870 | F8: =중기사용료!G73 -> 59025 | G8: =중기사용료!G68 -> 27120 | H8: =E8+F8+G8 -> 109015 | K8: E00000211006000000 | O8: =HYPERLINK("#중기사용료!A64","E00000211006000000 →") -> E00000211006000000 →
A9: 대형 브레이카 | B9: 0.7 M3용 | C9: 1 | D9: HR | E9: 0 | F9: 0 | G9: =중기사용료!G80 -> 11412 | H9: =E9+F9+G9 -> 11412 | K9: E00000230000700000 | O9: =HYPERLINK("#중기사용료!A76","E00000230000700000 →") -> E00000230000700000 →
A10: 로더(타이어) | B10: 1.72 M3 | C10: 1 | D10: HR | E10: =중기사용료!G94 -> 22438 | F10: =중기사용료!G96 -> 59025 | G10: =중기사용료!G91 -> 24467 | H10: =E10+F10+G10 -> 105930 | K10: E00000302017200000 | O10: =HYPERLINK("#중기사용료!A87","E00000302017200000 →") -> E00000302017200000 →
A11: 덤프트럭 | B11: 2.5 톤 | C11: 1 | D11: HR | E11: =중기사용료!G106 -> 6363 | F11: =중기사용료!G108 -> 50008 | G11: =중기사용료!G103 -> 6522 | H11: =E11+F11+G11 -> 62893 | K11: E00000602002500000 | O11: =HYPERLINK("#중기사용료!A99","E00000602002500000 →") -> E00000602002500000 →
A12: 덤프트럭 | B12: 4.5 톤 | C12: 1 | D12: HR | E12: =중기사용료!G118 -> 10971 | F12: =중기사용료!G120 -> 50008 | G12: =중기사용료!G115 -> 7613 | H12: =E12+F12+G12 -> 68592 | K12: E00000602004500000 | O12: =HYPERLINK("#중기사용료!A111","E00000602004500000 →") -> E00000602004500000 →
A13: 덤프트럭 | B13: 24 TON | C13: 1 | D13: HR | E13: =중기사용료!G130 -> 50466 | F13: =중기사용료!G132 -> 59025 | G13: =중기사용료!G127 -> 32950 | H13: =E13+F13+G13 -> 142441 | K13: E00000602024000000 | O13: =HYPERLINK("#중기사용료!A123","E00000602024000000 →") -> E00000602024000000 →
A14: 덤프트럭 자동덮개시설 | B14: 24톤용 | C14: 1 | D14: HR | E14: 0 | F14: 0 | G14: =중기사용료!G139 -> 508 | H14: =E14+F14+G14 -> 508 | K14: E00000610024000000 | O14: =HYPERLINK("#중기사용료!A135","E00000610024000000 →") -> E00000610024000000 →
A15: 매캐덤 롤러(자주식) | B15: 8-10 TON | C15: 1 | D15: HR | E15: =중기사용료!G153 -> 14259 | F15: =중기사용료!G155 -> 59025 | G15: =중기사용료!G150 -> 10298 | H15: =E15+F15+G15 -> 83582 | K15: E00001106001000000 | O15: =HYPERLINK("#중기사용료!A146","E00001106001000000 →") -> E00001106001000000 →
A16: 탠덤롤러(자주식) | B16: 5 - 8 TON | C16: 1 | D16: HR | E16: =중기사용료!G165 -> 9381 | F16: =중기사용료!G167 -> 59025 | G16: =중기사용료!G162 -> 9037 | H16: =E16+F16+G16 -> 77443 | K16: E00001206000800000 | O16: =HYPERLINK("#중기사용료!A158","E00001206000800000 →") -> E00001206000800000 →
A17: 진동 롤러 (핸드가이드식) | B17: 0.7 톤 | C17: 1 | D17: HR | E17: =중기사용료!G177 -> 3952 | F17: =중기사용료!G179 -> 36248 | G17: =중기사용료!G174 -> 1967 | H17: =E17+F17+G17 -> 42167 | K17: E00001305000700000 | O17: =HYPERLINK("#중기사용료!A170","E00001305000700000 →") -> E00001305000700000 →
A18: 타이어롤러(자주식) | B18: 5 - 8 TON | C18: 1 | D18: HR | E18: =중기사용료!G189 -> 9582 | F18: =중기사용료!G191 -> 59025 | G18: =중기사용료!G186 -> 12230 | H18: =E18+F18+G18 -> 80837 | K18: E00001406000800000 | O18: =HYPERLINK("#중기사용료!A182","E00001406000800000 →") -> E00001406000800000 →
A19: 트럭 트랙터 및 평판트레일러 | B19: 20 TON | C19: 1 | D19: HR | E19: =중기사용료!G201 -> 36466 | F19: =중기사용료!G203 -> 59025 | G19: =중기사용료!G198 -> 17314 | H19: =E19+F19+G19 -> 112805 | K19: E00002702002000000 | O19: =HYPERLINK("#중기사용료!A194","E00002702002000000 →") -> E00002702002000000 →
A20: 아스팔트 피니셔 | B20: 1.7 M | C20: 1 | D20: HR | E20: =중기사용료!G213 -> 11909 | F20: =중기사용료!G215 -> 59025 | G20: =중기사용료!G210 -> 52633 | H20: =E20+F20+G20 -> 123567 | K20: E00003201000100000 | O20: =HYPERLINK("#중기사용료!A206","E00003201000100000 →") -> E00003201000100000 →
A21: 아스팔트 디스트리뷰우터 | B21: 3800 L | C21: 1 | D21: HR | E21: =중기사용료!G225 -> 21663 | F21: =중기사용료!G227 -> 59025 | G21: =중기사용료!G222 -> 16470 | H21: =E21+F21+G21 -> 97158 | K21: E00003302003800000 | O21: =HYPERLINK("#중기사용료!A218","E00003302003800000 →") -> E00003302003800000 →
A22: 커터(콘크리트및아스팔트용) | B22: 320-400 MM | C22: 1 | D22: HR | E22: =중기사용료!G237 -> 10832 | F22: =중기사용료!G239 -> 36248 | G22: =중기사용료!G234 -> 2064 | H22: =E22+F22+G22 -> 49144 | K22: E00004430040000000 | O22: =HYPERLINK("#중기사용료!A230","E00004430040000000 →") -> E00004430040000000 →
A23: 물탱크(살수차) | B23: 5500 L | C23: 1 | D23: HR | E23: =중기사용료!G249 -> 19223 | F23: =중기사용료!G251 -> 50008 | G23: =중기사용료!G246 -> 9986 | H23: =E23+F23+G23 -> 79217 | K23: E00007204005500000 | O23: =HYPERLINK("#중기사용료!A242","E00007204005500000 →") -> E00007204005500000 →
A24: 동력분무기 | B24: 4.85Kw | C24: 1 | D24: HR | E24: =중기사용료!G261 -> 2514 | F24: 0 | G24: =중기사용료!G258 -> 258 | H24: =E24+F24+G24 -> 2772 | K24: E00007210048500000 | O24: =HYPERLINK("#중기사용료!A254","E00007210048500000 →") -> E00007210048500000 →

Sheet 중기사용료
A1: 중기사용료
A3: 중 기 명 | B3: 굴삭기(무한궤도) 0.2 M3 | J3: E00000201002000000
A4: 중기가격 | B4: 66,538 천원
A5: 명 칭 | C5: 규 격 | D5: 수 량 | E5: 단 위 | F5: 단 가 | G5: 금 액 | H5: 비 고
A6: 경 비 | B6: 굴삭기(무한궤도) | C6: 0.2 M3 | D6: =(900 + 700 + 485)*10^-4 -> 0.2085 | E6: 천원 | F6: =중기기초자료!F3 -> 66538 | G6: =TRUNC(F6*D6, 1) -> 13873.1 | K6: 10 | M6: G0000020100200000 | N6: .sang=900, jung=700, kwan=485 | AG6: =HYPERLINK("#중기기초자료!A3","G0000020100200000 →") -> G0000020100200000 →
B7: 소 계 | G7: =TRUNC(G6, 0) -> 13873
A8: 재 료 비 | B8: 경 유 | D8: 5 | E8: L | F8: =중기기초자료!D28 -> 1590 | G8: =TRUNC(F8*D8, 1) -> 7950 | K8: 40 | M8: M9366005 | AG8: =HYPERLINK("#중기기초자료!A28","M9366005 →") -> M9366005 →
B9: 잡 품 | D9: 21 | E9: % | F9: 0 | G9: =TRUNC((G8) * D9/100, 1) -> 1669.5 | K9: 50 | M9: F/M1
B10: 소 계 | G10: =TRUNC(G8+G9, 0) -> 9619
A11: 노 무 비 | B11: 건설기계운전사 | C11: 구)건설기계운전기사 | D11: 1 | E11: 인 | F11: =TRUNC(중기기초자료!E24 * 중기전역변수!C18, 1) -> 59025.6 | G11: =TRUNC(F11*D11, 1) -> 59025.6 | K11: 15 | M11: L001010101000048 | AG11: =HYPERLINK("#중기기초자료!A24","L001010101000048 →") -> L001010101000048 →
B12: 소 계 | G12: =TRUNC(G11, 0) -> 59025
B13: 총 계 | G13: =TRUNC(G7+G10+G12, 0) -> 82517
A15: 중 기 명 | B15: 굴삭기(무한궤도) 0.6 M3 | J15: E00000201006000000
A16: 중기가격 | B16: 112,342 천원
A17: 명 칭 | C17: 규 격 | D17: 수 량 | E17: 단 위 | F17: 단 가 | G17: 금 액 | H17: 비 고
A18: 경 비 | B18: 굴삭기(무한궤도) | C18: 0.6 M3 | D18: =(900 + 700 + 485)*10^-4 -> 0.2085 | E18: 천원 | F18: =중기기초자료!F4 -> 112342 | G18: =TRUNC(F18*D18, 1) -> 23423.3 | K18: 10 | M18: G0000020100600000 | N18: .sang=900, jung=700, kwan=485 | AG18: =HYPERLINK("#중기기초자료!A4","G0000020100600000 →") -> G0000020100600000 →
B19: 소 계 | G19: =TRUNC(G18, 0) -> 23423
A20: 재 료 비 | B20: 경 유 | D20: 10.2 | E20: L | F20: =중기기초자료!D28 -> 1590 | G20: =TRUNC(F20*D20, 1) -> 16218 | K20: 40 | M20: M9366005 | AG20: =HYPERLINK("#중기기초자료!A28","M9366005 →") -> M9366005 →
B21: 잡 품 | D21: 22 | E21: % | F21: 0 | G21: =TRUNC((G20) * D21/100, 1) -> 3567.9 | K21: 50 | M21: F/M1
B22: 소 계 | G22: =TRUNC(G20+G21, 0) -> 19785
A23: 노 무 비 | B23: 건설기계운전사 | C23: 구)건설기계운전기사 | D23: 1 | E23: 인 | F23: =TRUNC(중기기초자료!E24 * 중기전역변수!C18, 1) -> 59025.6 | G23: =TRUNC(F23*D23, 1) -> 59025.6 | K23: 15 | M23: L001010101000048 | AG23: =HYPERLINK("#중기기초자료!A24","L001010101000048 →") -> L001010101000048 →
B24: 소 계 | G24: =TRUNC(G23, 0) -> 59025
B25: 총 계 | G25: =TRUNC(G19+G22+G24, 0) -> 102233
A27: 중 기 명 | B27: 굴삭기(무한궤도) 0.7 M3 | J27: E00000201007000000
A28: 중기가격 | B28: 117,766 천원
A29: 명 칭 | C29: 규 격 | D29: 수 량 | E29: 단 위 | F29: 단 가 | G29: 금 액 | H29: 비 고
A30: 경 비 | B30: 굴삭기(무한궤도) | C30: 0.7 M3 | D30: =(900 + 700 + 485)*10^-4 -> 0.2085 | E30: 천원 | F30: =중기기초자료!F5 -> 117766 | G30: =TRUNC(F30*D30, 1) -> 24554.2 | K30: 10 | M30: G0000020100700000 | N30: .sang=900, jung=700, kwan=485 | AG30: =HYPERLINK("#중기기초자료!A5","G0000020100700000 →") -> G0000020100700000 →
B31: 소 계 | G31: =TRUNC(G30, 0) -> 24554
A32: 재 료 비 | B32: 경 유 | D32: 11.6 | E32: L | F32: =중기기초자료!D28 -> 1590 | G32: =TRUNC(F32*D32, 1) -> 18444 | K32: 40 | M32: M9366005 | AG32: =HYPERLINK("#중기기초자료!A28","M9366005 →") -> M9366005 →
B33: 잡 품 | D33: 22 | E33: % | F33: 0 | G33: =TRUNC((G32) * D33/100, 1) -> 4057.6 | K33: 50 | M33: F/M1
B34: 소 계 | G34: =TRUNC(G32+G33, 0) -> 22501
A35: 노 무 비 | B35: 건설기계운전사 | C35: 구)건설기계운전기사 | D35: 1 | E35: 인 | F35: =TRUNC(중기기초자료!E24 * 중기전역변수!C18, 1) -> 59025.6 | G35: =TRUNC(F35*D35, 1) -> 59025.6 | K35: 15 | M35: L001010101000048 | AG35: =HYPERLINK("#중기기초자료!A24","L001010101000048 →") -> L001010101000048 →
B36: 소 계 | G36: =TRUNC(G35, 0) -> 59025
B37: 총 계 | G37: =TRUNC(G31+G34+G36, 0) -> 106080
A39: 중 기 명 | B39: 굴삭기(무한궤도) 1.0 M3 | J39: E00000201010000000
A40: 중기가격 | B40: 142,069 천원
A41: 명 칭 | C41: 규 격 | D41: 수 량 | E41: 단 위 | F41: 단 가 | G41: 금 액 | H41: 비 고
A42: 경 비 | B42: 굴삭기(무한궤도) | C42: 1.0 M3 | D42: =(900 + 700 + 485)*10^-4 -> 0.2085 | E42: 천원 | F42: =중기기초자료!F6 -> 142069 | G42: =TRUNC(F42*D42, 1) -> 29621.3 | K42: 10 | M42: G0000020101000000 | N42: .sang=900, jung=700, kwan=485 | AG42: =HYPERLINK("#중기기초자료!A6","G0000020101000000 →") -> G0000020101000000 →
B43: 소 계 | G43: =TRUNC(G42, 0) -> 29621
A44: 재 료 비 | B44: 경 유 | D44: 19.5 | E44: L | F44: =중기기초자료!D28 -> 1590 | G44: =TRUNC(F44*D44, 1) -> 31005 | K44: 40 | M44: M9366005 | AG44: =HYPERLINK("#중기기초자료!A28","M9366005 →") -> M9366005 →
...

Sheet 중기기초자료
A1: 중기기초자료
A2: 명 칭 | B2: 규 격 | C2: 단 위 | D2: 재 료 비 | E2: 노 무 비 | F2: 경 비 | G2: 합 계 | H2: 비 고
A3: 굴삭기(무한궤도) | B3: 0.2 M3 | C3: 천원 | D3: 0 | E3: 0 | F3: 66538 | G3: 66538 | J3: G0000020100200000
A4: 굴삭기(무한궤도) | B4: 0.6 M3 | C4: 천원 | D4: 0 | E4: 0 | F4: 112342 | G4: 112342 | J4: G0000020100600000
A5: 굴삭기(무한궤도) | B5: 0.7 M3 | C5: 천원 | D5: 0 | E5: 0 | F5: 117766 | G5: 117766 | J5: G0000020100700000
A6: 굴삭기(무한궤도) | B6: 1.0 M3 | C6: 천원 | D6: 0 | E6: 0 | F6: 142069 | G6: 142069 | J6: G0000020101000000
A7: 굴삭기(타이어) | B7: 0.6 ㎥ | C7: 천원 | D7: 0 | E7: 0 | F7: 119000 | G7: 119000 | J7: G0000021100600000
A8: 대형 브레이카 | B8: 0.7 ㎥용 | C8: 천원 | D8: 0 | E8: 0 | F8: 17289 | G8: 17289 | J8: G0000023000070000
A9: 로더(타이어) | B9: 1.72 ㎥ | C9: 천원 | D9: 0 | E9: 0 | F9: 117351 | G9: 117351 | J9: G0000030201720000
A10: 덤프트럭 | B10: 2.5 ton | C10: 천원 | D10: 0 | E10: 0 | F10: 21982 | G10: 21982 | J10: G0000060200250000
A11: 덤프트럭 | B11: 4.5 ton | C11: 천원 | D11: 0 | E11: 0 | F11: 25662 | G11: 25662 | J11: G0000060200450000
A12: 덤프트럭 | B12: 24 ton | C12: 천원 | D12: 0 | E12: 0 | F12: 147825 | G12: 147825 | J12: G0000060202400000
A13: 덤프트럭 자동덮개시설 | B13: 24 ton | C13: 천원 | D13: 0 | E13: 0 | F13: 1896 | G13: 1896 | J13: G0000061002400000
A14: 매캐덤 롤러(자주식) | B14: 8-10 ton | C14: 천원 | D14: 0 | E14: 0 | F14: 57150 | G14: 57150 | J14: G0000110600100000
... A23: 동력분무기 | B23: 4.85kw | C23: 천원 | D23: 0 | E23: 0 | F23: 922 | G23: 922 | J23: G0000721004850000
A24: 건설기계운전사 | B24: 일반공사 직종 | C24: 인 | D24: 0 | E24: 283323 | F24: 0 | G24: 283323 | I24: 56900017002 | J24: L001010101000048
A25: 화물차운전사 | B25: 일반공사 직종 | C25: 인 | D25: 0 | E25: 240042 | F25: 0 | G25: 240042 | I25: 56900017059 | J25: L001010101000049
A26: 일반기계운전사 | B26: 일반공사 직종 | C26: 인 | D26: 0 | E26: 173995 | F26: 0 | G26: 173995 | I26: 56900017058 | J26: L001010101000050
A27: 휘 발 유 | C27: L | D27: 1612 | E27: 0 | F27: 0 | G27: 1612 | H27: 2026.09.01 | J27: M9360003
A28: 경 유 | C28: L | D28: 1590 | E28: 0 | F28: 0 | G28: 1590 | H28: 2026.09.01 | J28: M9366005

Sheet 자재
A1: 자재
A2: 명 칭 | B2: 규 격 | C2: 단 위 | D2: 단 가 | E2: 비 고
A3: STEEL PANEL | B3: 600×1200mm (부속품별도) | C3: EA | D3: =자재조서!E4 -> 28500 | E3: 물자/1-107/물자/1-107 | F3: 54400157021 | G3: M1062024 | H3: M1062024
A4: 도로표지용유리알 | B4: KSL2521 1호 | C4: KG | D4: =자재조서!E5 -> 5000 | E4: 물자/1-166/물자/1-166 | F4: 56100717001 | G4: M1488003 | H4: M1488003
A5: 도로표지용유리알 | B5: 우천형(고굴절) | C5: KG | D5: =자재조서!E6 -> 32000 | E5: 물자/1-166/물자/1-166 | G5: M14880031
A6: 치즐 | B6: 굴삭기(0.7㎥용) | C6: 개 | D6: 230000 | E6: /견적가 | G6: M8448007
A7: 다이아몬드톱날 | B7: Ø14" × 3.2t (콘크리트,아스팔트용) | C7: 매 | D7: =자재조서!E8 -> 160000 | E7: 물자/1-1414/물자/1-1414 | G7: M8922017 | H7: M8922017
A8: 공사안내표지판 | B8: 900*1800cm | C8: 조 | D8: =자재조서!E9 -> 315000 | E8: 물정/1-265/물정/1-265 | G8: MU210000
A9: 윙카호스 | B9: 10cm | C9: M | D9: =자재조서!E10 -> 1500 | E9: 물자/1-165/물자/1-165 | G9: MU220000
A10: 라바콘 | B10: 400*400*750cm | C10: EA | D10: =자재조서!E11 -> 22000 | E10: 물자/1-167/물자/1-167 | G10: MU240000
A11: 도로용페인트(수용성,황색) | B11: KSM6080(2종),18ℓ | C11: L | D11: =자재조서!E12 -> 9650 | E11: 물정/1-231/물정/1-231 | G11: MU610000
A12: 우수받이 | B12: 410x510x600 | C12: EA | D12: =자재조서!E13 -> 157000 | E12: 물자/1-186/ | G12: MX11100
A13: 보 조 기 층 | B13: Ø40mm | C13: m³ | D13: 20000 | E13: 견적서/ | G13: MX21200
A14: 아 스 팔 트 | B14: RSC-4, RSC-3 | C14: D/M | D14: =자재조서!E15 -> 280000 | E14: 물자/1-114/ | G14: MX21300
A15: 레 미 콘 | B15: 25-21-80 | C15: m³ | D15: 106590 | E15: 23734426/ | G15: MX30000
A16: 아 스 콘 | B16: 표층, WC-2 | C16: TON | D16: 147620 | E16: 23734462/ | G16: MX31000
A17: 자연석경계석 | B17: 직선, 200×250×1000 | C17: EA | D17: 34860 | E17: 20998080/ | G17: MX41000
A18: 자연석경계석 | B18: 직선, 200×250~100×1000 | C18: EA | D18: 34150 | E18: 20998099/ | G18: MX42000
A19: 자연석경계석 | B19: 곡선, 200×250~100×1000 | C19: EA | D19: 50760 | E19: 20998100/ | G19: MX43000
A20: 자연석경계석 | B20: 직선, 200×100×1000 | C20: EA | D20: 15830 | E20: 20998097/ | G20: MX44000
A21: 자연석경계석 | B21: 곡선, 200×100×1000 | C21: EA | D21: 23290 | E21: 20998098/ | G21: MX45000
A22: 자연석경계석 | B22: 직선, 100×100×1000 | C22: EA | D22: 9150 | E22: 20998091/ | G22: MX46000

Sheet 노임
A1: 노임
A2: 명 칭 | B2: 규 격 | C2: 단 위 | D2: 단 가 | E2: 비 고
A3: 보통인부 | B3: 일반공사 직종 | C3: 인 | D3: 172698 | G3: L001010101000002
A4: 특별인부 | B4: 일반공사 직종 | C4: 인 | D4: 228717 | G4: L001010101000003
A5: 형틀목공 | B5: 일반공사 직종 | C5: 인 | D5: 275379 | G5: L001010101000007
A6: 콘크리트공 | B6: 일반공사 직종 | C6: 인 | D6: 276285 | G6: L001010101000013
A7: 포설공 | B7: 일반공사 직종 | C7: 인 | D7: 221306 | G7: L001010101000018
A8: 포장공 | B8: 일반공사 직종 | C8: 인 | D8: 274873 | G8: L001010101000019
A9: 배관공(수도) | B9: 일반공사 직종 | C9: 인 | D9: 260673 | G9: L001010101000040

Sheet 경비
A1: 경비
A2: 명 칭 | B2: 규 격 | C2: 단 위 | D2: 재 료 비 | E2: 노 무 비 | F2: 경 비 | G2: 합 계 | H2: 비 고
A3: 아스팔트 운반거리 | B3: 덤프 10.5ton | C3: KM | D3: 0 | E3: 0 | F3: 1 | G3: =D3+E3+F3 -> 1 | J3: GNT10
A4: 폐기물처리비 | B4: 폐콘크리트 | C4: ton | D4: 0 | E4: 0 | F4: 31142 | G4: =D4+E4+F4 -> 31142 | J4: GP00100
A5: 폐기물처리비 | B5: 아스콘 | C5: ton | D5: 0 | E5: 0 | F5: 32166 | G5: =D5+E5+F5 -> 32166 | J5: GP00200
A6: 폐기물처리비 | B6: 건설폐재류 | C6: ton | D6: 0 | E6: 0 | F6: 49571 | G6: =D6+E6+F6 -> 49571 | J6: GP00300
A7: 일반하역요금 | B7: ton당,입고료 | C7: 원 | D7: 0 | E7: 0 | F7: 2261.69 | G7: =D7+E7+F7 -> 2261.69 | J7: GTR100000
A8: 구역화물(10.5ton) | B8: 10km이내 | C8: 원 | D8: 0 | E8: 0 | F8: 87720 | G8: =D8+E8+F8 -> 87720 | J8: GTR105010

Sheet 자재조서
A1: 자재조서
A2: 코 드 | B2: 명 칭 | C2: 규 격 | D2: 단위 | E2: 적용단가 | F2: 물가자료 | H2: 물가정보 | J2: 가격정보 | U2: 201401
F3: 단가 | G3: Page | H3: 단가 | I3: Page | J3: 단가 | K3: Page | U3: 1
A4: M1062024 | B4: STEEL PANEL | C4: 600×1200mm (부속품별도) | D4: EA | E4: 28500 | F4: 28500 | G4: 1-107 | H4: 33000 | I4: 1-87 | J4: 33330 | K4: 84 | U4: 1 | V4: 54400157021 | W4: M1062024 | X4: 물자/1-107
A5: M1488003 | B5: 도로표지용유리알 | C5: KSL2521 1호 | D5: KG | E5: 5000 | F5: 5000 | G5: 1-166 | H5: 5000 | I5: 1-238 | J5: 5000 | K5: 228 | V5: 56100717001 | W5: M1488003 | X5: 물자/1-166
A6: M14880031 | B6: 도로표지용유리알 | C6: 우천형(고굴절) | D6: KG | E6: 32000 | F6: 32000 | G6: 1-166 | H6: 33000 | I6: 1-238 | X6: 물자/1-166
A7: M8448007 | B7: 치즐 | C7: 굴삭기(0.7㎥용) | D7: 개 | E7: 230000 | X7: 견적가
A8: M8922017 | B8: 다이아몬드톱날 | C8: Ø14" × 3.2t (콘크리트,아스팔트용) | D8: 매 | E8: 160000 | F8: 160000 | G8: 1-1414 | H8: 169800 | I8: 1-1080 | J8: 169800 | K8: 1166 | W8: M8922017 | X8: 물자/1-1414
A9: MU210000 | B9: 공사안내표지판 | C9: 900*1800cm | D9: 조 | E9: 315000 | H9: 315000 | I9: 1-265 | X9: 물정/1-265
A10: MU220000 | B10: 윙카호스 | C10: 10cm | D10: M | E10: 1500 | F10: 1500 | G10: 1-165 | X10: 물자/1-165
A11: MU240000 | B11: 라바콘 | C11: 400*400*750cm | D11: EA | E11: 22000 | F11: 22000 | G11: 1-167 | H11: 22000 | I11: 1-234 | U11: 1 | X11: 물자/1-167
A12: MU610000 | B12: 도로용페인트(수용성,황색) | C12: KSM6080(2종),18ℓ | D12: L | E12: 9650 | F12: 10033 | G12: 1-597 | H12: 9650 | I12: 1-231 | U12: 3 | X12: 물정/1-231
A13: MX11100 | B13: 우수받이 | C13: 410x510x600 | D13: EA | E13: 157000 | F13: 157000 | G13: 1-186 | U13: 0
A14: MX21200 | B14: 보 조 기 층 | C14: Ø40mm | D14: m³ | E14: 20000 | U14: 0
A15: MX21300 | B15: 아 스 팔 트 | C15: RSC-4, RSC-3 | D15: D/M | E15: 280000 | F15: 280000 | G15: 114 | H15: 280000 | I15: 172 | U15: 0
A16: MX30000 | B16: 레 미 콘 | C16: 25-21-80 | D16: m³ | E16: 106590 | U16: 0
A17: MX31000 | B17: 아 스 콘 | C17: 표층, WC-2 | D17: TON | E17: 147620
A18: MX41000 | B18: 자연석경계석 | C18: 직선, 200×250×1000 | D18: EA | E18: 34860
A19: MX42000 | B19: 자연석경계석 | C19: 직선, 200×250~100×1000 | D19: EA | E19: 34150
A20: MX43000 | B20: 자연석경계석 | C20: 곡선, 200×250~100×1000 | D20: EA | E20: 50760
A21: MX44000 | B21: 자연석경계석 | C21: 직선, 200×100×1000 | D21: EA | E21: 15830 | U21: 물가자료
A22: MX45000 | B22: 자연석경계석 | C22: 곡선, 200×100×1000 | D22: EA | E22: 23290 | U22: 물가정보
A23: MX46000 | B23: 자연석경계석 | C23: 직선, 100×100×1000 | D23: EA | E23: 9150 | U23: 가격정보
U31: 1
U32: 3
U33: 2
U34: 0
U35: 0
U36: 0

Sheet 전역변수
A1: 전역변수
A2: 변 수 명 | B2: 형 식 | C2: 값 | D2: 비 고 | E2: 적용단위
A3: A | B3: 숫자 | C3: 1208
A4: DM2WON | B4: 숫자 | C4: 636.19 | E4: DM
A5: JJ_LA | B5: 숫자 | C5: 0.371 | D5: 50억이상, 13개월이상
A6: JJ_MA | B6: 숫자 | C6: 0.497 | D6: 50억이상, 13개월이상
A7: S | B7: 숫자 | C7: 1108
A8: TUP11 | B8: 숫자 | C8: 4.36 | D8: P-1 소요작업조
A9: TUP21 | B9: 숫자 | C9: 3.935 | D9: P-2 소요작업조
A10: TUP31 | B10: 숫자 | C10: 2.434 | D10: P-3 소요작업조
A11: TUP41 | B11: 숫자 | C11: 1.534 | D11: P-4A 소요작업조
A12: TUP42 | B12: 숫자 | C12: 1.203 | D12: P-4B 소요작업조
A13: TUP51 | B13: 숫자 | C13: 1.359 | D13: P-5A 소요작업조
A14: TUP52 | B14: 숫자 | C14: 0.713 | D14: P-5B 소요작업조
A15: TUP61 | B15: 숫자 | C15: 1.25 | D15: P-6A 소요작업조
A16: TUP62 | B16: 숫자 | C16: 0.675 | D16: P-6B 소요작업조
A17: TUS | B17: 숫자 | C17: 1.25 | D17: 갱내작업할증
A18: US2WON | B18: 숫자 | C18: 1035.6 | E18: $,＄
A19: YEN2WON | B19: 숫자 | C19: 11.03 | E19: YEN,￥

Sheet 중기전역변수
A1: 중기전역변수
A2: 변 수 명 | B2: 형 식 | C2: 값 | D2: 비 고
A3: QCODE | B3: 문자 | C3: 100000000001
A4: QUS2WON | B4: 숫자 | C4: 1433 | D4: 환율(장비가격10만불이하)
A5: QUS2WON1 | B5: 숫자 | C5: 1433 | D5: 환율(장비가격10만불이상)
A6: QYEN2WON | B6: 숫자 | C6: 8.7 | D6: 환율(엔화)
A7: QDM2WON | B7: 숫자 | C7: 0 | D7: 환율(마르크화)
A8: QSDR2WON | B8: 숫자 | C8: 0 | D8: 환율(IMF특별인출권)
A9: QECU2WON | B9: 숫자 | C9: 0 | D9: 환율(유로화)
A10: QEQTY1 | B10: 문자 | C10: (SANG + JUNG + KWAN)*10^-4 | D10: 중기주간경비산출계수
A11: QEQTY2 | B11: 문자 | C11: (SANG + JUNG + KWAN)*10^-4 | D11: 중기야간경비산출계수
A12: QEQTY3 | B12: 문자 | C12: (SANG + JUNG + int(KWAN/3))*10^-4 | D12: 중기주야간경비산출계수
A13: QEINC2 | B13: 숫자 | C13: 1.25 | D13: 중기야간할증계수
A14: QEINC3 | B14: 숫자 | C14: 1.071 | D14: 중기주야간할증계수
A15: QDECPEQ | B15: 문자 | C15: 0 | D15: 경비단가소숫점
A16: QDECCEQ | B16: 문자 | C16: 1 | D16: 경비금액소숫점
A17: QDECEQ | B17: 문자 | C17: 0 | D17: 경비계금액소숫점
A18: QH1 | B18: 문자 | C18: =25/20 * 16/12 * 1/8 -> 0.20833333 | D18: 시간당노임산출계수(일반구간)
A19: QH2 | B19: 문자 | C19: =25/20 * 16/12 * 1/8 -> 0.20833333 | D19: 시간당노임산출계수(터널구간)
A20: QH21 | B20: 문자 | C20: =25/20 * 16/12 * 1/8 -> 0.20833333 | D20: 시간당노임산출계수(장대터널)
A21: QH31 | B21: 문자 | C21: =25/20 * 16/12 * 1/8 -> 0.20833333 | D21: 시간당노임산출계수(해상장비:펌프준설선)
A22: QH32 | B22: 문자 | C22: =25/20 * 16/12 * 1/8 -> 0.20833333 | D22: 시간당노임산출계수(해상장비:GRAB준설선)
A23: QH33 | B23: 문자 | C23: =25/20 * 16/12 * 1/8 -> 0.20833333 | D23: 시간당노임산출계수(해상장비:버켓준설선)
A24: QLINC1 | B24: 숫자 | C24: 1 | D24: 노임할증계수(일반구간:주간)
A25: QLINC2 | B25: 숫자 | C25: 1.5 | D25: 노임할증계수(일반구간:야간)
A26: QLINC3 | B26: 숫자 | C26: 1.16 | D26: 노임할증계수(일반구간:주야간)
A27: QLINCA | B27: 숫자 | C27: 1.6 | D27: 노임할증계수(터널구간:주간)
A28: QLINCB | B28: 숫자 | C28: 1.6 | D28: 노임할증계수(터널구간:야간)
A29: QLINCC | B29: 숫자 | C29: 1.6 | D29: 노임할증계수(터널구간:주야간)
A30: QLINCD | B30: 숫자 | C30: 1.94 | D30: 노임할증계수(장대터널:주간)
A31: QLINCE | B31: 숫자 | C31: 1.94 | D31: 노임할증계수(장대터널:야간)
A32: QLINCF | B32: 숫자 | C32: 1.94 | D32: 노임할증계수(장대터널:주야간)
A33: QLINCX | B33: 숫자 | C33: 1 | D33: 노임할증계수(해상장비:주간)
A34: QLINCY | B34: 숫자 | C34: 1 | D34: 노임할증계수(해상장비:야간)
A35: QLINCZ | B35: 숫자 | C35: 1 | D35: 노임할증계수(해상장비:주야간)
A36: QDECPLA | B36: 문자 | C36: 1 | D36: 노임단가소숫점
A37: QDECCLA | B37: 문자 | C37: 1 | D37: 노임금액소숫점
A38: QDECLA | B38: 문자 | C38: 0 | D38: 노임계금액소숫점
A39: QMINC2 | B39: 숫자 | C39: 1.11 | D39: 재료비할증계수(야간)
A40: QMINC3 | B40: 숫자 | C40: 1.12 | D40: 재료비할증계수(주야간)
...
