Workbook

Sheet 설계용역비
A2: 설계용역비 산출서
A4: 1. 용 역 명 : | D4: 금양초 외 1교 담장개선 및 기타공사 설계용역 | L4: 구분 | M4: 범위 | N4: 도로분야 요율
A6: 2. 설계용역 대상공사비 산출 | N6: ②실시설계(100% 적용) | O6: ②실시설계(90% 적용)
G7: (금액단위 : 원) | L7: 10억원 이하 | M7: 1000000000 | N7: 6.16 | O7: =TRUNC(N7*0.9,2) -> 5.54
C8: 구 분 | D8: 예상소요액 | E8: 대상공사 | H8: 비고 | L8: 20억원 이하 | M8: 2000000000 | N8: 5.47 | O8: =TRUNC(N8*0.9,2) -> 4.92
C9: 장원중 | D9: 119211000 | E9: 담장개선
C10: 장원중 | D10: 72118000 | E10: 배수로개선 | L10: 200억원 이하 | M10: 20000000000 | N10: 3.68 | O10: =TRUNC(N10*0.9,2) -> 3.31
C11: 금양초 | D11: 54324000 | E11: 담장개선 | L11: 300억원 이하 | M11: 30000000000 | N11: 3.43 | O11: =TRUNC(N11*0.9,2) -> 3.08
C13: 소계 | D13: =SUM(D9:D12) -> 245653000 | L13: 500억원 이하 | M13: 50000000000 | N13: 3.15 | O13: =TRUNC(N13*0.9,2) -> 2.83
L14: 1000억원 이하 | M14: 100000000000 | N14: 2.79 | O14: =TRUNC(N14*0.9,2) -> 2.51
C15: 구 분 | D15: 예상소요액 | E15: 공사명 | H15: 비고 | L15: 2000억원 이하 | M15: 200000000000 | N15: 2.48 | O15: =TRUNC(N15*0.9,2) -> 2.23
C16: 추정설계비 | D16: =TRUNC(D13*F16,0) -> 13609176 | E16: 총 예산소요액의 | F16: 0.0554 | L16: 3000억원 이하 | M16: 300000000000 | N16: 2.31 | O16: =TRUNC(N16*0.9,2) -> 2.07
C17: 추정공사비 | D17: =TRUNC(D13*F17,0) -> 232043823 | E17: 총 예산소요액의 | F17: =1-F16 -> 0.9446 | L17: 5000억원 이하 | M17: 500000000000 | N17: 2.12 | O17: =TRUNC(N17*0.9,2) -> 1.9
C18: 추정감리비 | D18: 0 | E18: 총 예산소요액의 | F18: 0
C19: 용역대상 공사비 | D19: =TRUNC(D17/1.1,-3) -> 210948000 | E19: 추정공사비에서 부가세(10%) 제외
A21: 3. 설계용역비 산출 및 관련조문
B22: 가. 관련조문
C23: 엔지니어링사업대가의 기준[산업통상자원부고시 제2024-217호(2024. 12. 31.)]
C24: : 건설부분 도로분야 요율표의 90%적용
B25: 나. 용역대상 공사비: | D25: =D19 -> 210948000 | E25: 원
B26: 다. 용역 대상 요율산출
C27: 구분 | D27: 기준요율(90%적용) | F27: 적용요율 (직선보간법) | G27: 비 고
D28: 10억원 이하
D29: =VLOOKUP(D28,$L$7:$M$23,2,0) -> 1000000000 | E29: =VLOOKUP(E28,$L$7:$M$23,2,0) -> #N/A
C30: 기본설계 | D30: - | E30: - | F30: - | G30: 환경개선사업으로 미적용
C31: 실시설계 | D31: =TRUNC(VLOOKUP(D28,$L$7:$N$23,3,0)*90%,2) -> 5.54 | E31: - | F31: =D31 -> 5.54 | G31: 직선보간
B33: 라. 용역비 산출
C34: 구 분 | D34: 산출식 | G34: 산출금액 | H34: 비고
C35: 1) 설계비 | D35: =$D$25 -> 210948000 | E35: * | F35: =F31/100 -> 0.0554 | G35: =INT(D35*F35) -> 11686519 | H35: 요율합계
C36: 2) 측량비 | D36: =측량비내역서!I8 -> 370500 | G36: =D36 -> 370500
C37: 3) 지질조사비 | E37: * | H37: 필요시
C38: 소 계 | D38: =SUM(D35:D35) -> 210948000 | G38: =SUM(G35:G36) -> 12057019
C39: 3) 부가가치세 | D39: =G38 -> 12057019 | E39: * | F39: 0.1 | G39: =D39*F39 -> 1205701.9
C40: 4) 손해배상공제증권 | D40: =G35 -> 11686519 | E40: * | F40: 0.00492 | G40: =TRUNC(D40*F40) -> 57497
C41: 5) 합 계 | G41: =TRUNC(SUM(G38:G40),-3) -> 13320000 | H41: 천원미만절사
A43: 4. 금회 설계용역비 : | D43: =G41 -> 13320000
C44: 구 분 | D44: 예상소요액 | E44: 설계용역비 | F44: 비고
C45: =D4 -> 금양초 외 1교 담장개선 및 기타공사 설계용역 | D45: =D13 -> 245653000 | E45: =ROUND(G$41/D$13*D45,-3) -> 13320000
C46: 소계 | D46: =SUM(D45:D45) -> 245653000 | E46: =SUM(E45:E45) -> 13320000

Sheet 학교별 용역금액
A1: 설계용역 대상 예산액 및 학교별 용역금액
A3: ○ 시설사업 집행 예산 | J3: (금액:원)
A4: 번호 | B4: 학교명 | C4: 행정구 | D4: 사업내용 | G4: 물량 | H4: 단위 | I4: 예 산 액 | J4: 비고
A5: 1 | B5: =설계용역비!C9 -> 장원중 | D5: =설계용역비!E9 -> 담장개선 | G5: 1 | H5: 식 | I5: =설계용역비!D9 -> 119211000 | J5: 2회추경설계비 5,961천원
A6: 2 | B6: =설계용역비!C10 -> 장원중 | D6: =설계용역비!E10 -> 배수로개선 | G6: 1 | H6: 식 | I6: =설계용역비!D10 -> 72118000 | J6: 2회추경설계비 3,606천원
A7: 3 | B7: =설계용역비!C11 -> 금양초 | D7: =설계용역비!E11 -> 담장개선 | G7: 1 | H7: 식 | I7: =설계용역비!D11 -> 54324000 | J7: 2회추경설계비 2,717천원
B10: 합계 | I10: =SUM(I5:I9) -> 245653000
D11: ※ 금회 설계용역비 | I11: =설계용역비!G41 -> 13320000
A12: ○ 학교별 용역금액 | J12: (금액:원)
A13: 번호 | B13: 학교명 | C13: 행정구 | D13: 사업내용 | G13: 물량 | H13: 단위 | I13: 용역금액 | J13: 비고
A14: 1 | B14: =B5 -> 장원중 | D14: =D5 -> 담장개선 | G14: 1 | H14: 식 | I14: =ROUND(I$11*(I5/I$10)/1000,0)*1000 -> 6464000 | K14: =I14*0.9 -> 5817600
A15: 2 | B15: =B6 -> 장원중 | D15: =D6 -> 배수로개선 | G15: 1 | H15: 식 | I15: =ROUND(I$11*(I6/I$10)/1000,0)*1000 -> 3910000 | K15: =I15*0.9 -> 3519000
A16: 3 | B16: =B7 -> 금양초 | D16: =D7 -> 담장개선 | G16: 1 | H16: 식 | I16: =ROUND(I$11*(I7/I$10)/1000,0)*1000 -> 2946000 | K16: =I16*0.9 -> 2651400
K17: =I17*0.9 -> 0
D18: =D9
B19: 합계 | I19: =SUM(I14:I18) -> 13320000
I20: =I19-I11 -> 0

Sheet 측량비내역서
A1: 품 명 | C1: 규 격 | D1: 수량 | E1: 단위 | F1: 재료비 | H1: 노무비 | J1: 경 비 | L1: 비 고
F2: 단 가 | G2: 금 액 | H2: 단 가 | I2: 금 액 | J2: 단 가 | K2: 금 액
A3: 측량비 | B3: =설계용역비!C9 -> 장원중 | C3: =설계용역비!E9 -> 담장개선 | D3: 240 | E3: ㎡ | H3: =측량비산출근거!E37 -> 650 | I3: =TRUNC(D3*H3,0) -> 156000
B4: =설계용역비!C10 -> 장원중 | C4: =설계용역비!E10 -> 배수로개선 | D4: 220 | E4: ㎡ | H4: =측량비산출근거!E37 -> 650 | I4: =TRUNC(D4*H4,0) -> 143000
B5: =설계용역비!C11 -> 금양초 | C5: =설계용역비!E11 -> 담장개선 | D5: 110 | E5: ㎡ | H5: =측량비산출근거!E37 -> 650 | I5: =TRUNC(D5*H5,0) -> 71500
A8: 계 | I8: =SUM(I3:I6) -> 370500

Sheet 측량비산출근거
A1: - 측량비 산출 내역서 -
A4: 1. 작업량 기준
A5: - 축 척 : 1 / 500
A6: - 측량면적 : 10,000m2 기준(신규측량)
A7: - 기준점측량 : 4급(구하는점 20점, 시가지, 기준점측량 점간거리 40m)
A8: - 수준측량 : 2급(거리 약2km, 시가지)
A9: - 현황측량 : (시가지, 신규측량, 작업량 10,000㎡)
A11: 2. 작업량비 산출
A12: - 기준점측량(4급) :
B13: 10/150 X 1.15(지형유형) X 3.8(작업량 계수) X 0.53(점간거리별 증감) = 0.15 | K13: 작업량계수(P)=0.8+30/10=3.8
A14: - 수준측량(2급) :
B15: 1(수준측량 총길이)/15 X 1.2(지형 유형) X 3.8(작업량 계수) = 0.30 | K15: 작업량계수(P)=0.8+3/1=3.8
A16: - 지형현황측량 :
B17: 1(면적)/10 X 2.15(지형유형) X 1.0(축척) X 2.8(작업량 계수) X 1.0(작업종류) = 0.60 | K17: 작업량계수(P) = 0.8+2/1 = 2.8
A20: 3. 인원산출
A21: 구 분 | B21: 작업량비 | C21: 특급기술자 | E21: 고급기술자 | G21: 중급기술자 | I21: 초급기술자 | K21: 초급기능사 | M21: 측량인부(측부)
C22: 인원 | D22: 결과 | E22: 인원 | F22: 결과 | G22: 인원 | H22: 결과 | I22: 인원 | J22: 결과 | K22: 인원 | L22: 결과 | M22: 인원 | N22: 결과
A23: 기준점 | D23: =ROUND(C23*B23,2) -> 0 | E23: 31.5 | F23: =ROUND(E23*B23,2) -> 0 | G23: 35 | H23: =ROUND(B23*G23,2) -> 0 | I23: 37 | J23: =ROUND(B23*I23,2) -> 0 | K23: 40 | L23: =ROUND(B23*K23,2) -> 0 | M23: 6 | N23: =ROUND(B23*M23,2) -> 0
A24: 수준측량 | C24: 1 | D24: =ROUND(C24*B24,2) -> 0 | E24: 3 | F24: =ROUND(E24*B24,2) -> 0 | G24: 11.5 | H24: =ROUND(B24*G24,2) -> 0 | I24: 8 | J24: =ROUND(B24*I24,2) -> 0 | K24: 8 | L24: =ROUND(B24*K24,2) -> 0 | M24: 8 | N24: =ROUND(B24*M24,2) -> 0
A25: 현황측량 | B25: 0.6 | D25: =ROUND(C25*B25,2) -> 0 | E25: 4.25 | F25: =ROUND(E25*B25,2) -> 2.55 | G25: 15 | H25: =ROUND(B25*G25,2) -> 9 | I25: 15 | J25: =ROUND(B25*I25,2) -> 9 | K25: 7 | L25: =ROUND(B25*K25,2) -> 4.2 | M25: 7 | N25: =ROUND(B25*M25,2) -> 4.2
A26: 합 계 | D26: =SUM(D23:D25) -> 0 | F26: =SUM(F23:F25) -> 2.55 | H26: =SUM(H23:H25) -> 9 | J26: =SUM(J23:J25) -> 9 | L26: =SUM(L23:L25) -> 4.2 | N26: =SUM(N23:N25) -> 4.2
A28: 4. 측량비
A29: 적용기준 | B29: 구분 | C29: 인 원 | D29: 적용단가 (2026년 상반기) | E29: 금 액 | I29: 작성방법 | J29: 측량기술자 노임단가(대한측량협회 제공)가 변경될 경우 유색부분만 수정하면 자동계산 됩니다.
A30: 측량부문 | B30: 특급기술자 | C30: =D26 -> 0 | D30: 326774 | E30: =C30*D30 -> 0
B31: 고급기술자 | C31: =F26 -> 2.55 | D31: 289265 | E31: =C31*D31 -> 737625.75 | J31: 산출근거 : 토목품셈(제21장 측량부문 적용)
B32: 중급기술자 | C32: =H26 -> 9 | D32: 251596 | E32: =C32*D32 -> 2264364
B33: 초급기술자 | C33: =J26 -> 9 | D33: 215609 | E33: =C33*D33 -> 1940481 | I33: 적용기준 | J33: 본 측량품에는 각종 측량성과품(관측계산부,기준점조서, 측량야장,수준망도,기타 측량사진 등)에 대한 대가가 포함된 단가임.
B34: 초급기능사 | C34: =L26 -> 4.2 | D34: 200786 | E34: =C34*D34 -> 843301.2
B35: 측량인부 | C35: =N26 -> 4.2 | D35: 172068 | E35: =C35*D35 -> 722685.6 | J35: 측량면적은 측량이 필요한 부지(대지)면적이며, 본품에는 주변 현황을 파악하기위한 면적도 포함된 단가임.
A36: 합 계(10,000m²기준) | E36: =SUM(E31:E35) -> 6508457.5
A37: 1㎡당 단가 | D37: 1/10,000㎡ | E37: =INT(E36/10000) -> 650 | J37: 본품은 10,000㎡를 기준으로 산출한바, 적용시에는 측량할 부지면적을 수정하여 사용바람
A38: 참고 : 노임단가는 2026년 1월 공간정보산업협회 시행단가임
