Workbook
Name ___AMT1: #REF!
Name ___AMT2: #REF!
Name ___AMT3: #REF!
Name ___NMB96: #REF!
Name ___tab1: #REF!
Name ___tab111: #REF!
Name ___tab112: #REF!
Name ___tab1120: #REF!
Name ___tab113: #REF!
Name ___tab114: #REF!
Name ___tab115: #REF!
Name ___tab116: #REF!
Name ___tab117: #REF!
Name ___tab118: #REF!
Name ___tab119: #REF!
Name ___tab200: #REF!
Name ___tab2001: #REF!
Name ___tab20022: #REF!
Name ___tab2003: #REF!
Name ___tab2004: #REF!
Name ___tab2005: #REF!
Name ___tab2006: #REF!
Name ___tab2007: #REF!
Name ___tab2009: #REF!
Name ___tab208: #REF!
Name __AMT1: #REF!
Name __AMT2: #REF!
Name __AMT3: #REF!
Name __NMB96: #REF!
Name __tab1: #REF!
Name __tab111: #REF!
Name __tab112: #REF!
Name __tab1120: #REF!
Name __tab113: #REF!
Name __tab114: #REF!
Name __tab115: #REF!
Name __tab116: #REF!
Name __tab117: #REF!
Name __tab118: #REF!
Name __tab119: #REF!
Name __tab200: #REF!
Name __tab2001: #REF!
Name __tab20022: #REF!
Name __tab2003: #REF!
Name __tab2004: #REF!
Name __tab2005: #REF!
Name __tab2006: #REF!
Name __tab2007: #REF!
Name __tab2009: #REF!
Name __tab208: #REF!
Name _1_: [2]내역서!#REF!
Name _1_3_0Crite: #REF!
Name _10G__Extract: #REF!
Name _11G_0Extract: #REF!
Name _11K11_: #REF!
Name _12G_0Extract: #REF!
Name _12K111_: #REF!
Name _13K1111_: #REF!
Name _14ME: [2]내역서!#REF!
Name _15ME: [2]내역서!#REF!

Sheet 물량내역서
C1: 물 량 내 역 서
C2: =[1]사정단가표!C1 -> 1호선 노후 분기부 교체에 따른 신호설비 개량공사
A3: 제목 | C3: 공 사 명 칭 | D3: 규 격 | E3: 단위 | F3: 수량 | G3: 재 료 비 | I3: 노 무 비 | K3: 경 비 | M3: 비 고
A4: 계 | B4: 1000 | G4: 단 가 | H4: 금 액 | I4: 단 가 | J4: 금 액 | K4: 단 가 | L4: 금 액
A5: =B5&$A$3 -> 1001제목 | B5: =B4+1 -> 1001 | C5: 1. 신호설비 철거공사
A6: =B6&$A$4 -> 1계 | B6: 1 | C6: =VLOOKUP($B6,[1]산출근거!$A$4:$AO$37,2,FALSE) -> Y본드 철거 | D6: =VLOOKUP($B6,[1]산출근거!$A$4:$AO$37,3,FALSE) -> 22SQ 재사용 | E6: =VLOOKUP($B6,[1]산출근거!$A$4:$AO$37,4,FALSE) -> 본 | F6: =VLOOKUP($B6,[1]산출근거!$A$4:$AO$37,41,FALSE) -> 18
A7: =B7&$A$4 -> 2계 | B7: 2 | C7: =VLOOKUP($B7,[1]산출근거!$A$5:$AO$37,2,FALSE) -> 용접본드 철거 | D7: =VLOOKUP($B7,[1]산출근거!$A$4:$AO$37,3,FALSE) -> 22SQ x 600mm | E7: =VLOOKUP($B7,[1]산출근거!$A$4:$AO$37,4,FALSE) -> 본 | F7: =VLOOKUP($B7,[1]산출근거!$A$4:$AO$37,41,FALSE) -> 6
A8: =B8&$A$4 -> 3계 | B8: 3 | C8: =VLOOKUP($B8,[1]산출근거!$A$5:$AO$37,2,FALSE) -> 용접본드 철거 | D8: =VLOOKUP($B8,[1]산출근거!$A$6:$AO$37,3,FALSE) -> 22SQ x 1400mm | E8: =VLOOKUP($B8,[1]산출근거!$A$4:$AO$37,4,FALSE) -> 본 | F8: =VLOOKUP($B8,[1]산출근거!$A$4:$AO$37,41,FALSE) -> 18
A9: =B9&$A$4 -> 4계 | B9: 4 | C9: =VLOOKUP($B9,[1]산출근거!$A$5:$AO$37,2,FALSE) -> 스프링본드 철거 | D9: =VLOOKUP($B9,[1]산출근거!$A$6:$AO$37,3,FALSE) -> 22SQ | E9: =VLOOKUP($B9,[1]산출근거!$A$4:$AO$37,4,FALSE) -> 본 | F9: =VLOOKUP($B9,[1]산출근거!$A$4:$AO$37,41,FALSE) -> 12
A10: =B10&$A$4 -> 5계 | B10: 5 | C10: =VLOOKUP($B10,[1]산출근거!$A$5:$AO$37,2,FALSE) -> 용접본드 철거 | D10: =VLOOKUP($B10,[1]산출근거!$A$6:$AO$37,3,FALSE) -> 115SQ x 600mm | E10: =VLOOKUP($B10,[1]산출근거!$A$4:$AO$37,4,FALSE) -> 본 | F10: =VLOOKUP($B10,[1]산출근거!$A$4:$AO$37,41,FALSE) -> 21
A11: =B11&$A$4 -> 6계 | B11: 6 | C11: =VLOOKUP($B11,[1]산출근거!$A$5:$AO$37,2,FALSE) -> 용접본드 철거 | D11: =VLOOKUP($B11,[1]산출근거!$A$6:$AO$37,3,FALSE) -> 115SQ x 1400mm | E11: =VLOOKUP($B11,[1]산출근거!$A$4:$AO$37,4,FALSE) -> 본 | F11: =VLOOKUP($B11,[1]산출근거!$A$4:$AO$37,41,FALSE) -> 38
A12: =B12&$A$4 -> 7계 | B12: 7 | C12: =VLOOKUP($B12,[1]산출근거!$A$5:$AO$37,2,FALSE) -> 신호점퍼 철거 | D12: =VLOOKUP($B12,[1]산출근거!$A$6:$AO$37,3,FALSE) -> 115SQ x 6000mm | E12: =VLOOKUP($B12,[1]산출근거!$A$4:$AO$37,4,FALSE) -> 본 | F12: =VLOOKUP($B12,[1]산출근거!$A$4:$AO$37,41,FALSE) -> 6
A13: =B13&$A$4 -> 8계 | B13: 8 | C13: =VLOOKUP($B13,[1]산출근거!$A$5:$AO$37,2,FALSE) -> 레일절연 철거 | D13: =VLOOKUP($B13,[1]산출근거!$A$6:$AO$37,3,FALSE) -> FRP | E13: =VLOOKUP($B13,[1]산출근거!$A$4:$AO$37,4,FALSE) -> 조 | F13: =VLOOKUP($B13,[1]산출근거!$A$4:$AO$37,41,FALSE) -> 8
A14: =B14&$A$4 -> 9계 | B14: 9 | C14: =VLOOKUP($B14,[1]산출근거!$A$5:$AO$37,2,FALSE) -> 트로프 철거 | D14: =VLOOKUP($B14,[1]산출근거!$A$6:$AO$37,3,FALSE) -> 파스콘 70S | E14: =VLOOKUP($B14,[1]산출근거!$A$4:$AO$37,4,FALSE) -> M | F14: =VLOOKUP($B14,[1]산출근거!$A$4:$AO$37,41,FALSE) -> 37
A15: =B15&$A$4 -> 10계 | B15: 10 | C15: =VLOOKUP($B15,[1]산출근거!$A$5:$AO$37,2,FALSE) -> LOOP 철거 | D15: =VLOOKUP($B15,[1]산출근거!$A$6:$AO$37,3,FALSE) -> ATC | E15: =VLOOKUP($B15,[1]산출근거!$A$4:$AO$37,4,FALSE) -> M | F15: =VLOOKUP($B15,[1]산출근거!$A$4:$AO$37,41,FALSE) -> 100
A16: =B16&$A$4 -> 11계 | B16: 11 | C16: =VLOOKUP($B16,[1]산출근거!$A$5:$AO$37,2,FALSE) -> 선로전환기 철거 | D16: =VLOOKUP($B16,[1]산출근거!$A$6:$AO$37,3,FALSE) -> NS-AM형 | E16: =VLOOKUP($B16,[1]산출근거!$A$4:$AO$37,4,FALSE) -> 조 | F16: =VLOOKUP($B16,[1]산출근거!$A$4:$AO$37,41,FALSE) -> 3
A17: =B17&$A$4 -> 12계 | B17: 12 | C17: =VLOOKUP($B17,[1]산출근거!$A$4:$AO$37,2,FALSE) -> 선로전환기 간류 철거 | D17: =VLOOKUP($B17,[1]산출근거!$A$4:$AO$37,3,FALSE) -> NS-AM형 | E17: =VLOOKUP($B17,[1]산출근거!$A$4:$AO$37,4,FALSE) -> 조 | F17: =VLOOKUP($B17,[1]산출근거!$A$4:$AO$37,41,FALSE) -> 3
A18: =B18&$A$3 -> 1002제목 | B18: =B5+1 -> 1002 | C18: 2. 신호설비 설치공사
A19: =B19&$A$4 -> 13계 | B19: 13 | C19: =VLOOKUP($B19,[1]산출근거!$A$5:$AO$37,2,FALSE) -> Y본드 설치 | D19: =VLOOKUP($B19,[1]산출근거!$A$6:$AO$37,3,FALSE) -> 22SQ 재사용 | E19: =VLOOKUP($B19,[1]산출근거!$A$6:$AO$37,4,FALSE) -> 본 | F19: =VLOOKUP($B19,[1]산출근거!$A$6:$AO$37,41,FALSE) -> 18
A20: =B20&$A$4 -> 14계 | B20: 14 | C20: =VLOOKUP($B20,[1]산출근거!$A$5:$AO$37,2,FALSE) -> 용접본드 설치 | D20: =VLOOKUP($B20,[1]산출근거!$A$6:$AO$37,3,FALSE) -> 22SQ x 600mm | E20: =VLOOKUP($B20,[1]산출근거!$A$6:$AO$37,4,FALSE) -> 본 | F20: =VLOOKUP($B20,[1]산출근거!$A$6:$AO$37,41,FALSE) -> 6
A21: =B21&$A$4 -> 15계 | B21: 15 | C21: =VLOOKUP($B21,[1]산출근거!$A$5:$AO$37,2,FALSE) -> 용접본드 설치 | D21: =VLOOKUP($B21,[1]산출근거!$A$6:$AO$37,3,FALSE) -> 22SQ x 1400mm | E21: =VLOOKUP($B21,[1]산출근거!$A$6:$AO$37,4,FALSE) -> 본 | F21: =VLOOKUP($B21,[1]산출근거!$A$6:$AO$37,41,FALSE) -> 18
A22: =B22&$A$4 -> 16계 | B22: 16 | C22: =VLOOKUP($B22,[1]산출근거!$A$5:$AO$37,2,FALSE) -> 스프링본드 설치 | D22: =VLOOKUP($B22,[1]산출근거!$A$6:$AO$37,3,FALSE) -> 22SQ | E22: =VLOOKUP($B22,[1]산출근거!$A$6:$AO$37,4,FALSE) -> 본 | F22: =VLOOKUP($B22,[1]산출근거!$A$6:$AO$37,41,FALSE) -> 12
A23: =B23&$A$4 -> 17계 | B23: 17 | C23: =VLOOKUP($B23,[1]산출근거!$A$5:$AO$37,2,FALSE) -> 용접본드 설치 | D23: =VLOOKUP($B23,[1]산출근거!$A$6:$AO$37,3,FALSE) -> 115SQ x 600mm | E23: =VLOOKUP($B23,[1]산출근거!$A$6:$AO$37,4,FALSE) -> 본 | F23: =VLOOKUP($B23,[1]산출근거!$A$6:$AO$37,41,FALSE) -> 21
A24: =B24&$A$4 -> 18계 | B24: 18 | C24: =VLOOKUP($B24,[1]산출근거!$A$5:$AO$37,2,FALSE) -> 용접본드 설치 | D24: =VLOOKUP($B24,[1]산출근거!$A$6:$AO$37,3,FALSE) -> 115SQ x 1400mm | E24: =VLOOKUP($B24,[1]산출근거!$A$6:$AO$37,4,FALSE) -> 본 | F24: =VLOOKUP($B24,[1]산출근거!$A$6:$AO$37,41,FALSE) -> 36
A25: =B25&$A$4 -> 19계 | B25: 19 | C25: =VLOOKUP($B25,[1]산출근거!$A$5:$AO$37,2,FALSE) -> 신호점퍼 설치 | D25: =VLOOKUP($B25,[1]산출근거!$A$6:$AO$37,3,FALSE) -> 115SQ x 6000mm | E25: =VLOOKUP($B25,[1]산출근거!$A$6:$AO$37,4,FALSE) -> 본 | F25: =VLOOKUP($B25,[1]산출근거!$A$6:$AO$37,41,FALSE) -> 6
A26: =B26&$A$4 -> 20계 | B26: 20 | C26: =VLOOKUP($B26,[1]산출근거!$A$5:$AO$37,2,FALSE) -> 레일절연 설치 | D26: =VLOOKUP($B26,[1]산출근거!$A$6:$AO$37,3,FALSE) -> FRP | E26: =VLOOKUP($B26,[1]산출근거!$A$6:$AO$37,4,FALSE) -> 조 | F26: =VLOOKUP($B26,[1]산출근거!$A$6:$AO$37,41,FALSE) -> 8
A27: =B27&$A$4 -> 21계 | B27: 21 | C27: =VLOOKUP($B27,[1]산출근거!$A$5:$AO$37,2,FALSE) -> 트로프 설치 | D27: =VLOOKUP($B27,[1]산출근거!$A$6:$AO$37,3,FALSE) -> 파스콘 70S | E27: =VLOOKUP($B27,[1]산출근거!$A$6:$AO$37,4,FALSE) -> M | F27: =VLOOKUP($B27,[1]산출근거!$A$6:$AO$37,41,FALSE) -> 37
A28: =B28&$A$4 -> 22계 | B28: 22 | C28: =VLOOKUP($B28,[1]산출근거!$A$5:$AO$37,2,FALSE) -> LOOP 설치 | D28: =VLOOKUP($B28,[1]산출근거!$A$6:$AO$37,3,FALSE) -> ATC | E28: =VLOOKUP($B28,[1]산출근거!$A$6:$AO$37,4,FALSE) -> M | F28: =VLOOKUP($B28,[1]산출근거!$A$6:$AO$37,41,FALSE) -> 100
A29: =B29&$A$4 -> 23계 | B29: 23 | C29: =VLOOKUP($B29,[1]산출근거!$A$5:$AO$37,2,FALSE) -> 선로전환기 설치 | D29: =VLOOKUP($B29,[1]산출근거!$A$6:$AO$37,3,FALSE) -> NS-AM형 | E29: =VLOOKUP($B29,[1]산출근거!$A$6:$AO$37,4,FALSE) -> 조 | F29: =VLOOKUP($B29,[1]산출근거!$A$6:$AO$37,41,FALSE) -> 3
A30: =B30&$A$4 -> 24계 | B30: 24 | C30: =VLOOKUP($B30,[1]산출근거!$A$5:$AO$37,2,FALSE) -> 선로전환기 간류 설치 | D30: =VLOOKUP($B30,[1]산출근거!$A$6:$AO$37,3,FALSE) -> NS-AM형 | E30: =VLOOKUP($B30,[1]산출근거!$A$6:$AO$37,4,FALSE) -> M | F30: =VLOOKUP($B30,[1]산출근거!$A$6:$AO$37,41,FALSE) -> 3
A31: =B31&$A$3 -> #REF! | B31: =#REF!+1 -> #REF! | C31: 3. 철도운행안전관리자
A32: =B32&$A$4 -> 25계 | B32: 25 | C32: 철도운행안전관리자 | D32: 야간 | E32: 일 | F32: =VLOOKUP($B32,[1]산출근거!$A$6:$AO$37,41,FALSE) -> 15 | G32: =VLOOKUP($A32,[1]일위대가표!$A$33:$M$762,8,FALSE) -> 0
