Workbook

Sheet 원가계산서
B1: 공 사 원 가 계 산 서
B2: 공사명 : 시흥 매화초 천장 설치공사
B3: 비 목 | E3: 금 액 | F3: 구 성 비 | G3: 비 고
A4: A1 | B4: 순 공 사 원 가 | C4: 재 료 비 | D4: 직 접 재 료 비 | E4: =TRUNC(공종별집계표!F5,0) -> 0
A5: A2 | D5: 간 접 재 료 비 | E5: 0
A6: A3 | D6: 작업설, 부산물(△) | E6: 0
A7: AS | D7: [ 소 계 ] | E7: =TRUNC(E4+E5-E6,0) -> 0
A8: B1 | C8: 노 무 비 | D8: 직 접 노 무 비 | E8: =TRUNC(공종별집계표!H5,0) -> 0
A9: B2 | D9: 간 접 노 무 비 | E9: =TRUNC(E8*0.175,0) -> 0 | F9: 직접노무비 * 17.5%
A10: BS | D10: [ 소 계 ] | E10: =TRUNC(E8+E9,0) -> 0
A11: C2 | C11: 경 비 | D11: 경 비 | E11: =TRUNC(공종별집계표!J5,0) -> 0
A12: C9 | D12: 품 질 관 리 비 | E12: =TRUNC(공종별집계표!T14,0) -> 0
A13: C3 | D13: 건설폐기물 처리비 | E13: =TRUNC(공종별집계표!T15,0) -> 0
A14: C4 | D14: 산 재 보 험 료 | E14: =TRUNC(E10*0.0356,0) -> 0 | F14: 노무비 * 3.56%
A15: C5 | D15: 고 용 보 험 료 | E15: =TRUNC(E10*0.0101,0) -> 0 | F15: 노무비 * 1.01%
A16: C6 | D16: 국민 건강 보험료 | E16: =TRUNC(E8*0.03595,0) -> 0 | F16: 직접노무비 * 3.595%
A17: C7 | D17: 국민 연금 보험료 | E17: =TRUNC(E8*0.0475,0) -> 0 | F17: 직접노무비 * 4.75%
A18: CB | D18: 노인장기요양보험료 | E18: =TRUNC(E16*0.1314,0) -> 0 | F18: 건강보험료 * 13.14%
A19: C8 | D19: 퇴직 공제 부금비 | E19: =TRUNC(E8*0.023,0) -> 0 | F19: 직접노무비 * 2.3%
A20: CN | D20: 석 면 분 담 금 | E20: =TRUNC(E10*0.00006,0) -> 0 | F20: 노무비 * 0.006%
A21: CM | D21: 임 금 채 권 부 담 금 | E21: =TRUNC(E10*0.0009,0) -> 0 | F21: 노무비 * 0.09%
A22: CA | D22: 산업안전보건관리비 | E22: =TRUNC((E7+E8)*0.0311,0) -> 0 | F22: (재료비+직노) * 3.11%
A23: CG | D23: 기 타 경 비 | E23: =TRUNC((E7+E10)*0.05,0) -> 0 | F23: (재료비+노무비) * 5%
A24: CH | D24: 환 경 보 전 비 | E24: =TRUNC((E7+E8+E11+E13+E12)*0.003,0) -> 0 | F24: (재료비+직노+경비) * 0.3%
A25: CK | D25: 건설하도급대금 지급보증서 발급수수료 | E25: =TRUNC((E7+E8+E11+E13+E12)*0.00081,0) -> 0 | F25: (재료비+직노+경비) * 0.081%
A26: CL | D26: 건설기계대여대금 지급보증서 발급수수료 | E26: =TRUNC((E7+E8+E11+E13+E12)*0.001,0) -> 0 | F26: (재료비+직노+경비) * 0.1%
A27: CS | D27: [ 소 계 ] | E27: =TRUNC(E11+E14+E15+E16+E17+E18+E19+E20+E21+E22+E12+E13+E23+E24+E25+E26,0) -> 0
A28: S1 | B28: 계 | E28: =TRUNC(E7+E10+E27,0) -> 0
A29: D1 | B29: 일 반 관 리 비 | E29: =TRUNC(E28*0.08,0) -> 0 | F29: 계 * 8%
A30: D2 | B30: 이 윤 | F30: (노무비+경비+일반관리비) * 15%
A31: D4 | B31: 작업부산물 (철거) | E31: =TRUNC(공종별집계표!T16,0) -> 0
A32: D9 | B32: 공 급 가 액 | E32: =TRUNC((E28+E29+E30+E31),0) -> 0
A33: DB | B33: 부 가 가 치 세 | E33: =TRUNC(E32*0.1,0) -> 0 | F33: 공급가액 * 10%
A34: DH | B34: 도 급 액 | E34: =TRUNC(E32+E33,0) -> 0
A35: S2 | B35: 총 공 사 비 | E35: =TRUNC(E34+0,0) -> 0

Sheet 공종별집계표
A1: 공 종 별 집 계 표
A2: [ 시흥 매화초 천장 설치공사 ]
A3: 품 명 | B3: 규 격 | C3: 단위 | D3: 수량 | E3: 재 료 비 | G3: 노 무 비 | I3: 경 비 | K3: 합 계 | M3: 비 고 | N3: 공종코드 | O3: 변수 | P3: 상위공종 | Q3: 공종구분 | R3: 공종레벨 | S3: 공종소계 | T3: 원가계산서 연결금액
E4: 단 가 | F4: 금 액 | G4: 단 가 | H4: 금 액 | I4: 단 가 | J4: 금 액 | K4: 단 가 | L4: 금 액
A5: 01 시흥 매화초 천장 설치공사 | D5: 1 | E5: =F6 -> 0 | F5: =E5*D5 -> 0 | G5: =H6 -> 0 | H5: =G5*D5 -> 0 | I5: =J6 -> 0 | J5: =I5*D5 -> 0 | K5: =E5+G5+I5 -> 0 | L5: =F5+H5+J5 -> 0 | N5: 01 | R5: 1
A6: 0101 ▣ 천 장 공 사 | D6: 1 | E6: =F7+F8+F9+F10+F11+F12+F13 -> 0 | F6: =E6*D6 -> 0 | G6: =H7+H8+H9+H10+H11+H12+H13 -> 0 | H6: =G6*D6 -> 0 | I6: =J7+J8+J9+J10+J11+J12+J13 -> 0 | J6: =I6*D6 -> 0 | K6: =E6+G6+I6 -> 0 | L6: =F6+H6+J6 -> 0 | N6: 0101 | P6: 01 | R6: 2
A7: 010101 가 설 공 사 | D7: 1 | E7: =공종별내역서!F27 -> 0 | F7: =E7*D7 -> 0 | G7: =공종별내역서!H27 -> 0 | H7: =G7*D7 -> 0 | I7: =공종별내역서!J27 -> 0 | J7: =I7*D7 -> 0 | K7: =E7+G7+I7 -> 0 | L7: =F7+H7+J7 -> 0 | N7: 010101 | P7: 0101 | R7: 3
A8: 010102 목공사 및 수장공사 | D8: 1 | E8: =공종별내역서!F50 -> 0 | F8: =E8*D8 -> 0 | G8: =공종별내역서!H50 -> 0 | H8: =G8*D8 -> 0 | I8: =공종별내역서!J50 -> 0 | J8: =I8*D8 -> 0 | K8: =E8+G8+I8 -> 0 | L8: =F8+H8+J8 -> 0 | N8: 010102 | P8: 0101 | R8: 3
A9: 010103 금 속 공 사 | D9: 1 | E9: =공종별내역서!F73 -> 0 | F9: =E9*D9 -> 0 | G9: =공종별내역서!H73 -> 0 | H9: =G9*D9 -> 0 | I9: =공종별내역서!J73 -> 0 | J9: =I9*D9 -> 0 | K9: =E9+G9+I9 -> 0 | L9: =F9+H9+J9 -> 0 | N9: 010103 | P9: 0101 | R9: 3
A10: 010104 미 장 공 사 | D10: 1 | E10: =공종별내역서!F96 -> 0 | F10: =E10*D10 -> 0 | G10: =공종별내역서!H96 -> 0 | H10: =G10*D10 -> 0 | I10: =공종별내역서!J96 -> 0 | J10: =I10*D10 -> 0 | K10: =E10+G10+I10 -> 0 | L10: =F10+H10+J10 -> 0 | N10: 010104 | P10: 0101 | R10: 3
A11: 010105 창 호 공 사 | D11: 1 | E11: =공종별내역서!F119 -> 0 | F11: =E11*D11 -> 0 | G11: =공종별내역서!H119 -> 0 | H11: =G11*D11 -> 0 | I11: =공종별내역서!J119 -> 0 | J11: =I11*D11 -> 0 | K11: =E11+G11+I11 -> 0 | L11: =F11+H11+J11 -> 0 | N11: 010105 | P11: 0101 | R11: 3
A12: 010106 도 장 공 사 | D12: 1 | E12: =공종별내역서!F142 -> 0 | F12: =E12*D12 -> 0 | G12: =공종별내역서!H142 -> 0 | H12: =G12*D12 -> 0 | I12: =공종별내역서!J142 -> 0 | J12: =I12*D12 -> 0 | K12: =E12+G12+I12 -> 0 | L12: =F12+H12+J12 -> 0 | N12: 010106 | P12: 0101 | R12: 3
A13: 010107 철 거 공 사 | D13: 1 | E13: =공종별내역서!F165 -> 0 | F13: =E13*D13 -> 0 | G13: =공종별내역서!H165 -> 0 | H13: =G13*D13 -> 0 | I13: =공종별내역서!J165 -> 0 | J13: =I13*D13 -> 0 | K13: =E13+G13+I13 -> 0 | L13: =F13+H13+J13 -> 0 | N13: 010107 | P13: 0101 | R13: 3
A14: 010108 ◇ 품 질 관 리 비 | D14: 1 | E14: =공종별내역서!F211 -> 0 | F14: =E14*D14 -> 0 | G14: =공종별내역서!H211 -> 0 | H14: =G14*D14 -> 0 | I14: =공종별내역서!J211 -> 0 | J14: =I14*D14 -> 0 | K14: =E14+G14+I14 -> 0 | L14: =F14+H14+J14 -> 0 | N14: 010108 | Q14: 1 | R14: 3 | T14: =L14*1 -> 0
A15: 010109 ◇ 건설폐기물처리비 | D15: 1 | E15: =공종별내역서!F234 -> 0 | F15: =E15*D15 -> 0 | G15: =공종별내역서!H234 -> 0 | H15: =G15*D15 -> 0 | I15: =공종별내역서!J234 -> 0 | J15: =I15*D15 -> 0 | K15: =E15+G15+I15 -> 0 | L15: =F15+H15+J15 -> 0 | N15: 010109 | Q15: 3 | R15: 3 | T15: =L15*1 -> 0
A16: 010110 ◇ 작업부산물(철거) | D16: 1 | E16: =공종별내역서!F257 -> 0 | F16: =E16*D16 -> 0 | G16: =공종별내역서!H257 -> 0 | H16: =G16*D16 -> 0 | I16: =공종별내역서!J257 -> 0 | J16: =I16*D16 -> 0 | K16: =E16+G16+I16 -> 0 | L16: =F16+H16+J16 -> 0 | N16: 010110 | Q16: 5 | R16: 3 | T16: =L16*1 -> 0
A27: [ 합 계 ] | F27: =F5 -> 0 | H27: =H5 -> 0 | J27: =J5 -> 0 | L27: =L5 -> 0

Sheet 공종별내역서
A1: 공 종 별 내 역 서
A2: [ 시흥 매화초 천장 설치공사 ]
A3: 품 명 | B3: 규 격 | C3: 단위 | D3: 수량 | E3: 재 료 비 | G3: 노 무 비 | I3: 경 비 | K3: 합 계 | M3: 비 고 | N3: 품목코드 | O3: 변수 | P3: 설정 | Q3: 공종코드 | R3: 일위 | S3: 단산 | T3: 자재 | U3: 손료적용 | V3: 손료저장 | W3: 적용율 | X3: JUK1 | Y3: JUK2 | Z3: JUK3 | AA3: JUK4 | AB3: JUK5 | AC3: JUK6 | AD3: JUK7 | AE3: JUK8 | AF3: JUK9 | AG3: JUK10 | AH3: JUK11 | AI3: JUK12 | AJ3: JUK13 | AK3: JUK14 | AL3: JUK15 | AM3: JUK16 | AN3: JUK17 | AO3: JUK18 | AP3: JUK19 | AQ3: JUK20 | AR3: 자재구분 | AS3: 공종구분 | AT3: 공종레벨 | AU3: 공종+자재 | AV3: 고유번호
E4: 단 가 | F4: 금 액 | G4: 단 가 | H4: 금 액 | I4: 단 가 | J4: 금 액 | K4: 단 가 | L4: 금 액
A5: 010101 가 설 공 사 | B5: ▣ 천 장 공 사 | Q5: 010101
A6: 강관 조립말비계(이동식)설치 및 해체 | B6: 높이 2m, 2개월 | C6: 대 | D6: 10 | N6: 50F85240083C1D7723B9FFEDD29E99 | Q6: 010101 | R6: T | S6: F | T6: F | AU6: 01010150F85240083C1D7723B9FFEDD29E99 | AV6: 55
A7: 건축물현장정리** | B7: 개보수(천장교체) | C7: M2 | D7: 7547 | N7: 50F85240086965D9C379BCE38C6410 | Q7: 010101 | R7: T | S7: F | T7: F | AU7: 01010150F85240086965D9C379BCE38C6410 | AV7: 56
A8: 건축물보양 | B8: 바닥 12T합판깔기 | C8: M2 | D8: 80 | N8: 50F8524008695B509394D2A1CE07BA | Q8: 010101 | R8: T | S8: F | T8: F | AU8: 01010150F8524008695B509394D2A1CE07BA | AV8: 57
A9: 시스템비계 설치 및 해체 | B9: 10m 이하, 설치 180m2, 해체 190m2 | C9: M2 | D9: 73 | N9: 50F85240083C1D7723BBAD48D47CBD | Q9: 010101 | R9: T | S9: F | T9: F | AU9: 01010150F85240083C1D7723BBAD48D47CBD | AV9: 160
Q10: 010101
Q11: 010101
Q12: 010101
Q13: 010101
Q14: 010101
Q15: 010101
Q16: 010101
Q17: 010101
Q18: 010101
Q19: 010101
Q20: 010101
Q21: 010101
... Q26: 010101
A27: [ 합 계 ] | N27: TOTAL
A28: 010102 목공사 및 수장공사 | B28: ▣ 천 장 공 사 | Q28: 010102
A29: M.D.F 걸레받이 | B29: T=9,H=100 준불연필름 | C29: m | D29: 229 | N29: 50F8327008EABEDE530B8C1C8FD4E8 | Q29: 010102 | R29: T | S29: F | T29: F | AU29: 01010250F8327008EABEDE530B8C1C8FD4E8 | AV29: 60
A30: 불연천장재붙임 | B30: 9.5×300×600mm (붙임-내진천장틀에포함) | C30: M2 | D30: 7282 | N30: 50F8B22008923E6DA369AD648548B0 | Q30: 010102 | R30: T | S30: F | T30: F | AU30: 01010250F8B22008923E6DA369AD648548B0 | AV30: 61
A31: 내진금속천장재 | B31: 600*600*0.4T 시공도 (평판-불연),내진천장틀포함,시공도 | C31: M2 | D31: 146 | N31: 50F8B22008923E6DA369AF10B2FFFC | Q31: 010102 | R31: T | S31: F | T31: F | AU31: 01010250F8B22008923E6DA369AF10B2FFFC | AV31: 62
A32: 수장벽마감설치(틀:30*30) | B32: 각재틀+MDF9t*2PY+인테리어필름(준불연) | C32: M2 | D32: 24 | N32: 50F8B2200877737C93D88973F96E21 | Q32: 010102 | R32: T | S32: F | T32: F | AU32: 01010250F8B2200877737C93D88973F96E21 | AV32: 63
A33: 붙박이가구 상부몰딩 | B33: H:100,MDF12T+인테리어필름(준불연) | C33: M | D33: 58 | N33: 50F8B2200877737C93D88970204CE6 | Q33: 010102 | R33: T | S33: F | T33: F | AU33: 01010250F8B2200877737C93D88970204CE6 | AV33: 64
A34: 수장벽마감설치(틀:30*30) | B34: 틀제외,MDF9T*2PY+인테리어필름(준불연) | C34: M2 | D34: 8 | N34: 50F8B2200877737C93D88970230367 | Q34: 010102 | R34: T | S34: F | T34: F | AU34: 01010250F8B2200877737C93D88970230367 | AV34: 65
A35: 수장벽마감설치-상부 | B35: H:200 ,틀제외,MDF9T*2PY+인테리어필름(준불연) | C35: M | D35: 108 | N35: 50F8B2200877737C93D8897023025A | Q35: 010102 | R35: T | S35: F | T35: F | AU35: 01010250F8B2200877737C93D8897023025A | AV35: 66
A36: 수장벽마감설치-상부 | B36: H:400 ,틀제외,MDF9T*2PY+인테리어필름(준불연) | C36: M | D36: 30 | N36: 50F8B2200877737C93D88970230258 | Q36: 010102 | R36: T | S36: F | T36: F | AU36: 01010250F8B2200877737C93D88970230258 | AV36: 67
A37: 수장벽마감설치-하부 | B37: H:200 ,틀제외 MDF9T*2PY+인테리어필름(준불연) | C37: M | D37: 205 | N37: 50F8B2200877737C93D889702301B3 | Q37: 010102 | R37: T | S37: F | T37: F | AU37: 01010250F8B2200877737C93D889702301B3 | AV37: 68
A38: 수장벽마감설치-상부 | B38: H:500 ,틀제외 합판9T+타공흡음보드15T(방염) | C38: M | D38: 81 | N38: 50F8B2200877737C93D88970230635 | Q38: 010102 | R38: T | S38: F | T38: F | AU38: 01010250F8B2200877737C93D88970230635 | AV38: 69
A39: 건식벽마감-상부 | B39: H:200 ,틀제외 (MDF9T*2PY)*양면 | C39: M | D39: 59 | N39: 50F8B2200877737C93D88970220853 | Q39: 010102 | R39: T | S39: F | T39: F | AU39: 01010250F8B2200877737C93D88970220853 | AV39: 70
A40: 건식벽마감-하부 | B40: H:200 ,틀제외 (MDF9T*2PY)*양면 | C40: M | D40: 59 | N40: 50F8B2200877737C93D88970220854 | Q40: 010102 | R40: T | S40: F | T40: F | AU40: 01010250F8B2200877737C93D88970220854 | AV40: 71
A41: 건식벽체설치(DRY WALL,C-100) | B41: STUD+GW50 48K+(석고*9.5PY)*양면 | C41: M2 | D41: 19 | N41: 50F8B2200877737C93D889702D07B5AC | Q41: 010102 | R41: T | S41: F | T41: F | AU41: 01010250F8B2200877737C93D889702D07B5AC | AV41: 72
Q42: 010102
Q43: 010102
Q44: 010102
...
