Workbook

Sheet 총공사기간
A1: 총 공 사 기 간 산 정
A3: ■ 공사명 : 곤충산업화지원 증축공사_건축
A4: ※ 공공 건설공사의 공사기간 산정기준( 적정 공사기간 확보를 위한 가이드 라인 '26.01. 국토교통부)
A5: ■ 공사기간 = 1.준비기간 + 2.비작업일수 + 3.작업일수 + 4.정리기간
A6: 구 분 | B6: 적 용 | C6: 산 출 내 역 | G6: 일 수 | H6: 비 고
A7: 1. 준 비 기 간
A8: 1) 준 비 기 간 | B8: 설계도서 검토, 자재, 장비 조달 등 착수 준비, 공종별 준비기간 | C8: 1 | D8: 일 × | E8: 1 | F8: = | G8: =ROUND($C8,1) -> 1
A9: 소 계 | G9: =TRUNC(SUM(G8),0) -> 1
A11: 2. 비 작 업 일 수 | B11: 제주특별자치도 제주시 기준
A12: 2.1 작업불가능한일수(A)
A13: 1) 강우 | B13: 일강수량 5mm 이상 | C13: 12월 | D13: ~ | E13: 3월 | F13: = | G13: =비작업일수!O8 -> 14
A14: 2) 강설 | B14: 신적설 5cm이상 | C14: =C13 -> 12월 | D14: ~ | E14: =E13 -> 3월 | F14: = | G14: =비작업일수!O16 -> 0.2
A15: 3) 강풍 | B15: 최대순간 풍속15m/s이상 | C15: =C13 -> 12월 | D15: ~ | E15: =E13 -> 3월 | F15: = | G15: =비작업일수!O24 -> 26.1
A16: 4) 혹서기 | B16: 일최고 기온 33 oC 이상 | C16: =C13 -> 12월 | D16: ~ | E16: =E13 -> 3월 | F16: = | G16: =비작업일수!O32 -> 0
A17: 소 계 | G17: =SUM(G13:G16) -> 40.3
A18: 2.2 법정공휴일수(B) | C18: =C13 -> 12월 | D18: ~ | E18: =E13 -> 3월 | F18: = | G18: =비작업일수!O37 -> 23
A19: 2.3 중복일수(C) | C19: =C13 -> 12월 | D19: ~ | E19: =E13 -> 3월 | F19: = | G19: =비작업일수!O46 -> 8
A20: ▶ 비작업일수산출 | B20: A+B-C | G20: =ROUNDUP(G17+G18-G19,0) -> 56
A22: 3. 작 업 일 수
A23: 1) 작업일수(순공사일수) | B23: 주요공정 작업일수 | C23: 붙임 산출내역 참조 | G23: ='작업(순공사)일수'!J33 -> 62.3
A24: 소 계 | G24: =ROUND(SUM(G23),0) -> 62
A26: 4. 정 리 기 간
A27: 1) 정 리 기 간 | B27: 준공 검사 준비, 시설물 인수, 행정절차 이행 및 현장정리 등 | C27: 1 | D27: 일 × | E27: 1 | F27: = | G27: =ROUND($C27,1) -> 1
A28: 소 계 | G28: =TRUNC(SUM(G27),0) -> 1
A30: 합 계 | B30: 총공사기간 | G30: =G28+G24+G20+G9 -> 120

Sheet 비작업일수
A1: 1. 기상상태에 따른 비작업일수(A)
A2: 1) 강우 | B2: (5mm이상) | P2: 10mm , 3mm 등 가이드라인 보면서 조정가능
A3: 구 분 | B3: 지점명 | C3: 11월 | D3: 12월 | E3: 1월 | F3: 2월 | G3: 3월 | H3: 4월 | I3: 5월 | J3: 6월 | K3: 7월 | L3: 8월 | M3: 9월 | N3: 10월 | O3: 소 계
A4: 불가일수 | B4: 고산 | C4: 2.5 | D4: 2.8 | E4: 2.9 | F4: 2.1 | G4: 4.5 | H4: 4.7 | I4: 5 | J4: 5.1 | K4: 5.3 | L4: 5.2 | M4: 6.8 | N4: 2.4 | O4: =SUM(C4:N4) -> 49.3
B5: 서귀포 | C5: 3.3 | D5: 2.4 | E5: 3.1 | F5: 3 | G5: 5.1 | H5: 5.7 | I5: 5.9 | J5: 6.5 | K5: 6.5 | L5: 7.1 | M5: 8 | N5: 3.3 | O5: =SUM(C5:N5) -> 59.9
B6: 성산 | C6: 4.4 | D6: 3.8 | E6: 4.1 | F6: 4.1 | G6: 5.8 | H6: 5.8 | I6: 5.5 | J6: 6.2 | K6: 6.8 | L6: 7.7 | M6: 7.6 | N6: 3.6 | O6: =SUM(C6:N6) -> 65.4
B7: 제주 | C7: 3.7 | D7: 3.4 | E7: 3.1 | F7: 3.1 | G7: 4.4 | H7: 4.4 | I7: 3.9 | J7: 4.8 | K7: 5.3 | L7: 5.5 | M7: 6.9 | N7: 3.5 | O7: =SUM(C7:N7) -> 52
A8: 본 사업 적용 | D8: =D7 -> 3.4 | E8: =E7 -> 3.1 | F8: =F7 -> 3.1 | G8: =G7 -> 4.4 | O8: =SUM(C8:N8) -> 14
A10: 2) 강설 | B10: (신적설 5cm이상)
A11: 구 분 | B11: 지점명 | C11: 11월 | D11: 12월 | E11: 1월 | F11: 2월 | G11: 3월 | H11: 4월 | I11: 5월 | J11: 6월 | K11: 7월 | L11: 8월 | M11: 9월 | N11: 10월 | O11: 소 계
A12: 불가일수 | B12: 고산 | C12: 0 | D12: 0 | E12: 0 | F12: 0 | G12: 0 | H12: 0 | I12: 0 | J12: 0 | K12: 0 | L12: 0 | M12: 0 | N12: 0 | O12: =SUM(C12:N12) -> 0
B13: 서귀포 | C13: 0 | D13: 0 | E13: 0 | F13: 0 | G13: 0 | H13: 0 | I13: 0 | J13: 0 | K13: 0 | L13: 0 | M13: 0 | N13: 0 | O13: =SUM(C13:N13) -> 0
B14: 성산 | C14: 0 | D14: 0 | E14: 0 | F14: 0 | G14: 0 | H14: 0 | I14: 0 | J14: 0 | K14: 0 | L14: 0 | M14: 0 | N14: 0 | O14: =SUM(C14:N14) -> 0
B15: 제주 | C15: 0 | D15: 0.2 | E15: 0 | F15: 0 | G15: 0 | H15: 0 | I15: 0 | J15: 0 | K15: 0 | L15: 0 | M15: 0 | N15: 0 | O15: =SUM(C15:N15) -> 0.2
A16: 본 사업 적용 | D16: =D15 -> 0.2 | E16: =E15 -> 0 | F16: =F15 -> 0 | G16: =G15 -> 0 | O16: =SUM(C16:N16) -> 0.2
A18: 3) 강풍 | B18: (일최대순간풍속 15m/s이상)
A19: 구 분 | B19: 지점명 | C19: 11월 | D19: 12월 | E19: 1월 | F19: 2월 | G19: 3월 | H19: 4월 | I19: 5월 | J19: 6월 | K19: 7월 | L19: 8월 | M19: 9월 | N19: 10월 | O19: 소 계
A20: 불가일수 | B20: 고산 | C20: 11.9 | D20: 19.5 | E20: 19.4 | F20: 17 | G20: 12.3 | H20: 9.9 | I20: 6 | J20: 2.8 | K20: 4.1 | L20: 5.8 | M20: 5.4 | N20: 10 | O20: =SUM(C20:N20) -> 124.1
B21: 서귀포 | C21: 0.1 | D21: 0.1 | E21: 0.2 | F21: 0.7 | G21: 0.7 | H21: 0.3 | I21: 0.4 | J21: 0.2 | K21: 0.5 | L21: 1.1 | M21: 0.7 | N21: 1.3 | O21: =SUM(C21:N21) -> 6.3
B22: 성산 | C22: 1.6 | D22: 2.4 | E22: 1.9 | F22: 2.4 | G22: 3.2 | H22: 2.2 | I22: 1.4 | J22: 1.4 | K22: 0.9 | L22: 1.3 | M22: 1.6 | N22: 1.5 | O22: =SUM(C22:N22) -> 21.8
B23: 제주 | C23: 4.2 | D23: 8.6 | E23: 6.6 | F23: 5.8 | G23: 5.1 | H23: 4.3 | I23: 2.9 | J23: 2.4 | K23: 2.9 | L23: 2.6 | M23: 2.3 | N23: 3.6 | O23: =SUM(C23:N23) -> 51.3
A24: 본 사업 적용 | D24: =D23 -> 8.6 | E24: =E23 -> 6.6 | F24: =F23 -> 5.8 | G24: =G23 -> 5.1 | O24: =SUM(C24:N24) -> 26.1
A26: 4) 혹서기 | B26: (일최고 기온 33˚C 이상)
A27: 구 분 | B27: 지점명 | C27: 11월 | D27: 12월 | E27: 1월 | F27: 2월 | G27: 3월 | H27: 4월 | I27: 5월 | J27: 6월 | K27: 7월 | L27: 8월 | M27: 9월 | N27: 10월 | O27: 소 계
A28: 불가일수 | B28: 고산 | C28: 0 | D28: 0 | E28: 0 | F28: 0 | G28: 0 | H28: 0 | I28: 0 | J28: 0 | K28: 0.8 | L28: 2.2 | M28: 0 | N28: 0 | O28: =SUM(C28:N28) -> 3
B29: 서귀포 | C29: 0 | D29: 0 | E29: 0 | F29: 0 | G29: 0 | H29: 0 | I29: 0 | J29: 0 | K29: 0.4 | L29: 0.9 | M29: 0.1 | N29: 0 | O29: =SUM(C29:N29) -> 1.4
B30: 성산 | C30: 0 | D30: 0 | E30: 0 | F30: 0 | G30: 0 | H30: 0 | I30: 0 | J30: 0 | K30: 1.3 | L30: 2.5 | M30: 0 | N30: 0 | O30: =SUM(C30:N30) -> 3.8
B31: 제주 | C31: 0 | D31: 0 | E31: 0 | F31: 0 | G31: 0 | H31: 0 | I31: 0.1 | J31: 0.5 | K31: 5.5 | L31: 8.1 | M31: 0.3 | N31: 0 | O31: =SUM(C31:N31) -> 14.5
A32: 본 사업 적용 | D32: =D31 -> 0 | E32: =E31 -> 0 | F32: =F31 -> 0 | G32: =G31 -> 0 | O32: =SUM(C32:N32) -> 0
A34: 2. 법정공휴일수(B)
A35: 구 분 | C35: 11월 | D35: 12월 | E35: 1월 | F35: 2월 | G35: 3월 | H35: 4월 | I35: 5월 | J35: 6월 | K35: 7월 | L35: 8월 | M35: 9월 | N35: 10월 | O35: 소 계
A36: 불가일수 | B36: 2026년 | C36: 5 | D36: 5 | E36: 6 | F36: 7 | G36: 5 | H36: 4 | I36: 7 | J36: 4 | K36: 4 | L36: 6 | M36: 7 | N36: 8 | O36: =SUM(C36:N36) -> 68
A37: 본 사업 적용 | D37: =D36 -> 5 | E37: =E36 -> 6 | F37: =F36 -> 7 | G37: =G36 -> 5 | O37: =SUM(C37:N37) -> 23
A39: 3. 중복일수(C) : (A x B / 달력일수)
A40: 구 분 | C40: 11월 | D40: 12월 | E40: 1월 | F40: 2월 | G40: 3월 | H40: 4월 | I40: 5월 | J40: 6월 | K40: 7월 | L40: 8월 | M40: 9월 | N40: 10월 | O40: 소 계
A41: 달력일수 | B41: 2026년 | C41: 30 | D41: 31 | E41: 31 | F41: 28 | G41: 31 | H41: 30 | I41: 31 | J41: 30 | K41: 31 | L41: 31 | M41: 30 | N41: 31 | O41: =SUM(C41:N41) -> 365
A42: 중복일수 | B42: 고산 | C42: =ROUND((C4+C12+C20+C28)*C$36/C$41,0) -> 2 | D42: =ROUND((D4+D12+D20+D28)*D$36/D$41,0) -> 4 | E42: =ROUND((E4+E12+E20+E28)*E$36/E$41,0) -> 4 | F42: =ROUND((F4+F12+F20+F28)*F$36/F$41,0) -> 5 | G42: =ROUND((G4+G12+G20+G28)*G$36/G$41,0) -> 3 | H42: =ROUND((H4+H12+H20+H28)*H$36/H$41,0) -> 2 | I42: =ROUND((I4+I12+I20+I28)*I$36/I$41,0) -> 2 | J42: =ROUND((J4+J12+J20+J28)*J$36/J$41,0) -> 1 | ... N42: =ROUND((N4+N12+N20+N28)*N$36/N$41,0) -> 3 | O42: =SUM(C42:N42) -> 33
B43: 서귀포 | C43: =ROUND((C5+C13+C21+C29)*C$36/C$41,0) -> 1 | D43: =ROUND((D5+D13+D21+D29)*D$36/D$41,0) -> 0 | E43: =ROUND((E5+E13+E21+E29)*E$36/E$41,0) -> 1 | F43: =ROUND((F5+F13+F21+F29)*F$36/F$41,0) -> 1 | G43: =ROUND((G5+G13+G21+G29)*G$36/G$41,0) -> 1 | H43: =ROUND((H5+H13+H21+H29)*H$36/H$41,0) -> 1 | I43: =ROUND((I5+I13+I21+I29)*I$36/I$41,0) -> 1 | J43: =ROUND((J5+J13+J21+J29)*J$36/J$41,0) -> 1 | ... N43: =ROUND((N5+N13+N21+N29)*N$36/N$41,0) -> 1 | O43: =SUM(C43:N43) -> 13
B44: 성산 | C44: =ROUND((C6+C14+C22+C30)*C$36/C$41,0) -> 1 | D44: =ROUND((D6+D14+D22+D30)*D$36/D$41,0) -> 1 | E44: =ROUND((E6+E14+E22+E30)*E$36/E$41,0) -> 1 | F44: =ROUND((F6+F14+F22+F30)*F$36/F$41,0) -> 2 | G44: =ROUND((G6+G14+G22+G30)*G$36/G$41,0) -> 1 | H44: =ROUND((H6+H14+H22+H30)*H$36/H$41,0) -> 1 | I44: =ROUND((I6+I14+I22+I30)*I$36/I$41,0) -> 2 | J44: =ROUND((J6+J14+J22+J30)*J$36/J$41,0) -> 1 | ... N44: =ROUND((N6+N14+N22+N30)*N$36/N$41,0) -> 1 | O44: =SUM(C44:N44) -> 16
B45: 제주 | C45: =ROUND((C7+C15+C23+C31)*C$36/C$41,0) -> 1 | D45: =ROUND((D7+D15+D23+D31)*D$36/D$41,0) -> 2 | E45: =ROUND((E7+E15+E23+E31)*E$36/E$41,0) -> 2 | F45: =ROUND((F7+F15+F23+F31)*F$36/F$41,0) -> 2 | G45: =ROUND((G7+G15+G23+G31)*G$36/G$41,0) -> 2 | H45: =ROUND((H7+H15+H23+H31)*H$36/H$41,0) -> 1 | I45: =ROUND((I7+I15+I23+I31)*I$36/I$41,0) -> 2 | J45: =ROUND((J7+J15+J23+J31)*J$36/J$41,0) -> 1 | ... N45: =ROUND((N7+N15+N23+N31)*N$36/N$41,0) -> 2 | O45: =SUM(C45:N45) -> 22
A46: 본 사업 적용 | D46: =D45 -> 2 | E46: =E45 -> 2 | F46: =F45 -> 2 | G46: =G45 -> 2 | O46: =SUM(C46:N46) -> 8

Sheet 작업(순공사)일수
B1: 작 업(순 공 사) 일 수 | L1: =총공사기간!G30 -> 120
B3: 공종 | C3: 품 명 | D3: 규 격 | E3: 수 량 | F3: 단위 | G3: 구분 | K3: 비 고
G4: 기준수량(일) | H4: 단위 (일/공종단위) | J4: 공사일수(일)
B5: 1. | C5: 가설공사
C6: 가설사무소, 비계, 보양 | E6: 0.03 | F6: 식 | G6: 0.1 | H6: =F6 -> 식 | I6: /일 | J6: =E6/G6 -> 0.3
B8: 2. | C8: 토 및 지정공사
C9: 토공,배수,포장,조경 | E9: 1.5 | F9: 식 | G9: 0.5 | H9: =F9 -> 식 | I9: /일 | J9: =E9/G9 -> 3
B11: 3. | C11: 철근콘크리트공사
C12: 철근,거푸집,콘크리트 | E12: 1.2 | F12: 식 | G12: 0.2 | H12: =F12 -> 식 | I12: /일 | J12: =E12/G12 -> 6
B14: 4. | C14: 철골공사
C15: 제작,설치,접합 | E15: 1.2 | F15: ㎡ | G15: 0.05 | H15: =F15 -> ㎡ | I15: /일 | J15: =E15/G15 -> 24
B17: 5. | C17: 지붕 및 홈통공사
C18: 지붕,홈통,우수관 | E18: 1.2 | F18: ㎡ | G18: 0.4 | H18: =F18 -> ㎡ | I18: /일 | J18: =E18/G18 -> 3
B20: 6. | C20: 창호 및 유리공사
C21: 창호,유리,실링 | E21: 1.6 | F21: ㎡ | G21: 0.4 | H21: =F21 -> ㎡ | I21: /일 | J21: =E21/G21 -> 4
B23: 7. | C23: 판넬공사
C24: 벽,지붕,후레싱 | E24: 2.4 | G24: 0.4 | H24: =F24 -> 0 | I24: /일 | J24: =E24/G24 -> 6
B26: 8. | C26: 오수처리서설설치공사
C27: 이전, 신규 설치 | E27: 3 | F27: ㎡ | G27: 0.5 | H27: =F27 -> ㎡ | I27: /일 | J27: =E27/G27 -> 6
B29: 9. | C29: 기계설비공사
C30: 위생기구,옥외위생배관,급배수,환기배관 | E30: 1.6 | F30: ㎡ | G30: 0.4 | H30: =F30 -> ㎡ | I30: /일 | J30: =E30/G30 -> 4
C31: 냉난방설치,EHP 장비및공사 | E31: 1.2 | F31: ㎡ | G31: 0.2 | H31: =F31 -> ㎡ | I31: /일 | J31: =E31/G31 -> 6
C33: 합 계 | G33: 0 | I33: 0 | J33: =SUM(J5:J32) -> 62.3
