Workbook

Sheet 표지
A9: =갑지!A5 -> 와동교육도서관 장애물 없는 생활환경[BF] 보완 공사(사인물)
A18: 안산시 중앙도서관

Sheet 설계설명서
A1: 설 계 설 명 서
B3: 1. 공 사 명 : | D3: =갑지!A5 -> 와동교육도서관 장애물 없는 생활환경[BF] 보완 공사(사인물)
B5: 2. 위 치 : | D5: 단원구 와동공원로 71 (와동)
B7: 3. 공 사 목 적 :
B10: 4. 공 사 개 요 : | D10: =갑지!D9 -> 외부창호 필름시공, 컬러시트 부착, 점자안내도 2개소,
B12: 5. 본 공사는 설계도서 및 시방서에 의하여 시공한다.
B14: 6. 본 공사의 기간은 착공일로부터 | F14: 28일간으로 한다
B16: 7. 설계변경 조건
B17: 가. 본 공사는 조사당시 수집된 자료에 의하여 추정 설계한 것인 바, 조사가 불가능한 부분 및 조사 후 변경된 사항에
B18: 대하여는 시공당시 실정에 맞추어 설계 변경함
B19: 나. 본 공사 시공중 관의 방침이 변경 되었을 때
B20: 다. 설계상 품셈적용 및 계산착오가 있을 때
B21: 라. 당초 지정된 골재원의 운반거리가 변동되었을 때
B23: 8. 공사기간의 연기
B24: 가. 본 공사기간 중 강우일수가 과거 5년 동안의 평균 강우 일수보다 초과 되었을 때
B25: 나. 천재지변으로 인하여 작업이 중단되었을 때
B26: 다. 관의 지시로 인하여 작업이 중지되었을 때
B28: 9. 본 공사의 검사 또는 감사 시 지적된 사항에 대하여는 관의 지시(설계변경, 재시공, 또는 변상 등)에 따라야 한다.
B29: 가. 공사 중 고의 또는 과실로 인하여 발생되는 모든 피해에 대한 변상, 보상 등은 도급자 책임으로 처리하여야 한다.
... B67: 때에는 충분한 이유를 명시하여 도급자에게 그 변경을 요구할 수 있다.

Sheet 일반,특별시방서
A1: 일 반 시 방 서
B3: 1. 본 공사는 토목공사 표준시방서 및 특별시방서의 해당 조항에 의해 시공한다.
B5: 2. 본 시방서에 명시되지 않은 사항에 대하여는 공사 감독관의 지시에 따른다.
B7: 3. 현장대리인은 감독관의 사전 승인없이 현장에서 이탈하지 못한다.
B9: 4. 공사중 설계도서 및 시방서에 명시되지 않은 경미한 사항은 도급인 부담으로 공사감독관의 지기에 따라 시행하여야
B10: 한다.
B12: 5. 도급인은 공사전에 착공계, 현장대리인계 및 도급공사 내역서, 예정공정표, 기타 조달규정에 의한 제반서류를 감독관에
B13: 게 제출하여야 한다.
B15: 6. 도급인은 감독관이 요구한 규격의 사진을 공사착수 전경과 중요부분 시공중과 준공전경을 촬영하여 감독관에게 제출
B16: 하여야 한다.
B18: 7. 감독관이 필요로 하는 공사도면 및 사무용품은 도급인 부담으로 제공한다.
B20: 8. 공사 중 도급인이 불완전한 시공을 할때 감독관은 공사를 중지시킬 수 있으며 도급인은 이에 이의를 제기하거나 손해
B21: 배상 청구를 할 수 없다.
... B46: 하여야 한다.
A50: 특 별 시 방 서 ( 총 칙 )
B52: 1. 착공계 제출
B53: 도급자는 착공계 제출시 공사 착공전 사진 및 현장대리인, 안전관리인, 품질관리인을 선임하고 그에 따른 관리계획서와
B54: 재해사전예방대책, 환경관리계획서를 시행청에 제출하여야 한다.
B56: 2. 현장 확인
B57: 도급자는 착공과 동시에 현장확인을 실시하고 설계도서와 상이되는 사항이 발견될 경우 감독관과 협의하여 즉시
B58: 시행청에 보고하고 지시를 받아 시공하여야 한다.
B60: 3. 시공계획 제출
B61: 현장대리인은 착공과 동시에 시공에 관한 도급내역서, 예정 공정표 및 세부계획서를 제출하여 감독관의 승인을 얻어
B62: 공사를 착공하여야 한다.
B64: 4. 관련자 현장 이탈금지
B65: 현장 대리인은 감독관의 사전 승인없이 절대 현장을 이탈하여서는 안된다.
B67: 5. 가설물 및 안내판
... B97: 제출하여야 한다.

Sheet 예정공정표
A1: 예 정 공 정 표
A2: 공 사 명 : | B2: =갑지!A5 -> 와동교육도서관 장애물 없는 생활환경[BF] 보완 공사(사인물) | K2: (착공일로부터 28일간)
A3: 월일 공정 | B3: 3 | C3: 5 | D3: 7 | E3: 10 | F3: 13 | G3: 15 | H3: 17 | I3: 20 | J3: 23 | K3: 25 | L3: 28 | M3: 비 고
A5: 현 장 답 사
A6: 자 재 준 비
A7: 재 단 작 업
A8: 현 장 설 치
A9: 현 장 정 리

Sheet 갑지
A1: 과 장 | C1: 팀 장 | E1: 심사자 | G1: 담당자 | I1: 2026년 10월
A5: 와동교육도서관 장애물 없는 생활환경[BF] 보완 공사(사인물)
B7: 공사 위치 : | D7: 안산시 단원구 와동공원로71 (와동)
B9: 공사 내용 : | D9: 외부창호 필름시공, 컬러시트 부착, 점자안내도 2개소,
D14: 총 공 사 비 : | F14: =공사원가계산서!D30 -> 52786000 | H14: ="일금"&IF(LEFT(NUMBERSTRING(F14,1),1)="천","일","")&IF(LEFT(NUMBERSTRING(F14,1),1)="백","일","")&IF(LEFT(NUMBERSTRING(F14,1),1)="십","일","")&SUBSTITUTE(SUBSTITUTE(SUBSTITUTE(SUBSTITUTE(SUBSTITUTE(NUMBERSTRING(F14,1),"조천","조일천"),"억천","억일천"),"만천","만일천"),"천백","천일백"),"백십","백일십")&"원" -> 일금오천이백칠십팔만육천원
D15: 도급예정액 : | F15: =공사원가계산서!D30 -> 52786000 | H15: ="일금"&IF(LEFT(NUMBERSTRING(F15,1),1)="천","일","")&IF(LEFT(NUMBERSTRING(F15,1),1)="백","일","")&IF(LEFT(NUMBERSTRING(F15,1),1)="십","일","")&SUBSTITUTE(SUBSTITUTE(SUBSTITUTE(SUBSTITUTE(SUBSTITUTE(NUMBERSTRING(F15,1),"조천","조일천"),"억천","억일천"),"만천","만일천"),"천백","천일백"),"백십","백일십")&"원" -> 일금오천이백칠십팔만육천원

Sheet 공사원가계산서
A1: 공 사 원 가 계 산 서
A2: 공사명 : | B2: =갑지!A5 -> 와동교육도서관 장애물 없는 생활환경[BF] 보완 공사(사인물)
A3: 비 목 | D3: 금 액 | E3: 구 성 비 | F3: 비 고
B4: 재 | C4: 직 접 재 료 비
A5: 순 | B5: 료 | C5: 간 접 재 료 비
B6: 비 | C6: 소 계
B7: 노 | C7: 직 접 노 무 비
A8: 공 | B8: 무 | C8: 간 접 노 무 비 | E8: (직노) * 17.5%(6개월 이하 공사 적용)
B9: 비 | C9: 소 계
C10: 기 계 경 비
A11: 사 | B11: 경 | C11: 산 재 보 험 료 | E11: (노무) * 3.56%
C12: 고 용 보 험 료 | E12: (노무) * 1.01%
C13: 건 강 보 험 료 | E13: (직노) * 3.595%
A14: 원 | C14: 연 금 보 험 료 | E14: (직노) * 4.75%
C15: 노인장기요양보험료 | E15: (건강보험료) * 13.14%
C16: 산업안전보건관리비 | D16: 1141670 | E16: (재+직노)*3.11%
C17: 환 경 보 전 비 | E17: (직노+재료+경비)*0.3%
C18: 건설기계대여대금보증서 | E18: (직노+재료+경비)*0.1%
A19: 가 | B19: 비 | C19: 기 타 경 비 | E19: (노무+재료) * 5%
C20: 석면분담금 | E20: (노무비) * 0.006%
C21: 임금채권부담금 | E21: (노무비) * 0.09%
C22: 소 계
A23: 계
A24: 일 반 관 리 비 | E24: (재료비+노무비+경비)×8.0%
A25: 이 윤 | E25: (노무비+경비+일반관리비)×15%이내
A26: 공 급 가 액
A27: 부 가 가 치 세 | E27: (공급가액)×10%
A28: 도 급 예 정 액
A29: 관 급 자 재 대 | D29: =#REF! -> #REF!
A30: 총 공 사 비 | D30: 52786000

Sheet 일위
A1: 일 위 대 가
A2: 공 종 | B2: 규 격 | C2: 수량 | D2: 단위 | E2: 합 계 | G2: 노 무 비 | I2: 재 료 비 | K2: 경 비 | M2: 비고
E3: 단 가 | F3: 금 액 | G3: 단 가 | H3: 금 액 | I3: 단 가 | J3: 금 액 | K3: 단 가 | L3: 금 액
A4: 제 호표 자착식 시트부착( ㎡ 당 )
A5: 도 배 공 | C5: 0.06 | D5: 인
A6: 공구손료 | B6: 인건비 | C6: 3 | D6: %
B7: 소 계 | F7: =H7+J7+L7 -> 0 | H7: =SUM(H5:H5) -> 0 | L7: =L6 -> 0
A9: 제 호표 시트지 재단( ㎡ 당 )
A10: 특별인부 | C10: 0.012 | D10: 인
A11: 잡재료비 | B11: 인건비 | C11: 3 | D11: %
B12: 소 계 | F12: =H12+J12+L12 -> 0 | H12: =SUM(H10:H10) -> 0 | J12: =J11 -> 0
A14: 제 호표 지정컬러 시트 컷팅( ㎡ 당 )
A15: 특별인부 | C15: 0.06 | D15: 인
A16: 공구손료 | B16: 인건비 | C16: 3 | D16: %
B17: 소 계 | F17: =SUM(H17+J17+L17) -> 0 | H17: =SUM(H15:H16) -> 0 | L17: =SUM(L15:L16) -> 0
A19: 제 호표 지정컬러 시트 시공( ㎡ 당 )
A20: 특별인부 | C20: 0.12 | D20: 인
A21: 공구손료 | C21: 3 | D21: %
B22: 소 계 | F22: =H22+J22+L22 -> 0 | H22: =SUM(H20:H21) -> 0 | L22: =SUM(L20:L21) -> 0
A24: 제 호표 점자표찰부착 ( 일당 )
A25: 특별인부 | C25: 0.7 | D25: 인
A26: 공구손료 | B26: 인건비 | C26: 3 | D26: %
B27: 소 계 | F27: =H27+J27+L27 -> 0 | H27: =SUM(H25:H25) -> 0 | J27: =SUM(J25:J25) -> 0 | L27: =L26 -> 0
A29: 외부창호 필름 설치
A30: 단열필름 | B30: 0.5mm 2mil | C30: =수량산출!C53 -> 404 | D30: ㎡
A31: 단열필름재단 | C31: =수량산출!C53 -> 404 | D31: ㎡
A32: 단열필름시공 | C32: =수량산출!C53 -> 404 | D32: ㎡
B33: 소 계 | C33: =수량산출!C40 -> 4.75 | D33: ㎡ | E33: =G33+I33+K33 -> 0 | F33: =INT(H33+J33+L33) -> 0 | H33: =SUM(H30:H32) -> 0 | J33: =SUM(J30:J32) -> 0 | L33: =SUM(L30:L32) -> 0
A34: 컬러시트 설치
A35: 컬러시트 | B35: 1000mm | C35: =수량산출!C77 -> 29.11 | D35: ㎡
A36: 컬러시트컷팅 | C36: =수량산출!C77 -> 29.11 | D36: ㎡
A37: 컬러시트시공 | C37: =수량산출!C77 -> 29.11 | D37: ㎡
A38: 컬러시트철거 | C38: =수량산출!C77 -> 29.11 | D38: ㎡ | E38: =G38+I38+K38 -> 0 | F38: =SUM(H38+J38+L38) -> 0 | G38: =H7*50% -> 0 | H38: =G38*C38 -> 0 | K38: =L7*50% -> 0 | L38: =K38*C38 -> 0 | M38: 시공의50%
B39: 소 계 | F39: =INT(H39+J39+L39) -> 0 | H39: =SUM(H36:H38) -> 0 | J39: =SUM(J35:J37) -> 0 | L39: =SUM(L36:L38) -> 0
A40: 점자안내표찰 설치
A41: 점자안내판 | B41: 1mX0.8m | C41: =수량산출!C80 -> 1 | D41: ea
A42: 점자비상대피도 | B42: 400X300X5T | C42: =수량산출!C82 -> 1 | D42: ea
A43: 점자표찰시공 | C43: 2 | D43: ea
B44: 소 계 | F44: =INT(H44+J44+L44) -> 0 | H44: =SUM(H41:H43) -> 0 | J44: =SUM(J41:J43) -> 0 | L44: =SUM(L41:L43) -> 0

Sheet 수량산출
A1: 수 량 산 출 서
A2: 공 종 | B2: 산 출 내 역 | C2: 수 량
A3: 1. 외부창호 필름시공 | B3: 1층 창호 (10%할증)
B4: - 동쪽 창호
B5: 소 요 량 ] 0.9mX2.4mX4eaX1.1 | C5: =ROUNDDOWN(0.9*2.4*4*1.1,2) -> 9.5 | D5: ㎡
B6: 소 요 량 ] 0.95mX2.4mX2eaX1.1 | C6: =ROUNDDOWN(0.95*2.4*2*1.1,2) -> 5.01 | D6: ㎡
B7: 소 요 량 ] 0.6mX0.3mX28eaX1.1 | C7: =ROUNDDOWN(0.6*0.3*28*1.1,2) -> 5.54 | D7: ㎡
B8: - 남쪽 창호
B9: 소 요 량 ] 5.6mX2.4mX1.1 | C9: =ROUNDDOWN(5.6*2.4*1.1,2) -> 14.78 | D9: ㎡
B10: 소 요 량 ] 0.6mX0.3mX18eaX1.1 | C10: =ROUNDDOWN(0.6*0.3*18*1.1,2) -> 3.56 | D10: ㎡
B11: 소 요 량 ] 11mX2.4mX1.1 | C11: =ROUNDDOWN(11*2.4*1.1,2) -> 29.04 | D11: ㎡
B12: - 서쪽 창호
B13: 소 요 량 ] 19.2mX2.4mX1.1 | C13: =ROUNDDOWN(19.2*2.4*1.1,2) -> 50.68 | D13: ㎡
B14: 소 요 량 ] 4.7mX2.4mX1.1 | C14: =ROUNDDOWN(4.7*2.4*1.1,2) -> 12.4 | D14: ㎡
B15: - 1층 설치량 합계 ] | C15: =SUM(C5:C14) -> 130.51 | D15: ㎡
B16: 2층 창호 (10%할증)
B17: - 동쪽 창호
B18: 소 요 량 ] 7.5mX2.4mX1.1 | C18: =ROUNDDOWN(7.5*2.4*1.1,2) -> 19.8 | D18: ㎡
B19: 소 요 량 ] 15.4mX2.4mX1.1 | C19: =ROUNDDOWN(15.4*2.4*1.1,2) -> 40.65 | D19: ㎡
B20: - 남쪽 창호
B21: 소 요 량 ] 16.25mX2.4mX1.1 | C21: =ROUNDDOWN(16.25*2.4*1.1,2) -> 42.9 | D21: ㎡
B22: 소 요 량 ] 0.9mX2.4mX2X1.1 | C22: =ROUNDDOWN(0.9*2.4*2*1.1,2) -> 4.75 | D22: ㎡
B23: - 서쪽 창호
B24: 소 요 량 ] 1.9mX2.4mX6X1.1 | C24: =ROUNDDOWN(1.9*2.4*6*1.1,2) -> 30.09 | D24: ㎡
B25: 소 요 량 ] 0.6mX2.4mX1.1 | C25: =ROUNDDOWN(0.6*2.4*1.1,2) -> 1.58 | D25: ㎡
B26: - 북쪽(동아리실1,2) 창호
B27: 소 요 량 ] 3.6mX2.4mX2X1.1 | C27: =ROUNDDOWN(3.6*2.4*2*1.1,2) -> 19 | D27: ㎡
B28: - 2층 설치량 합계 ] | C28: =SUM(C18:C27) -> 158.77 | D28: ㎡
B29: 3층 창호 (10%할증)
B30: - 사무실 창호
B31: 소 요 량 ] 1.9mX2.4mX4X1.1 | C31: =ROUNDDOWN(1.9*2.4*4*1.1,2) -> 20.06 | D31: ㎡
B32: 소 요 량 ] 0.9mX2.4mX2X1.1 | C32: =ROUNDDOWN(0.9*2.4*2*1.1,2) -> 4.75 | D32: ㎡
B33: - 정리실 창호
B34: 소 요 량 ] 0.9mX2.4mX3X1.1 | C34: =ROUNDDOWN(0.9*2.4*3*1.1,2) -> 7.12 | D34: ㎡
B35: - 강당 창호
B36: 소 요 량 ] 0.9mX2.4mX4X1.1 | C36: =ROUNDDOWN(0.9*2.4*4*1.1,2) -> 9.5 | D36: ㎡
B37: 소 요 량 ] 1.9mX2.4mX1.1 | C37: =ROUNDDOWN(1.9*2.4*1.1,2) -> 5.01 | D37: ㎡
B38: 소 요 량 ] 0.6mX2.4mX1.1 | C38: =ROUNDDOWN(0.6*2.4*1.1,2) -> 1.58 | D38: ㎡
B39: - 메이커 페이스 창호
B40: 소 요 량 ] 0.9mX2.4mX2X1.1 | C40: =ROUNDDOWN(0.9*2.4*2*1.1,2) -> 4.75 | D40: ㎡
...

Sheet 자재단가
B1: 자 재 단 가 조 사 표
B2: 순번 | C2: 항목 | D2: 규격 | E2: 단위 | F2: 적용단가 | G2: 물가정보(2026.10월) | I2: 견적가1 | J2: 견적가2 | K2: 적용단가 | L2: 비 고
G3: 가격 | H3: page
B4: 1 | C4: 단열필름 | D4: 0.5mm 2mil | E4: ㎡ | F4: =G4 -> 65000 | G4: 65000 | H4: 565
B5: =B4+1 -> 2 | C5: 컬러시트 | D5: 1000mm | E5: ㎡ | F5: =I5 -> 0
B6: =B5+1 -> 3 | C6: 점자안내판 | D6: 900X750 | E6: ea | F6: =I6 -> 0
B7: 4 | C7: 점자비상대피도 | D7: 400X300X5T | E7: ea | F7: =I7 -> 0

Sheet 노임단가
A1: ㅇ 2026(하반기)건설노임단가
A2: 직 종 명 | B2: 단 위 | C2: 노 임 ( 원 ) | E2: 비 고
C3: 2026 상반기 | D3: 2026 하반기
A4: 형 틀 목 공 | B4: 인 | C4: 275790 | D4: 275379
A5: 철 공 | B5: " | C5: 239808 | D5: 243870
A6: 철 근 공 | B6: " | C6: 268187 | D6: 268932
A7: 비 계 공 | B7: " | C7: 281939 | D7: 284440
A8: 조 적 공 | B8: " | C8: 270807 | D8: 273229
A9: 미 장 공 | B9: " | C9: 277276 | D9: 279102
A10: 방 수 공 | B10: " | C10: 228286 | D10: 233163
A11: 콘크리트 공 | B11: " | C11: 273540 | D11: 276285
A12: 배 관 공 | B12: " | C12: 247897 | D12: 249073
A13: 보 온 공 | B13: " | C13: 217012 | D13: 222151
A14: 도 장 공 | B14: " | C14: 263017 | D14: 268225
A15: 도 배 공 | B15: " | C15: 227614 | D15: 229833
... A32: 줄 눈 공 | B32: " | C32: 211653 | D32: 212390

Sheet 위치도
A1: 현 장 위 치 도
