Workbook
Name __: #REF!
Name ___: #REF!
Name ____: #REF!
Name _____: #REF!
Name ______: #REF!
Name _______: #REF!
Name __________: #REF!
Name _____________0: #REF!
Name _____________11: #REF!
Name _____________12: #REF!
Name __________0: #REF!
Name __________11: #REF!
Name __________12: #REF!
Name _________0: #REF!
Name _________10: #REF!
Name _________11: #REF!
Name _________12: #REF!
Name ________0: #REF!
Name ________10: #REF!
Name ________11: #REF!
Name ________12: #REF!
Name _______0: #REF!
Name ______0: #REF!
Name ______11: #REF!
Name ______12: #REF!
Name _____0: #REF!
Name _____10: #REF!
Name _____11: #REF!
Name _____12: #REF!
Name ____0: #REF!
Name ____1: #REF!
Name ____10: #REF!
Name ____11: #REF!
Name ____12: #REF!
Name ____2: #REF!
Name ____3: #REF!
Name ____4: #REF!
Name ____5: #REF!
Name ____7: #REF!
Name ____8: #REF!
Name ____9: #REF!
Name ____CAD15: #REF!
Name ____CAD25: #REF!
Name ____PVC200: #REF!
Name ____PVC250: #REF!
Name ____PVC36: #REF!
Name ____예_가: #REF!
Name ___CAD15: #REF!
Name ___CAD25: #REF!
Name ___NMB96: #REF!
Name ___PVC200: #REF!
Name ___PVC250: #REF!
Name ___PVC36: #REF!
Name ___낙찰가: #REF!
Name ___설계가: #REF!
Name ___조사가: #REF!
Name __NMB96: #REF!
Name __NMB96: #REF!
Name __NMB96: #REF!
Name _\D: #REF!

Sheet 표지(결재)
B2: 2026년도
B6: 공사코드 : KR-EBD-26-015
B8: 공 사 명 : 고양차량기지 중정비검수고 천장 조명설비 개량공사
A12: 설 계 서
G15: 담당자 | H15: 팀 장 | I15: 전기처장 | J15: 본 부 장
N18: 한국철도공사 서울본부장

Sheet 표지
B4: 2026년도
B8: ='표지(결재)'!B6 -> 공사코드 : KR-EBD-26-015
B10: ='표지(결재)'!B8 -> 공 사 명 : 고양차량기지 중정비검수고 천장 조명설비 개량공사
A15: 설 계 서
N23: 한국철도공사 서울본부장 (인)

Sheet 설계서
B2: 2026년도
B7: ='표지(결재)'!B6:N6 -> 공사코드 : KR-EBD-26-015
B9: ='표지(결재)'!B8:O8 -> 공 사 명 : 고양차량기지 중정비검수고 천장 조명설비 개량공사
A13: 설 계 서
C20: 예산관리센터) | G20: 5000050 [서울-수탁(전기)-일반개량FC]
C22: 약 정 항 목 ) | G22: 51050251((일반개량)수선유지비-공비(안전)
C24: 단 위 사 업 ) | G24: E42011[시설개량/전기/전철전력/전력설비개량]
C26: 세 금 구 분) | G26: TA-V1[과세]
C28: 구 매 요 청 )

Sheet 목차
A3: 목 차
C7: 1. | D7: 설계설명서 | F7: ㆍㆍㆍㆍㆍㆍㆍㆍㆍㆍㆍㆍㆍㆍㆍㆍㆍㆍㆍㆍㆍㆍㆍㆍㆍㆍㆍㆍㆍㆍㆍ
C9: 2. | D9: 공사시방서 | F9: ㆍㆍㆍㆍㆍㆍㆍㆍㆍㆍㆍㆍㆍㆍㆍㆍㆍㆍㆍㆍㆍㆍㆍㆍㆍㆍㆍㆍㆍㆍㆍ
C11: 3. | D11: 예정공정표 | F11: ㆍㆍㆍㆍㆍㆍㆍㆍㆍㆍㆍㆍㆍㆍㆍㆍㆍㆍㆍㆍㆍㆍㆍㆍㆍㆍㆍㆍㆍㆍㆍ
C13: 4. | D13: 설계예산내역서 | F13: ㆍㆍㆍㆍㆍㆍㆍㆍㆍㆍㆍㆍㆍㆍㆍㆍㆍㆍㆍㆍㆍㆍㆍㆍㆍㆍㆍㆍㆍㆍㆍ
C15: 5. | D15: 공종별예산조서 | F15: ㆍㆍㆍㆍㆍㆍㆍㆍㆍㆍㆍㆍㆍㆍㆍㆍㆍㆍㆍㆍㆍㆍㆍㆍㆍㆍㆍㆍㆍㆍㆍ
C17: 6. | D17: 일위대가표 | F17: ㆍㆍㆍㆍㆍㆍㆍㆍㆍㆍㆍㆍㆍㆍㆍㆍㆍㆍㆍㆍㆍㆍㆍㆍㆍㆍㆍㆍㆍㆍㆍ
C19: 7. | D19: 지급자재조서 | F19: ㆍㆍㆍㆍㆍㆍㆍㆍㆍㆍㆍㆍㆍㆍㆍㆍㆍㆍㆍㆍㆍㆍㆍㆍㆍㆍㆍㆍㆍㆍㆍ
C21: 8. | D21: 철거발생품예정조서 | F21: ㆍㆍㆍㆍㆍㆍㆍㆍㆍㆍㆍㆍㆍㆍㆍㆍㆍㆍㆍㆍㆍㆍㆍㆍㆍㆍㆍㆍㆍㆍㆍ
C23: 9. | D23: 철도공사직원급내역서 | F23: ㆍㆍㆍㆍㆍㆍㆍㆍㆍㆍㆍㆍㆍㆍㆍㆍㆍㆍㆍㆍㆍㆍㆍㆍㆍㆍㆍㆍㆍㆍㆍ
C25: 10. | D25: 공사계약특수조건 | F25: ㆍㆍㆍㆍㆍㆍㆍㆍㆍㆍㆍㆍㆍㆍㆍㆍㆍㆍㆍㆍㆍㆍㆍㆍㆍㆍㆍㆍㆍㆍㆍ
C27: 11. | D27: 안전계약특수조건 | F27: ㆍㆍㆍㆍㆍㆍㆍㆍㆍㆍㆍㆍㆍㆍㆍㆍㆍㆍㆍㆍㆍㆍㆍㆍㆍㆍㆍㆍㆍㆍㆍ

Sheet 1.설명서
A1: 1. 설 계 설 명 서
B3: 가. 공 사 명 : | D3: 고양차량기지 중정비검수고 천장 조명설비 개량공사
B5: 나. 위 치 : | D5: 고양차량기지 중정비검수고(경기도 고양시 덕양구)
B7: 다. 목 적 : | D7: 본 공사는 고양차량기지 중정비검수고 구내의 노후 조명설비를 LED로 전면 개량하는 공사임
B10: 라. 공사개요
B11: - 주요 수량 : | D11: 투광등(고천정,벽부,방폭)×1,175개, 가로등×20개, 공원등×47개, 실내조명등(각종)×2,096개
D12: 가로등누전차단기×67개, 형광램프교체×434개, 배관배선 신설(전선관 67m, 절연전선 207m)
D13: 배선기구 교체(각종)×53개, 조명등 철거 1식(등기구 3,334개, 형광램프 434개)
D14: * 조명등 개량 3,334개, 신설 4개, 형광램프 교체 434개, 가로등용 누전차단기 67개, 배관배선 1식
B20: 마. 공사기간 : | D20: 100일
B22: 바. 공사 감독자 : 책임감리용역 시행

Sheet 2.시방서
A1: 2. 공 사 시 방 서
A2: Ⅰ. 일반시방서
B3: 1. 총 칙
B4: 가. 적용범위
B5: 1) 본 공사는 '고양차량기지 중정비검수고 천장 조명설비 개량공사'에 필요한 사항을 규정한다.
B6: 2) 본 공사를 시행함에 있어서 법령 또는 별도로 정한 규정 및 특이한 사항을 제외하고는 본 시방서, 설계서 및 설계
B7: 도면에 의하여 시공하여야 한다.
B8: 나. 시공계획
B9: 1) 공사시행에 있어 수급자는 공사 착공시에 한국철도공사 공사시행절차에 따른 관계서류를 감독부서에 제출하여야
B10: 한다.
B11: 다. 관계법 적용
B12: 1) 국가를 당사자로하는 계약에 관한 법률 및 시행령, 시행규칙, 회계예규
B13: 2) 철도안전법, 철도건설법, 산업안전보건법 및 시행령, 시행규칙, 산업안전기준에 관한 규칙
B14: 3) 전기사업법, 전기공사업법, 전력기술관리법 및 시행령, 시행규칙, 기준
... B173: 즉시 교체하여야 한다.
A175: Ⅱ. 안전시방서
A176: (공통) | B176: 본 공사는 열차가 빈번히 운행하는 장소에서 시행하는 관계로 안전사고 위험이 상존하고 있으므로, 시공업체 현장대리인
B177: 및 안전관리자는 다음 사항을 확인 이행 하여야 한다.
B178: 가. 안전 수칙에 따라 작업전 재해방지에 필요한 주의를 교육등으로 충분히 주지시키고 항상 안전관리에 유의하여야 한다.
B179: 나. 인적, 물적 사고가 발생하였을시는 즉시 감독자에게 보고하고 민·형사상의 모든 책임은 도급자가 지며 모든 경비도
B180: 도급자 부담으로 해결 또는 종결하여야 한다.
B181: 다. 수급자는 공사진행에 있어서 부근 거주자 및 통행자에게 소음, 진동 , 교통장애 및 분진등으로 생명, 신체 및 재산에
B182: 대한 불편이 없도록 주의하여 시공하여야 한다.
B183: 라. 도급자가 고용하는 시공 종사자가 신체적, 정신적 및 기능적으로 부당한 행위가 있을때에는 감독자가 즉시 그의 교체
B184: 를 요구 할 수 있으며 불안전한 자의 현장투입을 금하여야 한다.
B185: 마. 안전관리책임자가 장기출장할 때에는 후임자를 선정하고 감독자의 승인을 받아야 한다.
B186: 바. 도급자는 전선, 전력 케이블을 지하에 매설할 때에는 굴착공사 착수전에 상하수도, 도시가스, 통신 및 각종 케이블
B187: 등의 지장물에 대하여 위치, 용량, 상태등을 파악하여 재해가 발생되지 않도록 보안 대책을 수립 후 공사를 착공하
B188: 여야 한다.
... B354: (4) 시공단계에서 건설사업관리기술자는 시공자가 안전관리계획이 성실하게 수행되는지 내용을 확인
C355: * 위험장소 및 작업에 대한 안전조치 이행 여부 확인
B356: (5) 시공단계에서 안전관리담당자로 지정된 감리원은 작업현장에서 시공자의 안전관리자를 지도․감독
B357: (6) 공사현장 상주, 작업자를 작업장이동 및 철수시 직접 인솔
B358: (7) 출입문 취급관리
B359: 11) 공사감리원
B360: 가) 전력기술관리법 제14조에 따른 전력시설물의 공사감리업자에 소속되어 공사 감리업무를 수행하는 자
B361: 나) 감리원의 임무
B362: (1) 발주청 감독 권한대행 업무
B363: (2) 안전관리 계획에 대한 검토·확인, 그 밖에 안전관리 지도
B364: (3) 품질ㆍ안전 및 환경관리 실태의 확인
...

Sheet 2-1.시방서
A1: 2. 공 사 시 방 서
A2: Ⅶ.4.가. 안전보건수준 평가
B4: <붙임 2.1 안전보건수준평가 항목 및 기준>
A7: Ⅶ.4.나. 안전관리능력 평가
B9: <붙임 2.2 안전관리능력평가 항목 및 기준>
B12: * 계약업무처리 시행세칙 일부변경 공지
B13: 제33조(낙찰자 결정) ⑤ 사업부서에서는 중대재해처벌법에 따라 안전보건수준 또는 안전관리능력을 평가한 결과 부적합으로 판정되었을 때에는 1회에 한해 보완(통보일로부터 3일 이내)을 요청한 후 재평가하여야 하며, 계약부서에서는 적합으로 판정된 경우에만 낙찰자로 결정할 수 있다.

Sheet 3.공정표
A1: 3. 예 정 공 정 표
A4: NO | B4: 공 사 종 류 | C4: 단위 | D4: 수 량 | E4: 공 사 기 간(착공 후 100일) | Q4: 비 고
D5: 합계 | E5: 5 | F5: 10 | G5: =F5+10 -> 20 | H5: =G5+10 -> 30 | I5: =H5+10 -> 40 | J5: =I5+10 -> 50 | K5: =J5+10 -> 60 | L5: =K5+10 -> 70 | M5: =L5+10 -> 80 | N5: =M5+10 -> 90 | O5: 95 | P5: 100
A6: 1 | B6: 현장조사 및 재료준비 | C6: 식 | D6: 1
A8: 2 | B8: 조명등기구 철거/신설
AC9: : | AD9: 38 | AF9: m
B10: 투광등,가로등,공원등,실내조명등 외 | C10: 개 | D10: 3334 / 3338
AC11: : | AD11: 38 | AF11: m
A12: 3 | B12: 기타 조명설비 개량
AC13: : | AD13: 38 | AF13: m
B14: 형광램프 434개, 누전차단기 67개 | C14: 식 | D14: 1
AC15: : | AD15: 38 | AF15: m
A16: 4 | B16: 배관배선 신설
AC17: : | AD17: 38 | AF17: m
B18: 전선관 67m,절연전선 207m | C18: 식 | D18: 1
AC19: : | AD19: 38 | AF19: m
A20: 5 | B20: 배선기구 교체
AC21: : | AD21: 38 | AF21: m
B22: 스위치(각종) 53개 | C22: 식 | D22: 1
AC23: : | AD23: 38 | AF23: m
A24: 6 | B24: 준공검사 및 뒷정리 | C24: 식 | D24: 1

Sheet 4.예산내역서
A1: 공사명 : | B1: 고양차량기지 중정비검수고 천장 조명설비 개량공사
A3: 4. 설계 예산내역서
B5: 총 공 사 비 | D5: =SUM(D7:D17) -> 513803000
B6: 1 | C6: 도급공사비 | D6: 별 봉
B7: 2 | C7: 지급자재비(중앙조달)
B8: 3 | C8: 지급자재비(지방조달) | D8: 509773000
B9: 4 | C9: 지급자재비(중고품)
B10: 5 | C10: 지급자재비(충용품)
B11: 6 | C11: 철도공사제공기계기구사용료
B12: 7 | C12: 철도공사직원급
B13: 8 | C13: 한전표준시설부담금
B14: 9 | C14: 공사감독여비 | D14: ='9. 사원급 '!E5 -> 2500000
B15: 10 | C15: 준공검사여비 | D15: ='9. 사원급 '!E8 -> 100000
B16: 11 | C16: 계약수수료 | D16: ='9. 사원급 '!E11 -> 30000
B17: 12 | C17: 재해예방기술지도 | D17: ='9. 사원급 '!E13 -> 1400000

Sheet 5.공종별
A1: 5. 공종별 예산조서
A3: 공 사 종 류 | B3: 규 격 | C3: 수량 | E3: 재 료 비 | G3: 노 무 비 | I3: 공 구 손 료 | K3: 합 계 | M3: 비 고
E4: 단 가 | F4: 금 액 | G4: 단 가 | H4: 금 액 | I4: 단 가 | J4: 금 액 | K4: 단 가 | L4: 금 액
A5: 1. 조명등 신설 | B5: 각종 | C5: 식 | D5: 1
A6: 1-1. LED 등기구 TYPE"A" | B6: 매입평판 300*1200(M-BAR) 40W | C6: EA | D6: 901
A7: 1-2. LED 등기구 TYPE"B" | B7: 매입평판 600*600(M-BAR) 40W | C7: EA | D7: 91
A8: 1-3. LED 등기구 TYPE"C | B8: 직부등 레이스웨이 20W | C8: EA | D8: 502
A9: 1-4. LED 등기구 TYPE"D" | B9: 방습등(1200mm) 25W | C9: EA | D9: 247
A10: 1-5. LED 등기구 TYPE"E" | B10: 직부등(600mm) 20W | C10: EA | D10: 159
A11: 1-6. LED 등기구 TYPE"F" | B11: 6인치 다운라이트 12W | C11: EA | D11: 180
A12: 1-7. LED 등기구 TYPE"G" | B12: 8인치 다운라이트 30W | C12: EA | D12: 9
A13: 1-8. LED 등기구 TYPE"H" | B13: 원형투광등 150W(고천정) | C13: EA | D13: 1157
A14: 1-9. LED 등기구 TYPE"I" | B14: 방폭등 100W | C14: EA | D14: 8
A15: 1-10. LED 등기구 TYPE"J" | B15: 형광램프 FL32W | C15: EA | D15: 434
A16: 1-11. LED 등기구 TYPE"K" | B16: 사각투광등 100W(벽부) | C16: EA | D16: 4
... A21: 1-16. 가로등용 누전차단기 | B21: 방수형 30AF/15A 2.5KA, IP67 | C21: EA | D21: 67
A22: 소 계(1)
A24: 2. 배관배선 신설 | B24: 각종 | C24: 식 | D24: 1
A25: 2-1. 나사없는전선관 | B25: E19(16C) | C25: m | D25: 67
A26: 2-2. 내열비닐절연전선 | B26: HFIX 2.5㎟-단선 | C26: m | D26: 207
A27: 2-3. 나사없는 전선관(부속품) | B27: 커플링 E19(16C) | C27: EA | D27: 16.75
A28: 2-4. 노말밴드(나사없는 전선관용) | B28: E19(16C) | C28: EA | D28: 1
A29: 2-5. 아우트렛박스 | B29: 중형4각 54㎜ | C29: EA | D29: 5
A30: 2-6. 연결용박스 | B30: 4각 54㎜(100*100*50) | C30: EA | D30: 3
A31: 2-7. 스트롱앵커 | B31: 3/8" | C31: EA | D31: 67
A32: 2-8. U CHANNEL | B32: 41x41x2.6t | C32: m | D32: 6.7
A33: 2-9. 행거클램프 | B33: 16C | C33: EA | D33: 33.5
A34: 소 계(2)
A36: 3. 배선기구 신설 | B36: 각종 | C36: 식 | D36: 1
A37: 3-1. 텀블러 스위치 | B37: 2P 15A 250V 1구 | C37: EA | D37: 13
A38: 3-2. 텀블러 스위치 | B38: 2P 15A 250V 2구 | C38: EA | D38: 10
A39: 3-3. 텀블러 스위치 | B39: 2P 15A 250V 3구 | C39: EA | D39: 24
A40: 3-4. 텀블러 스위치 | B40: 2P 15A 250V 4구 | C40: EA | D40: 5
A41: 3-5. 텀블러 스위치 | B41: 2P 15A 250V 5구 | C41: EA | D41: 1
A42: 소 계(3) | F42: =SUM(F6:F39) -> 0 | H42: =SUM(H6:H39) -> 0 | J42: =SUM(J6:J39) -> 0 | L42: =F42+H42+J42 -> 0
A44: 4. 조명등 철거 | B44: 각종 | C44: 식 | D44: 1
A45: 4-1. 형광등기구 TYPE"FL-A" 철거 | B45: 매입 FL32W*2(300*1200) | C45: EA | D45: 901
A46: 4-2. 형광등기구 TYPE"FL-C" 철거 | B46: 매입 FPL36W*3(600*600) | C46: EA | D46: 91
A47: 4-3. 형광등기구 TYPE"FL-E" 철거 | B47: 벽부 FL32W*1 | C47: EA | D47: 16
A48: 4-4. 형광등기구TYPE"FL-F1" 철거 | B48: 방진방습 FL32W*1 | C48: EA | D48: 247
...

Sheet 6.일위대가표
A1: 6. 일 위 대 가 표
A3: 공 사 종 류 | B3: 규 격 | C3: 단위 | D3: 수 량 | E3: 단 가 | F3: 금 액 | G3: 비 고
A5: 1-1. LED 등기구 TYPE"A" | B5: 매입평판 300*1200(M-BAR) 40W | C5: EA | D5: 1
A6: 가. 재 료 비
A7: LED 등기구 TYPE"A" | B7: 매입평판 300*1200(M-BAR) 40W | C7: EA | D7: 1
A8: 나. 노 무 비 | B8: 내선전공 | C8: 인 | D8: 0.236
A9: 다. 공구손료 | B9: 노무비의 3% | C9: 식 | D9: 3%
A10: 합 계
A12: 1-2. LED 등기구 TYPE"B" | B12: 매입평판 600*600(M-BAR) 40W | C12: EA | D12: 1
A13: 가. 재 료 비
A14: LED 등기구 TYPE"B" | B14: 매입평판 600*600(M-BAR) 40W | C14: EA | D14: 1
A15: 나. 노 무 비 | B15: 내선전공 | C15: 인 | D15: 0.236
A16: 다. 공구손료 | B16: 노무비의 3% | C16: 식 | D16: 3%
A17: 합 계
A19: 1-3. LED 등기구 TYPE"C | B19: 직부등 레이스웨이 20W | C19: EA | D19: 1
A20: 가. 재 료 비
A21: LED 등기구 TYPE"C | B21: 직부등 레이스웨이 20W | C21: EA | D21: 1
A22: 나. 노 무 비 | B22: 내선전공 | C22: 인 | D22: 0.124
A23: 다. 공구손료 | B23: 노무비의 3% | C23: 식 | D23: 3%
A24: 합 계
A26: 1-4. LED 등기구 TYPE"D" | B26: 방습등(1200mm) 25W | C26: EA | D26: 1
A27: 가. 재 료 비
A28: LED 등기구 TYPE"D" | B28: 방습등(1200mm) 25W | C28: EA | D28: 1
A29: 나. 노 무 비 | B29: 내선전공 | C29: 인 | D29: 0.124
A30: 다. 공구손료 | B30: 노무비의 3% | C30: 식 | D30: 3%
A31: 합 계
A33: 1-5. LED 등기구 TYPE"E" | B33: 직부등(600mm) 20W | C33: EA | D33: 1
A34: 가. 재 료 비
A35: LED 등기구 TYPE"E" | B35: 직부등(600mm) 20W | C35: EA | D35: 1
A36: 나. 노 무 비 | B36: 내선전공 | C36: 인 | D36: 0.124
A37: 다. 공구손료 | B37: 노무비의 3% | C37: 식 | D37: 3%
A38: 합 계
A40: 1-6. LED 등기구 TYPE"F" | B40: 6인치 다운라이트 12W | C40: EA | D40: 1
A41: 가. 재 료 비
A42: LED 등기구 TYPE"F" | B42: 6인치 다운라이트 12W | C42: EA | D42: 1
A43: 나. 노 무 비 | B43: 내선전공 | C43: 인 | D43: 0.139
A44: 다. 공구손료 | B44: 노무비의 3% | C44: 식 | D44: 3%
A45: 합 계
A47: 1-7. LED 등기구 TYPE"G" | B47: 8인치 다운라이트 30W | C47: EA | D47: 1
A48: 가. 재 료 비
...

Sheet 7.지급자재
A1: 7. 지 급 자 재 조 서
A2: 구분 | B2: 자재내역 | D2: 단위 | E2: 수량 | F2: 단가 | G2: 금액 | H2: 인 도 지 | P2: 비 고
H3: 고양차량기지 중정비동
A4: 1 | B4: LED 등기구 TYPE"A" | C4: 매입평판 300*1200(M-BAR) 40W | D4: EA | E4: 901 | P4: 납품도
A5: 2 | B5: LED 등기구 TYPE"B" | C5: 매입평판 600*600(M-BAR) 40W | D5: EA | E5: 91 | P5: 납품도
A6: 3 | B6: LED 등기구 TYPE"C | C6: 직부등 레이스웨이 20W | D6: EA | E6: 502 | P6: 납품도
A7: 4 | B7: LED 등기구 TYPE"D" | C7: 방습등(1200mm) 25W | D7: EA | E7: 247 | P7: 납품도
A8: 5 | B8: LED 등기구 TYPE"E" | C8: 직부등(600mm) 20W | D8: EA | E8: 159 | P8: 납품도
A9: 6 | B9: LED 등기구 TYPE"F" | C9: 6인치 다운라이트 12W | D9: EA | E9: 180 | P9: 납품도
A10: 7 | B10: LED 등기구 TYPE"G" | C10: 8인치 다운라이트 30W | D10: EA | E10: 9 | P10: 납품도
A11: 8 | B11: LED 등기구 TYPE"H" | C11: 원형투광등 150W(고천정) | D11: EA | E11: 1157 | P11: 납품도
A12: 9 | B12: LED 등기구 TYPE"I" | C12: 방폭등 100W | D12: EA | E12: 8 | P12: 납품도
A13: 10 | B13: LED 등기구 TYPE"K" | C13: 사각투광등 100W(벽부) | D13: EA | E13: 4 | P13: 납품도
A14: 11 | B14: LED 등기구 TYPE"L" | C14: 공원등 50W(원형) | D14: EA | E14: 47 | P14: 납품도
A15: 12 | B15: LED 등기구 TYPE"M" | C15: 가로등 100W | D15: EA | E15: 20 | P15: 납품도
... A17: 14 | B17: LED 등기구 TYPE"O" | C17: 원형직부센서등 15W | D17: EA | E17: 7 | P17: 납품도
B18: 합 계 | C18: 12품목 | E18: =SUM(E4:E17) -> 3338

Sheet 8.철거발생품
A1: 8. 철거발생품 예정조서
A2: 품 명 | B2: 규 격 | C2: 단위 | D2: 수량 | E2: 발 생 내 역 | K2: 비 고
E3: 사용가능 (반납) | F3: 사용불능 (충용) | G3: 사용불능 (공단이관) | H3: 사용불가 (폐기) | I3: 사용불가 (매각) | J3: 사용불가 (감손)
A4: <조명등기구>
A5: 형광등기구 TYPE"FL-A" 철거 | B5: 매입 FL32W*2(300*1200) | C5: EA | D5: 901 | H5: 115 | K5: 작업부산물(폐기)
A6: 형광등기구 TYPE"FL-C" 철거 | B6: 매입 FPL36W*3(600*600) | C6: EA | D6: 91 | H6: 42 | K6: 작업부산물(폐기)
A7: 형광등기구 TYPE"FL-E" 철거 | B7: 벽부 FL32W*1 | C7: EA | D7: 16 | H7: 11 | K7: 작업부산물(폐기)
A8: 형광등기구TYPE"FL-F1" 철거 | B8: 방진방습 FL32W*1 | C8: EA | D8: 247 | H8: 223 | K8: 작업부산물(폐기)
A9: 형광등기구 TYPE"FL-G" 철거 | B9: PP FL32W*2 | C9: EA | D9: 72 | H9: 50 | K9: 작업부산물(폐기)
A10: 형광등기구 TYPE"FL-H" 철거 | B10: 레이스웨이 FL32W*2 | C10: EA | D10: 414 | H10: 176 | K10: 작업부산물(폐기)
A11: 형광등기구 TYPE"FL-I" 철거 | B11: 벽부방습 FPL36W*1 | C11: EA | D11: 9 | H11: 8 | K11: 작업부산물(폐기)
A12: 백열등기구 TYPE"FUL-A" 철거 | B12: D/L FUL 2/13W | C12: EA | D12: 180 | H12: 162 | K12: 작업부산물(폐기)
A13: 백열등기구 TYPE"IL-B" 철거 | B13: 직부방습등 EL23W | C13: EA | D13: 150 | H13: 1 | K13: 작업부산물(폐기)
A14: 천장매입등 TYPE"HQI-A" 철거 | B14: D/L 8" HQI 250W | C14: EA | D14: 9 | H14: 9 | K14: 작업부산물(폐기)
A15: 투광등기구 TYPE"MH-A" 철거 | B15: 체인 PENDANT MH400W(10m) | C15: EA | D15: 1157 | H15: 1157 | K15: 작업부산물(폐기)
A16: 방폭등기구 TYPE"IL-S" 철거 | B16: 천장직부 주물방폭 EL35W | C16: EA | D16: 8 | H16: 8 | K16: 작업부산물(폐기)
... A20: 백열등기구 TYPE"IL-E" 철거 | B20: 원형센서등 IL60W | C20: EA | D20: 7 | H20: 20 | K20: 작업부산물(폐기)
A21: <형광램프>
A22: 형광등 TYPE"FL-S" | B22: 형광등 FL 32W/3 | C22: EA | D22: 434 | H22: 434 | K22: 작업부산물(폐기)
A23: <배선기구>
A24: 텀블러스위치 | B24: 2P 15A 250V 1구 | C24: EA | D24: 13 | H24: 13 | K24: 작업부산물(폐기)
A25: 텀블러스위치 | B25: 2P 15A 250V 2구 | C25: EA | D25: 10 | H25: 10 | K25: 작업부산물(폐기)
A26: 텀블러스위치 | B26: 2P 15A 250V 3구 | C26: EA | D26: 24 | H26: 24 | K26: 작업부산물(폐기)
A27: 텀블러스위치 | B27: 2P 15A 250V 4구 | C27: EA | D27: 5 | H27: 5 | K27: 작업부산물(폐기)
A28: 텀블러스위치 | B28: 2P 15A 250V 5구 | C28: EA | D28: 1 | H28: 1 | K28: 작업부산물(폐기)

Sheet 9. 사원급 
A1: 9. 철도공사 직원급 내역서
A3: 구 분 | B3: 단 위 | C3: 수 량 | D3: 단 가 | E3: 금 액 | F3: 비 고
A4: 1. 공 사 감 독 여 비
A5: 전기통신3급 | B5: 인 | C5: 50 | D5: 50000 | E5: =C5*D5 -> 2500000
A7: 2. 준 공 검 사 여 비
A8: 전기통신3급 | B8: 인 | C8: 2 | D8: 50000 | E8: =C8*D8 -> 100000
A10: 3. 계약수수료
A11: 나라장터이용수수료 | B11: 식 | C11: 1 | D11: 30000 | E11: =C11*D11 -> 30000
A13: 4. 재해예방기술지도 | B13: 회 | C13: 7 | D13: 200000 | E13: =C13*D13 -> 1400000
A22: 합 계 | E22: =E5+E8+E11+E13 -> 4030000

Sheet 10.안전계약특수조건(별첨)
A1: 11. 안전계약 특수조건
D4: [별첨] 안전계약 특수조건(개정 2026.03.07, 안전규범 제14호)
