Workbook

Sheet 겉표지
A1: =표지!A1 -> 見 積 書 | Z1: 견적가로형식-1
C18: 件 名: | D18: =표지!C13 -> 장평중 모듈러 공사
C20: 提 出 處: | D20: =표지!C4 -> 貴下
C22: 提 出 日: | D22: =표지!C6 -> 2026년 10월 31일
D36: =표지!I3 -> 대 한 민 국 주 식 회 사
D37: =표지!I4
D38: =표지!I5 -> ㅇ ㅇ 시 ㅇ ㅇ 구 ㅇ ㅇ 동
D39: =표지!I6
D40: =표지!I7 -> 대표이사 홍 길 동
D41: =표지!I8
D42: =표지!I9 -> 대표전화 (02) 0 0 0 - 0 0 0 0
D43: =표지!I10
D44: =표지!I11 -> 팩 스 (02) 0 0 0 - 0 0 0 0
D45: =표지!I12
D46: =표지!I13

Sheet 표지
A1: 見 積 書
I3: 대 한 민 국 주 식 회 사
B4: 제 출 처: | C4: 貴下
I5: ㅇ ㅇ 시 ㅇ ㅇ 구 ㅇ ㅇ 동
B6: 제 출 일: | C6: 2026년 10월 31일
I7: 대표이사 홍 길 동
B8: 아래와 같이 見積書를 제출합니다.
I9: 대표전화 (02) 0 0 0 - 0 0 0 0
I11: 팩 스 (02) 0 0 0 - 0 0 0 0
B13: 공 사 명: | C13: 장평중 모듈러 공사
B15: 공사금액: | C15: ="一金"&NUMBERSTRING(F40,2)&"원整("&DOLLAR(F40,0)&")" -> 一金零원整(₩0)
B17: 내 용 | D17: 단위 | E17: 수량 | F17: 금 액 | H17: 비 고 | M17: 요율 | N17: 금액 | O17: 이윤 | P17: 끝자리맞추기
B18: 재 료 비 | D18: 식 | E18: 1 | F18: =옵션!$B$2 -> 0 | N18: =E18*F18 -> 0
B19: 노 무 비 | D19: 식 | E19: 1 | F19: =옵션!$C$2 -> 0 | N19: =E19*F19 -> 0
B20: 간 접 노 무 비 | D20: 식 | E20: 1 | F20: =TRUNC((F19)*M20/100) -> 0 | H20: (직접 노무비) * 17.9 % | M20: 17.9 | N20: =E20*F20 -> 0
B21: ( 소 계 ) | F21: =SUM(F18:F20) -> 0 | N21: =E21*F21 -> 0
B22: 기 계 경 비 | D22: 식 | E22: 1 | F22: =옵션!$D$2 -> 0 | N22: =E22*F22 -> 0
B23: 산 재 보 험 료 | D23: 식 | E23: 1 | F23: =TRUNC((F19+F20)*M23/100) -> 0 | H23: (노무비) * 3.56 % | M23: 3.56 | N23: =E23*F23 -> 0
B24: 고 용 보 험 료 | D24: 식 | E24: 1 | F24: =TRUNC((F19+F20)*M24/100) -> 0 | H24: (노무비) * 1.01 % | M24: 1.01 | N24: =E24*F24 -> 0
B25: 건 강 보 험 료 | D25: 식 | E25: 1 | F25: =TRUNC((F19)*M25/100) -> 0 | H25: (직접 노무비) * 3.595 % | M25: 3.595 | N25: =E25*F25 -> 0
B26: 연 금 보 험 료 | D26: 식 | E26: 1 | F26: =TRUNC((F19)*M26/100) -> 0 | H26: (직접 노무비) * 4.75 % | M26: 4.75 | N26: =E26*F26 -> 0
B27: 퇴 직 금 공 제 | D27: 식 | E27: 1 | F27: =TRUNC((F19)*M27/100) -> 0 | H27: (직접 노무비) * 2.3 % | M27: 2.3 | N27: =E27*F27 -> 0
B28: 안 전 관 리 비 | D28: 식 | E28: 1 | F28: =TRUNC((F18+F19+0/1.1)*M28/100) -> 0 | H28: (재료+직노+관급재/1.1) * 3.11 % | M28: 3.11 | N28: =E28*F28 -> 0
B29: 기 타 경 비 | D29: 식 | E29: 1 | F29: =TRUNC((F21)*M29/100) -> 0 | H29: (재료+노무) * 5.2 % | M29: 5.2 | N29: =E29*F29 -> 0
B30: 법 정 분 담 금 | D30: 식 | E30: 1 | F30: =TRUNC((F19+F20)*M30/100) -> 0 | H30: (노무비) * 0.096 % | M30: 0.096 | N30: =E30*F30 -> 0
B31: 노인장기요양보험 | D31: 식 | E31: 1 | F31: =TRUNC((F25)*M31/100) -> 0 | H31: (건강 보험료) * 13.14 % | M31: 13.14 | N31: =E31*F31 -> 0
B32: ( 소 계 ) | F32: =SUM(F22:F31) -> 0 | N32: =E32*F32 -> 0
B33: 일 반 관 리 비 | D33: 식 | E33: 1 | F33: =TRUNC((F21+F32)*M33/100) -> 0 | H33: (재료+노무+경비) * 8 % | M33: 8 | N33: =E33*F33 -> 0
B34: 이 윤 | D34: 식 | E34: 1 | F34: =O34-((SUM(N18:N33)+O34-TRUNC((SUM(N18:N33)+O34)/P34)*P34)) -> 0 | H34: (노무+경비+일반관리비) * 15 % | M34: 15 | N34: =E34*F34 -> 0 | O34: =TRUNC((F19+F20+F32+F33)*M34/100) -> 0 | P34: 100000
B35: ( 총 원 가 ) | F35: =SUM(N18:N34) -> 0 | N35: =E35*F35 -> 0
B36: 부 가 가 치 세 | D36: 식 | E36: 1 | F36: =TRUNC((F35)*M36/100) -> 0 | M36: 10 | N36: =E36*F36 -> 0
N37: =E37*F37 -> 0
N38: =E38*F38 -> 0
N39: =E39*F39 -> 0
B40: ( 총 계 ) | F40: =N40 -> 0 | N40: =SUM(N18:N39) -> 0
B41: 1. 부가가치세 별도
B42: 2. 한전불입금 별도

Sheet 원가
A1: 원 가 계 산 서
A3: 공사명: | C3: 장평중 모듈러 공사 | E3: 공사기간:1개월 미만
A4: 비 목 | C4: 구 분 | D4: 금 액 | E4: 구 성 비 | I4: 요율 | J4: 수량 | K4: 금액 | L4: 이윤 | M4: 끝자리 맞추기
B5: 재 료 비 | C5: 직 접 재 료 비 | J5: 1 | K5: =D5*J5 -> 0
C6: 간 접 재 료 비 | K6: =D6*J6 -> 0
C7: ( 소 계 ) | K7: =D7*J7 -> 0
A8: 순 | B8: 노 무 비 | C8: 직 접 노 무 비 | J8: 1 | K8: =D8*J8 -> 0
C9: 간 접 노 무 비 | E9: (직접 노무비) * 17.5 % | I9: 17.5 | J9: 1 | K9: =D9*J9 -> 0
C10: ( 소 계 ) | K10: =D10*J10 -> 0
C11: 기 계 경 비 | J11: 1 | K11: =D11*J11 -> 0
C12: 산 재 보 험 료 | E12: (노무비) * 3.56 % | I12: 3.56 | J12: 1 | K12: =D12*J12 -> 0
A13: 공 | C13: 고 용 보 험 료 | E13: (노무비) * 1.01 % | I13: 1.01 | J13: 1 | K13: =D13*J13 -> 0
B14: 경 | C14: 퇴 직 금 공 제 | E14: (직접 노무비) * 2.3 % | I14: 2.3 | J14: 1 | K14: =D14*J14 -> 0
C15: 안 전 관 리 비 | E15: (재료+직노+관급재/1.1) * 2.07 % | I15: 2.07 | J15: 1 | K15: =D15*J15 -> 0
C16: 기 타 경 비 | E16: (재료+노무) * 5 % | I16: 5 | J16: 1 | K16: =D16*J16 -> 0
C17: 법 정 분 담 금 | E17: (노무비) * 0.096 % | I17: 0.096 | J17: 1 | K17: =D17*J17 -> 0
A18: 사
K21: =D21*J21 -> 0
B22: 비 | K22: =D22*J22 -> 0
A23: 비 | K23: =D23*J23 -> 0
K24: =D24*J24 -> 0
C25: ( 소 계 ) | K25: =D25*J25 -> 0
B26: ( 순 공 사 비 계 ) | K26: =D26*J26 -> 0
A27: 일 반 관 리 비 | E27: (재료+노무+경비) * 8 % | I27: 8 | J27: 1 | K27: =D27*J27 -> 0
A28: 이 윤 | E28: (노무+경비+일반관리비) * 15 % | I28: 15 | J28: 1 | K28: =D28*J28 -> 0 | L28: =TRUNC((D10+D25+D27)*I28/100) -> 0 | M28: 100000
A29: ( 총 원 가 ) | K29: =D29*J29 -> 0
A30: 부 가 가 치 세 | I30: 10 | J30: 1 | K30: =D30*J30 -> 0
A31: 공사손해보험료 | E31: (총원가) * 0.26477 % | I31: 0.0026477 | J31: 1 | K31: 720703.94
K32: =D32*J32 -> 0
K33: =D33*J33 -> 0
K34: =D34*J34 -> 0
A35: ( 총 계 ) | E35: 천단위 절삭 | K35: =SUM(K5:K34) -> 720703.94

Sheet 총괄표
A1: 총줄수-> | B1: 29 | C1: 2.0 | D1: [ 장평중 모듈러 공사 ] | AA1: 연속견적가로형식
A2: 번호 | B2: 공종코드 | C2: … | D2: 공 종 명 | E2: 규격 | F2: 단위 | G2: 수량 | H2: 재료비 | J2: 노무비 | M2: 경비 | P2: 계 | Q2: 비고
H3: 단가 | I3: 금액 | J3: 수량 | K3: 단가 | L3: 금액 | M3: 단가 | N3: 금액 | O3: 단가
B4: 공종줄 | D4: [장평중 모듈러 공사]
B5: 001 | D5: 1. 전기공사 | F5: 식 | G5: 1
I7: =G7*H7 -> 0 | L7: =G7*K7 -> 0 | N7: =G7*M7 -> 0 | P7: =SUM(I7,L7,N7) -> 0
I8: =G8*H8 -> 0 | L8: =G8*K8 -> 0 | N8: =G8*M8 -> 0 | P8: =SUM(I8,L8,N8) -> 0
I9: =G9*H9 -> 0 | L9: =G9*K9 -> 0 | N9: =G9*M9 -> 0 | P9: =SUM(I9,L9,N9) -> 0
I10: =G10*H10 -> 0 | L10: =G10*K10 -> 0 | N10: =G10*M10 -> 0 | P10: =SUM(I10,L10,N10) -> 0
I11: =G11*H11 -> 0 | L11: =G11*K11 -> 0 | N11: =G11*M11 -> 0 | P11: =SUM(I11,L11,N11) -> 0
I12: =G12*H12 -> 0 | L12: =G12*K12 -> 0 | N12: =G12*M12 -> 0 | P12: =SUM(I12,L12,N12) -> 0
I13: =G13*H13 -> 0 | L13: =G13*K13 -> 0 | N13: =G13*M13 -> 0 | P13: =SUM(I13,L13,N13) -> 0
I14: =G14*H14 -> 0 | L14: =G14*K14 -> 0 | N14: =G14*M14 -> 0 | P14: =SUM(I14,L14,N14) -> 0
I15: =G15*H15 -> 0 | L15: =G15*K15 -> 0 | N15: =G15*M15 -> 0 | P15: =SUM(I15,L15,N15) -> 0
I16: =G16*H16 -> 0 | L16: =G16*K16 -> 0 | N16: =G16*M16 -> 0 | P16: =SUM(I16,L16,N16) -> 0
I17: =G17*H17 -> 0 | L17: =G17*K17 -> 0 | N17: =G17*M17 -> 0 | P17: =SUM(I17,L17,N17) -> 0
I18: =G18*H18 -> 0 | L18: =G18*K18 -> 0 | N18: =G18*M18 -> 0 | P18: =SUM(I18,L18,N18) -> 0
... I28: =G28*H28 -> 0 | L28: =G28*K28 -> 0 | N28: =G28*M28 -> 0 | P28: =SUM(I28,L28,N28) -> 0
C29: Total | D29: ( 합 계 ) | I29: =TRUNC(SUM(I4:I28)) -> 0 | L29: =TRUNC(SUM(L4:L28)) -> 0 | N29: =TRUNC(SUM(N4:N28)) -> 0 | P29: =TRUNC(SUM(P4:P28)) -> 0

Sheet 내역서
A1: 총줄수-> | B1: 29 | C1: 2.0 | D1: [ 장평중 모듈러 공사 ] | W1: 노임 계산 정보 | AA1: 부속재 및 손료
A2: 번호 | B2: 공종코드 | C2: 코드 | D2: 명 칭 | E2: 규 격 | F2: 단위 | G2: 수량 | H2: 재료비 | J2: 노무비 | M2: 경비 | P2: 계 | Q2: 비고 | W2: 노임계 | X2: 전체(%) | Y2: 공종별(%) | Z2: 노임 소수 | AA2: CD배관재 | AB2: 일반배관재 | AC2: 소모재 | AD2: 자재계 | AE2: 노임계
H3: 단가 | I3: 금액 | J3: 수량 | K3: 단가 | L3: 금액 | M3: 단가 | N3: 금액 | O3: 단가 | AD3: =IF(옵션!$C$11 =0, "1", 옵션!$C$11) -> 1 | AE3: =IF(옵션!$C$12 =0, "1", 옵션!$C$12) -> 1
B4: 공종줄 | D4: 1.전기공사
A5: 5975A337010 | B5: 001 | C5: EDA12100100S | D5: 강제전선관 | E5: 아연도 104 mm | F5: m | G5: 84.5 | AB5: =G5*H5 -> 0 | AC5: =G5*H5 -> 0
A6: E145A287515 | B6: 001 | C6: EE1450287515 | D6: 폴리에틸렌 난연케이블 | E6: 0.6/1kv F-CV 1C×185㎟ | F6: m | G6: 960 | AC6: =G6*H6 -> 0
A7: E145A287512 | B7: 001 | C7: EE1450287512 | D7: 폴리에틸렌 난연케이블 | E7: 0.6/1kv F-CV 1C×95㎟ | F7: m | G7: 1824 | AC7: =G7*H7 -> 0
A8: E145A927215 | B8: 001 | C8: EE1450927215 | D8: 접지용비닐절연전선(F-GV) | E8: 185㎟ | F8: m | G8: 120 | AC8: =G8*H8 -> 0
A9: E145A927212 | B9: 001 | C9: EE1450927212 | D9: 접지용비닐절연전선(F-GV) | E9: 95㎟ | F9: m | G9: 228 | AC9: =G9*H9 -> 0
A10: 59759017119 | B10: 001 | C10: 3913170810036365 | D10: 강제전선관용 부품 | E10: 파이프행거, 104 C | F10: 개 | G10: 84.5
A11: E940A267013 | B11: 001 | C11: EE9400267013 | D11: 압착단자 | E11: R형동선 나압착 185 ㎟ | F11: 개 | G11: 1
A12: E940A267011 | B12: 001 | C12: EE9400267011 | D12: 압착단자 | E12: R형동선 나압착 95 ㎟ | F12: 개 | G12: 2
A13: E940A177009 | B13: 001 | C13: EE9400177009 | D13: 러그단자 | E13: 동관단자 1 HOLE 185 ㎟ | F13: 개 | G13: 8
A14: 56959000005 | B14: 001 | C14: EMM459370629 | D14: 러그단자 | E14: 동관단자 1 HOLE 120 ㎟ | F14: 개 | G14: 16
A15: 5975D857281 | B15: 001 | C15: E59753857281 | D15: 풀박스 | E15: 1200×1200×500 | F15: 개 | G15: 4
A16: 5975D857211 | B16: 001 | C16: E59753857211 | D16: 풀박스 | E16: 600×600×300 | F16: 개 | G16: 3
A17: 5975D178007 | B17: 001 | C17: E59753178007 | D17: 파상형 폴리에틸렌 전선관 | E17: 125㎜ | F17: m | G17: 67 | AB17: =G17*H17 -> 0 | AC17: =G17*H17 -> 0
A18: 5975D178006 | B18: 001 | C18: E59753178006 | D18: 파상형 폴리에틸렌 전선관 | E18: 100㎜ | F18: m | G18: 122 | AB18: =G18*H18 -> 0 | AC18: =G18*H18 -> 0
A19: 56959000004 | B19: 001 | C19: EMM300018002 | D19: 배선용차단기(ABN-604) | E19: 4P 600AF500AT | F19: EA | G19: 1
A20: 56959000002 | B20: 001 | C20: EMM300017702 | D20: 배선용차단기(ABN-403) | E20: 4P 400AF300AT | F20: EA | G20: 1
A21: 56959000003 | B21: 001 | C21: EMM300017703 | D21: 배선용차단기(ABN-403) | E21: 4P 400AF350AT | F21: EA | G21: 1
A22: 56953100908 | B22: 001 | C22: EAB110220000 | D22: 벽관통 구멍(코어드릴) | E22: Φ50-벽두께 25cm | F22: 개소 | G22: 4
A23: 56930220020 | B23: 001 | C23: ABB103200000 | D23: 터파기(기계80%,인력20%) | E23: 보통토사 | F23: ㎥ | G23: 73.8
A24: CDH11000002 | B24: 001 | C24: CDH110000020 | D24: 되메우기 및 다짐 | E24: 소형장비 | F24: m3 | G24: 73.8
A25: 56959000001 | B25: 001 | C25: EMM525000006 | D25: 케이블(옥외용) | E25: SM 9/125, 12c | F25: m | G25: 39.5 | AC25: =G25*H25 -> 0
A26: 5975D857061 | B26: 001 | C26: E59753857061 | D26: 풀박스 | E26: 200×200×100 | F26: 개 | G26: 1
A27: 56959000006 | B27: 001 | C27: EMM300041216 | D27: 이차 랙크 1P | F27: 개 | G27: 2
D28: 전선관 보호 덮개 | E28: 전선관 보호 과속방지턱 | F28: 개 | G28: 2 | AE28: =TRUNC(SUM(AE4:AE27)) -> 0
B29: 합계줄 | D29: ( 합 계 )

Sheet 합산자재
A1: 총줄수-> | B1: 55 | C1: [ 장평중 모듈러 공사 ] - 합산자재목록
A2: 번호 | B2: … | C2: 코드 | D2: 명 칭 | E2: 규 격 | F2: 단위 | G2: 수량 | H2: 재료비 | I2: 노무비 | J2: 경비 | K2: 지급비 | L2: 계 | M2: 비고
C4: 3913170610034841 | D4: 강제전선관 | E4: 아연도 104 mm | F4: m | G4: 92.95 | H4: =TRUNC(#REF!*옵션!$D$11) -> #REF! | L4: =SUM(H4,I4,J4) -> #REF!
C5: 3913170610045636 | D5: 파상형 폴리에틸렌 전선관 | E5: 100㎜ | F5: m | G5: 125.66 | H5: =TRUNC(#REF!*옵션!$D$11) -> #REF! | L5: =SUM(H5,I5,J5) -> #REF!
C6: 3913170610045637 | D6: 파상형 폴리에틸렌 전선관 | E6: 125㎜ | F6: m | G6: 69.01 | H6: =TRUNC(#REF!*옵션!$D$11) -> #REF! | L6: =SUM(H6,I6,J6) -> #REF!
C7: 3912130310035799 | D7: 풀박스 | E7: 200×200×100 | F7: 개 | G7: 1 | H7: =TRUNC(#REF!*옵션!$D$11) -> #REF! | L7: =SUM(H7,I7,J7) -> #REF!
C8: 3912130320174775 | D8: 풀박스 | E8: 600×600×300 | F8: 개 | G8: 3 | H8: =TRUNC(#REF!*옵션!$D$11) -> #REF! | L8: =SUM(H8,I8,J8) -> #REF!
C9: 3912130320174781 | D9: 풀박스 | E9: 1200×1200×500 | F9: 개 | G9: 4 | H9: =TRUNC(#REF!*옵션!$D$11) -> #REF! | L9: =SUM(H9,I9,J9) -> #REF!
C10: 3913170810036365 | D10: 강제전선관용 부품 | E10: 파이프행거, 104 C | F10: 개 | G10: 84.5 | H10: =TRUNC(#REF!*옵션!$D$11) -> #REF! | L10: =SUM(H10,I10,J10) -> #REF!
C11: 2612152420683704 | D11: 접지용비닐절연전선(F-GV) | E11: 95㎟ | F11: m | G11: 250.8 | H11: =TRUNC(#REF!*옵션!$D$11) -> #REF! | L11: =SUM(H11,I11,J11) -> #REF!
C12: 2612152420683707 | D12: 접지용비닐절연전선(F-GV) | E12: 185㎟ | F12: m | G12: 132 | H12: =TRUNC(#REF!*옵션!$D$11) -> #REF! | L12: =SUM(H12,I12,J12) -> #REF!
C13: 2612162920683891 | D13: 폴리에틸렌 난연케이블 | E13: 0.6/1kv F-CV 1C×95㎟ | F13: m | G13: 1915.2 | H13: =TRUNC(#REF!*옵션!$D$11) -> #REF! | L13: =SUM(H13,I13,J13) -> #REF!
C14: 2612162920683894 | D14: 폴리에틸렌 난연케이블 | E14: 0.6/1kv F-CV 1C×185㎟ | F14: m | G14: 1008 | H14: =TRUNC(#REF!*옵션!$D$11) -> #REF! | L14: =SUM(H14,I14,J14) -> #REF!
C15: 2612163720177117 | D15: 광케이블(옥외용) | E15: SM 9/125, 12c | F15: m | G15: 40.685 | H15: =TRUNC(#REF!*옵션!$D$11) -> #REF! | L15: =SUM(H15,I15,J15) -> #REF!
... C22: 3912143221650918 | D22: 압착단자 | E22: R형동선 나압착 185 ㎟ | F22: 개 | G22: 1 | H22: =TRUNC(#REF!*옵션!$D$11) -> #REF! | L22: =SUM(H22,I22,J22) -> #REF!
C23: 3912218220173361 | D23: 이차 랙크 1P | F23: 개 | G23: 2 | H23: =TRUNC(#REF!*옵션!$D$11) -> #REF! | L23: =SUM(H23,I23,J23) -> #REF!
C24: CDE110000100 | D24: 인력터파기/보통토사 | E24: 육상(1m이하)-양호 | F24: m3 | G24: 14.76 | H24: =#REF! -> #REF! | I24: =#REF! -> #REF! | J24: =#REF! -> #REF! | L24: =SUM(H24,I24,J24) -> #REF!
C25: CDE130110000 | D25: 기계터파기/보통토사 | E25: 육상(5m이하)-양호 | F25: m3 | G25: 59.04 | H25: =#REF! -> #REF! | I25: =#REF! -> #REF! | J25: =#REF! -> #REF! | L25: =SUM(H25,I25,J25) -> #REF!
C26: CDH110000020 | D26: 되메우기 및 다짐 | E26: 소형장비 | F26: m3 | G26: 73.8 | H26: =#REF! -> #REF! | I26: =#REF! -> #REF! | J26: =#REF! -> #REF! | L26: =SUM(H26,I26,J26) -> #REF!
C27: ECA565826062 | D27: 코어드릴 | E27: 15.24cm | F27: 시간 | G27: 4.4 | H27: =#REF! -> #REF! | I27: =#REF! -> #REF! | J27: =#REF! -> #REF! | L27: =SUM(H27,I27,J27) -> #REF! | M27: 종합적산741
C28: L001010101000075 | D28: 노 무 비 | E28: 내선전공 | F28: 인 | G28: 77.265 | I28: =TRUNC(#REF!) -> #REF! | L28: =SUM(H28,I28,J28) -> #REF!
C29: L001010101000078 | D29: 노 무 비 | E29: 저압케이블전공 | F29: 인 | G29: 236.4096 | I29: =TRUNC(#REF!) -> #REF! | L29: =SUM(H29,I29,J29) -> #REF!
C30: L001010101000081 | D30: 노 무 비 | E30: 배전전공 | F30: 인 | G30: 2.632 | I30: =TRUNC(#REF!) -> #REF! | L30: =SUM(H30,I30,J30) -> #REF!
C31: L001010201000092 | D31: 노 무 비 | E31: 광케이블설치사 | F31: 인 | G31: 0.3634 | I31: =TRUNC(#REF!) -> #REF! | L31: =SUM(H31,I31,J31) -> #REF!
C32: L001010101000002 | D32: 노 무 비 | E32: 보통인부 | F32: 인 | G32: 8.72 | I32: =TRUNC(#REF!) -> #REF! | L32: =SUM(H32,I32,J32) -> #REF!
C33: L001010101000003 | D33: 노 무 비 | E33: 특별인부 | F33: 인 | G33: 0.1817 | I33: =TRUNC(#REF!) -> #REF! | L33: =SUM(H33,I33,J33) -> #REF!
C34: L001010101000015 | D34: 노 무 비 | E34: 착암공 | F34: 인 | G34: 1.064 | I34: =TRUNC(#REF!) -> #REF! | L34: =SUM(H34,I34,J34) -> #REF!
L35: =SUM(H35,I35,J35) -> 0
L36: =SUM(H36,I36,J36) -> 0
L37: =SUM(H37,I37,J37) -> 0
L38: =SUM(H38,I38,J38) -> 0
L39: =SUM(H39,I39,J39) -> 0
L40: =SUM(H40,I40,J40) -> 0
L41: =SUM(H41,I41,J41) -> 0
L42: =SUM(H42,I42,J42) -> 0
L43: =SUM(H43,I43,J43) -> 0
L44: =SUM(H44,I44,J44) -> 0
L45: =SUM(H45,I45,J45) -> 0
L46: =SUM(H46,I46,J46) -> 0
... L55: =SUM(H55,I55,J55) -> 0

Sheet 옵션
B1: 재료비 | C1: 노무비 | D1: 경비 | F1: 계
A2: 총 급 액 | B2: =총괄표!I29 -> 0 | C2: =총괄표!L29 -> 0 | D2: =총괄표!N29 -> 0 | F2: =SUM(B2,C2,D2) -> 0
A3: 관급 자재비 | F3: =SUM(B3,C3,D3) -> 0 | H3: 금액조정이 안되나요?
H6: 이지테크에서 변환할 때 2번 옵션을 지정하여 다시 해보세요
H9: 시트를 삭제할 때 에러가 뜨면 1번 옵션으로 하면 됩니다.
B10: 적용율(%) | C10: 끝자리 | D10: 적용율(%)/100 | E10: 일위대가소수
A11: 전체자재 적용율(%)(공종/일위대가) | B11: 100 | C11: 1 | D11: =$B$11/100 -> 1
A12: 전체노임 적용율(%)(공종) | B12: 100 | C12: 1 | D12: =$B$12/100 -> 1 | E12: 2 | H12: 2번 옵션으로 변환했을 때에는 결과값이 다를 수 있습니다.
A13: 전체노임 적용율(%)(일위대가) | B13: 100 | C13: 1 | D13: =$B$13/100 -> 1 | E13: 5
A20: *(그룹별 자재 단가 추가 할증)* | B20: 적용율(%) | D20: 적용율(%)/100
A21: Cable(CAB) 할증(%) | B21: =B11 -> 100 | D21: =$B$21/100 -> 1
A22: Wire (WIR) 할증(%) | B22: =B11 -> 100 | D22: =$B$22/100 -> 1
A23: Pipe (PIP) 할증(%) | B23: =B11 -> 100 | D23: =$B$23/100 -> 1
A24: 제 4그룹 할증(%) | B24: =B11 -> 100 | D24: =$B$24/100 -> 1
A25: 제 5그룹 할증(%) | B25: =B11 -> 100 | D25: =$B$25/100 -> 1
A30: *(그룹별 노임 추가 할증)* | B30: 적용율(%) | C30: 자동부속재(전기) | D30: 자동부속재(통신)
A31: 배관부속재(%) | B31: 3 | C31: 15 | D31: 20
A32: CD관부속재(%) | B32: 3 | C32: 40 | D32: 40
A33: 소모잡자재(%) | B33: 2 | H33: 본 파일은 이지테크에서 2번 옵션으로 만들었습니다.
A34: 방폭할증(%)
A35: 고소할증(%) | B35: 2
A36: 공구손료(%) | B36: 3
A40: *(공종별 노임 적용율(%))* | B40: 적용율(%) | C40: 소수자릿수
A41: 1. 전기공사 | B41: 100 | C41: 3

Sheet 사용설명
B1: ** 반드시 다음 사항을 숙지하신 다음 수정 작업을 하십시오 **
A2: 1. | B2: 속성이 숫자인 셀을 삭제할 때는 반드시 'Delete' 키를 사용하십시오.
B3: **주의:'Space Bar' 로 지웠을 때는 '#Value' Error가 발생됩니다.
A4: 2. | B4: 일위대가(을지)는 소수점 처리 때문에 셀 속성을 '일반'으로 하였습니다.(소수점 능동 처리)
B5: **참고: (수량*단가)의 결과는 소수 한자리, 금액을 취합한 소계는 1원 이하 절사입니다.
A6: 3. | B6: 내역서에서는 수량에만 셀 속성을 '일반'으로 하였습니다.(소수점 능동 처리)
A7: 4. | B7: 단가수정은 '단가조사서'시트 에서 하십시오.
B8: a)표지와 원가 -> 총괄표 -> 내역서 ->일위대가와 합산자재 ->단가조사서 를 참조하고
B9: 있으므로 단가조사서의 결정단가를 수정하면 전체 금액이 갱신됩니다.
B10: **주의: 금액란은 공식이 걸려있으므로 조심하여 수정하십시오.
B11: b)전체 자재를 일정 요율(%)로 변경할 때는 옵션시트의 자재 적용율을 조정하면 됩니다.
A12: 5. | B12: 노임 단가는 '단가조사서'시트에서 품셈은 '노임근거'시트에서 수정하십시오.
B13: a)전체 노임을 일정 요율(%)로 변경할 때는 '옵션시트'의 전체노임 적용율을 조정하면 됩니다.
B14: b)공종별로 노임을 수정하려면 '옵션시트'의 공종별 노임 적용율을 조정하면 됩니다.
B15: c)케이블 및 전선 자재 단가를 추가로 조정하려면 그룹별 자재 적용율을 조정하면 됩니다.
B16: 그룹은 견적 프로그램에서 엑셀파일이 만들어질때 지정됩니다.
A17: 6. | B17: 겉표지의 모든 정보는 표지를 참조하였습니다.(정보 수정은 표지에서만 하시면 됩니다.)
A18: 7. | B18: 필수 :본 프로그램의 총 금액을 확인한 후 사용하십시오.
A19: 8. | B19: 본 파일의 내용을 인쇄할 경우, 미리보기를 통하여 페이지 절선을 확인 후 인쇄하십시오.
A20: 9. | B20: 관급자재 Sheet가 해당이 없을 경우엔 삭제하십시오.
A21: 10. | B21: 페이지 절선이 맞지 않으면 다음을 참고하십시오.
B33: a. 해당시트의 셀 전체를 선택합니다.
B34: b. 행높이를 적절히 가감하면 페이지 절선을 맞출 수 있습니다.
