Workbook
Name _: #REF!
Name __: #REF!
Name ___: #REF!
Name ____: #REF!
Name _____: #REF!
Name ______: #REF!
Name _______: #REF!
Name __________: #REF!
Name _____________0: #REF!
Name _____________11: #REF!
Name _____________12: #REF!
Name __________0: #REF!
Name __________11: #REF!
Name __________12: #REF!
Name _________0: #REF!
Name _________10: #REF!
Name _________11: #REF!
Name _________12: #REF!
Name ________0: #REF!
Name ________10: #REF!
Name ________11: #REF!
Name ________12: #REF!
Name _______0: #REF!
Name ______0: #REF!
Name ______11: #REF!
Name ______12: #REF!
Name _____0: #REF!
Name _____10: #REF!
Name _____11: #REF!
Name _____12: #REF!
Name ____0: #REF!
Name ____1: #REF!
Name ____10: #REF!
Name ____11: #REF!
Name ____12: #REF!
Name ____2: #REF!
Name ____3: #REF!
Name ____4: #REF!
Name ____5: #REF!
Name ____7: #REF!
Name ____8: #REF!
Name ____9: #REF!
Name __10: #REF!
Name __11: #REF!
Name __6: #REF!
Name __7: #REF!
Name __8: #REF!
Name __9: #REF!
Name __A81620: '[2]양수장(기계)'!#REF!
Name __hun1: [3]설계조건!#REF!
Name __hun2: [3]설계조건!#REF!
Name __LEV1: #REF!
Name __LEV2: #REF!
Name __LEV3: #REF!
Name __LEV4: #REF!
Name __LEV5: #REF!
Name __LEV6: #REF!
Name __LEV7: #REF!
Name __LEV8: #REF!
Name __qs1: [3]설계조건!#REF!

Sheet 원가계산서
B1: 공 사 원 가 계 산 서
B2: 공사명 : 이동초등학교 교사동(봉사관) 환경개선공사
B3: 비 목 | E3: 금 액 | F3: 구 성 비 | G3: 비 고
A4: A1 | B4: 순 공 사 원 가 | C4: 재 료 비 | D4: 직 접 재 료 비 | E4: =TRUNC(공종별집계표!F5, 0) -> 435181484
A5: A2 | D5: 간 접 재 료 비 | E5: 0
A6: A3 | D6: 작 업 부 산 물 | E6: 0
A7: AS | D7: [ 소 계 ] | E7: =TRUNC(E4+E5-E6, 0) -> 435181484
A8: B1 | C8: 노 무 비 | D8: 직 접 노 무 비 | E8: =TRUNC(공종별집계표!H5, 0) -> 305529779
A9: B2 | D9: 간 접 노 무 비 | E9: =TRUNC(E8*0.175, 0) -> 53467711 | F9: 직접노무비 * 17.5%
A10: BS | D10: [ 소 계 ] | E10: =TRUNC(E8+E9, 0) -> 358997490
A11: C2 | C11: 경 비 | D11: 경 비 | E11: =TRUNC(공종별집계표!J5, 0) -> 13271628
A12: C4 | D12: 산 재 보 험 료 | E12: =TRUNC(E10*0.0356, 0) -> 12780310 | F12: 노무비 * 3.56%
A13: C5 | D13: 고 용 보 험 료 | E13: =TRUNC(E10*0.0101, 0) -> 3625874 | F13: 노무비 * 1.01%
A14: C6 | D14: 국민 건강 보험료 | E14: =TRUNC(E8*0.03595, 0) -> 10983795 | F14: 직접노무비 * 3.595%
A15: C7 | D15: 국민 연금 보험료 | E15: =TRUNC(E8*0.0475, 0) -> 14512664 | F15: 직접노무비 * 4.75%
A16: C8 | D16: 퇴직 공제 부금비 | E16: =TRUNC(E8*0.023, 0) -> 7027184 | F16: 직접노무비 * 2.3% | L16: =TRUNC((E7+E8)*0.0228*1.2+4325000, 0) -> 24590860
A17: CA | D17: 산업안전보건관리비 | E17: =TRUNC((E7+E8+(E35/1.1))*0.0228+4325000, 0) -> 21595469 | F17: (재료비+직노+관급자재비) * 2.28% | L17: =TRUNC((E7+E8+(E35/1.1))*0.0228+4325000, 0) -> 21595469 | M17: 관급포함
A18: CB | D18: 노인장기요양보험료 | E18: =TRUNC(E14*0.1314, 0) -> 1443270 | F18: 건강보험료 * 13.14%
A19: CC | D19: 안 전 관 리 비[건축] | E19: =TRUNC(공종별집계표!T27, 0) -> 800820
A20: CE | D20: 건설폐기물처리비 | E20: =TRUNC(공종별집계표!T18, 0) -> 17691757
A21: CG | D21: 기 타 경 비 | E21: =TRUNC((E7+E10)*0.05, 0) -> 39708948 | F21: (재료비+노무비) * 5%
A22: CH | D22: 환 경 보 전 비 | E22: =TRUNC((E7+E8+E11)*0.005, 0) -> 3769914 | F22: (재료비+직노+경비) * 0.5%
A23: CK | D23: 하도급지급보증수수료 | E23: =TRUNC((E7+E8+E11)*0.00081, 0) -> 610726 | F23: (재료비+직노+경비) * 0.081% | G23: 최저가대상공사
A24: CL | D24: 건설기계대여금지급보증서발급수수료 | E24: =TRUNC((E7+E8+E11)*0.0007, 0) -> 527788 | F24: (재료비+직노+경비) * 0.07%
A25: CF | D25: 석 면 분 담 금 | E25: =TRUNC(E10*0.00006, 0) -> 21539 | F25: 노무비 * 0.006%
A26: CJ | D26: 임 금 채 권 부 담 금 | E26: =TRUNC(E10*0.0009, 0) -> 323097 | F26: 노무비 * 0.09%
A27: CS | D27: [ 소 계 ] | E27: =TRUNC(E11+E12+E13+E14+E15+E16+E17+E18+E19+E20+E25+E21+E22+E26+E23+E24, 0) -> 148694783
A28: S1 | B28: 계 | E28: =TRUNC(E7+E10+E27, 0) -> 942873757
A29: D1 | B29: 일 반 관 리 비 | E29: =TRUNC(E28*0.08, 0) -> 75429900 | F29: 계 * 8%
A30: D2 | B30: 이 윤 | E30: =TRUNC((E10+E27+E29)*0.15-7424, 0) -> 87460901 | F30: (노무비+경비+일반관리비) * 15%
A31: D6 | B31: 작 업 부 산 물 | E31: =TRUNC(공종별집계표!T14, 0) -> 17914558
A32: D9 | B32: 공 급 가 액 | E32: =TRUNC(E28+E29+E30-E31, 0) -> 1087850000
A33: DB | B33: 부 가 가 치 세 | E33: =TRUNC(E32*0.1, 0) -> 108785000 | F33: 공급가액 * 10%
A34: DH | B34: 도 급 액 | E34: =TRUNC(E32+E33, 0) -> 1196635000
A35: DK | B35: 도급자설치관급자재비[건축] | E35: =TRUNC(공종별집계표!T16, 0) -> 18442000
A36: DL | B36: 관급자설치관급자재비[건축] | E36: =TRUNC(공종별집계표!T17, 0) -> 276299000
A37: S2 | B37: 총 공 사 비 | E37: =TRUNC(E34+0+E35+E36, 0) -> 1491376000

Sheet 공종별집계표
A1: 공 종 별 집 계 표
A2: [ 이동초등학교 교사동(봉사관) 환경개선공사 ]
A3: 품 명 | B3: 규 격 | C3: 단위 | D3: 수량 | E3: 재 료 비 | G3: 노 무 비 | I3: 경 비 | K3: 합 계 | M3: 비 고 | N3: 공종코드 | O3: 변수 | P3: 상위공종 | Q3: 공종구분 | R3: 공종레벨 | S3: 공종소계 | T3: 원가계산서 연결금액
E4: 단 가 | F4: 금 액 | G4: 단 가 | H4: 금 액 | I4: 단 가 | J4: 금 액 | K4: 단 가 | L4: 금 액
A5: 01 이동초등학교 교사동(봉사관 환경개선공사) | D5: 1 | E5: =F6+F19+F21+F25 -> 435181484 | F5: =E5*D5 -> 435181484 | G5: =H6+H19+H21+H25 -> 305529779 | H5: =G5*D5 -> 305529779 | I5: =J6+J19+J21+J25 -> 13271628 | J5: =I5*D5 -> 13271628 | K5: =E5+G5+I5 -> 753982891 | L5: =F5+H5+J5 -> 753982891 | N5: 01 | R5: 1
A6: 0101 외벽개선 및 창호공사 | D6: 1 | E6: =F7+F8+F9+F10+F11+F12+F13+F15 -> 182290599 | F6: =E6*D6 -> 182290599 | G6: =H7+H8+H9+H10+H11+H12+H13+H15 -> 166841865 | H6: =G6*D6 -> 166841865 | I6: =J7+J8+J9+J10+J11+J12+J13+J15 -> 12370926 | J6: =I6*D6 -> 12370926 | K6: =E6+G6+I6 -> 361503390 | L6: =F6+H6+J6 -> 361503390 | N6: 0101 | P6: 01 | R6: 2
A7: 010101 가 설 공 사 | B7: 외벽개선 및 창호공사 | D7: 1 | E7: =공종별내역서!F29 -> 8014260 | F7: =E7*D7 -> 8014260 | G7: =공종별내역서!H29 -> 47894870 | H7: =G7*D7 -> 47894870 | I7: =공종별내역서!J29 -> 11130709 | J7: =I7*D7 -> 11130709 | K7: =E7+G7+I7 -> 67039839 | L7: =F7+H7+J7 -> 67039839 | N7: 010101 | P7: 0101 | R7: 3
A8: 010102 돌 공 사 | D8: 1 | E8: =공종별내역서!F54 -> 4104619 | F8: =E8*D8 -> 4104619 | G8: =공종별내역서!H54 -> 4474245 | H8: =G8*D8 -> 4474245 | I8: =공종별내역서!J54 -> 81259 | J8: =I8*D8 -> 81259 | K8: =E8+G8+I8 -> 8660123 | L8: =F8+H8+J8 -> 8660123 | N8: 010102 | P8: 0101 | R8: 3
A9: 010103 지붕 및 홈통공사 | D9: 1 | E9: =공종별내역서!F79 -> 5932496 | F9: =E9*D9 -> 5932496 | G9: =공종별내역서!H79 -> 6698547 | H9: =G9*D9 -> 6698547 | I9: =공종별내역서!J79 -> 159991 | J9: =I9*D9 -> 159991 | K9: =E9+G9+I9 -> 12791034 | L9: =F9+H9+J9 -> 12791034 | N9: 010103 | P9: 0101 | R9: 3
A10: 010104 금 속 공 사 | D10: 1 | E10: =공종별내역서!F104 -> 75031693 | F10: =E10*D10 -> 75031693 | G10: =공종별내역서!H104 -> 25608772 | H10: =G10*D10 -> 25608772 | I10: =공종별내역서!J104 -> 768255 | J10: =I10*D10 -> 768255 | K10: =E10+G10+I10 -> 101408720 | L10: =F10+H10+J10 -> 101408720 | N10: 010104 | P10: 0101 | R10: 3
A11: 010105 창호 및 유리공사 | D11: 1 | E11: =공종별내역서!F129 -> 84881263 | F11: =E11*D11 -> 84881263 | G11: =공종별내역서!H129 -> 32087431 | H11: =G11*D11 -> 32087431 | I11: =공종별내역서!J129 -> 0 | J11: =I11*D11 -> 0 | K11: =E11+G11+I11 -> 116968694 | L11: =F11+H11+J11 -> 116968694 | N11: 010105 | P11: 0101 | R11: 3
A12: 010106 기 타 공 사 | D12: 1 | E12: =공종별내역서!F154 -> 3370208 | F12: =E12*D12 -> 3370208 | G12: =공종별내역서!H154 -> 5869102 | H12: =G12*D12 -> 5869102 | I12: =공종별내역서!J154 -> 0 | J12: =I12*D12 -> 0 | K12: =E12+G12+I12 -> 9239310 | L12: =F12+H12+J12 -> 9239310 | N12: 010106 | P12: 0101 | R12: 3
A13: 010107 골 재 비 | D13: 1 | E13: =공종별내역서!F179 -> 139151 | F13: =E13*D13 -> 139151 | G13: =공종별내역서!H179 -> 0 | H13: =G13*D13 -> 0 | I13: =공종별내역서!J179 -> 0 | J13: =I13*D13 -> 0 | K13: =E13+G13+I13 -> 139151 | L13: =F13+H13+J13 -> 139151 | N13: 010107 | P13: 0101 | R13: 3
A14: 010108 작 업 부 산 물 | D14: 1 | E14: =공종별내역서!F204 -> 17914558 | F14: =E14*D14 -> 17914558 | G14: =공종별내역서!H204 -> 0 | H14: =G14*D14 -> 0 | I14: =공종별내역서!J204 -> 0 | J14: =I14*D14 -> 0 | K14: =E14+G14+I14 -> 17914558 | L14: =F14+H14+J14 -> 17914558 | N14: 010108 | Q14: B | R14: 3 | T14: =L14*1 -> 17914558
A15: 010109 철 거 공 사 | D15: 1 | E15: =공종별내역서!F229 -> 816909 | F15: =E15*D15 -> 816909 | G15: =공종별내역서!H229 -> 44208898 | H15: =G15*D15 -> 44208898 | I15: =공종별내역서!J229 -> 230712 | J15: =I15*D15 -> 230712 | K15: =E15+G15+I15 -> 45256519 | L15: =F15+H15+J15 -> 45256519 | N15: 010109 | P15: 0101 | R15: 3
A16: 010110 도급자설치관급자재비[건축] | D16: 1 | E16: =공종별내역서!F254 -> 18442000 | F16: =E16*D16 -> 18442000 | G16: =공종별내역서!H254 -> 0 | H16: =G16*D16 -> 0 | I16: =공종별내역서!J254 -> 0 | J16: =I16*D16 -> 0 | K16: =E16+G16+I16 -> 18442000 | L16: =F16+H16+J16 -> 18442000 | N16: 010110 | Q16: 9 | R16: 3 | T16: =L16*1 -> 18442000
A17: 010111 관급자설치관급자재비[건축] | D17: 1 | E17: =공종별내역서!F279 -> 276299000 | F17: =E17*D17 -> 276299000 | G17: =공종별내역서!H279 -> 0 | H17: =G17*D17 -> 0 | I17: =공종별내역서!J279 -> 0 | J17: =I17*D17 -> 0 | K17: =E17+G17+I17 -> 276299000 | L17: =F17+H17+J17 -> 276299000 | N17: 010111 | Q17: A | R17: 3 | T17: =L17*1 -> 276299000
A18: 010112 건설폐기물처리비 | D18: 1 | E18: =공종별내역서!F304 -> 0 | F18: =E18*D18 -> 0 | G18: =공종별내역서!H304 -> 0 | H18: =G18*D18 -> 0 | I18: =공종별내역서!J304 -> 17691757 | J18: =I18*D18 -> 17691757 | K18: =E18+G18+I18 -> 17691757 | L18: =F18+H18+J18 -> 17691757 | N18: 010112 | Q18: 7 | R18: 3 | T18: =L18*1 -> 17691757
A19: 0102 외단열 개선공사 | D19: 1 | E19: =F20 -> 203103179 | F19: =E19*D19 -> 203103179 | G19: =H20 -> 105965405 | H19: =G19*D19 -> 105965405 | I19: =J20 -> 114923 | J19: =I19*D19 -> 114923 | K19: =E19+G19+I19 -> 309183507 | L19: =F19+H19+J19 -> 309183507 | N19: 0102 | P19: 01 | R19: 2
A20: 010201 외 단 열 공 사 | B20: 외단열 개선공사 | D20: 1 | E20: =공종별내역서!F329 -> 203103179 | F20: =E20*D20 -> 203103179 | G20: =공종별내역서!H329 -> 105965405 | H20: =G20*D20 -> 105965405 | I20: =공종별내역서!J329 -> 114923 | J20: =I20*D20 -> 114923 | K20: =E20+G20+I20 -> 309183507 | L20: =F20+H20+J20 -> 309183507 | N20: 010201 | P20: 0102 | R20: 3
A21: 0103 실내건축공사 | D21: 1 | E21: =F22+F23+F24 -> 11407256 | F21: =E21*D21 -> 11407256 | G21: =H22+H23+H24 -> 28806934 | H21: =G21*D21 -> 28806934 | I21: =J22+J23+J24 -> 742136 | J21: =I21*D21 -> 742136 | K21: =E21+G21+I21 -> 40956326 | L21: =F21+H21+J21 -> 40956326 | N21: 0103 | P21: 01 | R21: 2 | S21: <
A22: 010301 방 수 공 사 | B22: 실내건축공사 | D22: 1 | E22: =공종별내역서!F354 -> 2847740 | F22: =E22*D22 -> 2847740 | G22: =공종별내역서!H354 -> 12894921 | H22: =G22*D22 -> 12894921 | I22: =공종별내역서!J354 -> 228344 | J22: =I22*D22 -> 228344 | K22: =E22+G22+I22 -> 15971005 | L22: =F22+H22+J22 -> 15971005 | N22: 010301 | P22: 0103 | R22: 3
A23: 010302 금 속 공 사 | D23: 1 | E23: =공종별내역서!F379 -> 7248096 | F23: =E23*D23 -> 7248096 | G23: =공종별내역서!H379 -> 13179888 | H23: =G23*D23 -> 13179888 | I23: =공종별내역서!J379 -> 513792 | J23: =I23*D23 -> 513792 | K23: =E23+G23+I23 -> 20941776 | L23: =F23+H23+J23 -> 20941776 | N23: 010302 | P23: 0103 | R23: 3
A24: 010303 미 장 공 사 | D24: 1 | E24: =공종별내역서!F404 -> 1311420 | F24: =E24*D24 -> 1311420 | G24: =공종별내역서!H404 -> 2732125 | H24: =G24*D24 -> 2732125 | I24: =공종별내역서!J404 -> 0 | J24: =I24*D24 -> 0 | K24: =E24+G24+I24 -> 4043545 | L24: =F24+H24+J24 -> 4043545 | N24: 010303 | P24: 0103 | R24: 3
A25: 0104 포장공사 | D25: 1 | E25: =F26 -> 38380450 | F25: =E25*D25 -> 38380450 | G25: =H26 -> 3915575 | H25: =G25*D25 -> 3915575 | I25: =J26 -> 43643 | J25: =I25*D25 -> 43643 | K25: =E25+G25+I25 -> 42339668 | L25: =F25+H25+J25 -> 42339668 | N25: 0104 | P25: 01 | R25: 2
A26: 010401 포 장 공 사 | B26: 포장공사 | D26: 1 | E26: =공종별내역서!F429 -> 38380450 | F26: =E26*D26 -> 38380450 | G26: =공종별내역서!H429 -> 3915575 | H26: =G26*D26 -> 3915575 | I26: =공종별내역서!J429 -> 43643 | J26: =I26*D26 -> 43643 | K26: =E26+G26+I26 -> 42339668 | L26: =F26+H26+J26 -> 42339668 | N26: 010401 | P26: 0104 | R26: 3
A27: 010402 안 전 관 리 비[건축] | D27: 1 | E27: =공종별내역서!F454 -> 800820 | F27: =E27*D27 -> 800820 | G27: =공종별내역서!H454 -> 0 | H27: =G27*D27 -> 0 | I27: =공종별내역서!J454 -> 0 | J27: =I27*D27 -> 0 | K27: =E27+G27+I27 -> 800820 | L27: =F27+H27+J27 -> 800820 | N27: 010402 | Q27: D | R27: 3 | T27: =L27*1 -> 800820
A29: [ 합 계 ] | F29: =F5 -> 435181484 | H29: =H5 -> 305529779 | J29: =J5 -> 13271628 | L29: =L5 -> 753982891

Sheet 공종별내역서
A1: 공 종 별 내 역 서
A2: [ 이동초등학교 교사동(봉사관 환경개선공사) ]
A3: 품 명 | B3: 규 격 | C3: 단위 | D3: 수량 | E3: 재 료 비 | G3: 노 무 비 | I3: 경 비 | K3: 합 계 | M3: 비 고 | N3: 품목코드 | O3: 변수 | P3: 설정 | Q3: 공종코드 | R3: 일위 | S3: 단산 | T3: 자재 | U3: 손료적용 | V3: 손료저장 | W3: 적용율 | X3: JUK1 | Y3: JUK2 | Z3: JUK3 | AA3: JUK4 | AB3: JUK5 | AC3: JUK6 | AD3: JUK7 | AE3: JUK8 | AF3: JUK9 | AG3: JUK10 | AH3: JUK11 | AI3: JUK12 | AJ3: JUK13 | AK3: JUK14 | AL3: JUK15 | AM3: JUK16 | AN3: JUK17 | AO3: JUK18 | AP3: JUK19 | AQ3: JUK20 | AR3: 자재구분 | AS3: 공종구분 | AT3: 공종레벨 | AU3: 공종+자재 | AV3: 고유번호
E4: 단 가 | F4: 금 액 | G4: 단 가 | H4: 금 액 | I4: 단 가 | J4: 금 액 | K4: 단 가 | L4: 금 액
A5: 010101 가 설 공 사 | B5: 외벽개선 및 창호공사 | Q5: 010101
A6: 크레인(타이어) | B6: 10ton | C6: HR | D6: 40 | E6: =TRUNC(일위대가목록!E4,0) -> 8873 | F6: =TRUNC(E6*D6, 0) -> 354920 | G6: =TRUNC(일위대가목록!F4,0) -> 59025 | H6: =TRUNC(G6*D6, 0) -> 2361000 | I6: =TRUNC(일위대가목록!G4,0) -> 31344 | J6: =TRUNC(I6*D6, 0) -> 1253760 | K6: =TRUNC(E6+G6+I6, 0) -> 99242 | L6: =TRUNC(F6+H6+J6, 0) -> 3969680 | M6: 호표 1 | N6: 5EF1D541FF7A313632A280DA36EC9FACB83446F0 | Q6: 010101 | R6: T | S6: F | T6: F | AU6: 0101015EF1D541FF7A313632A280DA36EC9FACB83446F0 | AV6: 78
A7: 조립식가설울타리/E.G.I철판 | B7: H=2.4, 3개월 | C7: M | D7: 180 | E7: =TRUNC(일위대가목록!E5,0) -> 0 | F7: =TRUNC(E7*D7, 0) -> 0 | G7: =TRUNC(일위대가목록!F5,0) -> 0 | H7: =TRUNC(G7*D7, 0) -> 0 | I7: =TRUNC(일위대가목록!G5,0) -> 44662 | J7: =TRUNC(I7*D7, 0) -> 8039160 | K7: =TRUNC(E7+G7+I7, 0) -> 44662 | L7: =TRUNC(F7+H7+J7, 0) -> 8039160 | M7: 호표 2 | N7: 59E6B575A87A8CCEB2F240A1D9B527 | Q7: 010101 | R7: T | S7: F | T7: F | AU7: 01010159E6B575A87A8CCEB2F240A1D9B527 | AV7: 55
A8: 강관 조립말비계(이동식)설치 및 해체 | B8: 높이 2m, 3개월 | C8: 대 | D8: 6 | E8: =TRUNC(일위대가목록!E6,0) -> 36387 | F8: =TRUNC(E8*D8, 0) -> 218322 | G8: =TRUNC(일위대가목록!F6,0) -> 95287 | H8: =TRUNC(G8*D8, 0) -> 571722 | I8: =TRUNC(일위대가목록!G6,0) -> 0 | J8: =TRUNC(I8*D8, 0) -> 0 | K8: =TRUNC(E8+G8+I8, 0) -> 131674 | L8: =TRUNC(F8+H8+J8, 0) -> 790044 | M8: 호표 3 | N8: 59E6B575AA75A061C2C2A0D18F5308 | Q8: 010101 | R8: T | S8: F | T8: F | AU8: 01010159E6B575AA75A061C2C2A0D18F5308 | AV8: 166
A9: 시스템비계 | B9: 10.0m이하,3개월(발판1열)(계단설치해체비포함) | C9: M2 | D9: 1596 | E9: =TRUNC(일위대가목록!E7,0) -> 2849 | F9: =TRUNC(E9*D9, 0) -> 4547004 | G9: =TRUNC(일위대가목록!F7,0) -> 14831 | H9: =TRUNC(G9*D9, 0) -> 23670276 | I9: =TRUNC(일위대가목록!G7,0) -> 296 | J9: =TRUNC(I9*D9, 0) -> 472416 | K9: =TRUNC(E9+G9+I9, 0) -> 17976 | L9: =TRUNC(F9+H9+J9, 0) -> 28689696 | M9: 호표 4 | N9: 59E6B575AA75A061E282D05F9EE742 | Q9: 010101 | R9: T | S9: F | T9: F | AU9: 01010159E6B575AA75A061E282D05F9EE742 | AV9: 56
A10: 시스템비계 | B10: 10.0m초과~20.0m이하,3개월(발판1열)(계단설치해체비포함) | C10: M2 | D10: 1015.8 | E10: =TRUNC(일위대가목록!E8,0) -> 2849 | F10: =TRUNC(E10*D10, 0) -> 2894014 | G10: =TRUNC(일위대가목록!F8,0) -> 17130 | H10: =TRUNC(G10*D10, 0) -> 17400654 | I10: =TRUNC(일위대가목록!G8,0) -> 342 | J10: =TRUNC(I10*D10, 0) -> 347403 | K10: =TRUNC(E10+G10+I10, 0) -> 20321 | L10: =TRUNC(F10+H10+J10, 0) -> 20642071 | M10: 호표 5 | N10: 59E6B575AA75A061E282D05F9EE741 | Q10: 010101 | R10: T | S10: F | T10: F | AU10: 01010159E6B575AA75A061E282D05F9EE741 | AV10: 57
A11: 콘테이너형 가설사무소 설치 및 해체 | B11: 3.0*6.0m, 3개월 | C11: 개소 | D11: 1 | E11: =TRUNC(일위대가목록!E9,0) -> 0 | F11: =TRUNC(E11*D11, 0) -> 0 | G11: =TRUNC(일위대가목록!F9,0) -> 0 | H11: =TRUNC(G11*D11, 0) -> 0 | I11: =TRUNC(일위대가목록!G9,0) -> 1017970 | J11: =TRUNC(I11*D11, 0) -> 1017970 | K11: =TRUNC(E11+G11+I11, 0) -> 1017970 | L11: =TRUNC(F11+H11+J11, 0) -> 1017970 | M11: 호표 6 | N11: 59E6B576B2755F852242D0B04A5563 | Q11: 010101 | R11: T | S11: F | T11: F | AU11: 01010159E6B576B2755F852242D0B04A5563 | AV11: 79
A12: 집기이전 | B12: 일반교실,재설치포함 | C12: 실 | D12: 1 | E12: =TRUNC(일위대가목록!E10,0) -> 0 | F12: =TRUNC(E12*D12, 0) -> 0 | G12: =TRUNC(일위대가목록!F10,0) -> 1036188 | H12: =TRUNC(G12*D12, 0) -> 1036188 | I12: =TRUNC(일위대가목록!G10,0) -> 0 | J12: =TRUNC(I12*D12, 0) -> 0 | K12: =TRUNC(E12+G12+I12, 0) -> 1036188 | L12: =TRUNC(F12+H12+J12, 0) -> 1036188 | M12: 호표 7 | N12: 59E7B5E12B777C66F21210E77E9631 | Q12: 010101 | R12: T | S12: F | T12: F | AU12: 01010159E7B5E12B777C66F21210E77E9631 | AV12: 160
A13: 준공청소 | C13: M2 | D13: 530.9 | E13: =TRUNC(일위대가목록!E11,0) -> 0 | F13: =TRUNC(E13*D13, 0) -> 0 | G13: =TRUNC(일위대가목록!F11,0) -> 3453 | H13: =TRUNC(G13*D13, 0) -> 1833197 | I13: =TRUNC(일위대가목록!G11,0) -> 0 | J13: =TRUNC(I13*D13, 0) -> 0 | K13: =TRUNC(E13+G13+I13, 0) -> 3453 | L13: =TRUNC(F13+H13+J13, 0) -> 1833197 | M13: 호표 8 | N13: 59E6B570237C1565D2F250408F8D36 | Q13: 010101 | R13: T | S13: F | T13: F | AU13: 01010159E6B570237C1565D2F250408F8D36 | AV13: 167
A14: 건축물 현장정리 | B14: 개보수, 단순공정 | C14: M2 | D14: 236.7 | E14: =TRUNC(일위대가목록!E12,0) -> 0 | F14: =TRUNC(E14*D14, 0) -> 0 | G14: =TRUNC(일위대가목록!F12,0) -> 4317 | H14: =TRUNC(G14*D14, 0) -> 1021833 | I14: =TRUNC(일위대가목록!G12,0) -> 0 | J14: =TRUNC(I14*D14, 0) -> 0 | K14: =TRUNC(E14+G14+I14, 0) -> 4317 | L14: =TRUNC(F14+H14+J14, 0) -> 1021833 | M14: 호표 9 | N14: 59E6B5702679260FC202706D45A3CB | Q14: 010101 | R14: T | S14: F | T14: F | AU14: 01010159E6B5702679260FC202706D45A3CB | AV14: 92
Q15: 010101
Q16: 010101
Q17: 010101
Q18: 010101
Q19: 010101
Q20: 010101
Q21: 010101
Q22: 010101
Q23: 010101
Q24: 010101
Q25: 010101
Q26: 010101
... Q28: 010101
A29: [ 합 계 ] | F29: =SUMIF(Q6:Q28,"010101",F6:F28) -> 8014260 | H29: =SUMIF(Q6:Q28,"010101",H6:H28) -> 47894870 | J29: =SUMIF(Q6:Q28,"010101",J6:J28) -> 11130709 | L29: =SUMIF(Q6:Q28,"010101",L6:L28) -> 67039839 | N29: TOTAL
A30: 010102 돌 공 사 | Q30: 010102
A31: 화강석 두겁돌(습식, 잔다듬) | B31: 포천석 450*60mm, 모르타르 30mm | C31: M | D31: 79.2 | E31: =TRUNC(일위대가목록!E13,0) -> 51826 | F31: =TRUNC(E31*D31, 0) -> 4104619 | G31: =TRUNC(일위대가목록!F13,0) -> 56493 | H31: =TRUNC(G31*D31, 0) -> 4474245 | I31: =TRUNC(일위대가목록!G13,0) -> 1026 | J31: =TRUNC(I31*D31, 0) -> 81259 | K31: =TRUNC(E31+G31+I31, 0) -> 109345 | L31: =TRUNC(F31+H31+J31, 0) -> 8660123 | M31: 호표 10 | N31: 59E675DB487B44EF6222B0741C1D68 | Q31: 010102 | R31: T | S31: F | T31: F | AU31: 01010259E675DB487B44EF6222B0741C1D68 | AV31: 10
Q32: 010102
Q33: 010102
Q34: 010102
Q35: 010102
Q36: 010102
Q37: 010102
Q38: 010102
Q39: 010102
Q40: 010102
Q41: 010102
...

Sheet 일위대가목록
B1: 일 위 대 가 목 록
B2: [ 이동초등학교 교사동(봉사관 환경개선공사) ]
A3: 코 드 | B3: 품 명 | C3: 규 격 | D3: 단위 | E3: 재 료 비 | F3: 노 무 비 | G3: 경 비 | H3: 합 계 | I3: 번 호 | J3: 비 고 | K3: 노임계수 | L3: 할증 | M3: 품셈개요 | N3: 장비일위
A4: 5EF1D541FF7A313632A280DA36EC9FACB83446F0 | B4: 크레인(타이어) | C4: 10ton | D4: HR | E4: =일위대가!F10 -> 8873 | F4: =일위대가!H10 -> 59025 | G4: =일위대가!J10 -> 31344 | H4: =E4+F4+G4 -> 99242 | I4: 호표 1 | K4: A | N4: T
A5: 59E6B575A87A8CCEB2F240A1D9B527 | B5: 조립식가설울타리/E.G.I철판 | C5: H=2.4, 3개월 | D5: M | E5: =일위대가!F25 -> 0 | F5: =일위대가!H25 -> 0 | G5: =일위대가!J25 -> 44662 | H5: =E5+F5+G5 -> 44662 | I5: 호표 2
A6: 59E6B575AA75A061C2C2A0D18F5308 | B6: 강관 조립말비계(이동식)설치 및 해체 | C6: 높이 2m, 3개월 | D6: 대 | E6: =일위대가!F40 -> 36387 | F6: =일위대가!H40 -> 95287 | G6: =일위대가!J40 -> 0 | H6: =E6+F6+G6 -> 131674 | I6: 호표 3
A7: 59E6B575AA75A061E282D05F9EE742 | B7: 시스템비계 | C7: 10.0m이하,3개월(발판1열)(계단설치해체비포함) | D7: M2 | E7: =일위대가!F56 -> 2849 | F7: =일위대가!H56 -> 14831 | G7: =일위대가!J56 -> 296 | H7: =E7+F7+G7 -> 17976 | I7: 호표 4
A8: 59E6B575AA75A061E282D05F9EE741 | B8: 시스템비계 | C8: 10.0m초과~20.0m이하,3개월(발판1열)(계단설치해체비포함) | D8: M2 | E8: =일위대가!F72 -> 2849 | F8: =일위대가!H72 -> 17130 | G8: =일위대가!J72 -> 342 | H8: =E8+F8+G8 -> 20321 | I8: 호표 5
A9: 59E6B576B2755F852242D0B04A5563 | B9: 콘테이너형 가설사무소 설치 및 해체 | C9: 3.0*6.0m, 3개월 | D9: 개소 | E9: =일위대가!F78 -> 0 | F9: =일위대가!H78 -> 0 | G9: =일위대가!J78 -> 1017970 | H9: =E9+F9+G9 -> 1017970 | I9: 호표 6
A10: 59E7B5E12B777C66F21210E77E9631 | B10: 집기이전 | C10: 일반교실,재설치포함 | D10: 실 | E10: =일위대가!F82 -> 0 | F10: =일위대가!H82 -> 1036188 | G10: =일위대가!J82 -> 0 | H10: =E10+F10+G10 -> 1036188 | I10: 호표 7
A11: 59E6B570237C1565D2F250408F8D36 | B11: 준공청소 | D11: M2 | E11: =일위대가!F86 -> 0 | F11: =일위대가!H86 -> 3453 | G11: =일위대가!J86 -> 0 | H11: =E11+F11+G11 -> 3453 | I11: 호표 8
A12: 59E6B5702679260FC202706D45A3CB | B12: 건축물 현장정리 | C12: 개보수, 단순공정 | D12: M2 | E12: =일위대가!F90 -> 0 | F12: =일위대가!H90 -> 4317 | G12: =일위대가!J90 -> 0 | H12: =E12+F12+G12 -> 4317 | I12: 호표 9
A13: 59E675DB487B44EF6222B0741C1D68 | B13: 화강석 두겁돌(습식, 잔다듬) | C13: 포천석 450*60mm, 모르타르 30mm | D13: M | E13: =일위대가!F97 -> 51826 | F13: =일위대가!H97 -> 56493 | G13: =일위대가!J97 -> 1026 | H13: =E13+F13+G13 -> 109345 | I13: 호표 10
A14: 59E61573067DB16B3262309D305F29 | B14: 선홈통(금속) 설치 | C14: 스테인리스, Ø100×1.5㎜ | D14: M | E14: =일위대가!F103 -> 25633 | F14: =일위대가!H103 -> 25870 | G14: =일위대가!J103 -> 517 | H14: =E14+F14+G14 -> 52020 | I14: 호표 11
A15: 59E6157303705CCDA282408C98BD35 | B15: 금속 선홈통 설치 | C15: 동판, 150*75*1.5T | D15: M | E15: =일위대가!F109 -> 22496 | F15: =일위대가!H109 -> 25870 | G15: =일위대가!J109 -> 517 | H15: =E15+F15+G15 -> 48883 | I15: 호표 12
A16: 59E61573067DB175B2A220ADA9ECAE | B16: 스텐판 처마홈통 설치 | C16: 150*1.5t(반원) | D16: M | E16: =일위대가!F115 -> 15113 | F16: =일위대가!H115 -> 19674 | G16: =일위대가!J115 -> 784 | H16: =E16+F16+G16 -> 35571 | I16: 호표 13
A17: 59E61573067DB16B321210F260DBC6 | B17: 스텐 상자홈통 설치 | C17: 250*250*250*1.5t | D17: EA | E17: =일위대가!F120 -> 18270 | F17: =일위대가!H120 -> 31608 | G17: =일위대가!J120 -> 1260 | H17: =E17+F17+G17 -> 51138 | I17: 호표 14
A18: 59E65584BE78C2B242A230327E8B2C | B18: 철재커텐박스(ㄷ자형) | C18: 150*150*1.2t, STL(도장 유) | D18: M | E18: =일위대가!F131 -> 8961 | F18: =일위대가!H131 -> 42198 | G18: =일위대가!J131 -> 1597 | H18: =E18+F18+G18 -> 52756 | I18: 호표 15
A19: 59E6F58C6C724D433232A05DE8D70B | B19: 경량형강철골조 조립설치 | C19: 비내력식 | D19: TON | E19: =일위대가!F136 -> 0 | F19: =일위대가!H136 -> 3058129 | G19: =일위대가!J136 -> 91743 | H19: =E19+F19+G19 -> 3149872 | I19: 호표 16
A20: 59E665F36E7CDB68A2B2F01ED563A7 | B20: AW1[창호개체, 관급] | C20: 3.740 x 9.950 = 37.213 | D20: EA | E20: 0 | F20: 0 | G20: 0 | I20: 호표 17
A21: 59E665F36E7CDB68A2B2F01ED563A5 | B21: CAW1[창호개체, 관급] | C21: 3.000 x 1.800 = 5.400 | D21: EA | E21: 0 | F21: 0 | G21: 0 | I21: 호표 18
A22: 59E665F36E7CDB68A2B2F01ED563A3 | B22: CAW2[창호개체, 관급] | C22: 1.500 x 1.800 = 2.700 | D22: EA | E22: 0 | F22: 0 | G22: 0 | I22: 호표 19
A23: 59E665F36E7CDB68A2B2F01ED563A1 | B23: CAW3[창호개체, 관급] | C23: 1.200 x 0.000 = 0.000 | D23: EA | E23: 0 | F23: 0 | G23: 0 | I23: 호표 20
A24: 59E665FA9E7A269E62521000B51738 | B24: 창호유리설치 / 복층유리 | C24: 유리두께 24mm 이하 | D24: M2 | E24: =일위대가!F153 -> 0 | F24: =일위대가!H153 -> 35520 | G24: =일위대가!J153 -> 0 | H24: =E24+F24+G24 -> 35520 | I24: 호표 21
A25: 59E665FA9E7A269E62521000B51417 | B25: 창호유리설치 / 삼중유리 | C25: 유리두께 40mm초과 44mm이하 | D25: M2 | E25: =일위대가!F157 -> 0 | F25: =일위대가!H157 -> 41177 | G25: =일위대가!J157 -> 0 | H25: =E25+F25+G25 -> 41177 | I25: 호표 22
A26: 59E665FA9777ACAF22E28020452E1B | B26: 복층유리주위 코킹 | C26: 5*5, 실리콘 | D26: M | E26: =일위대가!F161 -> 311 | F26: =일위대가!H161 -> 0 | G26: =일위대가!J161 -> 0 | H26: =E26+F26+G26 -> 311 | I26: 호표 23
A27: 59E645A49471F855F20240B940ED6A | B27: 녹막이페인트 붓칠 | C27: 철재면, 1회 1종 | D27: M2 | E27: =일위대가!F166 -> 903 | F27: =일위대가!H166 -> 4541 | G27: =일위대가!J166 -> 0 | H27: =E27+F27+G27 -> 5444 | I27: 호표 24
A28: 59E6558EA57FFDE24222301AE1FA4C | B28: 외벽 환기캡 철거 후 재설치 | C28: D100 | D28: 개 | E28: =일위대가!F171 -> 0 | F28: =일위대가!H171 -> 31429 | G28: =일위대가!J171 -> 0 | H28: =E28+F28+G28 -> 31429 | I28: 호표 25
A29: 59E61573067DB16B321210F260DBC0 | B29: 메쉬휀스 철거 후 재설치 | D29: M2 | E29: =일위대가!F176 -> 200000 | F29: =일위대가!H176 -> 31429 | G29: =일위대가!J176 -> 0 | H29: =E29+F29+G29 -> 231429 | I29: 호표 26
A30: 59E6558EA57FFDE24222301AE1FA4D | B30: CCTV 철거 후 재설치 | D30: 개 | E30: =일위대가!F181 -> 200000 | F30: =일위대가!H181 -> 0 | G30: =일위대가!J181 -> 0 | H30: =E30+F30+G30 -> 200000 | I30: 호표 27
A31: 59C195859D7C625D32C2E0662C111D | B31: 환풍기 철거 후 신설 | C31: 300*300 | D31: 개소 | E31: =일위대가!F186 -> 40700 | F31: =일위대가!H186 -> 172291 | G31: =일위대가!J186 -> 0 | H31: =E31+F31+G31 -> 212991 | I31: 호표 28
A32: 59C12536197E7E6F32A2205483849F | B32: 기존 천정재 철거 후 재설치 | D32: M2 | E32: =일위대가!F191 -> 0 | F32: =일위대가!H191 -> 19765 | G32: =일위대가!J191 -> 0 | H32: =E32+F32+G32 -> 19765 | I32: 호표 29
A33: 59E7A5FAD17E94C2D2A2B0E22E5408 | B33: 블라인드 철거 후 재설치 | D33: 개소 | E33: =일위대가!F196 -> 0 | F33: =일위대가!H196 -> 16832 | G33: =일위대가!J196 -> 0 | H33: =E33+F33+G33 -> 16832 | I33: 호표 30
A34: 59C195859D7C625D32C2E0662C111E | B34: 기존 수목 전정 | D34: 주 | E34: =일위대가!F200 -> 0 | F34: =일위대가!H200 -> 4464 | G34: =일위대가!J200 -> 0 | H34: =E34+F34+G34 -> 4464 | I34: 호표 31
A35: 59C12536197E7E6F32A220548383F0 | B35: 낙하물 방지 철판 철거 후 재설치 | C35: W200, L3740 | D35: 개소 | E35: =일위대가!F204 -> 0 | F35: =일위대가!H204 -> 86349 | G35: =일위대가!J204 -> 0 | H35: =E35+F35+G35 -> 86349 | I35: 호표 32
A36: 59E7B5E129743A0A3282C0FD7AFB75 | B36: 콘크리트구조물 헐기(인력) | C36: 소형브레이커(전기식), 철근, 2.3m3/일당 | D36: M3 | E36: =일위대가!F211 -> 2684 | F36: =일위대가!H211 -> 268484 | G36: =일위대가!J211 -> 2387 | H36: =E36+F36+G36 -> 273555 | I36: 호표 33
A37: 59E7B5E12B777C4BE2E250DA5E4A10 | B37: 석고보드 철거 | C37: 12.5T, 벽체 | D37: M2 | E37: =일위대가!F216 -> 0 | F37: =일위대가!H216 -> 4273 | G37: =일위대가!J216 -> 0 | H37: =E37+F37+G37 -> 4273 | I37: 호표 34
A38: 59E7B5E1227184FF62D2206AD6D53D | B38: 단열재 철거 | C38: 50T, 압출법보온판+메쉬+마감재 | D38: M2 | E38: =일위대가!F220 -> 0 | F38: =일위대가!H220 -> 12088 | G38: =일위대가!J220 -> 0 | H38: =E38+F38+G38 -> 12088 | I38: 호표 35
A39: 59E7B5E12B777C66C252A06DF0AD7A | B39: 창호 철거 | D39: M2 | E39: =일위대가!F224 -> 0 | F39: =일위대가!H224 -> 12952 | G39: =일위대가!J224 -> 0 | H39: =E39+F39+G39 -> 12952 | I39: 호표 36
A40: 59E7B5E1227184FF72F2E0F3E15429 | B40: 창호안전봉 철거 | C40: D38.1*1.2t*1줄 | D40: M | E40: =일위대가!F228 -> 0 | F40: =일위대가!H228 -> 6907 | G40: =일위대가!J228 -> 0 | H40: =E40+F40+G40 -> 6907 | I40: 호표 37
...

Sheet 일위대가
A1: 일 위 대 가
A2: [ 이동초등학교 교사동(봉사관 환경개선공사) ]
A3: 품 명 | B3: 규 격 | C3: 단위 | D3: 수량 | E3: 재 료 비 | G3: 노 무 비 | I3: 경 비 | K3: 합 계 | M3: 비 고 | N3: 일위대가 | O3: 품목코드 | P3: 일위 | Q3: 단산 | R3: 자재 | S3: 손료적용 | T3: 손료저장 | U3: 적용율 | V3: JUK1 | W3: JUK2 | X3: JUK3 | Y3: JUK4 | Z3: JUK5 | AA3: JUK6 | AB3: JUK7 | AC3: JUK8 | AD3: JUK9 | AE3: JUK10 | AF3: JUK11 | AG3: JUK12 | AH3: JUK13 | AI3: JUK14 | AJ3: JUK15 | AK3: JUK16 | AL3: JUK17 | AM3: JUK18 | AN3: JUK19 | AO3: JUK20 | AP3: 할증적용 | AQ3: 할증저장 | AR3: 할증율 | AS3: HAL1 | AT3: HAL2 | AU3: HAL3 | AV3: 자재구분 | AW3: 일위대가+자재 | AX3: 장비일위 | AY3: 설정 | AZ3: 할증체크
E4: 단 가 | F4: 금 액 | G4: 단 가 | H4: 금 액 | I4: 단 가 | J4: 금 액 | K4: 단 가 | L4: 금 액
A5: 크레인(타이어) 10ton HR ( 호표 1 ) | N5: 5EF1D541FF7A313632A280DA36EC9FACB83446F0
A6: 크레인(타이어) | B6: 10ton | C6: 대 | D6: 0.2298 | E6: =단가대비표!O8 -> 0 | F6: =TRUNC(E6*D6,1) -> 0 | G6: =단가대비표!P8 -> 0 | H6: =TRUNC(G6*D6,1) -> 0 | I6: =단가대비표!V8 -> 136400 | J6: =TRUNC(I6*D6,1) -> 31344.7 | K6: =TRUNC(E6+G6+I6,1) -> 136400 | L6: =TRUNC(F6+H6+J6,1) -> 31344.7 | M6: 천원 | N6: 5EF1D541FF7A313632A280DA36EC9FACB83446F0 | O6: 5EF1D541FF7A313632A280DA36EC9FACB83446 | P6: F | Q6: F | R6: T | AW6: 5EF1D541FF7A313632A280DA36EC9FACB83446F05EF1D541FF7A313632A280DA36EC9FACB83446
A7: 경유 | B7: 경유, 저유황 | C7: L | D7: 3.8 | E7: =단가대비표!O17 -> 1680 | F7: =TRUNC(E7*D7,1) -> 6384 | G7: =단가대비표!P17 -> 0 | H7: =TRUNC(G7*D7,1) -> 0 | I7: =단가대비표!V17 -> 0 | J7: =TRUNC(I7*D7,1) -> 0 | K7: =TRUNC(E7+G7+I7,1) -> 1680 | L7: =TRUNC(F7+H7+J7,1) -> 6384 | N7: 5EF1D541FF7A313632A280DA36EC9FACB83446F0 | O7: 5EE73503707083E3A232A0647E44AF62E4596F | P7: F | Q7: F | R7: T | V7: 1 | AW7: 5EF1D541FF7A313632A280DA36EC9FACB83446F05EE73503707083E3A232A0647E44AF62E4596F
A8: 잡재료 | B8: 주연료비의 39% | C8: 식 | D8: 1 | E8: =TRUNC(SUMIF(V6:V9, RIGHTB(O8, 1), F6:F9)*U8, 2) -> 2489.76 | F8: =TRUNC(E8*D8,1) -> 2489.7 | G8: 0 | H8: =TRUNC(G8*D8,1) -> 0 | I8: 0 | J8: =TRUNC(I8*D8,1) -> 0 | K8: =TRUNC(E8+G8+I8,1) -> 2489.7 | L8: =TRUNC(F8+H8+J8,1) -> 2489.7 | N8: 5EF1D541FF7A313632A280DA36EC9FACB83446F0 | O8: 58FF55611C7CAD9C12A21082AE2C001 | P8: F | Q8: F | R8: F | S8: 0 | T8: 0 | U8: 0.39 | AW8: 5EF1D541FF7A313632A280DA36EC9FACB83446F058FF55611C7CAD9C12A21082AE2C001
A9: 건설기계운전사 | B9: 일반공사 직종 | C9: 인 | D9: 1 | E9: =TRUNC(단가대비표!O105*1/8*16/12*25/20, 1) -> 0 | F9: =TRUNC(E9*D9,1) -> 0 | G9: =TRUNC(단가대비표!P105*1/8*16/12*25/20, 1) -> 59025.6 | H9: =TRUNC(G9*D9,1) -> 59025.6 | I9: =TRUNC(단가대비표!V105*1/8*16/12*25/20, 1) -> 0 | J9: =TRUNC(I9*D9,1) -> 0 | K9: =TRUNC(E9+G9+I9,1) -> 59025.6 | L9: =TRUNC(F9+H9+J9,1) -> 59025.6 | N9: 5EF1D541FF7A313632A280DA36EC9FACB83446F0 | O9: 5937056A7C70860E52F2505E405792D35DA9CC | P9: F | Q9: F | R9: T | AW9: 5EF1D541FF7A313632A280DA36EC9FACB83446F05937056A7C70860E52F2505E405792D35DA9CC | AX9: T
A10: [ 합 계 ] | F10: =TRUNC(SUMIF(N6:N9, N5, F6:F9),0) -> 8873 | H10: =TRUNC(SUMIF(N6:N9, N5, H6:H9),0) -> 59025 | J10: =TRUNC(SUMIF(N6:N9, N5, J6:J9),0) -> 31344 | L10: =F10+H10+J10 -> 99242 | N10: TOTAL | O10: TOTAL
A12: 조립식가설울타리/E.G.I철판 H=2.4, 3개월 M ( 호표 2 ) | N12: 59E6B575A87A8CCEB2F240A1D9B527
A13: 조립식 가설울타리 부재 | B13: EGI철판, 530*2400 | C13: 매 | D13: 2 | E13: =단가대비표!O55 -> 16583 | F13: =TRUNC(E13*D13,1) -> 33166 | G13: =단가대비표!P55 -> 0 | H13: =TRUNC(G13*D13,1) -> 0 | I13: =단가대비표!V55 -> 0 | J13: =TRUNC(I13*D13,1) -> 0 | K13: =TRUNC(E13+G13+I13,1) -> 16583 | L13: =TRUNC(F13+H13+J13,1) -> 33166 | M13: 금액제외 | O13: 5EC495E30C73AF2D528230F97BD352104D26AC | P13: F | Q13: F | R13: T | V13: 1 | AW13: 59E6B575A87A8CCEB2F240A1D9B5275EC495E30C73AF2D528230F97BD352104D26AC | AY13: -
A14: 경비로 적용 | B14: 주재료비의 29% | C14: 식 | D14: 1 | E14: 0 | F14: =TRUNC(E14*D14,1) -> 0 | G14: 0 | H14: =TRUNC(G14*D14,1) -> 0 | I14: =TRUNC(SUMIF(V13:V24, RIGHTB(O14, 1), F13:F24)*U14, 2) -> 9618.14 | J14: =TRUNC(I14*D14,1) -> 9618.1 | K14: =TRUNC(E14+G14+I14,1) -> 9618.1 | L14: =TRUNC(F14+H14+J14,1) -> 9618.1 | N14: 59E6B575A87A8CCEB2F240A1D9B527 | O14: 58FF55611C7CAD9C12A21082AE2C001 | P14: F | Q14: F | R14: F | S14: 0 | T14: 2 | U14: 0.29 | AW14: 59E6B575A87A8CCEB2F240A1D9B52758FF55611C7CAD9C12A21082AE2C001
A15: 강관비계 | B15: 강관비계, 비계파이프, 48.6*2.3mm | C15: M | D15: 4.735 | E15: =단가대비표!O42 -> 3929 | F15: =TRUNC(E15*D15,1) -> 18603.8 | G15: =단가대비표!P42 -> 0 | H15: =TRUNC(G15*D15,1) -> 0 | I15: =단가대비표!V42 -> 0 | J15: =TRUNC(I15*D15,1) -> 0 | K15: =TRUNC(E15+G15+I15,1) -> 3929 | L15: =TRUNC(F15+H15+J15,1) -> 18603.8 | M15: 금액제외 | O15: 5EC495E30C73AF1CF2B280CFE6FD674CBF4EE4 | P15: F | Q15: F | R15: T | W15: 2 | AW15: 59E6B575A87A8CCEB2F240A1D9B5275EC495E30C73AF1CF2B280CFE6FD674CBF4EE4 | AY15: -
A16: 경비로 적용 | B16: 주재료비의 7% | C16: 식 | D16: 1 | E16: 0 | F16: =TRUNC(E16*D16,1) -> 0 | G16: 0 | H16: =TRUNC(G16*D16,1) -> 0 | I16: =TRUNC(SUMIF(W13:W24, RIGHTB(O16, 1), F13:F24)*U16, 2) -> 1302.26 | J16: =TRUNC(I16*D16,1) -> 1302.2 | K16: =TRUNC(E16+G16+I16,1) -> 1302.2 | L16: =TRUNC(F16+H16+J16,1) -> 1302.2 | N16: 59E6B575A87A8CCEB2F240A1D9B527 | O16: 58FF55611C7CAD9C12A21082AE2F002 | P16: F | Q16: F | R16: F | S16: 0 | T16: 2 | U16: 0.07 | AW16: 59E6B575A87A8CCEB2F240A1D9B52758FF55611C7CAD9C12A21082AE2F002
A17: 강관비계 부속철물 | B17: 클램프 고정, 자동 | C17: 개 | D17: 1.67 | E17: =단가대비표!O45 -> 1590 | F17: =TRUNC(E17*D17,1) -> 2655.3 | G17: =단가대비표!P45 -> 0 | H17: =TRUNC(G17*D17,1) -> 0 | I17: =단가대비표!V45 -> 0 | J17: =TRUNC(I17*D17,1) -> 0 | K17: =TRUNC(E17+G17+I17,1) -> 1590 | L17: =TRUNC(F17+H17+J17,1) -> 2655.3 | M17: 금액제외 | O17: 5EC495E30C73AF1CF2B280CFE6FD674CBEA2FC | P17: F | Q17: F | R17: T | X17: 3 | AW17: 59E6B575A87A8CCEB2F240A1D9B5275EC495E30C73AF1CF2B280CFE6FD674CBEA2FC | AY17: -
A18: 강관비계 부속철물 | B18: 이음철물, 연결핀 | C18: 개 | D18: 0.5 | E18: =단가대비표!O43 -> 1400 | F18: =TRUNC(E18*D18,1) -> 700 | G18: =단가대비표!P43 -> 0 | H18: =TRUNC(G18*D18,1) -> 0 | I18: =단가대비표!V43 -> 0 | J18: =TRUNC(I18*D18,1) -> 0 | K18: =TRUNC(E18+G18+I18,1) -> 1400 | L18: =TRUNC(F18+H18+J18,1) -> 700 | M18: 금액제외 | O18: 5EC495E30C73AF1CF2B280CFE6FD674CBEA2FB | P18: F | Q18: F | R18: T | X18: 3 | AW18: 59E6B575A87A8CCEB2F240A1D9B5275EC495E30C73AF1CF2B280CFE6FD674CBEA2FB | AY18: -
A19: 조립식 가설울타리 부재 | B19: 볼트/넛트 | C19: 개 | D19: 12 | E19: =단가대비표!O56 -> 350 | F19: =TRUNC(E19*D19,1) -> 4200 | G19: =단가대비표!P56 -> 0 | H19: =TRUNC(G19*D19,1) -> 0 | I19: =단가대비표!V56 -> 0 | J19: =TRUNC(I19*D19,1) -> 0 | K19: =TRUNC(E19+G19+I19,1) -> 350 | L19: =TRUNC(F19+H19+J19,1) -> 4200 | M19: 금액제외 | O19: 5EC495E30C73AF2D528230F97BD352104D2233 | P19: F | Q19: F | R19: T | X19: 3 | AW19: 59E6B575A87A8CCEB2F240A1D9B5275EC495E30C73AF2D528230F97BD352104D2233 | AY19: -
A20: 경비로 적용 | B20: 주재료비의 12% | C20: 식 | D20: 1 | E20: 0 | F20: =TRUNC(E20*D20,1) -> 0 | G20: 0 | H20: =TRUNC(G20*D20,1) -> 0 | I20: =TRUNC(SUMIF(X13:X24, RIGHTB(O20, 1), F13:F24)*U20, 2) -> 906.63 | J20: =TRUNC(I20*D20,1) -> 906.6 | K20: =TRUNC(E20+G20+I20,1) -> 906.6 | L20: =TRUNC(F20+H20+J20,1) -> 906.6 | N20: 59E6B575A87A8CCEB2F240A1D9B527 | O20: 58FF55611C7CAD9C12A21082AE2E003 | P20: F | Q20: F | R20: F | S20: 0 | T20: 2 | U20: 0.12 | AW20: 59E6B575A87A8CCEB2F240A1D9B52758FF55611C7CAD9C12A21082AE2E003
A21: 강관 지주 설치 | B21: 지주높이 4.0m 이하, 시공량 100m/일당 | C21: M | D21: 1 | E21: =일위대가목록!E55 -> 0 | F21: =TRUNC(E21*D21,1) -> 0 | G21: =일위대가목록!F55 -> 0 | H21: =TRUNC(G21*D21,1) -> 0 | I21: =일위대가목록!G55 -> 13890 | J21: =TRUNC(I21*D21,1) -> 13890 | K21: =TRUNC(E21+G21+I21,1) -> 13890 | L21: =TRUNC(F21+H21+J21,1) -> 13890 | M21: 호표 52 | N21: 59E6B575A87A8CCEB2F240A1D9B527 | O21: 59E6B575A87A8CE9121200892A75A7 | P21: T | Q21: F | R21: F | AW21: 59E6B575A87A8CCEB2F240A1D9B52759E6B575A87A8CE9121200892A75A7
A22: 강관 지주 해체 | B22: 지주높이 4.0m 이하, 시공량 250m/일당 | C22: M | D22: 1 | E22: =일위대가목록!E56 -> 0 | F22: =TRUNC(E22*D22,1) -> 0 | G22: =일위대가목록!F56 -> 0 | H22: =TRUNC(G22*D22,1) -> 0 | I22: =일위대가목록!G56 -> 5555 | J22: =TRUNC(I22*D22,1) -> 5555 | K22: =TRUNC(E22+G22+I22,1) -> 5555 | L22: =TRUNC(F22+H22+J22,1) -> 5555 | M22: 호표 53 | N22: 59E6B575A87A8CCEB2F240A1D9B527 | O22: 59E6B575A87A8CE9121200892A7480 | P22: T | Q22: F | R22: F | AW22: 59E6B575A87A8CCEB2F240A1D9B52759E6B575A87A8CE9121200892A7480
A23: 가설울타리판 설치 | B23: 설치높이 3m 이하, 시공량 110m/일당 | C23: M | D23: 1 | E23: =일위대가목록!E57 -> 0 | F23: =TRUNC(E23*D23,1) -> 0 | G23: =일위대가목록!F57 -> 0 | H23: =TRUNC(G23*D23,1) -> 0 | I23: =일위대가목록!G57 -> 9616 | J23: =TRUNC(I23*D23,1) -> 9616 | K23: =TRUNC(E23+G23+I23,1) -> 9616 | L23: =TRUNC(F23+H23+J23,1) -> 9616 | M23: 호표 54 | N23: 59E6B575A87A8CCEB2F240A1D9B527 | O23: 59E6B575A87A8CCEA2E2D0B02B02E6 | P23: T | Q23: F | R23: F | AW23: 59E6B575A87A8CCEB2F240A1D9B52759E6B575A87A8CCEA2E2D0B02B02E6
A24: 가설울타리판 해체 | B24: 설치높이 3m 이하, 시공량 280m/일당 | C24: M | D24: 1 | E24: =일위대가목록!E58 -> 0 | F24: =TRUNC(E24*D24,1) -> 0 | G24: =일위대가목록!F58 -> 0 | H24: =TRUNC(G24*D24,1) -> 0 | I24: =일위대가목록!G58 -> 3775 | J24: =TRUNC(I24*D24,1) -> 3775 | K24: =TRUNC(E24+G24+I24,1) -> 3775 | L24: =TRUNC(F24+H24+J24,1) -> 3775 | M24: 호표 55 | N24: 59E6B575A87A8CCEB2F240A1D9B527 | O24: 59E6B575A87A8CCEA2E2D0B02B038C | P24: T | Q24: F | R24: F | AW24: 59E6B575A87A8CCEB2F240A1D9B52759E6B575A87A8CCEA2E2D0B02B038C
A25: [ 합 계 ] | F25: =TRUNC(SUMIF(N13:N24, N12, F13:F24),0) -> 0 | H25: =TRUNC(SUMIF(N13:N24, N12, H13:H24),0) -> 0 | J25: =TRUNC(SUMIF(N13:N24, N12, J13:J24),0) -> 44662 | L25: =F25+H25+J25 -> 44662 | N25: TOTAL | O25: TOTAL
A27: 강관 조립말비계(이동식)설치 및 해체 높이 2m, 3개월 대 ( 호표 3 ) | N27: 59E6B575AA75A061C2C2A0D18F5308
A28: 비계안정장치 | B28: 비계안정장치, 비계기본틀, 기둥, 1.2*1.7m | C28: 개 | D28: 2 | E28: =단가대비표!O46 -> 27739 | F28: =TRUNC(E28*D28,1) -> 55478 | G28: =단가대비표!P46 -> 0 | H28: =TRUNC(G28*D28,1) -> 0 | I28: =단가대비표!V46 -> 0 | J28: =TRUNC(I28*D28,1) -> 0 | K28: =TRUNC(E28+G28+I28,1) -> 27739 | L28: =TRUNC(F28+H28+J28,1) -> 55478 | M28: 금액제외 | O28: 5EC495E30C73AF2D52827054ACF137C316B313 | P28: F | Q28: F | R28: T | V28: 1 | AW28: 59E6B575AA75A061C2C2A0D18F53085EC495E30C73AF2D52827054ACF137C316B313 | AY28: -
A29: 비계안정장치 | B29: 비계안정장치, 가새, 1.2*1.9m | C29: 개 | D29: 2 | E29: =단가대비표!O47 -> 9246 | F29: =TRUNC(E29*D29,1) -> 18492 | G29: =단가대비표!P47 -> 0 | H29: =TRUNC(G29*D29,1) -> 0 | I29: =단가대비표!V47 -> 0 | J29: =TRUNC(I29*D29,1) -> 0 | K29: =TRUNC(E29+G29+I29,1) -> 9246 | L29: =TRUNC(F29+H29+J29,1) -> 18492 | M29: 금액제외 | O29: 5EC495E30C73AF2D52827054ACF137C316B31D | P29: F | Q29: F | R29: T | V29: 1 | AW29: 59E6B575AA75A061C2C2A0D18F53085EC495E30C73AF2D52827054ACF137C316B31D | AY29: -
A30: 비계안정장치 | B30: 비계안정장치, 수평띠장, 1829mm | C30: 개 | D30: 4 | E30: =단가대비표!O48 -> 25000 | F30: =TRUNC(E30*D30,1) -> 100000 | G30: =단가대비표!P48 -> 0 | H30: =TRUNC(G30*D30,1) -> 0 | I30: =단가대비표!V48 -> 0 | J30: =TRUNC(I30*D30,1) -> 0 | K30: =TRUNC(E30+G30+I30,1) -> 25000 | L30: =TRUNC(F30+H30+J30,1) -> 100000 | M30: 금액제외 | O30: 5EC495E30C73AF2D52827054ACF137C316BC73 | P30: F | Q30: F | R30: T | V30: 1 | AW30: 59E6B575AA75A061C2C2A0D18F53085EC495E30C73AF2D52827054ACF137C316BC73 | AY30: -
A31: 비계안정장치 | B31: 비계안정장치, 손잡이기둥 | C31: 개 | D31: 4 | E31: =단가대비표!O51 -> 25000 | F31: =TRUNC(E31*D31,1) -> 100000 | G31: =단가대비표!P51 -> 0 | H31: =TRUNC(G31*D31,1) -> 0 | I31: =단가대비표!V51 -> 0 | J31: =TRUNC(I31*D31,1) -> 0 | K31: =TRUNC(E31+G31+I31,1) -> 25000 | L31: =TRUNC(F31+H31+J31,1) -> 100000 | M31: 금액제외 | O31: 5EC495E30C73AF2D52827054ACF137C316BC74 | P31: F | Q31: F | R31: T | V31: 1 | AW31: 59E6B575AA75A061C2C2A0D18F53085EC495E30C73AF2D52827054ACF137C316BC74 | AY31: -
A32: 비계안정장치 | B32: 비계안정장치, 손잡이, 1229mm | C32: 개 | D32: 2 | E32: =단가대비표!O49 -> 6000 | F32: =TRUNC(E32*D32,1) -> 12000 | G32: =단가대비표!P49 -> 0 | H32: =TRUNC(G32*D32,1) -> 0 | I32: =단가대비표!V49 -> 0 | J32: =TRUNC(I32*D32,1) -> 0 | K32: =TRUNC(E32+G32+I32,1) -> 6000 | L32: =TRUNC(F32+H32+J32,1) -> 12000 | M32: 금액제외 | O32: 5EC495E30C73AF2D52827054ACF137C316BC72 | P32: F | Q32: F | R32: T | V32: 1 | AW32: 59E6B575AA75A061C2C2A0D18F53085EC495E30C73AF2D52827054ACF137C316BC72 | AY32: -
A33: 비계안정장치 | B33: 비계안정장치, 손잡이, 1829mm | C33: 개 | D33: 4 | E33: =단가대비표!O50 -> 8000 | F33: =TRUNC(E33*D33,1) -> 32000 | G33: =단가대비표!P50 -> 0 | H33: =TRUNC(G33*D33,1) -> 0 | I33: =단가대비표!V50 -> 0 | J33: =TRUNC(I33*D33,1) -> 0 | K33: =TRUNC(E33+G33+I33,1) -> 8000 | L33: =TRUNC(F33+H33+J33,1) -> 32000 | M33: 금액제외 | O33: 5EC495E30C73AF2D52827054ACF137C316BC75 | P33: F | Q33: F | R33: T | V33: 1 | AW33: 59E6B575AA75A061C2C2A0D18F53085EC495E30C73AF2D52827054ACF137C316BC75 | AY33: -
A34: 강관손료 | B34: 주재료비의 7% | C34: 식 | D34: 1 | E34: =TRUNC(SUMIF(V28:V39, RIGHTB(O34, 1), F28:F39)*U34, 2) -> 22257.9 | F34: =TRUNC(E34*D34,1) -> 22257.9 | G34: 0 | H34: =TRUNC(G34*D34,1) -> 0 | I34: 0 | J34: =TRUNC(I34*D34,1) -> 0 | K34: =TRUNC(E34+G34+I34,1) -> 22257.9 | L34: =TRUNC(F34+H34+J34,1) -> 22257.9 | N34: 59E6B575AA75A061C2C2A0D18F5308 | O34: 58FF55611C7CAD9C12A21082AE2C001 | P34: F | Q34: F | R34: F | S34: 0 | T34: 0 | U34: 0.07 | AW34: 59E6B575AA75A061C2C2A0D18F530858FF55611C7CAD9C12A21082AE2C001
A35: 비계안정장치 | B35: 비계안정장치, 바퀴 | C35: 개 | D35: 4 | E35: =단가대비표!O52 -> 9500 | F35: =TRUNC(E35*D35,1) -> 38000 | G35: =단가대비표!P52 -> 0 | H35: =TRUNC(G35*D35,1) -> 0 | I35: =단가대비표!V52 -> 0 | J35: =TRUNC(I35*D35,1) -> 0 | K35: =TRUNC(E35+G35+I35,1) -> 9500 | L35: =TRUNC(F35+H35+J35,1) -> 38000 | M35: 금액제외 | O35: 5EC495E30C73AF2D52827054ACF137C316BC77 | P35: F | Q35: F | R35: T | W35: 2 | AW35: 59E6B575AA75A061C2C2A0D18F53085EC495E30C73AF2D52827054ACF137C316BC77 | AY35: -
A36: 비계안정장치 | B36: 비계안정장치, 쟈키 | C36: 개 | D36: 4 | E36: =단가대비표!O53 -> 11000 | F36: =TRUNC(E36*D36,1) -> 44000 | G36: =단가대비표!P53 -> 0 | H36: =TRUNC(G36*D36,1) -> 0 | I36: =단가대비표!V53 -> 0 | J36: =TRUNC(I36*D36,1) -> 0 | K36: =TRUNC(E36+G36+I36,1) -> 11000 | L36: =TRUNC(F36+H36+J36,1) -> 44000 | M36: 금액제외 | O36: 5EC495E30C73AF2D52827054ACF137C316BC76 | P36: F | Q36: F | R36: T | W36: 2 | AW36: 59E6B575AA75A061C2C2A0D18F53085EC495E30C73AF2D52827054ACF137C316BC76 | AY36: -
A37: 비계안정장치 | B37: 비계안정장치, 발판, 500*1829mm | C37: 개 | D37: 3 | E37: =단가대비표!O54 -> 25000 | F37: =TRUNC(E37*D37,1) -> 75000 | G37: =단가대비표!P54 -> 0 | H37: =TRUNC(G37*D37,1) -> 0 | I37: =단가대비표!V54 -> 0 | J37: =TRUNC(I37*D37,1) -> 0 | K37: =TRUNC(E37+G37+I37,1) -> 25000 | L37: =TRUNC(F37+H37+J37,1) -> 75000 | M37: 금액제외 | O37: 5EC495E30C73AF2D52827054AEBD9A85132D46 | P37: F | Q37: F | R37: T | W37: 2 | AW37: 59E6B575AA75A061C2C2A0D18F53085EC495E30C73AF2D52827054AEBD9A85132D46 | AY37: -
A38: 받침철물손료 | B38: 주재료비의 9% | C38: 식 | D38: 1 | E38: =TRUNC(SUMIF(W28:W39, RIGHTB(O38, 1), F28:F39)*U38, 2) -> 14130 | F38: =TRUNC(E38*D38,1) -> 14130 | G38: 0 | H38: =TRUNC(G38*D38,1) -> 0 | I38: 0 | J38: =TRUNC(I38*D38,1) -> 0 | K38: =TRUNC(E38+G38+I38,1) -> 14130 | L38: =TRUNC(F38+H38+J38,1) -> 14130 | N38: 59E6B575AA75A061C2C2A0D18F5308 | O38: 58FF55611C7CAD9C12A21082AE2F002 | P38: F | Q38: F | R38: F | S38: 0 | T38: 0 | U38: 0.09 | AW38: 59E6B575AA75A061C2C2A0D18F530858FF55611C7CAD9C12A21082AE2F002
A39: 강관 조립말비계(이동식)설치 및 해체 | B39: 높이 2m, 노무비 | C39: 대 | D39: 1 | E39: =일위대가목록!E60 -> 0 | F39: =TRUNC(E39*D39,1) -> 0 | G39: =일위대가목록!F60 -> 95287 | H39: =TRUNC(G39*D39,1) -> 95287 | I39: =일위대가목록!G60 -> 0 | J39: =TRUNC(I39*D39,1) -> 0 | K39: =TRUNC(E39+G39+I39,1) -> 95287 | L39: =TRUNC(F39+H39+J39,1) -> 95287 | M39: 호표 57 | N39: 59E6B575AA75A061C2C2A0D18F5308 | O39: 59E6B575AA75A061C2C2A0D56A2952 | P39: T | Q39: F | R39: F | AW39: 59E6B575AA75A061C2C2A0D18F530859E6B575AA75A061C2C2A0D56A2952
A40: [ 합 계 ] | F40: =TRUNC(SUMIF(N28:N39, N27, F28:F39),0) -> 36387 | H40: =TRUNC(SUMIF(N28:N39, N27, H28:H39),0) -> 95287 | J40: =TRUNC(SUMIF(N28:N39, N27, J28:J39),0) -> 0 | L40: =F40+H40+J40 -> 131674 | N40: TOTAL | O40: TOTAL
A42: 시스템비계 10.0m이하,3개월(발판1열)(계단설치해체비포함) M2 ( 호표 4 ) | N42: 59E6B575AA75A061E282D05F9EE742
A43: 시스템비계-수직재 | B43: S-38(3800mm) | C43: 개 | D43: 0.3009 | E43: =단가대비표!O57 -> 39000 | F43: =TRUNC(E43*D43,1) -> 11735.1 | G43: =단가대비표!P57 -> 0 | H43: =TRUNC(G43*D43,1) -> 0 | I43: =단가대비표!V57 -> 0 | J43: =TRUNC(I43*D43,1) -> 0 | K43: =TRUNC(E43+G43+I43,1) -> 39000 | L43: =TRUNC(F43+H43+J43,1) -> 11735.1 | M43: 금액제외 | O43: 5EC495E30C732B79A2A240A1AC2AB6EDD7C5B8 | P43: F | Q43: F | R43: T | V43: 1 | AW43: 59E6B575AA75A061E282D05F9EE7425EC495E30C732B79A2A240A1AC2AB6EDD7C5B8 | AY43: -
...

Sheet 단가산출목록
B1: 단 가 산 출 목 록
B2: [ 이동초등학교 교사동(봉사관 환경개선공사) ]
A3: 코 드 | B3: 품 명 | C3: 규 격 | D3: 단위 | E3: 재 료 비 | F3: 노 무 비 | G3: 경 비 | H3: 합 계 | I3: 번 호 | J3: 비 고 | K3: START | L3: 품셈개요
A4: 59C115D8597A8A8EF2D240A9E40E11 | B4: 점토블록 포장 | C4: 60t | D4: M2 | E4: =단가산출서!B9 -> 45600 | F4: =단가산출서!C9 -> 16079 | G4: =단가산출서!D9 -> 0 | H4: =단가산출서!E9 -> 61679 | I4: 산근 1 | K4: 59C115D8597A8A8EF2D240A9E40E11
A5: 59C115D8597A8A8EF2D240A9E40E10 | B5: 화강석 클리링 | C5: 벽, 버너구이 | D5: M | E5: =단가산출서!B14 -> 316600 | F5: =단가산출서!C14 -> 0 | G5: =단가산출서!D14 -> 0 | H5: =단가산출서!E14 -> 316600 | I5: 산근 2 | K5: 59C115D8597A8A8EF2D240A9E40E10
A6: 59C115D7BD7CB2AF5202A025E09A81 | B6: 보도용 블록 재설치(소형) / B-TYPE | C6: 블록 정밀절단 / 0 .1㎡이하, 두께 8cm | D6: M2 | E6: =단가산출서!B58 -> 840 | F6: =단가산출서!C58 -> 13027 | G6: =단가산출서!D58 -> 1261 | H6: =단가산출서!E58 -> 15128 | I6: 산근 3 | K6: 59C115D7BD7CB2AF5202A025E09A81 | L6: 유지관리 토목 2-1-26

Sheet 단가산출서
A1: 단 가 산 출 서
A2: [ 이동초등학교 교사동(봉사관 환경개선공사) ]
A3: 산 출 내 역 | B3: 재 료 비 | C3: 노 무 비 | D3: 경 비 | E3: 합 계 | F3: 비 고 | G3: START | H3: 코드 | I3: 품명 | J3: 규격 | K3: 단위 | L3: 수량 | M3: 변수 | N3: 값 | O3: 소계 | P3: 소계 | Q3: 소계 | R3: 소계 | S3: 소계 | T3: 총계
A4: 점토블록 포장 60t M2 ( 산근 1 ) | G4: 59C115D8597A8A8EF2D240A9E40E11 | I4: 점토블록 포장 | J4: 60t | K4: M2
A5: '점토블록 60T EA | E5: 1200 | G5: 59C115D8597A8A8EF2D240A9E40E11 | H5: ZA00000000010048 | I5: 점토블록 | J5: 60T | K5: EA | L5: 38
A6: '보통인부 일반공사 직종 인 | E6: 172698 | G6: 59C115D8597A8A8EF2D240A9E40E11 | H6: L001010101000002 | I6: 보통인부 | J6: 일반공사 직종 | K6: 인 | L6: 0.015
A7: '타일공 일반공사 직종 인 | E7: 294379 | G7: 59C115D8597A8A8EF2D240A9E40E11 | H7: L001010101000028 | I7: 타일공 | J7: 일반공사 직종 | K7: 인 | L7: 0.035
A8: '줄눈공 일반공사 직종 인 | E8: 212390 | G8: 59C115D8597A8A8EF2D240A9E40E11 | H8: L001010101000034 | I8: 줄눈공 | J8: 일반공사 직종 | K8: 인 | L8: 0.015
A9: 총 계 | B9: 45600 | C9: 16079 | D9: 0 | E9: 61679
A11: 화강석 클리링 벽, 버너구이 M ( 산근 2 ) | G11: 59C115D8597A8A8EF2D240A9E40E10 | I11: 화강석 클리링 | J11: 벽, 버너구이 | K11: M
A12: '석재클리닝 M | E12: 200000 | G12: 59C115D8597A8A8EF2D240A9E40E10 | H12: ZA00000000000342 | I12: 석재클리닝 | K12: M | L12: 1
A13: '인건비 인 | E13: 200000 | G13: 59C115D8597A8A8EF2D240A9E40E10 | H13: ZA00000000000343 | I13: 인건비 | K13: 인 | L13: 0.583
A14: 총 계 | B14: 316600 | C14: 0 | D14: 0 | E14: 316600
A16: 보도용 블록 재설치(소형) / B-TYPE 블록 정밀절단 / 0 .1㎡이하, 두께 8cm M2 ( 산근 3 ) | G16: 59C115D7BD7CB2AF5202A025E09A81 | I16: 보도용 블록 재설치(소형) / B-TYPE | J16: 블록 정밀절단 / 0 .1㎡이하, 두께 8cm | K16: M2
G17: 59C115D7BD7CB2AF5202A025E09A81 | H17: C | L17: 1
A18: B-TYPE: 차도인접, 주택가 보도 / 블록 정밀절단 | B18: 0 | C18: 0 | D18: 0 | E18: 0 | G18: 59C115D7BD7CB2AF5202A025E09A81 | H18: C! | I18: 'B-TYPE: 차도인접, 주택가 보도 / 블록 정밀절단'
B19: 0 | C19: 0 | D19: 0 | E19: 0 | G19: 59C115D7BD7CB2AF5202A025E09A81 | H19: C!
A20: Q1 1일시공량(M2/일) =180 | B20: 0 | C20: 0 | D20: 0 | E20: 0 | G20: 59C115D7BD7CB2AF5202A025E09A81 | H20: C! | I20: q1'1일시공량(M2/일)' =180
A21: Q 시간당 작업량(M2/HR) =Q1/8= 22.5 | B21: 0 | C21: 0 | D21: 0 | E21: 0 | G21: 59C115D7BD7CB2AF5202A025E09A81 | H21: C! | I21: Q '시간당 작업량(M2/HR)' =q1/8=?
B22: 0 | C22: 0 | D22: 0 | E22: 0 | G22: 59C115D7BD7CB2AF5202A025E09A81 | H22: C!
A23: ◈배치인원 | B23: 0 | C23: 0 | D23: 0 | E23: 0 | G23: 59C115D7BD7CB2AF5202A025E09A81 | H23: C! | I23: '◈배치인원'
B24: 0 | C24: 0 | D24: 0 | E24: 0 | G24: 59C115D7BD7CB2AF5202A025E09A81 | H24: C!
A25: 1.인원 | B25: 0 | C25: 0 | D25: 0 | E25: 0 | G25: 59C115D7BD7CB2AF5202A025E09A81 | H25: C! | I25: '1.인원 '
A26: [1]=0, [2]=0, [3]=0 | B26: 0 | C26: 0 | D26: 0 | E26: 0 | G26: 59C115D7BD7CB2AF5202A025E09A81 | H26: C! | I26: [1]=0, [2]=0, [3]=0
A27: 포 장 공 2인/8HR*작업시간 | B27: 0 | C27: 0 | D27: 0 | E27: 0 | G27: 59C115D7BD7CB2AF5202A025E09A81 | H27: C! | I27: '포 장 공 2인/8HR*작업시간'
A28: 노무비: 274873*2/8/22.5 = 3054.1 | B28: 0 | C28: 3054.1 | D28: 0 | E28: 3054.1 | G28: 59C115D7BD7CB2AF5202A025E09A81 | H28: C! | I28: '노무비:' ~L001010101000019.L~*2/8/{Q} =?LA+:LA1
A29: 특별인부 2인/8HR*작업시간 | B29: 0 | C29: 0 | D29: 0 | E29: 0 | G29: 59C115D7BD7CB2AF5202A025E09A81 | H29: C! | I29: '특별인부 2인/8HR*작업시간'
A30: 노무비: 228717*2/8/22.5 = 2541.3 | B30: 0 | C30: 2541.3 | D30: 0 | E30: 2541.3 | G30: 59C115D7BD7CB2AF5202A025E09A81 | H30: C! | I30: '노무비:' ~L001010101000003.L~*2/8/{Q} =?LA+:LA2
A31: 보통인부 1인/8HR*작업시간 | B31: 0 | C31: 0 | D31: 0 | E31: 0 | G31: 59C115D7BD7CB2AF5202A025E09A81 | H31: C! | I31: '보통인부 1인/8HR*작업시간'
A32: 노무비: 172698*1/8/22.5 = 959.4 | B32: 0 | C32: 959.4 | D32: 0 | E32: 959.4 | G32: 59C115D7BD7CB2AF5202A025E09A81 | H32: C! | I32: '노무비:' ~L001010101000002.L~*1/8/{Q} =?LA+:LA3
A33: 소 계 | B33: 0 | C33: 6554.8 | D33: 0 | E33: 6554.8 | G33: 59C115D7BD7CB2AF5202A025E09A81 | H33: C! | I33: >'소 계'
B34: 0 | C34: 0 | D34: 0 | E34: 0 | G34: 59C115D7BD7CB2AF5202A025E09A81 | H34: C!
A35: ◈사용기계 | B35: 0 | C35: 0 | D35: 0 | E35: 0 | G35: 59C115D7BD7CB2AF5202A025E09A81 | H35: C! | I35: '◈사용기계 '
B36: 0 | C36: 0 | D36: 0 | E36: 0 | G36: 59C115D7BD7CB2AF5202A025E09A81 | H36: C!
A37: 2.굴삭기(무한궤도) 0.2㎥ | B37: 0 | C37: 0 | D37: 0 | E37: 0 | G37: 59C115D7BD7CB2AF5202A025E09A81 | H37: C! | I37: '2.굴삭기(무한궤도) 0.2㎥'
A38: 재료비: 10164 / 22.5 = 451.7 | B38: 451.7 | C38: 0 | D38: 0 | E38: 451.7 | G38: 59C115D7BD7CB2AF5202A025E09A81 | H38: C! | I38: '재료비:' ~00000201002000000.M~ / {Q} =?MA+
A39: 노무비: 59025 / 22.5 = 2623.3 | B39: 0 | C39: 2623.3 | D39: 0 | E39: 2623.3 | G39: 59C115D7BD7CB2AF5202A025E09A81 | H39: C! | I39: '노무비:' ~00000201002000000.L~ / {Q} =?LA+
A40: 경 비: 13873 / 22.5 = 616.5 | B40: 0 | C40: 0 | D40: 616.5 | E40: 616.5 | G40: 59C115D7BD7CB2AF5202A025E09A81 | H40: C! | I40: '경 비:' ~00000201002000000.E~ / {Q} =?EQ+
A41: 소 계 | B41: 451.7 | C41: 2623.3 | D41: 616.5 | E41: 3691.5 | G41: 59C115D7BD7CB2AF5202A025E09A81 | H41: C! | I41: >'소 계'
B42: 0 | C42: 0 | D42: 0 | E42: 0 | G42: 59C115D7BD7CB2AF5202A025E09A81 | H42: C!
...

Sheet 단가대비표
A1: 단 가 대 비 표
A2: [ 이동초등학교 교사동(봉사관 환경개선공사) ]
A3: 코 드 | B3: 품 명 | C3: 규격 | D3: 단위 | E3: 재 료 비 | P3: 노 무 비 | Q3: 경 비 | W3: 번 호 | X3: 비 고 | Y3: 품목구분 | Z3: 노임구분 | AA3: 소수점처리 | AB3: 자재구분
E4: 조달청가격 | F4: PAGE | G4: 거래가격 | H4: PAGE | I4: 유통물가 | J4: PAGE | K4: 물가자료 | L4: PAGE | M4: 물정/조사 | N4: PAGE | O4: 적용단가 | Q4: 조달청가격 | R4: 거래가격 | S4: 유통물가 | T4: 물가자료 | U4: 물정/조사 | V4: 적용단가
A5: 5EF1D541FF7A166AE202C02F882F62AB002C99 | B5: 굴착기(무한궤도) | C5: 0.2㎥ | D5: 대 | E5: 0 | G5: 0 | I5: 0 | K5: 0 | M5: 0 | O5: 0 | P5: 0 | Q5: 0 | R5: 0 | S5: 0 | T5: 0 | U5: 66538 | V5: =SMALL(Q5:U5,COUNTIF(Q5:U5,0)+1) -> 66538 | W5: 자재 1 | X5: 천원
A6: 5EF1D541FF7A1623326270901CF9506E9DB2E6 | B6: 덤프트럭 | C6: 2.5ton | D6: 대 | E6: 0 | G6: 0 | I6: 0 | K6: 0 | M6: 0 | O6: 0 | P6: 0 | Q6: 0 | R6: 0 | S6: 0 | T6: 0 | U6: 21982 | V6: =SMALL(Q6:U6,COUNTIF(Q6:U6,0)+1) -> 21982 | W6: 자재 2 | X6: 천원
A7: 5EF1D541FF7A05A39292508F7870F5CB9AF66C | B7: 플레이트 콤팩터 | C7: 1.5ton | D7: 대 | E7: 0 | G7: 0 | I7: 0 | K7: 0 | M7: 0 | O7: 0 | P7: 0 | Q7: 0 | R7: 0 | S7: 0 | T7: 0 | U7: 1673 | V7: =SMALL(Q7:U7,COUNTIF(Q7:U7,0)+1) -> 1673 | W7: 자재 3 | X7: 천원
A8: 5EF1D541FF7A313632A280DA36EC9FACB83446 | B8: 크레인(타이어) | C8: 10ton | D8: 대 | E8: 0 | G8: 0 | I8: 0 | K8: 0 | M8: 0 | O8: 0 | P8: 0 | Q8: 0 | R8: 0 | S8: 0 | T8: 0 | U8: 136400 | V8: =SMALL(Q8:U8,COUNTIF(Q8:U8,0)+1) -> 136400 | W8: 자재 4 | X8: 천원
A9: 5EF1D541FF7A313632A290E0019B7337E5BEF7 | B9: 트럭탑재형 크레인 | C9: 5ton | D9: 대 | E9: 0 | G9: 0 | I9: 0 | K9: 0 | M9: 0 | O9: 0 | P9: 0 | Q9: 0 | R9: 0 | S9: 0 | T9: 0 | U9: 42791 | V9: =SMALL(Q9:U9,COUNTIF(Q9:U9,0)+1) -> 42791 | W9: 자재 5 | X9: 천원
A10: 5EF1D541FF7A43A0E292408857CDF5E06D6AAF | B10: 소형브레이커(전기식) | C10: 1.5kw | D10: 대 | E10: 0 | G10: 0 | I10: 0 | K10: 0 | M10: 0 | O10: 0 | P10: 0 | Q10: 0 | R10: 0 | S10: 0 | T10: 0 | U10: 1375 | V10: =SMALL(Q10:U10,COUNTIF(Q10:U10,0)+1) -> 1375 | W10: 자재 6 | X10: 천원
A11: 5EE775FC8872A15452B2D087906F9CD4DF8C76 | B11: 모래 | C11: (별도) | D11: M3 | E11: 0 | G11: 0 | I11: 0 | K11: 0 | M11: 0 | O11: 0 | P11: 0 | Q11: 0 | R11: 0 | S11: 0 | T11: 0 | U11: 0 | V11: 0 | W11: 자재 7 | X11: 별도
A12: 5EE775FC8872A15452B2D087906F9CD4DF8B69 | B12: 모래 | D12: M3 | E12: 0 | G12: 0 | I12: 0 | K12: 47000 | L12: 62 | M12: 0 | O12: =SMALL(E12:M12,COUNTIF(E12:M12,0)+1) -> 47000 | P12: 0 | Q12: 0 | R12: 0 | S12: 0 | T12: 0 | U12: 0 | V12: 0 | W12: 자재 8
A13: 5EE775FC807D47F3823250F4A293FB1C878BEF | B13: 철강설 | C13: 철강설, 고철, 작업설부산물 | D13: kg | E13: 251 | G13: 410 | H13: 1472 | I13: 448 | J13: 1198 | K13: 0 | M13: 0 | O13: =SMALL(E13:M13,COUNTIF(E13:M13,0)+1) -> 251 | P13: 0 | Q13: 0 | R13: 0 | S13: 0 | T13: 0 | U13: 0 | V13: 0 | W13: 자재 9 | X13: 수집상차도
A14: 5EE775FC807D47F3823250F4A293FB1C878AC6 | B14: 철강설 | C14: 철강설, 스텐레스, 철거부산물 | D14: kg | E14: 1425 | G14: 2000 | H14: 1472 | I14: 2000 | J14: 1198 | K14: 0 | M14: 0 | O14: =SMALL(E14:M14,COUNTIF(E14:M14,0)+1) -> 1425 | P14: 0 | Q14: 0 | R14: 0 | S14: 0 | T14: 0 | U14: 0 | V14: 0 | W14: 자재 10 | X14: 수집상차도
A15: 5EE775FC807D47F3823250F4A293FB1C878921 | B15: 철강설 | C15: 철강설, 동판, 철거부산물 | D15: kg | E15: 10450 | G15: 16950 | H15: 1472 | I15: 19550 | J15: 1198 | K15: 0 | M15: 0 | O15: =SMALL(E15:M15,COUNTIF(E15:M15,0)+1) -> 10450 | P15: 0 | Q15: 0 | R15: 0 | S15: 0 | T15: 0 | U15: 0 | V15: 0 | W15: 자재 11 | X15: 수집상차도
A16: 5EE775FC807D47F3823250F4A3BF1832A652B4 | B16: 철강설 | C16: 철강설, 알루미늄, 철거부산물 | D16: kg | E16: 1852.5 | G16: 2450 | H16: 1472 | I16: 4050 | J16: 1198 | K16: 0 | M16: 0 | O16: =SMALL(E16:M16,COUNTIF(E16:M16,0)+1) -> 1852.5 | P16: 0 | Q16: 0 | R16: 0 | S16: 0 | T16: 0 | U16: 0 | V16: 0 | W16: 자재 12 | X16: 수집상차도
A17: 5EE73503707083E3A232A0647E44AF62E4596F | B17: 경유 | C17: 경유, 저유황 | D17: L | E17: 0 | G17: 1708.18 | H17: 1451 | I17: 1680 | J17: 1189 | K17: 0 | M17: 0 | O17: =SMALL(E17:M17,COUNTIF(E17:M17,0)+1) -> 1680 | P17: 0 | Q17: 0 | R17: 0 | S17: 0 | T17: 0 | U17: 0 | V17: 0 | W17: 자재 13
A18: 5EE73503707083E3A232905D0C6D33BBA5B8CB | B18: 공업용휘발유 | C18: 공업용휘발유, 무연 | D18: L | E18: 0 | G18: 1711.81 | H18: 1451 | I18: 1695.45 | J18: 1189 | K18: 0 | M18: 0 | O18: =SMALL(E18:M18,COUNTIF(E18:M18,0)+1) -> 1695.45 | P18: 0 | Q18: 0 | R18: 0 | S18: 0 | T18: 0 | U18: 0 | V18: 0 | W18: 자재 14
A19: 5ED6B50B6C7FA0FB5242108C925FDC072CAF61 | B19: 안전발판 | C19: 400×1829(1817) | D19: 매 | E19: 0 | G19: 26200 | H19: 167 | I19: 0 | K19: 24500 | L19: 108 | M19: 0 | O19: =SMALL(E19:M19,COUNTIF(E19:M19,0)+1) -> 24500 | P19: 0 | Q19: 0 | R19: 0 | S19: 0 | T19: 0 | U19: 0 | V19: 0 | W19: 자재 15
A20: 5EC495E30578D77CA26200BE9C0D7DC26D4FE7 | B20: ㄱ형강 | C20: ㄱ형강, 등변, 25*25*3mm | D20: kg | E20: 1010 | G20: 1370 | H20: 55 | I20: 1150 | J20: 21 | K20: 0 | M20: 0 | O20: =SMALL(E20:M20,COUNTIF(E20:M20,0)+1) -> 1010 | P20: 0 | Q20: 0 | R20: 0 | S20: 0 | T20: 0 | U20: 0 | V20: 0 | W20: 자재 16
A21: 5EC495E30578D77CA26200BE9C0D7DC26CBE2F | B21: ㄱ형강 | C21: ㄱ형강, 등변, 100*100*7mm | D21: kg | E21: 940 | G21: 1150 | H21: 55 | I21: 1150 | J21: 21 | K21: 0 | M21: 0 | O21: =SMALL(E21:M21,COUNTIF(E21:M21,0)+1) -> 940 | P21: 0 | Q21: 0 | R21: 0 | S21: 0 | T21: 0 | U21: 0 | V21: 0 | W21: 자재 17
A22: 5EC495E30578E1BFF202300E66CD62BEBE77D0 | B22: 일반구조용압연강판 | C22: 일반구조용압연강판, 1.2mm | D22: kg | E22: 0 | G22: 1055.6 | H22: 62 | I22: 0 | K22: 0 | M22: 0 | O22: =SMALL(E22:M22,COUNTIF(E22:M22,0)+1) -> 1055.6 | P22: 0 | Q22: 0 | R22: 0 | S22: 0 | T22: 0 | U22: 0 | V22: 0 | W22: 자재 18
A23: 5EC495E30578E1BFF2022067FCFF2F91CC8C92 | B23: 스테인리스강판 | C23: 스테인리스강판, STS304, 1.5mm | D23: kg | E23: 3600 | G23: 4200 | H23: 73 | I23: 4595 | J23: 36 | K23: 0 | M23: 0 | O23: =SMALL(E23:M23,COUNTIF(E23:M23,0)+1) -> 3600 | P23: 0 | Q23: 0 | R23: 0 | S23: 0 | T23: 0 | U23: 0 | V23: 0 | W23: 자재 19
A24: 5EC495E30578E1BFF202E0142A9A65E1CA0DB7 | B24: 동판 | C24: 동판, 1.5t | D24: M2 | E24: 0 | G24: 0 | I24: 0 | K24: 47611 | L24: 41 | M24: 0 | O24: =SMALL(E24:M24,COUNTIF(E24:M24,0)+1) -> 47611 | P24: 0 | Q24: 0 | R24: 0 | S24: 0 | T24: 0 | U24: 0 | V24: 0 | W24: 자재 20
A25: 5EC495E3047E4DC292A2E074CACE9F53DF4CC7 | B25: 시멘트 | C25: 시멘트(별도) | D25: kg | E25: 0 | G25: 0 | I25: 0 | K25: 0 | M25: 0 | O25: 0 | P25: 0 | Q25: 0 | R25: 0 | S25: 0 | T25: 0 | U25: 0 | V25: 0 | W25: 자재 21 | X25: 별도
A26: 5EC495E3047E4DC292A2E074CACE9F53DF4CC2 | B26: 시멘트 | C26: 대리점 | D26: 포 | E26: 0 | G26: 6727.27 | H26: 102 | I26: 7454.54 | J26: 62 | K26: 0 | M26: 0 | O26: =SMALL(E26:M26,COUNTIF(E26:M26,0)+1) -> 6727.27 | P26: 0 | Q26: 0 | R26: 0 | S26: 0 | T26: 0 | U26: 0 | V26: 0 | W26: 자재 22
A27: 5EC495E3067935A59272D0E88140F7B89D220E | B27: 자연석판석 | C27: 자연석판석, 물갈기, 30mm, 포천석판재 | D27: M2 | E27: 0 | G27: 58500 | H27: 561 | I27: 0 | K27: 0 | M27: 0 | O27: =SMALL(E27:M27,COUNTIF(E27:M27,0)+1) -> 58500 | P27: 0 | Q27: 0 | R27: 0 | S27: 0 | T27: 0 | U27: 0 | V27: 0 | W27: 자재 23
A28: 5EC495E3067935A59272D0E88140F7B89D2D12 | B28: 화강석(원석) | C28: 포천석 30㎜ (물갈기마감:연마) | D28: M3 | E28: 0 | G28: 0 | I28: 0 | K28: 360000 | L28: 457 | M28: 0 | O28: =SMALL(E28:M28,COUNTIF(E28:M28,0)+1) -> 360000 | P28: 0 | Q28: 0 | R28: 0 | S28: 0 | T28: 0 | U28: 0 | V28: 0 | W28: 자재 24
A29: 5EC495E301710B8B62B2A0E76BC7AB8F944CBC | B29: 우레탄폼 | C29: 주입용 | D29: M3 | E29: 0 | G29: 0 | I29: 0 | K29: 330000 | L29: 652 | M29: 0 | O29: =SMALL(E29:M29,COUNTIF(E29:M29,0)+1) -> 330000 | P29: 0 | Q29: 0 | R29: 0 | S29: 0 | T29: 0 | U29: 0 | V29: 0 | W29: 자재 25
A30: 5EC495E301710B8B724210B56E4B3B45C008FA | B30: 보안방범필름 | C30: SH7CLARL, 7mil. 투명 비산방지 안전필름 | D30: M2 | E30: 0 | G30: 0 | I30: 0 | K30: 0 | M30: 7217 | N30: 데코리코 | O30: =SMALL(E30:M30,COUNTIF(E30:M30,0)+1) -> 7217 | P30: 0 | Q30: 0 | R30: 0 | S30: 0 | T30: 0 | U30: 0 | V30: 0 | W30: 자재 26
A31: 5EC495E30070B7186242B05A3C41D9CFB9FBA7 | B31: 알루미늄 복합패널 시공비 | D31: M2 | E31: 0 | G31: 0 | I31: 0 | K31: 0 | M31: 95570 | N31: 대진산업건설 | O31: =SMALL(E31:M31,COUNTIF(E31:M31,0)+1) -> 95570 | P31: 0 | Q31: 0 | R31: 0 | S31: 0 | T31: 0 | U31: 0 | V31: 0 | W31: 자재 27
A32: 5EC495E30070B7186242B05A3C41D9CFB9FBA4 | B32: 알루미늄 복합패널[관급] | C32: 평판 T=4 불소수지(불연) | D32: M2 | E32: 0 | G32: 0 | I32: 0 | K32: 0 | M32: 0 | O32: 0 | P32: 0 | Q32: 0 | R32: 0 | S32: 0 | T32: 0 | U32: 0 | V32: 0 | W32: 자재 28
A33: 5EC495E30070B7186242B05A3C41D9CFB9FBA5 | B33: 알루미늄 복합패널[관급] | C33: 평판 T=4 불소수지(불연) | D33: M2 | E33: 80100 | G33: 0 | I33: 0 | K33: 0 | M33: 0 | O33: =SMALL(E33:M33,COUNTIF(E33:M33,0)+1) -> 80100 | P33: 0 | Q33: 0 | R33: 0 | S33: 0 | T33: 0 | U33: 0 | V33: 0 | W33: 자재 29 | X33: [25184452]
A34: 5EC495E30070B718F2A2F053EF24A404F90D50 | B34: 합성고분자방수시트 | C34: 합성고분자방수시트, 몰터플러스, 자착, 3.0mm | D34: M2 | E34: 0 | G34: 17500 | H34: 585 | I34: 0 | K34: 0 | M34: 0 | O34: =SMALL(E34:M34,COUNTIF(E34:M34,0)+1) -> 17500 | P34: 0 | Q34: 0 | R34: 0 | S34: 0 | T34: 0 | U34: 0 | V34: 0 | W34: 자재 30
A35: 5EC495E3037DF934B2C2A055728B7C434F9F47 | B35: 석고보드 | C35: 석고보드, 평보드, 방화, 12.5*900*1800mm(㎡) | D35: M2 | E35: 5246 | G35: 5246.91 | H35: 671 | I35: 5925.92 | J35: 408 | K35: 0 | M35: 0 | O35: =SMALL(E35:M35,COUNTIF(E35:M35,0)+1) -> 5246 | P35: 0 | Q35: 0 | R35: 0 | S35: 0 | T35: 0 | U35: 0 | V35: 0 | W35: 자재 31
A36: 5EC495E3037DF934B2C2A055728B7C434F9ACF | B36: 석고보드 | C36: 석고보드, 평보드, 방수, 12.5*900*1800mm(㎡) | D36: M2 | E36: 6851 | G36: 6851.85 | H36: 671 | I36: 7839.5 | J36: 408 | K36: 0 | M36: 0 | O36: =SMALL(E36:M36,COUNTIF(E36:M36,0)+1) -> 6851 | P36: 0 | Q36: 0 | R36: 0 | S36: 0 | T36: 0 | U36: 0 | V36: 0 | W36: 자재 32
A37: 5EC495E3037DF90F7282006429E22A73961831 | B37: 소방관진입창 스티커 | C37: 빛반사 양면 | D37: 개 | E37: 0 | G37: 0 | I37: 0 | K37: 0 | M37: 5300 | N37: 한국안전기업 | O37: =SMALL(E37:M37,COUNTIF(E37:M37,0)+1) -> 5300 | P37: 0 | Q37: 0 | R37: 0 | S37: 0 | T37: 0 | U37: 0 | V37: 0 | W37: 자재 33
A38: 5EC495E302736A72E25280313C831D8F520903 | B38: 로이삼중유리 43mm(5LE,SKN154+14AR+5+14AR+5LE,SKN154) | C38: 더블로이(반강화)+아르곤가스+투명 | D38: M2 | E38: 0 | G38: 0 | I38: 0 | K38: 187900 | L38: 585 | M38: 0 | O38: =SMALL(E38:M38,COUNTIF(E38:M38,0)+1) -> 187900 | P38: 0 | Q38: 0 | R38: 0 | S38: 0 | T38: 0 | U38: 0 | V38: 0 | W38: 자재 34
A39: 5EC495E302736A72E25280313C831D8F520901 | B39: 로이삼중유리 39mm(5LE,MZT152+12AR+5+12AR+5LE,MZT152),SWS | C39: 더블로이(반강화)+아르곤가스+투명 | D39: M2 | E39: 0 | G39: 0 | I39: 0 | K39: 171800 | L39: 584 | M39: 0 | O39: =SMALL(E39:M39,COUNTIF(E39:M39,0)+1) -> 171800 | P39: 0 | Q39: 0 | R39: 0 | S39: 0 | T39: 0 | U39: 0 | V39: 0 | W39: 자재 35
A40: 5EC495E302736A72E25280313C831D8F520900 | B40: 로이삼중유리 43mm(5LE,MZT152+14AR+5+14AR+5LE,MZT152),SWS | C40: 더블로이(반강화)+아르곤가스+투명 | D40: M2 | E40: 0 | G40: 0 | I40: 0 | K40: 187900 | L40: 584 | M40: 0 | O40: =SMALL(E40:M40,COUNTIF(E40:M40,0)+1) -> 187900 | P40: 0 | Q40: 0 | R40: 0 | S40: 0 | T40: 0 | U40: 0 | V40: 0 | W40: 자재 36
...

Sheet  공사설정 
A1: 이 Sheet는 수정하지 마십시요
A2: 공사구분 | B2: A | C2: 타이틀 | D2: T
A3: 확정내역 | B3: 원내역
A4: 자재단가적용 | B4: 5
A5: 경비단가적용 | B5: 5
A6: 품목코드형식 | B6: XXXX-XXXX-XXXXXXXXX
A7: 내역금액소수점처리 | B7: C | C7: T
A8: 일위대가내역소수점처리 | B8: C | C8: 2
A9: 단가명 | B9: 조달청가격 | C9: 거래가격 | D9: 유통물가 | E9: 물가자료 | F9: 물정/조사 | G9: TTTTT
A10: 환율 | B10: 1472 | C10: 0 | D10: 0
A11: 시간당작업량 | B11: R | C11: 4
A12: 1회 사이클시간 | B12: R | C12: 4
A13: 시간당 작업사이클 | B13: R | C13: 3
A14: 일반변수 | B14: R | C14: 5
A15: 시간당 노임산출 계수 | B15: A | C15: 1/8*16/12*25/20 | D15: 1/8*16/12*25/20 | E15: 1/8*16/12*25/20 | F15: 1
A16: 재료비 할증 계수 | B16: 1.11 | C16: 1.12
A17: 노무비 할증 계수 | B17: 1 | C17: 1.5 | D17: 1.16 | E17: 1.6 | F17: 1.6 | G17: 1.6 | H17: 1.94 | I17: 1.94 | J17: 1.94 | K17: 1 | L17: 1 | M17: 1
A18: 경비 할증 계수 | B18: 1.25 | C18: 1.071
A19: 내역,일위대가 품명,규격,단위 따로적용
A20: 내역단가 소수점처리 | B20: C | C20: 1
A21: 코드 | B21: 공종구분명 | C21: 원가비목코드
A22: 1 | B22: 작 업 부 산 물 | C22: A3
A23: 2 | B23: 운 반 비 | C23: C1
A24: 3 | B24: 관 급 자 재 비 | C24: DJ
A25: 4 | B25: 사 급 자 재 비 | C25: D3
A26: 5 | B26: 외 자 재
A27: 6 | B27: 폐기물처리비
A28: 7 | B28: 건설폐기물처리비 | C28: CE
A29: 8 | B29: 품 질 관 리 비[건축] | C29: CD
A30: 9 | B30: 도급자설치관급자재비[건축] | C30: DK
A31: A | B31: 관급자설치관급자재비[건축] | C31: DL
A32: B | B32: 작 업 부 산 물 | C32: D6
A33: C | B33: 안전관리비 | C33: D7
A34: D | B34: 안 전 관 리 비[건축] | C34: CC
A35: E | B35: ....
A36: F | B36: ....
A37: G | B37: ....
A38: H | B38: ....
A39: I | B39: ....
A40: J | B40: ....
...

Sheet Sheet1
