Workbook
Name _: #REF!
Name __: #REF!
Name ___: #REF!
Name ____: #REF!
Name _____: #REF!
Name ______: #REF!
Name _______: #REF!
Name __________: #REF!
Name _____________0: #REF!
Name _____________11: #REF!
Name _____________12: #REF!
Name __________0: #REF!
Name __________11: #REF!
Name __________12: #REF!
Name _________0: #REF!
Name _________10: #REF!
Name _________11: #REF!
Name _________12: #REF!
Name ________0: #REF!
Name ________10: #REF!
Name ________11: #REF!
Name ________12: #REF!
Name _______0: #REF!
Name ______0: #REF!
Name ______11: #REF!
Name ______12: #REF!
Name _____0: #REF!
Name _____10: #REF!
Name _____11: #REF!
Name _____12: #REF!
Name ____0: #REF!
Name ____1: #REF!
Name ____10: #REF!
Name ____11: #REF!
Name ____12: #REF!
Name ____2: #REF!
Name ____3: #REF!
Name ____4: #REF!
Name ____5: #REF!
Name ____7: #REF!
Name ____8: #REF!
Name ____9: #REF!
Name __10: #REF!
Name __11: #REF!
Name __6: #REF!
Name __7: #REF!
Name __8: #REF!
Name __9: #REF!
Name __A81620: '[2]양수장(기계)'!#REF!
Name __hun1: [3]설계조건!#REF!
Name __hun2: [3]설계조건!#REF!
Name __LEV1: #REF!
Name __LEV2: #REF!
Name __LEV3: #REF!
Name __LEV4: #REF!
Name __LEV5: #REF!
Name __LEV6: #REF!
Name __LEV7: #REF!
Name __LEV8: #REF!
Name __qs1: [3]설계조건!#REF!

Sheet 원가계산서
B1: 공 사 원 가 계 산 서
B2: 공사명 : 이동초등학교 교사동(봉사관) 환경개선공사
B3: 비 목 | E3: 금 액 | F3: 구 성 비 | G3: 비 고
A4: A1 | B4: 순 공 사 원 가 | C4: 재 료 비 | D4: 직 접 재 료 비 | E4: =TRUNC(공종별집계표!F5, 0) -> 435181484
A5: A2 | D5: 간 접 재 료 비 | E5: 0
A6: A3 | D6: 작 업 부 산 물 | E6: 0
A7: AS | D7: [ 소 계 ] | E7: =TRUNC(E4+E5-E6, 0) -> 435181484
A8: B1 | C8: 노 무 비 | D8: 직 접 노 무 비 | E8: =TRUNC(공종별집계표!H5, 0) -> 305529779
A9: B2 | D9: 간 접 노 무 비 | E9: =TRUNC(E8*0.175, 0) -> 53467711 | F9: 직접노무비 * 17.5%
A10: BS | D10: [ 소 계 ] | E10: =TRUNC(E8+E9, 0) -> 358997490
A11: C2 | C11: 경 비 | D11: 경 비 | E11: =TRUNC(공종별집계표!J5, 0) -> 13271628
A12: C4 | D12: 산 재 보 험 료 | E12: =TRUNC(E10*0.0356, 0) -> 12780310 | F12: 노무비 * 3.56%
A13: C5 | D13: 고 용 보 험 료 | E13: =TRUNC(E10*0.0101, 0) -> 3625874 | F13: 노무비 * 1.01%
A14: C6 | D14: 국민 건강 보험료 | E14: =TRUNC(E8*0.03595, 0) -> 10983795 | F14: 직접노무비 * 3.595%
A15: C7 | D15: 국민 연금 보험료 | E15: =TRUNC(E8*0.0475, 0) -> 14512664 | F15: 직접노무비 * 4.75%
A16: C8 | D16: 퇴직 공제 부금비 | E16: =TRUNC(E8*0.023, 0) -> 7027184 | F16: 직접노무비 * 2.3% | L16: =TRUNC((E7+E8)*0.0228*1.2+4325000, 0) -> 24590860
A17: CA | D17: 산업안전보건관리비 | E17: =TRUNC((E7+E8+(E35/1.1))*0.0228+4325000, 0) -> 21595469 | F17: (재료비+직노+관급자재비) * 2.28% | L17: =TRUNC((E7+E8+(E35/1.1))*0.0228+4325000, 0) -> 21595469 | M17: 관급포함
A18: CB | D18: 노인장기요양보험료 | E18: =TRUNC(E14*0.1314, 0) -> 1443270 | F18: 건강보험료 * 13.14%
A19: CC | D19: 안 전 관 리 비[건축] | E19: =TRUNC(공종별집계표!T27, 0) -> 800820
A20: CE | D20: 건설폐기물처리비 | E20: =TRUNC(공종별집계표!T18, 0) -> 17691757
A21: CG | D21: 기 타 경 비 | E21: =TRUNC((E7+E10)*0.05, 0) -> 39708948 | F21: (재료비+노무비) * 5%
A22: CH | D22: 환 경 보 전 비 | E22: =TRUNC((E7+E8+E11)*0.005, 0) -> 3769914 | F22: (재료비+직노+경비) * 0.5%
A23: CK | D23: 하도급지급보증수수료 | E23: =TRUNC((E7+E8+E11)*0.00081, 0) -> 610726 | F23: (재료비+직노+경비) * 0.081% | G23: 최저가대상공사
A24: CL | D24: 건설기계대여금지급보증서발급수수료 | E24: =TRUNC((E7+E8+E11)*0.0007, 0) -> 527788 | F24: (재료비+직노+경비) * 0.07%
A25: CF | D25: 석 면 분 담 금 | E25: =TRUNC(E10*0.00006, 0) -> 21539 | F25: 노무비 * 0.006%
A26: CJ | D26: 임 금 채 권 부 담 금 | E26: =TRUNC(E10*0.0009, 0) -> 323097 | F26: 노무비 * 0.09%
A27: CS | D27: [ 소 계 ] | E27: =TRUNC(E11+E12+E13+E14+E15+E16+E17+E18+E19+E20+E25+E21+E22+E26+E23+E24, 0) -> 148694783
A28: S1 | B28: 계 | E28: =TRUNC(E7+E10+E27, 0) -> 942873757
A29: D1 | B29: 일 반 관 리 비 | E29: =TRUNC(E28*0.08, 0) -> 75429900 | F29: 계 * 8%
A30: D2 | B30: 이 윤 | E30: =TRUNC((E10+E27+E29)*0.15-7424, 0) -> 87460901 | F30: (노무비+경비+일반관리비) * 15%
A31: D6 | B31: 작 업 부 산 물 | E31: =TRUNC(공종별집계표!T14, 0) -> 17914558
A32: D9 | B32: 공 급 가 액 | E32: =TRUNC(E28+E29+E30-E31, 0) -> 1087850000
A33: DB | B33: 부 가 가 치 세 | E33: =TRUNC(E32*0.1, 0) -> 108785000 | F33: 공급가액 * 10%
A34: DH | B34: 도 급 액 | E34: =TRUNC(E32+E33, 0) -> 1196635000
A35: DK | B35: 도급자설치관급자재비[건축] | E35: =TRUNC(공종별집계표!T16, 0) -> 18442000
A36: DL | B36: 관급자설치관급자재비[건축] | E36: =TRUNC(공종별집계표!T17, 0) -> 276299000
A37: S2 | B37: 총 공 사 비 | E37: =TRUNC(E34+0+E35+E36, 0) -> 1491376000

Sheet 공종별집계표
A1: 공 종 별 집 계 표
A2: [ 이동초등학교 교사동(봉사관) 환경개선공사 ]
A3: 품 명 | B3: 규 격 | C3: 단위 | D3: 수량 | E3: 재 료 비 | G3: 노 무 비 | I3: 경 비 | K3: 합 계 | M3: 비 고 | N3: 공종코드 | O3: 변수 | P3: 상위공종 | Q3: 공종구분 | R3: 공종레벨 | S3: 공종소계 | T3: 원가계산서 연결금액
E4: 단 가 | F4: 금 액 | G4: 단 가 | H4: 금 액 | I4: 단 가 | J4: 금 액 | K4: 단 가 | L4: 금 액
A5: 01 이동초등학교 교사동(봉사관 환경개선공사) | D5: 1 | E5: =F6+F19+F21+F25 -> 435181484 | F5: =E5*D5 -> 435181484 | G5: =H6+H19+H21+H25 -> 305529779 | H5: =G5*D5 -> 305529779 | I5: =J6+J19+J21+J25 -> 13271628 | J5: =I5*D5 -> 13271628 | K5: =E5+G5+I5 -> 753982891 | L5: =F5+H5+J5 -> 753982891 | N5: 01 | R5: 1
A6: 0101 외벽개선 및 창호공사 | D6: 1 | E6: =F7+F8+F9+F10+F11+F12+F13+F15 -> 182290599 | F6: =E6*D6 -> 182290599 | G6: =H7+H8+H9+H10+H11+H12+H13+H15 -> 166841865 | H6: =G6*D6 -> 166841865 | I6: =J7+J8+J9+J10+J11+J12+J13+J15 -> 12370926 | J6: =I6*D6 -> 12370926 | K6: =E6+G6+I6 -> 361503390 | L6: =F6+H6+J6 -> 361503390 | N6: 0101 | P6: 01 | R6: 2
A7: 010101 가 설 공 사 | B7: 외벽개선 및 창호공사 | D7: 1 | E7: =공종별내역서!F29 -> 8014260 | F7: =E7*D7 -> 8014260 | G7: =공종별내역서!H29 -> 47894870 | H7: =G7*D7 -> 47894870 | I7: =공종별내역서!J29 -> 11130709 | J7: =I7*D7 -> 11130709 | K7: =E7+G7+I7 -> 67039839 | L7: =F7+H7+J7 -> 67039839 | N7: 010101 | P7: 0101 | R7: 3
A8: 010102 돌 공 사 | D8: 1 | E8: =공종별내역서!F54 -> 4104619 | F8: =E8*D8 -> 4104619 | G8: =공종별내역서!H54 -> 4474245 | H8: =G8*D8 -> 4474245 | I8: =공종별내역서!J54 -> 81259 | J8: =I8*D8 -> 81259 | K8: =E8+G8+I8 -> 8660123 | L8: =F8+H8+J8 -> 8660123 | N8: 010102 | P8: 0101 | R8: 3
A9: 010103 지붕 및 홈통공사 | D9: 1 | E9: =공종별내역서!F79 -> 5932496 | F9: =E9*D9 -> 5932496 | G9: =공종별내역서!H79 -> 6698547 | H9: =G9*D9 -> 6698547 | I9: =공종별내역서!J79 -> 159991 | J9: =I9*D9 -> 159991 | K9: =E9+G9+I9 -> 12791034 | L9: =F9+H9+J9 -> 12791034 | N9: 010103 | P9: 0101 | R9: 3
A10: 010104 금 속 공 사 | D10: 1 | E10: =공종별내역서!F104 -> 75031693 | F10: =E10*D10 -> 75031693 | G10: =공종별내역서!H104 -> 25608772 | H10: =G10*D10 -> 25608772 | I10: =공종별내역서!J104 -> 768255 | J10: =I10*D10 -> 768255 | K10: =E10+G10+I10 -> 101408720 | L10: =F10+H10+J10 -> 101408720 | N10: 010104 | P10: 0101 | R10: 3
A11: 010105 창호 및 유리공사 | D11: 1 | E11: =공종별내역서!F129 -> 84881263 | F11: =E11*D11 -> 84881263 | G11: =공종별내역서!H129 -> 32087431 | H11: =G11*D11 -> 32087431 | I11: =공종별내역서!J129 -> 0 | J11: =I11*D11 -> 0 | K11: =E11+G11+I11 -> 116968694 | L11: =F11+H11+J11 -> 116968694 | N11: 010105 | P11: 0101 | R11: 3
A12: 010106 기 타 공 사 | D12: 1 | E12: =공종별내역서!F154 -> 3370208 | F12: =E12*D12 -> 3370208 | G12: =공종별내역서!H154 -> 5869102 | H12: =G12*D12 -> 5869102 | I12: =공종별내역서!J154 -> 0 | J12: =I12*D12 -> 0 | K12: =E12+G12+I12 -> 9239310 | L12: =F12+H12+J12 -> 9239310 | N12: 010106 | P12: 0101 | R12: 3
A13: 010107 골 재 비 | D13: 1 | E13: =공종별내역서!F179 -> 139151 | F13: =E13*D13 -> 139151 | G13: =공종별내역서!H179 -> 0 | H13: =G13*D13 -> 0 | I13: =공종별내역서!J179 -> 0 | J13: =I13*D13 -> 0 | K13: =E13+G13+I13 -> 139151 | L13: =F13+H13+J13 -> 139151 | N13: 010107 | P13: 0101 | R13: 3
A14: 010108 작 업 부 산 물 | D14: 1 | E14: =공종별내역서!F204 -> 17914558 | F14: =E14*D14 -> 17914558 | G14: =공종별내역서!H204 -> 0 | H14: =G14*D14 -> 0 | I14: =공종별내역서!J204 -> 0 | J14: =I14*D14 -> 0 | K14: =E14+G14+I14 -> 17914558 | L14: =F14+H14+J14 -> 17914558 | N14: 010108 | Q14: B | R14: 3 | T14: =L14*1 -> 17914558
A15: 010109 철 거 공 사 | D15: 1 | E15: =공종별내역서!F229 -> 816909 | F15: =E15*D15 -> 816909 | G15: =공종별내역서!H229 -> 44208898 | H15: =G15*D15 -> 44208898 | I15: =공종별내역서!J229 -> 230712 | J15: =I15*D15 -> 230712 | K15: =E15+G15+I15 -> 45256519 | L15: =F15+H15+J15 -> 45256519 | N15: 010109 | P15: 0101 | R15: 3
A16: 010110 도급자설치관급자재비[건축] | D16: 1 | E16: =공종별내역서!F254 -> 18442000 | F16: =E16*D16 -> 18442000 | G16: =공종별내역서!H254 -> 0 | H16: =G16*D16 -> 0 | I16: =공종별내역서!J254 -> 0 | J16: =I16*D16 -> 0 | K16: =E16+G16+I16 -> 18442000 | L16: =F16+H16+J16 -> 18442000 | N16: 010110 | Q16: 9 | R16: 3 | T16: =L16*1 -> 18442000
A17: 010111 관급자설치관급자재비[건축] | D17: 1 | E17: =공종별내역서!F279 -> 276299000 | F17: =E17*D17 -> 276299000 | G17: =공종별내역서!H279 -> 0 | H17: =G17*D17 -> 0 | I17: =공종별내역서!J279 -> 0 | J17: =I17*D17 -> 0 | K17: =E17+G17+I17 -> 276299000 | L17: =F17+H17+J17 -> 276299000 | N17: 010111 | Q17: A | R17: 3 | T17: =L17*1 -> 276299000
A18: 010112 건설폐기물처리비 | D18: 1 | E18: =공종별내역서!F304 -> 0 | F18: =E18*D18 -> 0 | G18: =공종별내역서!H304 -> 0 | H18: =G18*D18 -> 0 | I18: =공종별내역서!J304 -> 17691757 | J18: =I18*D18 -> 17691757 | K18: =E18+G18+I18 -> 17691757 | L18: =F18+H18+J18 -> 17691757 | N18: 010112 | Q18: 7 | R18: 3 | T18: =L18*1 -> 17691757
A19: 0102 외단열 개선공사 | D19: 1 | E19: =F20 -> 203103179 | F19: =E19*D19 -> 203103179 | G19: =H20 -> 105965405 | H19: =G19*D19 -> 105965405 | I19: =J20 -> 114923 | J19: =I19*D19 -> 114923 | K19: =E19+G19+I19 -> 309183507 | L19: =F19+H19+J19 -> 309183507 | N19: 0102 | P19: 01 | R19: 2
A20: 010201 외 단 열 공 사 | B20: 외단열 개선공사 | D20: 1 | E20: =공종별내역서!F329 -> 203103179 | F20: =E20*D20 -> 203103179 | G20: =공종별내역서!H329 -> 105965405 | H20: =G20*D20 -> 105965405 | I20: =공종별내역서!J329 -> 114923 | J20: =I20*D20 -> 114923 | K20: =E20+G20+I20 -> 309183507 | L20: =F20+H20+J20 -> 309183507 | N20: 010201 | P20: 0102 | R20: 3
A21: 0103 실내건축공사 | D21: 1 | E21: =F22+F23+F24 -> 11407256 | F21: =E21*D21 -> 11407256 | G21: =H22+H23+H24 -> 28806934 | H21: =G21*D21 -> 28806934 | I21: =J22+J23+J24 -> 742136 | J21: =I21*D21 -> 742136 | K21: =E21+G21+I21 -> 40956326 | L21: =F21+H21+J21 -> 40956326 | N21: 0103 | P21: 01 | R21: 2 | S21: <
A22: 010301 방 수 공 사 | B22: 실내건축공사 | D22: 1 | E22: =공종별내역서!F354 -> 2847740 | F22: =E22*D22 -> 2847740 | G22: =공종별내역서!H354 -> 12894921 | H22: =G22*D22 -> 12894921 | I22: =공종별내역서!J354 -> 228344 | J22: =I22*D22 -> 228344 | K22: =E22+G22+I22 -> 15971005 | L22: =F22+H22+J22 -> 15971005 | N22: 010301 | P22: 0103 | R22: 3
A23: 010302 금 속 공 사 | D23: 1 | E23: =공종별내역서!F379 -> 7248096 | F23: =E23*D23 -> 7248096 | G23: =공종별내역서!H379 -> 13179888 | H23: =G23*D23 -> 13179888 | I23: =공종별내역서!J379 -> 513792 | J23: =I23*D23 -> 513792 | K23: =E23+G23+I23 -> 20941776 | L23: =F23+H23+J23 -> 20941776 | N23: 010302 | P23: 0103 | R23: 3
A24: 010303 미 장 공 사 | D24: 1 | E24: =공종별내역서!F404 -> 1311420 | F24: =E24*D24 -> 1311420 | G24: =공종별내역서!H404 -> 2732125 | H24: =G24*D24 -> 2732125 | I24: =공종별내역서!J404 -> 0 | J24: =I24*D24 -> 0 | K24: =E24+G24+I24 -> 4043545 | L24: =F24+H24+J24 -> 4043545 | N24: 010303 | P24: 0103 | R24: 3
A25: 0104 포장공사 | D25: 1 | E25: =F26 -> 38380450 | F25: =E25*D25 -> 38380450 | G25: =H26 -> 3915575 | H25: =G25*D25 -> 3915575 | I25: =J26 -> 43643 | J25: =I25*D25 -> 43643 | K25: =E25+G25+I25 -> 42339668 | L25: =F25+H25+J25 -> 42339668 | N25: 0104 | P25: 01 | R25: 2
A26: 010401 포 장 공 사 | B26: 포장공사 | D26: 1 | E26: =공종별내역서!F429 -> 38380450 | F26: =E26*D26 -> 38380450 | G26: =공종별내역서!H429 -> 3915575 | H26: =G26*D26 -> 3915575 | I26: =공종별내역서!J429 -> 43643 | J26: =I26*D26 -> 43643 | K26: =E26+G26+I26 -> 42339668 | L26: =F26+H26+J26 -> 42339668 | N26: 010401 | P26: 0104 | R26: 3
A27: 010402 안 전 관 리 비[건축] | D27: 1 | E27: =공종별내역서!F454 -> 800820 | F27: =E27*D27 -> 800820 | G27: =공종별내역서!H454 -> 0 | H27: =G27*D27 -> 0 | I27: =공종별내역서!J454 -> 0 | J27: =I27*D27 -> 0 | K27: =E27+G27+I27 -> 800820 | L27: =F27+H27+J27 -> 800820 | N27: 010402 | Q27: D | R27: 3 | T27: =L27*1 -> 800820
A29: [ 합 계 ] | F29: =F5 -> 435181484 | H29: =H5 -> 305529779 | J29: =J5 -> 13271628 | L29: =L5 -> 753982891

Sheet 공종별내역서
A1: 공 종 별 내 역 서
A2: [ 이동초등학교 교사동(봉사관 환경개선공사) ]
A3: 품 명 | B3: 규 격 | C3: 단위 | D3: 수량 | E3: 재 료 비 | G3: 노 무 비 | I3: 경 비 | K3: 합 계 | M3: 비 고 | N3: 품목코드 | O3: 변수 | P3: 설정 | Q3: 공종코드 | R3: 일위 | S3: 단산 | T3: 자재 | U3: 손료적용 | V3: 손료저장 | W3: 적용율 | X3: JUK1 | Y3: JUK2 | Z3: JUK3 | AA3: JUK4 | AB3: JUK5 | AC3: JUK6 | AD3: JUK7 | AE3: JUK8 | AF3: JUK9 | AG3: JUK10 | AH3: JUK11 | AI3: JUK12 | AJ3: JUK13 | AK3: JUK14 | AL3: JUK15 | AM3: JUK16 | AN3: JUK17 | AO3: JUK18 | AP3: JUK19 | AQ3: JUK20 | AR3: 자재구분 | AS3: 공종구분 | AT3: 공종레벨 | AU3: 공종+자재 | AV3: 고유번호
E4: 단 가 | F4: 금 액 | G4: 단 가 | H4: 금 액 | I4: 단 가 | J4: 금 액 | K4: 단 가 | L4: 금 액
A5: 010101 가 설 공 사 | B5: 외벽개선 및 창호공사 | Q5: 010101
A6: 크레인(타이어) | B6: 10ton | C6: HR | D6: 40 | E6: =TRUNC(일위대가목록!E4,0) -> 8873 | F6: =TRUNC(E6*D6, 0) -> 354920 | G6: =TRUNC(일위대가목록!F4,0) -> 59025 | H6: =TRUNC(G6*D6, 0) -> 2361000 | I6: =TRUNC(일위대가목록!G4,0) -> 31344 | J6: =TRUNC(I6*D6, 0) -> 1253760 | K6: =TRUNC(E6+G6+I6, 0) -> 99242 | L6: =TRUNC(F6+H6+J6, 0) -> 3969680 | M6: 호표 1 | N6: 5EF1D541FF7A313632A280DA36EC9FACB83446F0 | Q6: 010101 | R6: T | S6: F | T6: F | AU6: 0101015EF1D541FF7A313632A280DA36EC9FACB83446F0 | AV6: 78
A7: 조립식가설울타리/E.G.I철판 | B7: H=2.4, 3개월 | C7: M | D7: 180 | E7: =TRUNC(일위대가목록!E5,0) -> 0 | F7: =TRUNC(E7*D7, 0) -> 0 | G7: =TRUNC(일위대가목록!F5,0) -> 0 | H7: =TRUNC(G7*D7, 0) -> 0 | I7: =TRUNC(일위대가목록!G5,0) -> 44662 | J7: =TRUNC(I7*D7, 0) -> 8039160 | K7: =TRUNC(E7+G7+I7, 0) -> 44662 | L7: =TRUNC(F7+H7+J7, 0) -> 8039160 | M7: 호표 2 | N7: 59E6B575A87A8CCEB2F240A1D9B527 | Q7: 010101 | R7: T | S7: F | T7: F | AU7: 01010159E6B575A87A8CCEB2F240A1D9B527 | AV7: 55
A8: 강관 조립말비계(이동식)설치 및 해체 | B8: 높이 2m, 3개월 | C8: 대 | D8: 6 | E8: =TRUNC(일위대가목록!E6,0) -> 36387 | F8: =TRUNC(E8*D8, 0) -> 218322 | G8: =TRUNC(일위대가목록!F6,0) -> 95287 | H8: =TRUNC(G8*D8, 0) -> 571722 | I8: =TRUNC(일위대가목록!G6,0) -> 0 | J8: =TRUNC(I8*D8, 0) -> 0 | K8: =TRUNC(E8+G8+I8, 0) -> 131674 | L8: =TRUNC(F8+H8+J8, 0) -> 790044 | M8: 호표 3 | N8: 59E6B575AA75A061C2C2A0D18F5308 | Q8: 010101 | R8: T | S8: F | T8: F | AU8: 01010159E6B575AA75A061C2C2A0D18F5308 | AV8: 166
A9: 시스템비계 | B9: 10.0m이하,3개월(발판1열)(계단설치해체비포함) | C9: M2 | D9: 1596 | E9: =TRUNC(일위대가목록!E7,0) -> 2849 | F9: =TRUNC(E9*D9, 0) -> 4547004 | G9: =TRUNC(일위대가목록!F7,0) -> 14831 | H9: =TRUNC(G9*D9, 0) -> 23670276 | I9: =TRUNC(일위대가목록!G7,0) -> 296 | J9: =TRUNC(I9*D9, 0) -> 472416 | K9: =TRUNC(E9+G9+I9, 0) -> 17976 | L9: =TRUNC(F9+H9+J9, 0) -> 28689696 | M9: 호표 4 | N9: 59E6B575AA75A061E282D05F9EE742 | Q9: 010101 | R9: T | S9: F | T9: F | AU9: 01010159E6B575AA75A061E282D05F9EE742 | AV9: 56
A10: 시스템비계 | B10: 10.0m초과~20.0m이하,3개월(발판1열)(계단설치해체비포함) | C10: M2 | D10: 1015.8 | E10: =TRUNC(일위대가목록!E8,0) -> 2849 | F10: =TRUNC(E10*D10, 0) -> 2894014 | G10: =TRUNC(일위대가목록!F8,0) -> 17130 | H10: =TRUNC(G10*D10, 0) -> 17400654 | I10: =TRUNC(일위대가목록!G8,0) -> 342 | J10: =TRUNC(I10*D10, 0) -> 347403 | K10: =TRUNC(E10+G10+I10, 0) -> 20321 | L10: =TRUNC(F10+H10+J10, 0) -> 20642071 | M10: 호표 5 | N10: 59E6B575AA75A061E282D05F9EE741 | Q10: 010101 | R10: T | S10: F | T10: F | AU10: 01010159E6B575AA75A061E282D05F9EE741 | AV10: 57
A11: 콘테이너형 가설사무소 설치 및 해체 | B11: 3.0*6.0m, 3개월 | C11: 개소 | D11: 1 | E11: =TRUNC(일위대가목록!E9,0) -> 0 | F11: =TRUNC(E11*D11, 0) -> 0 | G11: =TRUNC(일위대가목록!F9,0) -> 0 | H11: =TRUNC(G11*D11, 0) -> 0 | I11: =TRUNC(일위대가목록!G9,0) -> 1017970 | J11: =TRUNC(I11*D11, 0) -> 1017970 | K11: =TRUNC(E11+G11+I11, 0) -> 1017970 | L11: =TRUNC(F11+H11+J11, 0) -> 1017970 | M11: 호표 6 | N11: 59E6B576B2755F852242D0B04A5563 | Q11: 010101 | R11: T | S11: F | T11: F | AU11: 01010159E6B576B2755F852242D0B04A5563 | AV11: 79
A12: 집기이전 | B12: 일반교실,재설치포함 | C12: 실 | D12: 1 | E12: =TRUNC(일위대가목록!E10,0) -> 0 | F12: =TRUNC(E12*D12, 0) -> 0 | G12: =TRUNC(일위대가목록!F10,0) -> 1036188 | H12: =TRUNC(G12*D12, 0) -> 1036188 | I12: =TRUNC(일위대가목록!G10,0) -> 0 | J12: =TRUNC(I12*D12, 0) -> 0 | K12: =TRUNC(E12+G12+I12, 0) -> 1036188 | L12: =TRUNC(F12+H12+J12, 0) -> 1036188 | M12: 호표 7 | N12: 59E7B5E12B777C66F21210E77E9631 | Q12: 010101 | R12: T | S12: F | T12: F | AU12: 01010159E7B5E12B777C66F21210E77E9631 | AV12: 160
A13: 준공청소 | C13: M2 | D13: 530.9 | E13: =TRUNC(일위대가목록!E11,0) -> 0 | F13: =TRUNC(E13*D13, 0) -> 0 | G13: =TRUNC(일위대가목록!F11,0) -> 3453 | H13: =TRUNC(G13*D13, 0) -> 1833197 | I13: =TRUNC(일위대가목록!G11,0) -> 0 | J13: =TRUNC(I13*D13, 0) -> 0 | K13: =TRUNC(E13+G13+I13, 0) -> 3453 | L13: =TRUNC(F13+H13+J13, 0) -> 1833197 | M13: 호표 8 | N13: 59E6B570237C1565D2F250408F8D36 | Q13: 010101 | R13: T | S13: F | T13: F | AU13: 01010159E6B570237C1565D2F250408F8D36 | AV13: 167
A14: 건축물 현장정리 | B14: 개보수, 단순공정 | C14: M2 | D14: 236.7 | E14: =TRUNC(일위대가목록!E12,0) -> 0 | F14: =TRUNC(E14*D14, 0) -> 0 | G14: =TRUNC(일위대가목록!F12,0) -> 4317 | H14: =TRUNC(G14*D14, 0) -> 1021833 | I14: =TRUNC(일위대가목록!G12,0) -> 0 | J14: =TRUNC(I14*D14, 0) -> 0 | K14: =TRUNC(E14+G14+I14, 0) -> 4317 | L14: =TRUNC(F14+H14+J14, 0) -> 1021833 | M14: 호표 9 | N14: 59E6B5702679260FC202706D45A3CB | Q14: 010101 | R14: T | S14: F | T14: F | AU14: 01010159E6B5702679260FC202706D45A3CB | AV14: 92
Q15: 010101
Q16: 010101
Q17: 010101
Q18: 010101
Q19: 010101
Q20: 010101
Q21: 010101
Q22: 010101
Q23: 010101
Q24: 010101
Q25: 010101
Q26: 010101
... Q28: 010101
A29: [ 합 계 ] | F29: =SUMIF(Q6:Q28,"010101",F6:F28) -> 8014260 | H29: =SUMIF(Q6:Q28,"010101",H6:H28) -> 47894870 | J29: =SUMIF(Q6:Q28,"010101",J6:J28) -> 11130709 | L29: =SUMIF(Q6:Q28,"010101",L6:L28) -> 67039839 | N29: TOTAL
A30: 010102 돌 공 사 | Q30: 010102
A31: 화강석 두겁돌(습식, 잔다듬) | B31: 포천석 450*60mm, 모르타르 30mm | C31: M | D31: 79.2 | E31: =TRUNC(일위대가목록!E13,0) -> 51826 | F31: =TRUNC(E31*D31, 0) -> 4104619 | G31: =TRUNC(일위대가목록!F13,0) -> 56493 | H31: =TRUNC(G31*D31, 0) -> 4474245 | I31: =TRUNC(일위대가목록!G13,0) -> 1026 | J31: =TRUNC(I31*D31, 0) -> 81259 | K31: =TRUNC(E31+G31+I31, 0) -> 109345 | L31: =TRUNC(F31+H31+J31, 0) -> 8660123 | M31: 호표 10 | N31: 59E675DB487B44EF6222B0741C1D68 | Q31: 010102 | R31: T | S31: F | T31: F | AU31: 01010259E675DB487B44EF6222B0741C1D68 | AV31: 10
Q32: 010102
Q33: 010102
Q34: 010102
Q35: 010102
Q36: 010102
Q37: 010102
Q38: 010102
Q39: 010102
Q40: 010102
Q41: 010102
Q42: 010102
Q43: 010102
... Q53: 010102
A54: [ 합 계 ] | F54: =SUMIF(Q31:Q53,"010102",F31:F53) -> 4104619 | H54: =SUMIF(Q31:Q53,"010102",H31:H53) -> 4474245 | J54: =SUMIF(Q31:Q53,"010102",J31:J53) -> 81259 | L54: =SUMIF(Q31:Q53,"010102",L31:L53) -> 8660123 | N54: TOTAL
A55: 010103 지붕 및 홈통공사 | Q55: 010103
A56: 선홈통(금속) 설치 | B56: 스테인리스, Ø100×1.5㎜ | C56: M | D56: 88.3 | E56: =TRUNC(일위대가목록!E14,0) -> 25633 | F56: =TRUNC(E56*D56, 0) -> 2263393 | G56: =TRUNC(일위대가목록!F14,0) -> 25870 | H56: =TRUNC(G56*D56, 0) -> 2284321 | I56: =TRUNC(일위대가목록!G14,0) -> 517 | J56: =TRUNC(I56*D56, 0) -> 45651 | K56: =TRUNC(E56+G56+I56, 0) -> 52020 | L56: =TRUNC(F56+H56+J56, 0) -> 4593365 | M56: 호표 11 | N56: 59E61573067DB16B3262309D305F29 | Q56: 010103 | R56: T | S56: F | T56: F | AU56: 01010359E61573067DB16B3262309D305F29 | AV56: 162
A57: 금속 선홈통 설치 | B57: 동판, 150*75*1.5T | C57: M | D57: 119.8 | E57: =TRUNC(일위대가목록!E15,0) -> 22496 | F57: =TRUNC(E57*D57, 0) -> 2695020 | G57: =TRUNC(일위대가목록!F15,0) -> 25870 | H57: =TRUNC(G57*D57, 0) -> 3099226 | I57: =TRUNC(일위대가목록!G15,0) -> 517 | J57: =TRUNC(I57*D57, 0) -> 61936 | K57: =TRUNC(E57+G57+I57, 0) -> 48883 | L57: =TRUNC(F57+H57+J57, 0) -> 5856182 | M57: 호표 12 | N57: 59E6157303705CCDA282408C98BD35 | Q57: 010103 | R57: T | S57: F | T57: F | AU57: 01010359E6157303705CCDA282408C98BD35 | AV57: 20
A58: 스텐판 처마홈통 설치 | B58: 150*1.5t(반원) | C58: M | D58: 57.2 | E58: =TRUNC(일위대가목록!E16,0) -> 15113 | F58: =TRUNC(E58*D58, 0) -> 864463 | G58: =TRUNC(일위대가목록!F16,0) -> 19674 | H58: =TRUNC(G58*D58, 0) -> 1125352 | I58: =TRUNC(일위대가목록!G16,0) -> 784 | J58: =TRUNC(I58*D58, 0) -> 44844 | K58: =TRUNC(E58+G58+I58, 0) -> 35571 | L58: =TRUNC(F58+H58+J58, 0) -> 2034659 | M58: 호표 13 | N58: 59E61573067DB175B2A220ADA9ECAE | Q58: 010103 | R58: T | S58: F | T58: F | AU58: 01010359E61573067DB175B2A220ADA9ECAE | AV58: 21
A59: 스텐 상자홈통 설치 | B59: 250*250*250*1.5t | C59: EA | D59: 6 | E59: =TRUNC(일위대가목록!E17,0) -> 18270 | F59: =TRUNC(E59*D59, 0) -> 109620 | G59: =TRUNC(일위대가목록!F17,0) -> 31608 | H59: =TRUNC(G59*D59, 0) -> 189648 | I59: =TRUNC(일위대가목록!G17,0) -> 1260 | J59: =TRUNC(I59*D59, 0) -> 7560 | K59: =TRUNC(E59+G59+I59, 0) -> 51138 | L59: =TRUNC(F59+H59+J59, 0) -> 306828 | M59: 호표 14 | N59: 59E61573067DB16B321210F260DBC6 | Q59: 010103 | R59: T | S59: F | T59: F | AU59: 01010359E61573067DB16B321210F260DBC6 | AV59: 22
N60: 59E65584BE78C2B242A230327E8B2C | Q60: 010103 | R60: T | S60: F | T60: F | AU60: 01010359E65584BE78C2B242A230327E8B2C | AV60: 172
Q61: 010103
Q62: 010103
Q63: 010103
Q64: 010103
Q65: 010103
Q66: 010103
Q67: 010103
Q68: 010103
Q69: 010103
Q70: 010103
Q71: 010103
Q72: 010103
... Q78: 010103
A79: [ 합 계 ] | F79: =SUMIF(Q56:Q78,"010103",F56:F78) -> 5932496 | H79: =SUMIF(Q56:Q78,"010103",H56:H78) -> 6698547 | J79: =SUMIF(Q56:Q78,"010103",J56:J78) -> 159991 | L79: =SUMIF(Q56:Q78,"010103",L56:L78) -> 12791034 | N79: TOTAL
A80: 010104 금 속 공 사 | Q80: 010104
A81: 알루미늄 복합패널[관급] | B81: 평판 T=4 불소수지(불연) | C81: M2 | D81: 229 | E81: =TRUNC(단가대비표!O32,0) -> 0 | F81: =TRUNC(E81*D81, 0) -> 0 | G81: =TRUNC(단가대비표!P32,0) -> 0 | H81: =TRUNC(G81*D81, 0) -> 0 | I81: =TRUNC(단가대비표!V32,0) -> 0 | J81: =TRUNC(I81*D81, 0) -> 0 | K81: =TRUNC(E81+G81+I81, 0) -> 0 | L81: =TRUNC(F81+H81+J81, 0) -> 0 | N81: 5EC495E30070B7186242B05A3C41D9CFB9FBA4 | Q81: 010104 | R81: F | S81: F | T81: T | AU81: 0101045EC495E30070B7186242B05A3C41D9CFB9FBA4 | AV81: 77
A82: 알루미늄 복합패널 시공비 | C82: M2 | D82: 213.3 | E82: =TRUNC(단가대비표!O31,0) -> 95570 | F82: =TRUNC(E82*D82, 0) -> 20385081 | G82: =TRUNC(단가대비표!P31,0) -> 0 | H82: =TRUNC(G82*D82, 0) -> 0 | I82: =TRUNC(단가대비표!V31,0) -> 0 | J82: =TRUNC(I82*D82, 0) -> 0 | K82: =TRUNC(E82+G82+I82, 0) -> 95570 | L82: =TRUNC(F82+H82+J82, 0) -> 20385081 | N82: 5EC495E30070B7186242B05A3C41D9CFB9FBA7 | Q82: 010104 | R82: F | S82: F | T82: T | AU82: 0101045EC495E30070B7186242B05A3C41D9CFB9FBA7 | AV82: 25
A83: 알루미늄 시트 후레싱 | B83: 3.0T | C83: M2 | D83: 145 | E83: =TRUNC(단가대비표!O125,0) -> 298620 | F83: =TRUNC(E83*D83, 0) -> 43299900 | G83: =TRUNC(단가대비표!P125,0) -> 0 | H83: =TRUNC(G83*D83, 0) -> 0 | I83: =TRUNC(단가대비표!V125,0) -> 0 | J83: =TRUNC(I83*D83, 0) -> 0 | K83: =TRUNC(E83+G83+I83, 0) -> 298620 | L83: =TRUNC(F83+H83+J83, 0) -> 43299900 | N83: 585E356FC371506AD2A25098835C16A0679A42 | Q83: 010104 | R83: F | S83: F | T83: T | AU83: 010104585E356FC371506AD2A25098835C16A0679A42 | AV83: 84
A84: ㄱ형강 | B84: ㄱ형강, 등변, 100*100*7mm | C84: kg | D84: 123.6 | E84: =TRUNC(단가대비표!O21,0) -> 940 | F84: =TRUNC(E84*D84, 0) -> 116184 | G84: =TRUNC(단가대비표!P21,0) -> 0 | H84: =TRUNC(G84*D84, 0) -> 0 | I84: =TRUNC(단가대비표!V21,0) -> 0 | J84: =TRUNC(I84*D84, 0) -> 0 | K84: =TRUNC(E84+G84+I84, 0) -> 940 | L84: =TRUNC(F84+H84+J84, 0) -> 116184 | N84: 5EC495E30578D77CA26200BE9C0D7DC26CBE2F | Q84: 010104 | R84: F | S84: F | T84: T | AU84: 0101045EC495E30578D77CA26200BE9C0D7DC26CBE2F | AV84: 93
A85: 아연도각관 | B85: 100*100*t3.2mm, 9.520kg/m | C85: M | D85: 740.8 | E85: =TRUNC(단가대비표!O74,0) -> 15160 | F85: =TRUNC(E85*D85, 0) -> 11230528 | G85: =TRUNC(단가대비표!P74,0) -> 0 | H85: =TRUNC(G85*D85, 0) -> 0 | I85: =TRUNC(단가대비표!V74,0) -> 0 | J85: =TRUNC(I85*D85, 0) -> 0 | K85: =TRUNC(E85+G85+I85, 0) -> 15160 | L85: =TRUNC(F85+H85+J85, 0) -> 11230528 | N85: 5EBA257971772E57022200696C75F25CE7E3E0 | Q85: 010104 | R85: F | S85: F | T85: T | AU85: 0101045EBA257971772E57022200696C75F25CE7E3E0 | AV85: 91
A86: 경량형강철골조 조립설치 | B86: 비내력식 | C86: TON | D86: 8.374 | E86: =TRUNC(일위대가목록!E19,0) -> 0 | F86: =TRUNC(E86*D86, 0) -> 0 | G86: =TRUNC(일위대가목록!F19,0) -> 3058129 | H86: =TRUNC(G86*D86, 0) -> 25608772 | I86: =TRUNC(일위대가목록!G19,0) -> 91743 | J86: =TRUNC(I86*D86, 0) -> 768255 | K86: =TRUNC(E86+G86+I86, 0) -> 3149872 | L86: =TRUNC(F86+H86+J86, 0) -> 26377027 | M86: 호표 16 | N86: 59E6F58C6C724D433232A05DE8D70B | Q86: 010104 | R86: T | S86: F | T86: F | AU86: 01010459E6F58C6C724D433232A05DE8D70B | AV86: 95
Q87: 010104
Q88: 010104
Q89: 010104
Q90: 010104
Q91: 010104
Q92: 010104
Q93: 010104
Q94: 010104
Q95: 010104
Q96: 010104
Q97: 010104
Q98: 010104
... Q103: 010104
A104: [ 합 계 ] | F104: =SUMIF(Q81:Q103,"010104",F81:F103) -> 75031693 | H104: =SUMIF(Q81:Q103,"010104",H81:H103) -> 25608772 | J104: =SUMIF(Q81:Q103,"010104",J81:J103) -> 768255 | L104: =SUMIF(Q81:Q103,"010104",L81:L103) -> 101408720 | N104: TOTAL
A105: 010105 창호 및 유리공사 | Q105: 010105
A106: 커튼월/불소수지[관급] | C106: KG | D106: 1853 | E106: =TRUNC(단가대비표!O130,0) -> 0 | F106: =TRUNC(E106*D106, 0) -> 0 | G106: =TRUNC(단가대비표!P130,0) -> 0 | H106: =TRUNC(G106*D106, 0) -> 0 | I106: =TRUNC(단가대비표!V130,0) -> 0 | J106: =TRUNC(I106*D106, 0) -> 0 | K106: =TRUNC(E106+G106+I106, 0) -> 0 | L106: =TRUNC(F106+H106+J106, 0) -> 0 | N106: 585E356FC371506AD2A25098835C16A0679A49 | Q106: 010105 | R106: F | S106: F | T106: T | AU106: 010105585E356FC371506AD2A25098835C16A0679A49 | AV106: 138
A107: 프로젝트창/불소수지[관급] | C107: KG | D107: 76 | E107: =TRUNC(단가대비표!O132,0) -> 0 | F107: =TRUNC(E107*D107, 0) -> 0 | G107: =TRUNC(단가대비표!P132,0) -> 0 | H107: =TRUNC(G107*D107, 0) -> 0 | I107: =TRUNC(단가대비표!V132,0) -> 0 | J107: =TRUNC(I107*D107, 0) -> 0 | K107: =TRUNC(E107+G107+I107, 0) -> 0 | L107: =TRUNC(F107+H107+J107, 0) -> 0 | N107: 585E356FC371506AD2A25098835C16A06799B8 | Q107: 010105 | R107: F | S107: F | T107: T | AU107: 010105585E356FC371506AD2A25098835C16A06799B8 | AV107: 140
A108: 미서기중중연이중창/불소수지[관급] | C108: KG | D108: 13989 | E108: =TRUNC(단가대비표!O134,0) -> 0 | F108: =TRUNC(E108*D108, 0) -> 0 | G108: =TRUNC(단가대비표!P134,0) -> 0 | H108: =TRUNC(G108*D108, 0) -> 0 | I108: =TRUNC(단가대비표!V134,0) -> 0 | J108: =TRUNC(I108*D108, 0) -> 0 | K108: =TRUNC(E108+G108+I108, 0) -> 0 | L108: =TRUNC(F108+H108+J108, 0) -> 0 | N108: 585E356FC371506AD2A25098835C16A06799BA | Q108: 010105 | R108: F | S108: F | T108: T | AU108: 010105585E356FC371506AD2A25098835C16A06799BA | AV108: 142
A109: 미서기중연이중창/불소수지[관급] | C109: KG | D109: 633 | E109: =TRUNC(단가대비표!O136,0) -> 0 | F109: =TRUNC(E109*D109, 0) -> 0 | G109: =TRUNC(단가대비표!P136,0) -> 0 | H109: =TRUNC(G109*D109, 0) -> 0 | I109: =TRUNC(단가대비표!V136,0) -> 0 | J109: =TRUNC(I109*D109, 0) -> 0 | K109: =TRUNC(E109+G109+I109, 0) -> 0 | L109: =TRUNC(F109+H109+J109, 0) -> 0 | N109: 585E356FC371506AD2A25098835C16A06799BC | Q109: 010105 | R109: F | S109: F | T109: T | AU109: 010105585E356FC371506AD2A25098835C16A06799BC | AV109: 144
A110: 미서기단창/불소수지[관급] | C110: KG | D110: 70 | E110: =TRUNC(단가대비표!O138,0) -> 0 | F110: =TRUNC(E110*D110, 0) -> 0 | G110: =TRUNC(단가대비표!P138,0) -> 0 | H110: =TRUNC(G110*D110, 0) -> 0 | I110: =TRUNC(단가대비표!V138,0) -> 0 | J110: =TRUNC(I110*D110, 0) -> 0 | K110: =TRUNC(E110+G110+I110, 0) -> 0 | L110: =TRUNC(F110+H110+J110, 0) -> 0 | N110: 585E356FC371506AD2A25098835C16A06799BE | Q110: 010105 | R110: F | S110: F | T110: T | AU110: 010105585E356FC371506AD2A25098835C16A06799BE | AV110: 146
A111: 롤방충망/불소수지[관급] | C111: KG | D111: 10 | E111: =TRUNC(단가대비표!O140,0) -> 0 | F111: =TRUNC(E111*D111, 0) -> 0 | G111: =TRUNC(단가대비표!P140,0) -> 0 | H111: =TRUNC(G111*D111, 0) -> 0 | I111: =TRUNC(단가대비표!V140,0) -> 0 | J111: =TRUNC(I111*D111, 0) -> 0 | K111: =TRUNC(E111+G111+I111, 0) -> 0 | L111: =TRUNC(F111+H111+J111, 0) -> 0 | N111: 585E356FC371506AD2A25098835C16A06799B0 | Q111: 010105 | R111: F | S111: F | T111: T | AU111: 010105585E356FC371506AD2A25098835C16A06799B0 | AV111: 148
A112: 방충망/불소수지[관급] | C112: KG | D112: 791 | E112: =TRUNC(단가대비표!O142,0) -> 0 | F112: =TRUNC(E112*D112, 0) -> 0 | G112: =TRUNC(단가대비표!P142,0) -> 0 | H112: =TRUNC(G112*D112, 0) -> 0 | I112: =TRUNC(단가대비표!V142,0) -> 0 | J112: =TRUNC(I112*D112, 0) -> 0 | K112: =TRUNC(E112+G112+I112, 0) -> 0 | L112: =TRUNC(F112+H112+J112, 0) -> 0 | N112: 585E356FC371506AD2A25098835C16A0679892 | Q112: 010105 | R112: F | S112: F | T112: T | AU112: 010105585E356FC371506AD2A25098835C16A0679892 | AV112: 150
A113: AW1[창호개체, 관급] | B113: 3.740 x 9.950 = 37.213 | C113: EA | D113: 1 | E113: =TRUNC(일위대가목록!E20,0) -> 0 | F113: =TRUNC(E113*D113, 0) -> 0 | G113: =TRUNC(일위대가목록!F20,0) -> 0 | H113: =TRUNC(G113*D113, 0) -> 0 | I113: =TRUNC(일위대가목록!G20,0) -> 0 | J113: =TRUNC(I113*D113, 0) -> 0 | K113: =TRUNC(E113+G113+I113, 0) -> 0 | L113: =TRUNC(F113+H113+J113, 0) -> 0 | M113: 호표 17 | N113: 59E665F36E7CDB68A2B2F01ED563A7 | Q113: 010105 | R113: T | S113: F | T113: F | AU113: 01010559E665F36E7CDB68A2B2F01ED563A7 | AV113: 115
A114: CAW1[창호개체, 관급] | B114: 3.000 x 1.800 = 5.400 | C114: EA | D114: 92 | E114: =TRUNC(일위대가목록!E21,0) -> 0 | F114: =TRUNC(E114*D114, 0) -> 0 | G114: =TRUNC(일위대가목록!F21,0) -> 0 | H114: =TRUNC(G114*D114, 0) -> 0 | I114: =TRUNC(일위대가목록!G21,0) -> 0 | J114: =TRUNC(I114*D114, 0) -> 0 | K114: =TRUNC(E114+G114+I114, 0) -> 0 | L114: =TRUNC(F114+H114+J114, 0) -> 0 | M114: 호표 18 | N114: 59E665F36E7CDB68A2B2F01ED563A5 | Q114: 010105 | R114: T | S114: F | T114: F | AU114: 01010559E665F36E7CDB68A2B2F01ED563A5 | AV114: 116
A115: CAW2[창호개체, 관급] | B115: 1.500 x 1.800 = 2.700 | C115: EA | D115: 8 | E115: =TRUNC(일위대가목록!E22,0) -> 0 | F115: =TRUNC(E115*D115, 0) -> 0 | G115: =TRUNC(일위대가목록!F22,0) -> 0 | H115: =TRUNC(G115*D115, 0) -> 0 | I115: =TRUNC(일위대가목록!G22,0) -> 0 | J115: =TRUNC(I115*D115, 0) -> 0 | K115: =TRUNC(E115+G115+I115, 0) -> 0 | L115: =TRUNC(F115+H115+J115, 0) -> 0 | M115: 호표 19 | N115: 59E665F36E7CDB68A2B2F01ED563A3 | Q115: 010105 | R115: T | S115: F | T115: F | AU115: 01010559E665F36E7CDB68A2B2F01ED563A3 | AV115: 117
A116: CAW3[창호개체, 관급] | B116: 1.200 x 0.000 = 0.000 | C116: EA | D116: 8 | E116: =TRUNC(일위대가목록!E23,0) -> 0 | F116: =TRUNC(E116*D116, 0) -> 0 | G116: =TRUNC(일위대가목록!F23,0) -> 0 | H116: =TRUNC(G116*D116, 0) -> 0 | I116: =TRUNC(일위대가목록!G23,0) -> 0 | J116: =TRUNC(I116*D116, 0) -> 0 | K116: =TRUNC(E116+G116+I116, 0) -> 0 | L116: =TRUNC(F116+H116+J116, 0) -> 0 | M116: 호표 20 | N116: 59E665F36E7CDB68A2B2F01ED563A1 | Q116: 010105 | R116: T | S116: F | T116: F | AU116: 01010559E665F36E7CDB68A2B2F01ED563A1 | AV116: 118
A117: 로이복층유리 24mm(5LE,MZT152+14AR+5) | B117: 더불로이+아르곤(SWS-단열간봉)+투명 | C117: M2 | D117: 850.6 | E117: =TRUNC(단가대비표!O41,0) -> 88800 | F117: =TRUNC(E117*D117, 0) -> 75533280 | G117: =TRUNC(단가대비표!P41,0) -> 0 | H117: =TRUNC(G117*D117, 0) -> 0 | I117: =TRUNC(단가대비표!V41,0) -> 0 | J117: =TRUNC(I117*D117, 0) -> 0 | K117: =TRUNC(E117+G117+I117, 0) -> 88800 | L117: =TRUNC(F117+H117+J117, 0) -> 75533280 | N117: 5EC495E302736A72E25280313C831D8F520905 | Q117: 010105 | R117: F | S117: F | T117: T | AU117: 0101055EC495E302736A72E25280313C831D8F520905 | AV117: 114
A118: 로이삼중유리 39mm(5LE,MZT152+12AR+5+12AR+5LE,MZT152),SWS | B118: 더블로이(반강화)+아르곤가스+투명 | C118: M2 | D118: 2.7 | E118: =TRUNC(단가대비표!O39,0) -> 171800 | F118: =TRUNC(E118*D118, 0) -> 463860 | G118: =TRUNC(단가대비표!P39,0) -> 0 | H118: =TRUNC(G118*D118, 0) -> 0 | I118: =TRUNC(단가대비표!V39,0) -> 0 | J118: =TRUNC(I118*D118, 0) -> 0 | K118: =TRUNC(E118+G118+I118, 0) -> 171800 | L118: =TRUNC(F118+H118+J118, 0) -> 463860 | N118: 5EC495E302736A72E25280313C831D8F520901 | Q118: 010105 | R118: F | S118: F | T118: T | AU118: 0101055EC495E302736A72E25280313C831D8F520901 | AV118: 112
A119: 로이삼중유리 43mm(5LE,MZT152+14AR+5+14AR+5LE,MZT152),SWS | B119: 더블로이(반강화)+아르곤가스+투명 | C119: M2 | D119: 33.9 | E119: =TRUNC(단가대비표!O40,0) -> 187900 | F119: =TRUNC(E119*D119, 0) -> 6369810 | G119: =TRUNC(단가대비표!P40,0) -> 0 | H119: =TRUNC(G119*D119, 0) -> 0 | I119: =TRUNC(단가대비표!V40,0) -> 0 | J119: =TRUNC(I119*D119, 0) -> 0 | K119: =TRUNC(E119+G119+I119, 0) -> 187900 | L119: =TRUNC(F119+H119+J119, 0) -> 6369810 | N119: 5EC495E302736A72E25280313C831D8F520900 | Q119: 010105 | R119: F | S119: F | T119: T | AU119: 0101055EC495E302736A72E25280313C831D8F520900 | AV119: 113
...

Sheet 일위대가목록
B1: 일 위 대 가 목 록
B2: [ 이동초등학교 교사동(봉사관 환경개선공사) ]
A3: 코 드 | B3: 품 명 | C3: 규 격 | D3: 단위 | E3: 재 료 비 | F3: 노 무 비 | G3: 경 비 | H3: 합 계 | I3: 번 호 | J3: 비 고 | K3: 노임계수 | L3: 할증 | M3: 품셈개요 | N3: 장비일위
A4: 5EF1D541FF7A313632A280DA36EC9FACB83446F0 | B4: 크레인(타이어) | C4: 10ton | D4: HR | E4: =일위대가!F10 -> 8873 | F4: =일위대가!H10 -> 59025 | G4: =일위대가!J10 -> 31344 | H4: =E4+F4+G4 -> 99242 | I4: 호표 1 | K4: A | N4: T
A5: 59E6B575A87A8CCEB2F240A1D9B527 | B5: 조립식가설울타리/E.G.I철판 | C5: H=2.4, 3개월 | D5: M | E5: =일위대가!F25 -> 0 | F5: =일위대가!H25 -> 0 | G5: =일위대가!J25 -> 44662 | H5: =E5+F5+G5 -> 44662 | I5: 호표 2
A6: 59E6B575AA75A061C2C2A0D18F5308 | B6: 강관 조립말비계(이동식)설치 및 해체 | C6: 높이 2m, 3개월 | D6: 대 | E6: =일위대가!F40 -> 36387 | F6: =일위대가!H40 -> 95287 | G6: =일위대가!J40 -> 0 | H6: =E6+F6+G6 -> 131674 | I6: 호표 3
A7: 59E6B575AA75A061E282D05F9EE742 | B7: 시스템비계 | C7: 10.0m이하,3개월(발판1열)(계단설치해체비포함) | D7: M2 | E7: =일위대가!F56 -> 2849 | F7: =일위대가!H56 -> 14831 | G7: =일위대가!J56 -> 296 | H7: =E7+F7+G7 -> 17976 | I7: 호표 4
A8: 59E6B575AA75A061E282D05F9EE741 | B8: 시스템비계 | C8: 10.0m초과~20.0m이하,3개월(발판1열)(계단설치해체비포함) | D8: M2 | E8: =일위대가!F72 -> 2849 | F8: =일위대가!H72 -> 17130 | G8: =일위대가!J72 -> 342 | H8: =E8+F8+G8 -> 20321 | I8: 호표 5
A9: 59E6B576B2755F852242D0B04A5563 | B9: 콘테이너형 가설사무소 설치 및 해체 | C9: 3.0*6.0m, 3개월 | D9: 개소 | E9: =일위대가!F78 -> 0 | F9: =일위대가!H78 -> 0 | G9: =일위대가!J78 -> 1017970 | H9: =E9+F9+G9 -> 1017970 | I9: 호표 6
A10: 59E7B5E12B777C66F21210E77E9631 | B10: 집기이전 | C10: 일반교실,재설치포함 | D10: 실 | E10: =일위대가!F82 -> 0 | F10: =일위대가!H82 -> 1036188 | G10: =일위대가!J82 -> 0 | H10: =E10+F10+G10 -> 1036188 | I10: 호표 7
A11: 59E6B570237C1565D2F250408F8D36 | B11: 준공청소 | D11: M2 | E11: =일위대가!F86 -> 0 | F11: =일위대가!H86 -> 3453 | G11: =일위대가!J86 -> 0 | H11: =E11+F11+G11 -> 3453 | I11: 호표 8
A12: 59E6B5702679260FC202706D45A3CB | B12: 건축물 현장정리 | C12: 개보수, 단순공정 | D12: M2 | E12: =일위대가!F90 -> 0 | F12: =일위대가!H90 -> 4317 | G12: =일위대가!J90 -> 0 | H12: =E12+F12+G12 -> 4317 | I12: 호표 9
A13: 59E675DB487B44EF6222B0741C1D68 | B13: 화강석 두겁돌(습식, 잔다듬) | C13: 포천석 450*60mm, 모르타르 30mm | D13: M | E13: =일위대가!F97 -> 51826 | F13: =일위대가!H97 -> 56493 | G13: =일위대가!J97 -> 1026 | H13: =E13+F13+G13 -> 109345 | I13: 호표 10
A14: 59E61573067DB16B3262309D305F29 | B14: 선홈통(금속) 설치 | C14: 스테인리스, Ø100×1.5㎜ | D14: M | E14: =일위대가!F103 -> 25633 | F14: =일위대가!H103 -> 25870 | G14: =일위대가!J103 -> 517 | H14: =E14+F14+G14 -> 52020 | I14: 호표 11
A15: 59E6157303705CCDA282408C98BD35 | B15: 금속 선홈통 설치 | C15: 동판, 150*75*1.5T | D15: M | E15: =일위대가!F109 -> 22496 | F15: =일위대가!H109 -> 25870 | G15: =일위대가!J109 -> 517 | H15: =E15+F15+G15 -> 48883 | I15: 호표 12
A16: 59E61573067DB175B2A220ADA9ECAE | B16: 스텐판 처마홈통 설치 | C16: 150*1.5t(반원) | D16: M | E16: =일위대가!F115 -> 15113 | F16: =일위대가!H115 -> 19674 | G16: =일위대가!J115 -> 784 | H16: =E16+F16+G16 -> 35571 | I16: 호표 13
A17: 59E61573067DB16B321210F260DBC6 | B17: 스텐 상자홈통 설치 | C17: 250*250*250*1.5t | D17: EA | E17: =일위대가!F120 -> 18270 | F17: =일위대가!H120 -> 31608 | G17: =일위대가!J120 -> 1260 | H17: =E17+F17+G17 -> 51138 | I17: 호표 14
A18: 59E65584BE78C2B242A230327E8B2C | B18: 철재커텐박스(ㄷ자형) | C18: 150*150*1.2t, STL(도장 유) | D18: M | E18: =일위대가!F131 -> 8961 | F18: =일위대가!H131 -> 42198 | G18: =일위대가!J131 -> 1597 | H18: =E18+F18+G18 -> 52756 | I18: 호표 15
A19: 59E6F58C6C724D433232A05DE8D70B | B19: 경량형강철골조 조립설치 | C19: 비내력식 | D19: TON | E19: =일위대가!F136 -> 0 | F19: =일위대가!H136 -> 3058129 | G19: =일위대가!J136 -> 91743 | H19: =E19+F19+G19 -> 3149872 | I19: 호표 16
A20: 59E665F36E7CDB68A2B2F01ED563A7 | B20: AW1[창호개체, 관급] | C20: 3.740 x 9.950 = 37.213 | D20: EA | E20: 0 | F20: 0 | G20: 0 | I20: 호표 17
A21: 59E665F36E7CDB68A2B2F01ED563A5 | B21: CAW1[창호개체, 관급] | C21: 3.000 x 1.800 = 5.400 | D21: EA | E21: 0 | F21: 0 | G21: 0 | I21: 호표 18
A22: 59E665F36E7CDB68A2B2F01ED563A3 | B22: CAW2[창호개체, 관급] | C22: 1.500 x 1.800 = 2.700 | D22: EA | E22: 0 | F22: 0 | G22: 0 | I22: 호표 19
A23: 59E665F36E7CDB68A2B2F01ED563A1 | B23: CAW3[창호개체, 관급] | C23: 1.200 x 0.000 = 0.000 | D23: EA | E23: 0 | F23: 0 | G23: 0 | I23: 호표 20
A24: 59E665FA9E7A269E62521000B51738 | B24: 창호유리설치 / 복층유리 | C24: 유리두께 24mm 이하 | D24: M2 | E24: =일위대가!F153 -> 0 | F24: =일위대가!H153 -> 35520 | G24: =일위대가!J153 -> 0 | H24: =E24+F24+G24 -> 35520 | I24: 호표 21
A25: 59E665FA9E7A269E62521000B51417 | B25: 창호유리설치 / 삼중유리 | C25: 유리두께 40mm초과 44mm이하 | D25: M2 | E25: =일위대가!F157 -> 0 | F25: =일위대가!H157 -> 41177 | G25: =일위대가!J157 -> 0 | H25: =E25+F25+G25 -> 41177 | I25: 호표 22
A26: 59E665FA9777ACAF22E28020452E1B | B26: 복층유리주위 코킹 | C26: 5*5, 실리콘 | D26: M | E26: =일위대가!F161 -> 311 | F26: =일위대가!H161 -> 0 | G26: =일위대가!J161 -> 0 | H26: =E26+F26+G26 -> 311 | I26: 호표 23
A27: 59E645A49471F855F20240B940ED6A | B27: 녹막이페인트 붓칠 | C27: 철재면, 1회 1종 | D27: M2 | E27: =일위대가!F166 -> 903 | F27: =일위대가!H166 -> 4541 | G27: =일위대가!J166 -> 0 | H27: =E27+F27+G27 -> 5444 | I27: 호표 24
A28: 59E6558EA57FFDE24222301AE1FA4C | B28: 외벽 환기캡 철거 후 재설치 | C28: D100 | D28: 개 | E28: =일위대가!F171 -> 0 | F28: =일위대가!H171 -> 31429 | G28: =일위대가!J171 -> 0 | H28: =E28+F28+G28 -> 31429 | I28: 호표 25
A29: 59E61573067DB16B321210F260DBC0 | B29: 메쉬휀스 철거 후 재설치 | D29: M2 | E29: =일위대가!F176 -> 200000 | F29: =일위대가!H176 -> 31429 | G29: =일위대가!J176 -> 0 | H29: =E29+F29+G29 -> 231429 | I29: 호표 26
A30: 59E6558EA57FFDE24222301AE1FA4D | B30: CCTV 철거 후 재설치 | D30: 개 | E30: =일위대가!F181 -> 200000 | F30: =일위대가!H181 -> 0 | G30: =일위대가!J181 -> 0 | H30: =E30+F30+G30 -> 200000 | I30: 호표 27
A31: 59C195859D7C625D32C2E0662C111D | B31: 환풍기 철거 후 신설 | C31: 300*300 | D31: 개소 | E31: =일위대가!F186 -> 40700 | F31: =일위대가!H186 -> 172291 | G31: =일위대가!J186 -> 0 | H31: =E31+F31+G31 -> 212991 | I31: 호표 28
A32: 59C12536197E7E6F32A2205483849F | B32: 기존 천정재 철거 후 재설치 | D32: M2 | E32: =일위대가!F191 -> 0 | F32: =일위대가!H191 -> 19765 | G32: =일위대가!J191 -> 0 | H32: =E32+F32+G32 -> 19765 | I32: 호표 29
A33: 59E7A5FAD17E94C2D2A2B0E22E5408 | B33: 블라인드 철거 후 재설치 | D33: 개소 | E33: =일위대가!F196 -> 0 | F33: =일위대가!H196 -> 16832 | G33: =일위대가!J196 -> 0 | H33: =E33+F33+G33 -> 16832 | I33: 호표 30
A34: 59C195859D7C625D32C2E0662C111E | B34: 기존 수목 전정 | D34: 주 | E34: =일위대가!F200 -> 0 | F34: =일위대가!H200 -> 4464 | G34: =일위대가!J200 -> 0 | H34: =E34+F34+G34 -> 4464 | I34: 호표 31
A35: 59C12536197E7E6F32A220548383F0 | B35: 낙하물 방지 철판 철거 후 재설치 | C35: W200, L3740 | D35: 개소 | E35: =일위대가!F204 -> 0 | F35: =일위대가!H204 -> 86349 | G35: =일위대가!J204 -> 0 | H35: =E35+F35+G35 -> 86349 | I35: 호표 32
A36: 59E7B5E129743A0A3282C0FD7AFB75 | B36: 콘크리트구조물 헐기(인력) | C36: 소형브레이커(전기식), 철근, 2.3m3/일당 | D36: M3 | E36: =일위대가!F211 -> 2684 | F36: =일위대가!H211 -> 268484 | G36: =일위대가!J211 -> 2387 | H36: =E36+F36+G36 -> 273555 | I36: 호표 33
A37: 59E7B5E12B777C4BE2E250DA5E4A10 | B37: 석고보드 철거 | C37: 12.5T, 벽체 | D37: M2 | E37: =일위대가!F216 -> 0 | F37: =일위대가!H216 -> 4273 | G37: =일위대가!J216 -> 0 | H37: =E37+F37+G37 -> 4273 | I37: 호표 34
A38: 59E7B5E1227184FF62D2206AD6D53D | B38: 단열재 철거 | C38: 50T, 압출법보온판+메쉬+마감재 | D38: M2 | E38: =일위대가!F220 -> 0 | F38: =일위대가!H220 -> 12088 | G38: =일위대가!J220 -> 0 | H38: =E38+F38+G38 -> 12088 | I38: 호표 35
A39: 59E7B5E12B777C66C252A06DF0AD7A | B39: 창호 철거 | D39: M2 | E39: =일위대가!F224 -> 0 | F39: =일위대가!H224 -> 12952 | G39: =일위대가!J224 -> 0 | H39: =E39+F39+G39 -> 12952 | I39: 호표 36
A40: 59E7B5E1227184FF72F2E0F3E15429 | B40: 창호안전봉 철거 | C40: D38.1*1.2t*1줄 | D40: M | E40: =일위대가!F228 -> 0 | F40: =일위대가!H228 -> 6907 | G40: =일위대가!J228 -> 0 | H40: =E40+F40+G40 -> 6907 | I40: 호표 37
A41: 59E7B5E12B777C66C252A06DF0AD7D | B41: 커텐박스 철거 | D41: M | E41: =일위대가!F232 -> 0 | F41: =일위대가!H232 -> 6907 | G41: =일위대가!J232 -> 0 | H41: =E41+F41+G41 -> 6907 | I41: 호표 38
A42: 59E7B5E1227184FF72F2E0F3E157E1 | B42: 선홈통 철거 | D42: M | E42: =일위대가!F236 -> 0 | F42: =일위대가!H236 -> 6907 | G42: =일위대가!J236 -> 0 | H42: =E42+F42+G42 -> 6907 | I42: 호표 39
A43: 59E7B5E1227184FF62D2E01AD82ED8 | B43: 고강도블록 철거 | C43: T=8 | D43: M2 | E43: =일위대가!F241 -> 0 | F43: =일위대가!H241 -> 11482 | G43: =일위대가!J241 -> 0 | H43: =E43+F43+G43 -> 11482 | I43: 호표 40
A44: 59E6558F4B74058442A200FAB99BAF | B44: 석고판 설치(나사고정) | C44: 벽, 방수석고보드(12.5T) | D44: M2 | E44: =일위대가!F246 -> 7193 | F44: =일위대가!H246 -> 11479 | G44: =일위대가!J246 -> 114 | H44: =E44+F44+G44 -> 18786 | I44: 호표 41
A45: 59E6558F4B74058442A200FAB99BAC | B45: 석고판 설치(나사고정) | C45: 벽, 방화석고보드(12.5T) | D45: M2 | E45: =일위대가!F251 -> 5508 | F45: =일위대가!H251 -> 11479 | G45: =일위대가!J251 -> 114 | H45: =E45+F45+G45 -> 17101 | I45: 호표 42
A46: 59E645A49471EF860242808A6ED7FD | B46: 외단열공법(습식공법) | C46: 준불연 100t | D46: M2 | E46: =일위대가!F268 -> 77462 | F46: =일위대가!H268 -> 58697 | G46: =일위대가!J268 -> 0 | H46: =E46+F46+G46 -> 136159 | I46: 호표 43
A47: 59E655881B7ECEABE20260DDBFB529 | B47: PF보드 접착제 붙이기 - 벽 | C47: 60T(심재) | D47: M2 | E47: =일위대가!F274 -> 24255 | F47: =일위대가!H274 -> 3633 | G47: =일위대가!J274 -> 0 | H47: =E47+F47+G47 -> 27888 | I47: 호표 44
A48: 59E655881B7ECEABE20260DDBFB418 | B48: 글라스울단열재 공간넣기 - 벽 | C48: 100mm, 48K | D48: M2 | E48: =일위대가!F280 -> 20944 | F48: =일위대가!H280 -> 7595 | G48: =일위대가!J280 -> 0 | H48: =E48+F48+G48 -> 28539 | I48: 호표 45
A49: 59E6255E3475DC7FE23290094B1314 | B49: 수밀코킹(실리콘) | C49: 10mm, 창호주위(양면) | D49: M | E49: =일위대가!F285 -> 1244 | F49: =일위대가!H285 -> 5310 | G49: =일위대가!J285 -> 0 | H49: =E49+F49+G49 -> 6554 | I49: 호표 46
A50: 59E6255A5E771E3EB272E0F00AA4F6 | B50: 가열식시트 붙임 | C50: 시트 1겹, W=300 | D50: M2 | E50: =일위대가!F292 -> 5407 | F50: =일위대가!H292 -> 25560 | G50: =일위대가!J292 -> 766 | H50: =E50+F50+G50 -> 31733 | I50: 호표 47
A51: 59E60509D778FDFC521250A7AC703C | B51: 스텐 창호안전봉 | C51: Ø38.1×2.0t | D51: M | E51: =일위대가!F300 -> 27582 | F51: =일위대가!H300 -> 32886 | G51: =일위대가!J300 -> 1314 | H51: =E51+F51+G51 -> 61782 | I51: 호표 48
A52: 59E665F4717435F77202C0B864192A | B52: 창호주위 발포우레탄 충전 | D52: M | E52: =일위대가!F306 -> 1320 | F52: =일위대가!H306 -> 2750 | G52: =일위대가!J306 -> 0 | H52: =E52+F52+G52 -> 4070 | I52: 호표 49
A53: 59E7B5E1227184FF62D2E01BFF34CF | B53: 고강도 인도블록 철거 후 재설치 | C53: 60T | D53: M2 | E53: =일위대가!F311 -> 840 | F53: =일위대가!H311 -> 24509 | G53: =일위대가!J311 -> 1261 | H53: =E53+F53+G53 -> 26610 | I53: 호표 50
A54: 59E7B5E1227184FF62D2E01BFF34CC | B54: 화강석 경계석 철거 후 재설치 | D54: M | E54: =일위대가!F316 -> 1542 | F54: =일위대가!H316 -> 20070 | G54: =일위대가!J316 -> 1667 | H54: =E54+F54+G54 -> 23279 | I54: 호표 51
A55: 59E6B575A87A8CE9121200892A75A7 | B55: 강관 지주 설치 | C55: 지주높이 4.0m 이하, 시공량 100m/일당 | D55: M | E55: =일위대가!F324 -> 0 | F55: =일위대가!H324 -> 0 | G55: =일위대가!J324 -> 13890 | H55: =E55+F55+G55 -> 13890 | I55: 호표 52
A56: 59E6B575A87A8CE9121200892A7480 | B56: 강관 지주 해체 | C56: 지주높이 4.0m 이하, 시공량 250m/일당 | D56: M | E56: =일위대가!F332 -> 0 | F56: =일위대가!H332 -> 0 | G56: =일위대가!J332 -> 5555 | H56: =E56+F56+G56 -> 5555 | I56: 호표 53
A57: 59E6B575A87A8CCEA2E2D0B02B02E6 | B57: 가설울타리판 설치 | C57: 설치높이 3m 이하, 시공량 110m/일당 | D57: M | E57: =일위대가!F339 -> 0 | F57: =일위대가!H339 -> 0 | G57: =일위대가!J339 -> 9616 | H57: =E57+F57+G57 -> 9616 | I57: 호표 54
A58: 59E6B575A87A8CCEA2E2D0B02B038C | B58: 가설울타리판 해체 | C58: 설치높이 3m 이하, 시공량 280m/일당 | D58: M | E58: =일위대가!F346 -> 0 | F58: =일위대가!H346 -> 0 | G58: =일위대가!J346 -> 3775 | H58: =E58+F58+G58 -> 3775 | I58: 호표 55
A59: 5EF1D541FF7A166AE202C02F882F62AB002C9962 | B59: 굴착기(무한궤도) | C59: 0.2㎥ | D59: HR | E59: =일위대가!F353 -> 10164 | F59: =일위대가!H353 -> 59025 | G59: =일위대가!J353 -> 13873 | H59: =E59+F59+G59 -> 83062 | I59: 호표 56 | K59: A | N59: T
A60: 59E6B575AA75A061C2C2A0D56A2952 | B60: 강관 조립말비계(이동식)설치 및 해체 | C60: 높이 2m, 노무비 | D60: 대 | E60: =일위대가!F358 -> 0 | F60: =일위대가!H358 -> 95287 | G60: =일위대가!J358 -> 0 | H60: =E60+F60+G60 -> 95287 | I60: 호표 57
A61: 59E6B575AA75A061E2F2D053C58B86 | B61: 시스템비계 설치 및 해체(인력) | C61: 10m 이하, 설치 150m2, 해체 150m2 | D61: M2 | E61: =일위대가!F364 -> 0 | F61: =일위대가!H364 -> 14831 | G61: =일위대가!J364 -> 296 | H61: =E61+F61+G61 -> 15127 | I61: 호표 58
A62: 59E6B575AA75A061E2F2E0782139A4 | B62: 시스템비계 설치 및 해체(인력) | C62: 10m 초과~20m 이하, 설치 130m2, 해체 130m2 | D62: M2 | E62: =일위대가!F370 -> 0 | F62: =일위대가!H370 -> 17130 | G62: =일위대가!J370 -> 342 | H62: =E62+F62+G62 -> 17472 | I62: 호표 59
A63: 59E6B576B2755F85A2823072F0C7F8 | B63: 콘테이너형 가설건축물 설치 및 해체 | C63: 3.0*6.0m | D63: 개소 | E63: =일위대가!F377 -> 0 | F63: =일위대가!H377 -> 0 | G63: =일위대가!J377 -> 441222 | H63: =E63+F63+G63 -> 441222 | I63: 호표 60
A64: 59E675DB4F7E422832023004A927F9 | B64: 모르타르비빔 - 돌붙임(바닥) | C64: 배합용적비 1:3, 시멘트, 모래 별도 | D64: M3 | E64: =일위대가!F383 -> 0 | F64: =일위대가!H383 -> 113980 | G64: =일위대가!J383 -> 0 | H64: =E64+F64+G64 -> 113980 | I64: 호표 61
A65: 59E675DB4C712B2D42E220D2A9C8A4 | B65: 석재판 붙임 - 습식공법(화강석) | C65: 바닥부, 시공량 12m2/일당 | D65: M2 | E65: =일위대가!F390 -> 0 | F65: =일위대가!H390 -> 114142 | G65: =일위대가!J390 -> 2282 | H65: =E65+F65+G65 -> 116424 | I65: 호표 62
A66: 59E6D5433C760F1CE25260902D0D58 | B66: 모르타르 배합 | C66: 모래채가름 포함 | D66: M3 | E66: =일위대가!F394 -> 0 | F66: =일위대가!H394 -> 113980 | G66: =일위대가!J394 -> 0 | H66: =E66+F66+G66 -> 113980 | I66: 호표 63
A67: 59E6157303705CCDA2825095B767C8 | B67: 금속 선홈통 설치 | C67: 지름 150mm, 두께 2mm 이하 기준 | D67: M | E67: =일위대가!F400 -> 0 | F67: =일위대가!H400 -> 25870 | G67: =일위대가!J400 -> 517 | H67: =E67+F67+G67 -> 26387 | I67: 호표 64
A68: 59E60507257F8797F2B2E0E2DA3EF2 | B68: 잡철물 제작 및 설치 | C68: 현장제작 설치, 경량철재 | D68: kg | E68: =일위대가!F409 -> 140 | F68: =일위대가!H409 -> 7024 | G68: =일위대가!J409 -> 280 | H68: =E68+F68+G68 -> 7444 | I68: 호표 65
A69: 59E60507257F8797F2B2C034BF4C40 | B69: 잡철물 제작 및 설치 | C69: 현장제작 설치, 일반철재 | D69: kg | E69: =일위대가!F418 -> 162 | F69: =일위대가!H418 -> 5404 | G69: =일위대가!J418 -> 270 | H69: =E69+F69+G69 -> 5836 | I69: 호표 66
A70: 59E645A49471F855F202700CF8627F | B70: 녹막이페인트 붓칠(재료비 미포함) | C70: 철재면, 1회 2종 | D70: M2 | E70: =일위대가!F422 -> 90 | F70: =일위대가!H422 -> 4541 | G70: =일위대가!J422 -> 0 | H70: =E70+F70+G70 -> 4631 | I70: 호표 67
A71: 59E645A7687FCB5012524055BC02D4 | B71: 유성페인트 붓칠(재료비 미포함) | C71: 철재면, 2회 1급 | D71: M2 | E71: =일위대가!F426 -> 242 | F71: =일위대가!H426 -> 12110 | G71: =일위대가!J426 -> 0 | H71: =E71+F71+G71 -> 12352 | I71: 호표 68
A72: 59E645A49471F855E272F094B77B1D | B72: 녹막이 페인트칠 재료비(20년 품셈기준) | C72: 철재면, 1회, 2종 | D72: M2 | E72: =일위대가!F431 -> 686 | F72: =일위대가!H431 -> 0 | G72: =일위대가!J431 -> 0 | H72: =E72+F72+G72 -> 686 | I72: 호표 69
A73: 59E645A7687FCB5012524051C3465F | B73: 유성페인트 붓칠 재료비(20년 품셈기준) | C73: 철재면, 2회, 1급 | D73: M2 | E73: =일위대가!F436 -> 1034 | F73: =일위대가!H436 -> 0 | G73: =일위대가!J436 -> 0 | H73: =E73+F73+G73 -> 1034 | I73: 호표 70
A74: 59E645A49471F855E272E08E6B047D | B74: 녹막이 페인트칠 | C74: 철재면 1회 노무비 | D74: M2 | E74: =일위대가!F442 -> 90 | F74: =일위대가!H442 -> 4541 | G74: =일위대가!J442 -> 0 | H74: =E74+F74+G74 -> 4631 | I74: 호표 71
A75: 59E645A7687FCB5012524051C198E3 | B75: 유성페인트 붓칠 | C75: 철재면 2회 노무비 | D75: M2 | E75: =일위대가!F450 -> 242 | F75: =일위대가!H450 -> 12110 | G75: =일위대가!J450 -> 0 | H75: =E75+F75+G75 -> 12352 | I75: 호표 72
A76: 59E645A49471F855E272F094B77848 | B76: 녹막이 페인트칠 재료비(20년 품셈기준) | C76: 철재면, 1회, 1종 | D76: M2 | E76: =일위대가!F455 -> 813 | F76: =일위대가!H455 -> 0 | G76: =일위대가!J455 -> 0 | H76: =E76+F76+G76 -> 813 | I76: 호표 73
A77: 59C195859D7C625D32C2E0662C107D | B77: 환기캡 철거 | D77: 개소 | E77: =일위대가!F459 -> 0 | F77: =일위대가!H459 -> 8950 | G77: =일위대가!J459 -> 0 | H77: =E77+F77+G77 -> 8950 | I77: 호표 74
A78: 59C195859D7C625D32C2E0662C107C | B78: 환기캡 설치 | D78: 개소 | E78: =일위대가!F463 -> 0 | F78: =일위대가!H463 -> 22479 | G78: =일위대가!J463 -> 0 | H78: =E78+F78+G78 -> 22479 | I78: 호표 75
A79: 59E6558EA57FFDE262D210F77076C0 | B79: 텍스 철거 | D79: M2 | E79: =일위대가!F468 -> 0 | F79: =일위대가!H468 -> 4574 | G79: =일위대가!J468 -> 0 | H79: =E79+F79+G79 -> 4574 | I79: 호표 76
A80: 59E6558EA57FFDE262D210F77076CF | B80: 텍스 설치 | D80: M2 | E80: =일위대가!F473 -> 0 | F80: =일위대가!H473 -> 15191 | G80: =일위대가!J473 -> 0 | H80: =E80+F80+G80 -> 15191 | I80: 호표 77
A81: 59C12536197E7E6F32A220548383F1 | B81: 블라인드 철거 | D81: M2 | E81: =일위대가!F478 -> 0 | F81: =일위대가!H478 -> 3884 | G81: =일위대가!J478 -> 0 | H81: =E81+F81+G81 -> 3884 | I81: 호표 78
A82: 59C12536197E7E6F32A220548383F2 | B82: 블라인드 설치 | D82: M2 | E82: =일위대가!F483 -> 0 | F82: =일위대가!H483 -> 12948 | G82: =일위대가!J483 -> 0 | H82: =E82+F82+G82 -> 12948 | I82: 호표 79
A83: 59C1958DDD78F73AE27280690B3E70 | B83: 이식 전정 - 낙엽수 | C83: R6 | D83: 주 | E83: =일위대가!F488 -> 0 | F83: =일위대가!H488 -> 4464 | G83: =일위대가!J488 -> 0 | H83: =E83+F83+G83 -> 4464 | I83: 호표 80
A84: 5EF1D541FF7A43A0E292408857CDF5E06D6AAF2A | B84: 소형브레이커(전기식) | C84: 1.5kw | D84: HR | E84: =일위대가!F492 -> 0 | F84: =일위대가!H492 -> 0 | G84: =일위대가!J492 -> 343 | H84: =E84+F84+G84 -> 343 | I84: 호표 81 | N84: T
A85: 59E6558F4B7432C2324200F45D4DBA | B85: 석고판 설치(나사고정) - 바탕용 | C85: 벽, 1겹 붙임 | D85: M2 | E85: =일위대가!F498 -> 0 | F85: =일위대가!H498 -> 11479 | G85: =일위대가!J498 -> 114 | H85: =E85+F85+G85 -> 11593 | I85: 호표 82
A86: 59E655881B7ECEABC25250A8F4F8D0 | B86: 단열재 슬래브 위 깔기 | C86: 200mm 이하 | D86: M2 | E86: =일위대가!F503 -> 0 | F86: =일위대가!H503 -> 3633 | G86: =일위대가!J503 -> 0 | H86: =E86+F86+G86 -> 3633 | I86: 호표 83
A87: 59E655881B7ECEABC25250AD763774 | B87: 단열재 공간넣기 | C87: 100mm 이하 | D87: M2 | E87: =일위대가!F508 -> 0 | F87: =일위대가!H508 -> 7595 | G87: =일위대가!J508 -> 0 | H87: =E87+F87+G87 -> 7595 | I87: 호표 84
A88: 59E6255E377145F972726080206C | B88: 수밀코킹 | C88: 재료비 별도, 양면 | D88: M | E88: =일위대가!F512 -> 0 | F88: =일위대가!H512 -> 5310 | G88: =일위대가!J512 -> 0 | H88: =E88+F88+G88 -> 5310 | I88: 호표 85
A89: 59E60507257F8797E292307FCF414D | B89: 잡철물 제작 및 설치 | C89: 현장제작 설치(복잡:복잡,절단,절곡,용접개소과다), 경량철재 | D89: kg | E89: =일위대가!F521 -> 182 | F89: =일위대가!H521 -> 9135 | G89: =일위대가!J521 -> 365 | H89: =E89+F89+G89 -> 9682 | I89: 호표 86
A90: 5EF1D541FF7A05A39292508F7870F5CB9AF66CD0 | B90: 플레이트 콤팩터 | C90: 1.5ton | D90: HR | E90: =일위대가!F528 -> 2034 | F90: =일위대가!H528 -> 36604 | G90: =일위대가!J528 -> 620 | H90: =E90+F90+G90 -> 39258 | I90: 호표 87 | K90: A | N90: T
A91: 5EF1D541FF7A1623326270901CF9506E9DB2E697 | B91: 덤프트럭 | C91: 2.5ton | D91: HR | E91: =일위대가!F535 -> 6723 | F91: =일위대가!H535 -> 50008 | G91: =일위대가!J535 -> 6522 | H91: =E91+F91+G91 -> 63253 | I91: 호표 88 | K91: A | N91: T
A92: 59E7B5E1227184FF72F2E0F6BC629F | B92: 화강석경계석 철거 | D92: M | E92: =일위대가!F539 -> 0 | F92: =일위대가!H539 -> 5180 | G92: =일위대가!J539 -> 0 | H92: =E92+F92+G92 -> 5180 | I92: 호표 89
A93: 59E7B5E1227184FF72F2E0F6BC6298 | B93: 화강석경계석 설치 | D93: M | E93: =일위대가!F545 -> 1542 | F93: =일위대가!H545 -> 14890 | G93: =일위대가!J545 -> 1667 | H93: =E93+F93+G93 -> 18099 | I93: 호표 90
A94: 5EF1D541FF7A313632A290E0019B7337E5BEF75D | B94: 트럭탑재형 크레인 | C94: 5ton | D94: HR | E94: =일위대가!F552 -> 10281 | F94: =일위대가!H552 -> 50008 | G94: =일위대가!J552 -> 11117 | H94: =E94+F94+G94 -> 71406 | I94: 호표 91 | K94: A | N94: T

Sheet 일위대가
A1: 일 위 대 가
A2: [ 이동초등학교 교사동(봉사관 환경개선공사) ]
A3: 품 명 | B3: 규 격 | C3: 단위 | D3: 수량 | E3: 재 료 비 | G3: 노 무 비 | I3: 경 비 | K3: 합 계 | M3: 비 고 | N3: 일위대가 | O3: 품목코드 | P3: 일위 | Q3: 단산 | R3: 자재 | S3: 손료적용 | T3: 손료저장 | U3: 적용율 | V3: JUK1 | W3: JUK2 | X3: JUK3 | Y3: JUK4 | Z3: JUK5 | AA3: JUK6 | AB3: JUK7 | AC3: JUK8 | AD3: JUK9 | AE3: JUK10 | AF3: JUK11 | AG3: JUK12 | AH3: JUK13 | AI3: JUK14 | AJ3: JUK15 | AK3: JUK16 | AL3: JUK17 | AM3: JUK18 | AN3: JUK19 | AO3: JUK20 | AP3: 할증적용 | AQ3: 할증저장 | AR3: 할증율 | AS3: HAL1 | AT3: HAL2 | AU3: HAL3 | AV3: 자재구분 | AW3: 일위대가+자재 | AX3: 장비일위 | AY3: 설정 | AZ3: 할증체크
E4: 단 가 | F4: 금 액 | G4: 단 가 | H4: 금 액 | I4: 단 가 | J4: 금 액 | K4: 단 가 | L4: 금 액
A5: 크레인(타이어) 10ton HR ( 호표 1 ) | N5: 5EF1D541FF7A313632A280DA36EC9FACB83446F0
A6: 크레인(타이어) | B6: 10ton | C6: 대 | D6: 0.2298 | E6: =단가대비표!O8 -> 0 | F6: =TRUNC(E6*D6,1) -> 0 | G6: =단가대비표!P8 -> 0 | H6: =TRUNC(G6*D6,1) -> 0 | I6: =단가대비표!V8 -> 136400 | J6: =TRUNC(I6*D6,1) -> 31344.7 | K6: =TRUNC(E6+G6+I6,1) -> 136400 | L6: =TRUNC(F6+H6+J6,1) -> 31344.7 | M6: 천원 | N6: 5EF1D541FF7A313632A280DA36EC9FACB83446F0 | O6: 5EF1D541FF7A313632A280DA36EC9FACB83446 | P6: F | Q6: F | R6: T | AW6: 5EF1D541FF7A313632A280DA36EC9FACB83446F05EF1D541FF7A313632A280DA36EC9FACB83446
A7: 경유 | B7: 경유, 저유황 | C7: L | D7: 3.8 | E7: =단가대비표!O17 -> 1680 | F7: =TRUNC(E7*D7,1) -> 6384 | G7: =단가대비표!P17 -> 0 | H7: =TRUNC(G7*D7,1) -> 0 | I7: =단가대비표!V17 -> 0 | J7: =TRUNC(I7*D7,1) -> 0 | K7: =TRUNC(E7+G7+I7,1) -> 1680 | L7: =TRUNC(F7+H7+J7,1) -> 6384 | N7: 5EF1D541FF7A313632A280DA36EC9FACB83446F0 | O7: 5EE73503707083E3A232A0647E44AF62E4596F | P7: F | Q7: F | R7: T | V7: 1 | AW7: 5EF1D541FF7A313632A280DA36EC9FACB83446F05EE73503707083E3A232A0647E44AF62E4596F
A8: 잡재료 | B8: 주연료비의 39% | C8: 식 | D8: 1 | E8: =TRUNC(SUMIF(V6:V9, RIGHTB(O8, 1), F6:F9)*U8, 2) -> 2489.76 | F8: =TRUNC(E8*D8,1) -> 2489.7 | G8: 0 | H8: =TRUNC(G8*D8,1) -> 0 | I8: 0 | J8: =TRUNC(I8*D8,1) -> 0 | K8: =TRUNC(E8+G8+I8,1) -> 2489.7 | L8: =TRUNC(F8+H8+J8,1) -> 2489.7 | N8: 5EF1D541FF7A313632A280DA36EC9FACB83446F0 | O8: 58FF55611C7CAD9C12A21082AE2C001 | P8: F | Q8: F | R8: F | S8: 0 | T8: 0 | U8: 0.39 | AW8: 5EF1D541FF7A313632A280DA36EC9FACB83446F058FF55611C7CAD9C12A21082AE2C001
A9: 건설기계운전사 | B9: 일반공사 직종 | C9: 인 | D9: 1 | E9: =TRUNC(단가대비표!O105*1/8*16/12*25/20, 1) -> 0 | F9: =TRUNC(E9*D9,1) -> 0 | G9: =TRUNC(단가대비표!P105*1/8*16/12*25/20, 1) -> 59025.6 | H9: =TRUNC(G9*D9,1) -> 59025.6 | I9: =TRUNC(단가대비표!V105*1/8*16/12*25/20, 1) -> 0 | J9: =TRUNC(I9*D9,1) -> 0 | K9: =TRUNC(E9+G9+I9,1) -> 59025.6 | L9: =TRUNC(F9+H9+J9,1) -> 59025.6 | N9: 5EF1D541FF7A313632A280DA36EC9FACB83446F0 | O9: 5937056A7C70860E52F2505E405792D35DA9CC | P9: F | Q9: F | R9: T | AW9: 5EF1D541FF7A313632A280DA36EC9FACB83446F05937056A7C70860E52F2505E405792D35DA9CC | AX9: T
A10: [ 합 계 ] | F10: =TRUNC(SUMIF(N6:N9, N5, F6:F9),0) -> 8873 | H10: =TRUNC(SUMIF(N6:N9, N5, H6:H9),0) -> 59025 | J10: =TRUNC(SUMIF(N6:N9, N5, J6:J9),0) -> 31344 | L10: =F10+H10+J10 -> 99242 | N10: TOTAL | O10: TOTAL
A12: 조립식가설울타리/E.G.I철판 H=2.4, 3개월 M ( 호표 2 ) | N12: 59E6B575A87A8CCEB2F240A1D9B527
A13: 조립식 가설울타리 부재 | B13: EGI철판, 530*2400 | C13: 매 | D13: 2 | E13: =단가대비표!O55 -> 16583 | F13: =TRUNC(E13*D13,1) -> 33166 | G13: =단가대비표!P55 -> 0 | H13: =TRUNC(G13*D13,1) -> 0 | I13: =단가대비표!V55 -> 0 | J13: =TRUNC(I13*D13,1) -> 0 | K13: =TRUNC(E13+G13+I13,1) -> 16583 | L13: =TRUNC(F13+H13+J13,1) -> 33166 | M13: 금액제외 | O13: 5EC495E30C73AF2D528230F97BD352104D26AC | P13: F | Q13: F | R13: T | V13: 1 | AW13: 59E6B575A87A8CCEB2F240A1D9B5275EC495E30C73AF2D528230F97BD352104D26AC | AY13: -
A14: 경비로 적용 | B14: 주재료비의 29% | C14: 식 | D14: 1 | E14: 0 | F14: =TRUNC(E14*D14,1) -> 0 | G14: 0 | H14: =TRUNC(G14*D14,1) -> 0 | I14: =TRUNC(SUMIF(V13:V24, RIGHTB(O14, 1), F13:F24)*U14, 2) -> 9618.14 | J14: =TRUNC(I14*D14,1) -> 9618.1 | K14: =TRUNC(E14+G14+I14,1) -> 9618.1 | L14: =TRUNC(F14+H14+J14,1) -> 9618.1 | N14: 59E6B575A87A8CCEB2F240A1D9B527 | O14: 58FF55611C7CAD9C12A21082AE2C001 | P14: F | Q14: F | R14: F | S14: 0 | T14: 2 | U14: 0.29 | AW14: 59E6B575A87A8CCEB2F240A1D9B52758FF55611C7CAD9C12A21082AE2C001
A15: 강관비계 | B15: 강관비계, 비계파이프, 48.6*2.3mm | C15: M | D15: 4.735 | E15: =단가대비표!O42 -> 3929 | F15: =TRUNC(E15*D15,1) -> 18603.8 | G15: =단가대비표!P42 -> 0 | H15: =TRUNC(G15*D15,1) -> 0 | I15: =단가대비표!V42 -> 0 | J15: =TRUNC(I15*D15,1) -> 0 | K15: =TRUNC(E15+G15+I15,1) -> 3929 | L15: =TRUNC(F15+H15+J15,1) -> 18603.8 | M15: 금액제외 | O15: 5EC495E30C73AF1CF2B280CFE6FD674CBF4EE4 | P15: F | Q15: F | R15: T | W15: 2 | AW15: 59E6B575A87A8CCEB2F240A1D9B5275EC495E30C73AF1CF2B280CFE6FD674CBF4EE4 | AY15: -
A16: 경비로 적용 | B16: 주재료비의 7% | C16: 식 | D16: 1 | E16: 0 | F16: =TRUNC(E16*D16,1) -> 0 | G16: 0 | H16: =TRUNC(G16*D16,1) -> 0 | I16: =TRUNC(SUMIF(W13:W24, RIGHTB(O16, 1), F13:F24)*U16, 2) -> 1302.26 | J16: =TRUNC(I16*D16,1) -> 1302.2 | K16: =TRUNC(E16+G16+I16,1) -> 1302.2 | L16: =TRUNC(F16+H16+J16,1) -> 1302.2 | N16: 59E6B575A87A8CCEB2F240A1D9B527 | O16: 58FF55611C7CAD9C12A21082AE2F002 | P16: F | Q16: F | R16: F | S16: 0 | T16: 2 | U16: 0.07 | AW16: 59E6B575A87A8CCEB2F240A1D9B52758FF55611C7CAD9C12A21082AE2F002
A17: 강관비계 부속철물 | B17: 클램프 고정, 자동 | C17: 개 | D17: 1.67 | E17: =단가대비표!O45 -> 1590 | F17: =TRUNC(E17*D17,1) -> 2655.3 | G17: =단가대비표!P45 -> 0 | H17: =TRUNC(G17*D17,1) -> 0 | I17: =단가대비표!V45 -> 0 | J17: =TRUNC(I17*D17,1) -> 0 | K17: =TRUNC(E17+G17+I17,1) -> 1590 | L17: =TRUNC(F17+H17+J17,1) -> 2655.3 | M17: 금액제외 | O17: 5EC495E30C73AF1CF2B280CFE6FD674CBEA2FC | P17: F | Q17: F | R17: T | X17: 3 | AW17: 59E6B575A87A8CCEB2F240A1D9B5275EC495E30C73AF1CF2B280CFE6FD674CBEA2FC | AY17: -
A18: 강관비계 부속철물 | B18: 이음철물, 연결핀 | C18: 개 | D18: 0.5 | E18: =단가대비표!O43 -> 1400 | F18: =TRUNC(E18*D18,1) -> 700 | G18: =단가대비표!P43 -> 0 | H18: =TRUNC(G18*D18,1) -> 0 | I18: =단가대비표!V43 -> 0 | J18: =TRUNC(I18*D18,1) -> 0 | K18: =TRUNC(E18+G18+I18,1) -> 1400 | L18: =TRUNC(F18+H18+J18,1) -> 700 | M18: 금액제외 | O18: 5EC495E30C73AF1CF2B280CFE6FD674CBEA2FB | P18: F | Q18: F | R18: T | X18: 3 | AW18: 59E6B575A87A8CCEB2F240A1D9B5275EC495E30C73AF1CF2B280CFE6FD674CBEA2FB | AY18: -
A19: 조립식 가설울타리 부재 | B19: 볼트/넛트 | C19: 개 | D19: 12 | E19: =단가대비표!O56 -> 350 | F19: =TRUNC(E19*D19,1) -> 4200 | G19: =단가대비표!P56 -> 0 | H19: =TRUNC(G19*D19,1) -> 0 | I19: =단가대비표!V56 -> 0 | J19: =TRUNC(I19*D19,1) -> 0 | K19: =TRUNC(E19+G19+I19,1) -> 350 | L19: =TRUNC(F19+H19+J19,1) -> 4200 | M19: 금액제외 | O19: 5EC495E30C73AF2D528230F97BD352104D2233 | P19: F | Q19: F | R19: T | X19: 3 | AW19: 59E6B575A87A8CCEB2F240A1D9B5275EC495E30C73AF2D528230F97BD352104D2233 | AY19: -
A20: 경비로 적용 | B20: 주재료비의 12% | C20: 식 | D20: 1 | E20: 0 | F20: =TRUNC(E20*D20,1) -> 0 | G20: 0 | H20: =TRUNC(G20*D20,1) -> 0 | I20: =TRUNC(SUMIF(X13:X24, RIGHTB(O20, 1), F13:F24)*U20, 2) -> 906.63 | J20: =TRUNC(I20*D20,1) -> 906.6 | K20: =TRUNC(E20+G20+I20,1) -> 906.6 | L20: =TRUNC(F20+H20+J20,1) -> 906.6 | N20: 59E6B575A87A8CCEB2F240A1D9B527 | O20: 58FF55611C7CAD9C12A21082AE2E003 | P20: F | Q20: F | R20: F | S20: 0 | T20: 2 | U20: 0.12 | AW20: 59E6B575A87A8CCEB2F240A1D9B52758FF55611C7CAD9C12A21082AE2E003
A21: 강관 지주 설치 | B21: 지주높이 4.0m 이하, 시공량 100m/일당 | C21: M | D21: 1 | E21: =일위대가목록!E55 -> 0 | F21: =TRUNC(E21*D21,1) -> 0 | G21: =일위대가목록!F55 -> 0 | H21: =TRUNC(G21*D21,1) -> 0 | I21: =일위대가목록!G55 -> 13890 | J21: =TRUNC(I21*D21,1) -> 13890 | K21: =TRUNC(E21+G21+I21,1) -> 13890 | L21: =TRUNC(F21+H21+J21,1) -> 13890 | M21: 호표 52 | N21: 59E6B575A87A8CCEB2F240A1D9B527 | O21: 59E6B575A87A8CE9121200892A75A7 | P21: T | Q21: F | R21: F | AW21: 59E6B575A87A8CCEB2F240A1D9B52759E6B575A87A8CE9121200892A75A7
A22: 강관 지주 해체 | B22: 지주높이 4.0m 이하, 시공량 250m/일당 | C22: M | D22: 1 | E22: =일위대가목록!E56 -> 0 | F22: =TRUNC(E22*D22,1) -> 0 | G22: =일위대가목록!F56 -> 0 | H22: =TRUNC(G22*D22,1) -> 0 | I22: =일위대가목록!G56 -> 5555 | J22: =TRUNC(I22*D22,1) -> 5555 | K22: =TRUNC(E22+G22+I22,1) -> 5555 | L22: =TRUNC(F22+H22+J22,1) -> 5555 | M22: 호표 53 | N22: 59E6B575A87A8CCEB2F240A1D9B527 | O22: 59E6B575A87A8CE9121200892A7480 | P22: T | Q22: F | R22: F | AW22: 59E6B575A87A8CCEB2F240A1D9B52759E6B575A87A8CE9121200892A7480
A23: 가설울타리판 설치 | B23: 설치높이 3m 이하, 시공량 110m/일당 | C23: M | D23: 1 | E23: =일위대가목록!E57 -> 0 | F23: =TRUNC(E23*D23,1) -> 0 | G23: =일위대가목록!F57 -> 0 | H23: =TRUNC(G23*D23,1) -> 0 | I23: =일위대가목록!G57 -> 9616 | J23: =TRUNC(I23*D23,1) -> 9616 | K23: =TRUNC(E23+G23+I23,1) -> 9616 | L23: =TRUNC(F23+H23+J23,1) -> 9616 | M23: 호표 54 | N23: 59E6B575A87A8CCEB2F240A1D9B527 | O23: 59E6B575A87A8CCEA2E2D0B02B02E6 | P23: T | Q23: F | R23: F | AW23: 59E6B575A87A8CCEB2F240A1D9B52759E6B575A87A8CCEA2E2D0B02B02E6
A24: 가설울타리판 해체 | B24: 설치높이 3m 이하, 시공량 280m/일당 | C24: M | D24: 1 | E24: =일위대가목록!E58 -> 0 | F24: =TRUNC(E24*D24,1) -> 0 | G24: =일위대가목록!F58 -> 0 | H24: =TRUNC(G24*D24,1) -> 0 | I24: =일위대가목록!G58 -> 3775 | J24: =TRUNC(I24*D24,1) -> 3775 | K24: =TRUNC(E24+G24+I24,1) -> 3775 | L24: =TRUNC(F24+H24+J24,1) -> 3775 | M24: 호표 55 | N24: 59E6B575A87A8CCEB2F240A1D9B527 | O24: 59E6B575A87A8CCEA2E2D0B02B038C | P24: T | Q24: F | R24: F | AW24: 59E6B575A87A8CCEB2F240A1D9B52759E6B575A87A8CCEA2E2D0B02B038C
A25: [ 합 계 ] | F25: =TRUNC(SUMIF(N13:N24, N12, F13:F24),0) -> 0 | H25: =TRUNC(SUMIF(N13:N24, N12, H13:H24),0) -> 0 | J25: =TRUNC(SUMIF(N13:N24, N12, J13:J24),0) -> 44662 | L25: =F25+H25+J25 -> 44662 | N25: TOTAL | O25: TOTAL
A27: 강관 조립말비계(이동식)설치 및 해체 높이 2m, 3개월 대 ( 호표 3 ) | N27: 59E6B575AA75A061C2C2A0D18F5308
A28: 비계안정장치 | B28: 비계안정장치, 비계기본틀, 기둥, 1.2*1.7m | C28: 개 | D28: 2 | E28: =단가대비표!O46 -> 27739 | F28: =TRUNC(E28*D28,1) -> 55478 | G28: =단가대비표!P46 -> 0 | H28: =TRUNC(G28*D28,1) -> 0 | I28: =단가대비표!V46 -> 0 | J28: =TRUNC(I28*D28,1) -> 0 | K28: =TRUNC(E28+G28+I28,1) -> 27739 | L28: =TRUNC(F28+H28+J28,1) -> 55478 | M28: 금액제외 | O28: 5EC495E30C73AF2D52827054ACF137C316B313 | P28: F | Q28: F | R28: T | V28: 1 | AW28: 59E6B575AA75A061C2C2A0D18F53085EC495E30C73AF2D52827054ACF137C316B313 | AY28: -
A29: 비계안정장치 | B29: 비계안정장치, 가새, 1.2*1.9m | C29: 개 | D29: 2 | E29: =단가대비표!O47 -> 9246 | F29: =TRUNC(E29*D29,1) -> 18492 | G29: =단가대비표!P47 -> 0 | H29: =TRUNC(G29*D29,1) -> 0 | I29: =단가대비표!V47 -> 0 | J29: =TRUNC(I29*D29,1) -> 0 | K29: =TRUNC(E29+G29+I29,1) -> 9246 | L29: =TRUNC(F29+H29+J29,1) -> 18492 | M29: 금액제외 | O29: 5EC495E30C73AF2D52827054ACF137C316B31D | P29: F | Q29: F | R29: T | V29: 1 | AW29: 59E6B575AA75A061C2C2A0D18F53085EC495E30C73AF2D52827054ACF137C316B31D | AY29: -
A30: 비계안정장치 | B30: 비계안정장치, 수평띠장, 1829mm | C30: 개 | D30: 4 | E30: =단가대비표!O48 -> 25000 | F30: =TRUNC(E30*D30,1) -> 100000 | G30: =단가대비표!P48 -> 0 | H30: =TRUNC(G30*D30,1) -> 0 | I30: =단가대비표!V48 -> 0 | J30: =TRUNC(I30*D30,1) -> 0 | K30: =TRUNC(E30+G30+I30,1) -> 25000 | L30: =TRUNC(F30+H30+J30,1) -> 100000 | M30: 금액제외 | O30: 5EC495E30C73AF2D52827054ACF137C316BC73 | P30: F | Q30: F | R30: T | V30: 1 | AW30: 59E6B575AA75A061C2C2A0D18F53085EC495E30C73AF2D52827054ACF137C316BC73 | AY30: -
A31: 비계안정장치 | B31: 비계안정장치, 손잡이기둥 | C31: 개 | D31: 4 | E31: =단가대비표!O51 -> 25000 | F31: =TRUNC(E31*D31,1) -> 100000 | G31: =단가대비표!P51 -> 0 | H31: =TRUNC(G31*D31,1) -> 0 | I31: =단가대비표!V51 -> 0 | J31: =TRUNC(I31*D31,1) -> 0 | K31: =TRUNC(E31+G31+I31,1) -> 25000 | L31: =TRUNC(F31+H31+J31,1) -> 100000 | M31: 금액제외 | O31: 5EC495E30C73AF2D52827054ACF137C316BC74 | P31: F | Q31: F | R31: T | V31: 1 | AW31: 59E6B575AA75A061C2C2A0D18F53085EC495E30C73AF2D52827054ACF137C316BC74 | AY31: -
A32: 비계안정장치 | B32: 비계안정장치, 손잡이, 1229mm | C32: 개 | D32: 2 | E32: =단가대비표!O49 -> 6000 | F32: =TRUNC(E32*D32,1) -> 12000 | G32: =단가대비표!P49 -> 0 | H32: =TRUNC(G32*D32,1) -> 0 | I32: =단가대비표!V49 -> 0 | J32: =TRUNC(I32*D32,1) -> 0 | K32: =TRUNC(E32+G32+I32,1) -> 6000 | L32: =TRUNC(F32+H32+J32,1) -> 12000 | M32: 금액제외 | O32: 5EC495E30C73AF2D52827054ACF137C316BC72 | P32: F | Q32: F | R32: T | V32: 1 | AW32: 59E6B575AA75A061C2C2A0D18F53085EC495E30C73AF2D52827054ACF137C316BC72 | AY32: -
A33: 비계안정장치 | B33: 비계안정장치, 손잡이, 1829mm | C33: 개 | D33: 4 | E33: =단가대비표!O50 -> 8000 | F33: =TRUNC(E33*D33,1) -> 32000 | G33: =단가대비표!P50 -> 0 | H33: =TRUNC(G33*D33,1) -> 0 | I33: =단가대비표!V50 -> 0 | J33: =TRUNC(I33*D33,1) -> 0 | K33: =TRUNC(E33+G33+I33,1) -> 8000 | L33: =TRUNC(F33+H33+J33,1) -> 32000 | M33: 금액제외 | O33: 5EC495E30C73AF2D52827054ACF137C316BC75 | P33: F | Q33: F | R33: T | V33: 1 | AW33: 59E6B575AA75A061C2C2A0D18F53085EC495E30C73AF2D52827054ACF137C316BC75 | AY33: -
A34: 강관손료 | B34: 주재료비의 7% | C34: 식 | D34: 1 | E34: =TRUNC(SUMIF(V28:V39, RIGHTB(O34, 1), F28:F39)*U34, 2) -> 22257.9 | F34: =TRUNC(E34*D34,1) -> 22257.9 | G34: 0 | H34: =TRUNC(G34*D34,1) -> 0 | I34: 0 | J34: =TRUNC(I34*D34,1) -> 0 | K34: =TRUNC(E34+G34+I34,1) -> 22257.9 | L34: =TRUNC(F34+H34+J34,1) -> 22257.9 | N34: 59E6B575AA75A061C2C2A0D18F5308 | O34: 58FF55611C7CAD9C12A21082AE2C001 | P34: F | Q34: F | R34: F | S34: 0 | T34: 0 | U34: 0.07 | AW34: 59E6B575AA75A061C2C2A0D18F530858FF55611C7CAD9C12A21082AE2C001
A35: 비계안정장치 | B35: 비계안정장치, 바퀴 | C35: 개 | D35: 4 | E35: =단가대비표!O52 -> 9500 | F35: =TRUNC(E35*D35,1) -> 38000 | G35: =단가대비표!P52 -> 0 | H35: =TRUNC(G35*D35,1) -> 0 | I35: =단가대비표!V52 -> 0 | J35: =TRUNC(I35*D35,1) -> 0 | K35: =TRUNC(E35+G35+I35,1) -> 9500 | L35: =TRUNC(F35+H35+J35,1) -> 38000 | M35: 금액제외 | O35: 5EC495E30C73AF2D52827054ACF137C316BC77 | P35: F | Q35: F | R35: T | W35: 2 | AW35: 59E6B575AA75A061C2C2A0D18F53085EC495E30C73AF2D52827054ACF137C316BC77 | AY35: -
A36: 비계안정장치 | B36: 비계안정장치, 쟈키 | C36: 개 | D36: 4 | E36: =단가대비표!O53 -> 11000 | F36: =TRUNC(E36*D36,1) -> 44000 | G36: =단가대비표!P53 -> 0 | H36: =TRUNC(G36*D36,1) -> 0 | I36: =단가대비표!V53 -> 0 | J36: =TRUNC(I36*D36,1) -> 0 | K36: =TRUNC(E36+G36+I36,1) -> 11000 | L36: =TRUNC(F36+H36+J36,1) -> 44000 | M36: 금액제외 | O36: 5EC495E30C73AF2D52827054ACF137C316BC76 | P36: F | Q36: F | R36: T | W36: 2 | AW36: 59E6B575AA75A061C2C2A0D18F53085EC495E30C73AF2D52827054ACF137C316BC76 | AY36: -
A37: 비계안정장치 | B37: 비계안정장치, 발판, 500*1829mm | C37: 개 | D37: 3 | E37: =단가대비표!O54 -> 25000 | F37: =TRUNC(E37*D37,1) -> 75000 | G37: =단가대비표!P54 -> 0 | H37: =TRUNC(G37*D37,1) -> 0 | I37: =단가대비표!V54 -> 0 | J37: =TRUNC(I37*D37,1) -> 0 | K37: =TRUNC(E37+G37+I37,1) -> 25000 | L37: =TRUNC(F37+H37+J37,1) -> 75000 | M37: 금액제외 | O37: 5EC495E30C73AF2D52827054AEBD9A85132D46 | P37: F | Q37: F | R37: T | W37: 2 | AW37: 59E6B575AA75A061C2C2A0D18F53085EC495E30C73AF2D52827054AEBD9A85132D46 | AY37: -
A38: 받침철물손료 | B38: 주재료비의 9% | C38: 식 | D38: 1 | E38: =TRUNC(SUMIF(W28:W39, RIGHTB(O38, 1), F28:F39)*U38, 2) -> 14130 | F38: =TRUNC(E38*D38,1) -> 14130 | G38: 0 | H38: =TRUNC(G38*D38,1) -> 0 | I38: 0 | J38: =TRUNC(I38*D38,1) -> 0 | K38: =TRUNC(E38+G38+I38,1) -> 14130 | L38: =TRUNC(F38+H38+J38,1) -> 14130 | N38: 59E6B575AA75A061C2C2A0D18F5308 | O38: 58FF55611C7CAD9C12A21082AE2F002 | P38: F | Q38: F | R38: F | S38: 0 | T38: 0 | U38: 0.09 | AW38: 59E6B575AA75A061C2C2A0D18F530858FF55611C7CAD9C12A21082AE2F002
A39: 강관 조립말비계(이동식)설치 및 해체 | B39: 높이 2m, 노무비 | C39: 대 | D39: 1 | E39: =일위대가목록!E60 -> 0 | F39: =TRUNC(E39*D39,1) -> 0 | G39: =일위대가목록!F60 -> 95287 | H39: =TRUNC(G39*D39,1) -> 95287 | I39: =일위대가목록!G60 -> 0 | J39: =TRUNC(I39*D39,1) -> 0 | K39: =TRUNC(E39+G39+I39,1) -> 95287 | L39: =TRUNC(F39+H39+J39,1) -> 95287 | M39: 호표 57 | N39: 59E6B575AA75A061C2C2A0D18F5308 | O39: 59E6B575AA75A061C2C2A0D56A2952 | P39: T | Q39: F | R39: F | AW39: 59E6B575AA75A061C2C2A0D18F530859E6B575AA75A061C2C2A0D56A2952
A40: [ 합 계 ] | F40: =TRUNC(SUMIF(N28:N39, N27, F28:F39),0) -> 36387 | H40: =TRUNC(SUMIF(N28:N39, N27, H28:H39),0) -> 95287 | J40: =TRUNC(SUMIF(N28:N39, N27, J28:J39),0) -> 0 | L40: =F40+H40+J40 -> 131674 | N40: TOTAL | O40: TOTAL
A42: 시스템비계 10.0m이하,3개월(발판1열)(계단설치해체비포함) M2 ( 호표 4 ) | N42: 59E6B575AA75A061E282D05F9EE742
A43: 시스템비계-수직재 | B43: S-38(3800mm) | C43: 개 | D43: 0.3009 | E43: =단가대비표!O57 -> 39000 | F43: =TRUNC(E43*D43,1) -> 11735.1 | G43: =단가대비표!P57 -> 0 | H43: =TRUNC(G43*D43,1) -> 0 | I43: =단가대비표!V57 -> 0 | J43: =TRUNC(I43*D43,1) -> 0 | K43: =TRUNC(E43+G43+I43,1) -> 39000 | L43: =TRUNC(F43+H43+J43,1) -> 11735.1 | M43: 금액제외 | O43: 5EC495E30C732B79A2A240A1AC2AB6EDD7C5B8 | P43: F | Q43: F | R43: T | V43: 1 | AW43: 59E6B575AA75A061E282D05F9EE7425EC495E30C732B79A2A240A1AC2AB6EDD7C5B8 | AY43: -
A44: 시스템비계-대각재 | B44: B-1918(2484mm) | C44: 개 | D44: 0.0543 | E44: =단가대비표!O60 -> 19600 | F44: =TRUNC(E44*D44,1) -> 1064.2 | G44: =단가대비표!P60 -> 0 | H44: =TRUNC(G44*D44,1) -> 0 | I44: =단가대비표!V60 -> 0 | J44: =TRUNC(I44*D44,1) -> 0 | K44: =TRUNC(E44+G44+I44,1) -> 19600 | L44: =TRUNC(F44+H44+J44,1) -> 1064.2 | M44: 금액제외 | O44: 5EC495E30C732B79A2A240A1AC2AB6EDD7C764 | P44: F | Q44: F | R44: T | V44: 1 | AW44: 59E6B575AA75A061E282D05F9EE7425EC495E30C732B79A2A240A1AC2AB6EDD7C764 | AY44: -
A45: 시스템비계-수평재 | B45: L-06(610mm) | C45: 개 | D45: 0.3009 | E45: =단가대비표!O58 -> 8300 | F45: =TRUNC(E45*D45,1) -> 2497.4 | G45: =단가대비표!P58 -> 0 | H45: =TRUNC(G45*D45,1) -> 0 | I45: =단가대비표!V58 -> 0 | J45: =TRUNC(I45*D45,1) -> 0 | K45: =TRUNC(E45+G45+I45,1) -> 8300 | L45: =TRUNC(F45+H45+J45,1) -> 2497.4 | M45: 금액제외 | O45: 5EC495E30C732B79A2A240A1AC2AB6EDD7C65C | P45: F | Q45: F | R45: T | V45: 1 | AW45: 59E6B575AA75A061E282D05F9EE7425EC495E30C732B79A2A240A1AC2AB6EDD7C65C | AY45: -
A46: 시스템비계-수평재 | B46: L-18(1829MM) | C46: 개 | D46: 0.5847 | E46: =단가대비표!O59 -> 13500 | F46: =TRUNC(E46*D46,1) -> 7893.4 | G46: =단가대비표!P59 -> 0 | H46: =TRUNC(G46*D46,1) -> 0 | I46: =단가대비표!V59 -> 0 | J46: =TRUNC(I46*D46,1) -> 0 | K46: =TRUNC(E46+G46+I46,1) -> 13500 | L46: =TRUNC(F46+H46+J46,1) -> 7893.4 | M46: 금액제외 | O46: 5EC495E30C732B79A2A240A1AC2AB6EDD7C658 | P46: F | Q46: F | R46: T | V46: 1 | AW46: 59E6B575AA75A061E282D05F9EE7425EC495E30C732B79A2A240A1AC2AB6EDD7C658 | AY46: -
A47: 시스템비계-난간대 | B47: HL-06(610mm) | C47: 개 | D47: 0.0309 | E47: =단가대비표!O61 -> 5500 | F47: =TRUNC(E47*D47,1) -> 169.9 | G47: =단가대비표!P61 -> 0 | H47: =TRUNC(G47*D47,1) -> 0 | I47: =단가대비표!V61 -> 0 | J47: =TRUNC(I47*D47,1) -> 0 | K47: =TRUNC(E47+G47+I47,1) -> 5500 | L47: =TRUNC(F47+H47+J47,1) -> 169.9 | M47: 금액제외 | O47: 5EC495E30C732B79A2A240A1AC2AB6EDD7C034 | P47: F | Q47: F | R47: T | V47: 1 | AW47: 59E6B575AA75A061E282D05F9EE7425EC495E30C732B79A2A240A1AC2AB6EDD7C034 | AY47: -
A48: 시스템비계-난간대 | B48: HL-18(1829mm) | C48: 개 | D48: 0.7894 | E48: =단가대비표!O62 -> 10000 | F48: =TRUNC(E48*D48,1) -> 7894 | G48: =단가대비표!P62 -> 0 | H48: =TRUNC(G48*D48,1) -> 0 | I48: =단가대비표!V62 -> 0 | J48: =TRUNC(I48*D48,1) -> 0 | K48: =TRUNC(E48+G48+I48,1) -> 10000 | L48: =TRUNC(F48+H48+J48,1) -> 7894 | M48: 금액제외 | O48: 5EC495E30C732B79A2A240A1AC2AB6EDD7C033 | P48: F | Q48: F | R48: T | V48: 1 | AW48: 59E6B575AA75A061E282D05F9EE7425EC495E30C732B79A2A240A1AC2AB6EDD7C033 | AY48: -
A49: 강관손료 | B49: 주재료비의 7% | C49: 식 | D49: 1 | E49: =TRUNC(SUMIF(V43:V55, RIGHTB(O49, 1), F43:F55)*U49, 2) -> 2187.78 | F49: =TRUNC(E49*D49,1) -> 2187.7 | G49: 0 | H49: =TRUNC(G49*D49,1) -> 0 | I49: 0 | J49: =TRUNC(I49*D49,1) -> 0 | K49: =TRUNC(E49+G49+I49,1) -> 2187.7 | L49: =TRUNC(F49+H49+J49,1) -> 2187.7 | N49: 59E6B575AA75A061E282D05F9EE742 | O49: 58FF55611C7CAD9C12A21082AE2C001 | P49: F | Q49: F | R49: F | S49: 0 | T49: 0 | U49: 0.07 | AW49: 59E6B575AA75A061E282D05F9EE74258FF55611C7CAD9C12A21082AE2C001
A50: 시스템비계-받침철물(쟈키베이스) | B50: ￠34*600mm | C50: 개 | D50: 0.0601 | E50: =단가대비표!O63 -> 8700 | F50: =TRUNC(E50*D50,1) -> 522.8 | G50: =단가대비표!P63 -> 0 | H50: =TRUNC(G50*D50,1) -> 0 | I50: =단가대비표!V63 -> 0 | J50: =TRUNC(I50*D50,1) -> 0 | K50: =TRUNC(E50+G50+I50,1) -> 8700 | L50: =TRUNC(F50+H50+J50,1) -> 522.8 | M50: 금액제외 | O50: 5EC495E30C732B79A2A240A1AC2AB6EDD7C1DC | P50: F | Q50: F | R50: T | W50: 2 | AW50: 59E6B575AA75A061E282D05F9EE7425EC495E30C732B79A2A240A1AC2AB6EDD7C1DC | AY50: -
A51: 안전발판 | B51: 400×1829(1817) | C51: 매 | D51: 0.2631 | E51: =단가대비표!O19 -> 24500 | F51: =TRUNC(E51*D51,1) -> 6445.9 | G51: =단가대비표!P19 -> 0 | H51: =TRUNC(G51*D51,1) -> 0 | I51: =단가대비표!V19 -> 0 | J51: =TRUNC(I51*D51,1) -> 0 | K51: =TRUNC(E51+G51+I51,1) -> 24500 | L51: =TRUNC(F51+H51+J51,1) -> 6445.9 | M51: 금액제외 | O51: 5ED6B50B6C7FA0FB5242108C925FDC072CAF61 | P51: F | Q51: F | R51: T | W51: 2 | AW51: 59E6B575AA75A061E282D05F9EE7425ED6B50B6C7FA0FB5242108C925FDC072CAF61 | AY51: -
A52: 받침철물손료 | B52: 주재료비의 9% | C52: 식 | D52: 1 | E52: =TRUNC(SUMIF(W43:W55, RIGHTB(O52, 1), F43:F55)*U52, 2) -> 627.18 | F52: =TRUNC(E52*D52,1) -> 627.1 | G52: 0 | H52: =TRUNC(G52*D52,1) -> 0 | I52: 0 | J52: =TRUNC(I52*D52,1) -> 0 | K52: =TRUNC(E52+G52+I52,1) -> 627.1 | L52: =TRUNC(F52+H52+J52,1) -> 627.1 | N52: 59E6B575AA75A061E282D05F9EE742 | O52: 58FF55611C7CAD9C12A21082AE2F002 | P52: F | Q52: F | R52: F | S52: 0 | T52: 0 | U52: 0.09 | AW52: 59E6B575AA75A061E282D05F9EE74258FF55611C7CAD9C12A21082AE2F002
A53: 강관비계 부속철물 | B53: 앙카용철물 | C53: 개 | D53: 0.0386 | E53: =단가대비표!O44 -> 900 | F53: =TRUNC(E53*D53,1) -> 34.7 | G53: =단가대비표!P44 -> 0 | H53: =TRUNC(G53*D53,1) -> 0 | I53: =단가대비표!V44 -> 0 | J53: =TRUNC(I53*D53,1) -> 0 | K53: =TRUNC(E53+G53+I53,1) -> 900 | L53: =TRUNC(F53+H53+J53,1) -> 34.7 | M53: 금액제외 | O53: 5EC495E30C73AF1CF2B280CFE6FD674CBEA2FF | P53: F | Q53: F | R53: T | X53: 3 | AW53: 59E6B575AA75A061E282D05F9EE7425EC495E30C73AF1CF2B280CFE6FD674CBEA2FF | AY53: -
A54: 철물(앵커)손료 | B54: 주재료비의 100% | C54: 식 | D54: 1 | E54: =TRUNC(SUMIF(X43:X55, RIGHTB(O54, 1), F43:F55)*U54, 2) -> 34.7 | F54: =TRUNC(E54*D54,1) -> 34.7 | G54: 0 | H54: =TRUNC(G54*D54,1) -> 0 | I54: 0 | J54: =TRUNC(I54*D54,1) -> 0 | K54: =TRUNC(E54+G54+I54,1) -> 34.7 | L54: =TRUNC(F54+H54+J54,1) -> 34.7 | N54: 59E6B575AA75A061E282D05F9EE742 | O54: 58FF55611C7CAD9C12A21082AE2E003 | P54: F | Q54: F | R54: F | S54: 0 | T54: 0 | U54: 1 | AW54: 59E6B575AA75A061E282D05F9EE74258FF55611C7CAD9C12A21082AE2E003
A55: 시스템비계 설치 및 해체(인력) | B55: 10m 이하, 설치 150m2, 해체 150m2 | C55: M2 | D55: 1 | E55: =일위대가목록!E61 -> 0 | F55: =TRUNC(E55*D55,1) -> 0 | G55: =일위대가목록!F61 -> 14831 | H55: =TRUNC(G55*D55,1) -> 14831 | I55: =일위대가목록!G61 -> 296 | J55: =TRUNC(I55*D55,1) -> 296 | K55: =TRUNC(E55+G55+I55,1) -> 15127 | L55: =TRUNC(F55+H55+J55,1) -> 15127 | M55: 호표 58 | N55: 59E6B575AA75A061E282D05F9EE742 | O55: 59E6B575AA75A061E2F2D053C58B86 | P55: T | Q55: F | R55: F | AW55: 59E6B575AA75A061E282D05F9EE74259E6B575AA75A061E2F2D053C58B86
A56: [ 합 계 ] | F56: =TRUNC(SUMIF(N43:N55, N42, F43:F55),0) -> 2849 | H56: =TRUNC(SUMIF(N43:N55, N42, H43:H55),0) -> 14831 | J56: =TRUNC(SUMIF(N43:N55, N42, J43:J55),0) -> 296 | L56: =F56+H56+J56 -> 17976 | N56: TOTAL | O56: TOTAL
A58: 시스템비계 10.0m초과~20.0m이하,3개월(발판1열)(계단설치해체비포함) M2 ( 호표 5 ) | N58: 59E6B575AA75A061E282D05F9EE741
A59: 시스템비계-수직재 | B59: S-38(3800mm) | C59: 개 | D59: 0.3009 | E59: =단가대비표!O57 -> 39000 | F59: =TRUNC(E59*D59,1) -> 11735.1 | G59: =단가대비표!P57 -> 0 | H59: =TRUNC(G59*D59,1) -> 0 | I59: =단가대비표!V57 -> 0 | J59: =TRUNC(I59*D59,1) -> 0 | K59: =TRUNC(E59+G59+I59,1) -> 39000 | L59: =TRUNC(F59+H59+J59,1) -> 11735.1 | M59: 금액제외 | O59: 5EC495E30C732B79A2A240A1AC2AB6EDD7C5B8 | P59: F | Q59: F | R59: T | V59: 1 | AW59: 59E6B575AA75A061E282D05F9EE7415EC495E30C732B79A2A240A1AC2AB6EDD7C5B8 | AY59: -
A60: 시스템비계-대각재 | B60: B-1918(2484mm) | C60: 개 | D60: 0.0543 | E60: =단가대비표!O60 -> 19600 | F60: =TRUNC(E60*D60,1) -> 1064.2 | G60: =단가대비표!P60 -> 0 | H60: =TRUNC(G60*D60,1) -> 0 | I60: =단가대비표!V60 -> 0 | J60: =TRUNC(I60*D60,1) -> 0 | K60: =TRUNC(E60+G60+I60,1) -> 19600 | L60: =TRUNC(F60+H60+J60,1) -> 1064.2 | M60: 금액제외 | O60: 5EC495E30C732B79A2A240A1AC2AB6EDD7C764 | P60: F | Q60: F | R60: T | V60: 1 | AW60: 59E6B575AA75A061E282D05F9EE7415EC495E30C732B79A2A240A1AC2AB6EDD7C764 | AY60: -
A61: 시스템비계-수평재 | B61: L-06(610mm) | C61: 개 | D61: 0.3009 | E61: =단가대비표!O58 -> 8300 | F61: =TRUNC(E61*D61,1) -> 2497.4 | G61: =단가대비표!P58 -> 0 | H61: =TRUNC(G61*D61,1) -> 0 | I61: =단가대비표!V58 -> 0 | J61: =TRUNC(I61*D61,1) -> 0 | K61: =TRUNC(E61+G61+I61,1) -> 8300 | L61: =TRUNC(F61+H61+J61,1) -> 2497.4 | M61: 금액제외 | O61: 5EC495E30C732B79A2A240A1AC2AB6EDD7C65C | P61: F | Q61: F | R61: T | V61: 1 | AW61: 59E6B575AA75A061E282D05F9EE7415EC495E30C732B79A2A240A1AC2AB6EDD7C65C | AY61: -
A62: 시스템비계-수평재 | B62: L-18(1829MM) | C62: 개 | D62: 0.5847 | E62: =단가대비표!O59 -> 13500 | F62: =TRUNC(E62*D62,1) -> 7893.4 | G62: =단가대비표!P59 -> 0 | H62: =TRUNC(G62*D62,1) -> 0 | I62: =단가대비표!V59 -> 0 | J62: =TRUNC(I62*D62,1) -> 0 | K62: =TRUNC(E62+G62+I62,1) -> 13500 | L62: =TRUNC(F62+H62+J62,1) -> 7893.4 | M62: 금액제외 | O62: 5EC495E30C732B79A2A240A1AC2AB6EDD7C658 | P62: F | Q62: F | R62: T | V62: 1 | AW62: 59E6B575AA75A061E282D05F9EE7415EC495E30C732B79A2A240A1AC2AB6EDD7C658 | AY62: -
A63: 시스템비계-난간대 | B63: HL-06(610mm) | C63: 개 | D63: 0.0309 | E63: =단가대비표!O61 -> 5500 | F63: =TRUNC(E63*D63,1) -> 169.9 | G63: =단가대비표!P61 -> 0 | H63: =TRUNC(G63*D63,1) -> 0 | I63: =단가대비표!V61 -> 0 | J63: =TRUNC(I63*D63,1) -> 0 | K63: =TRUNC(E63+G63+I63,1) -> 5500 | L63: =TRUNC(F63+H63+J63,1) -> 169.9 | M63: 금액제외 | O63: 5EC495E30C732B79A2A240A1AC2AB6EDD7C034 | P63: F | Q63: F | R63: T | V63: 1 | AW63: 59E6B575AA75A061E282D05F9EE7415EC495E30C732B79A2A240A1AC2AB6EDD7C034 | AY63: -
A64: 시스템비계-난간대 | B64: HL-18(1829mm) | C64: 개 | D64: 0.7894 | E64: =단가대비표!O62 -> 10000 | F64: =TRUNC(E64*D64,1) -> 7894 | G64: =단가대비표!P62 -> 0 | H64: =TRUNC(G64*D64,1) -> 0 | I64: =단가대비표!V62 -> 0 | J64: =TRUNC(I64*D64,1) -> 0 | K64: =TRUNC(E64+G64+I64,1) -> 10000 | L64: =TRUNC(F64+H64+J64,1) -> 7894 | M64: 금액제외 | O64: 5EC495E30C732B79A2A240A1AC2AB6EDD7C033 | P64: F | Q64: F | R64: T | V64: 1 | AW64: 59E6B575AA75A061E282D05F9EE7415EC495E30C732B79A2A240A1AC2AB6EDD7C033 | AY64: -
A65: 강관손료 | B65: 주재료비의 7% | C65: 식 | D65: 1 | E65: =TRUNC(SUMIF(V59:V71, RIGHTB(O65, 1), F59:F71)*U65, 2) -> 2187.78 | F65: =TRUNC(E65*D65,1) -> 2187.7 | G65: 0 | H65: =TRUNC(G65*D65,1) -> 0 | I65: 0 | J65: =TRUNC(I65*D65,1) -> 0 | K65: =TRUNC(E65+G65+I65,1) -> 2187.7 | L65: =TRUNC(F65+H65+J65,1) -> 2187.7 | N65: 59E6B575AA75A061E282D05F9EE741 | O65: 58FF55611C7CAD9C12A21082AE2C001 | P65: F | Q65: F | R65: F | S65: 0 | T65: 0 | U65: 0.07 | AW65: 59E6B575AA75A061E282D05F9EE74158FF55611C7CAD9C12A21082AE2C001
A66: 시스템비계-받침철물(쟈키베이스) | B66: ￠34*600mm | C66: 개 | D66: 0.0601 | E66: =단가대비표!O63 -> 8700 | F66: =TRUNC(E66*D66,1) -> 522.8 | G66: =단가대비표!P63 -> 0 | H66: =TRUNC(G66*D66,1) -> 0 | I66: =단가대비표!V63 -> 0 | J66: =TRUNC(I66*D66,1) -> 0 | K66: =TRUNC(E66+G66+I66,1) -> 8700 | L66: =TRUNC(F66+H66+J66,1) -> 522.8 | M66: 금액제외 | O66: 5EC495E30C732B79A2A240A1AC2AB6EDD7C1DC | P66: F | Q66: F | R66: T | W66: 2 | AW66: 59E6B575AA75A061E282D05F9EE7415EC495E30C732B79A2A240A1AC2AB6EDD7C1DC | AY66: -
A67: 안전발판 | B67: 400×1829(1817) | C67: 매 | D67: 0.2631 | E67: =단가대비표!O19 -> 24500 | F67: =TRUNC(E67*D67,1) -> 6445.9 | G67: =단가대비표!P19 -> 0 | H67: =TRUNC(G67*D67,1) -> 0 | I67: =단가대비표!V19 -> 0 | J67: =TRUNC(I67*D67,1) -> 0 | K67: =TRUNC(E67+G67+I67,1) -> 24500 | L67: =TRUNC(F67+H67+J67,1) -> 6445.9 | M67: 금액제외 | O67: 5ED6B50B6C7FA0FB5242108C925FDC072CAF61 | P67: F | Q67: F | R67: T | W67: 2 | AW67: 59E6B575AA75A061E282D05F9EE7415ED6B50B6C7FA0FB5242108C925FDC072CAF61 | AY67: -
A68: 받침철물손료 | B68: 주재료비의 9% | C68: 식 | D68: 1 | E68: =TRUNC(SUMIF(W59:W71, RIGHTB(O68, 1), F59:F71)*U68, 2) -> 627.18 | F68: =TRUNC(E68*D68,1) -> 627.1 | G68: 0 | H68: =TRUNC(G68*D68,1) -> 0 | I68: 0 | J68: =TRUNC(I68*D68,1) -> 0 | K68: =TRUNC(E68+G68+I68,1) -> 627.1 | L68: =TRUNC(F68+H68+J68,1) -> 627.1 | N68: 59E6B575AA75A061E282D05F9EE741 | O68: 58FF55611C7CAD9C12A21082AE2F002 | P68: F | Q68: F | R68: F | S68: 0 | T68: 0 | U68: 0.09 | AW68: 59E6B575AA75A061E282D05F9EE74158FF55611C7CAD9C12A21082AE2F002
A69: 강관비계 부속철물 | B69: 앙카용철물 | C69: 개 | D69: 0.0386 | E69: =단가대비표!O44 -> 900 | F69: =TRUNC(E69*D69,1) -> 34.7 | G69: =단가대비표!P44 -> 0 | H69: =TRUNC(G69*D69,1) -> 0 | I69: =단가대비표!V44 -> 0 | J69: =TRUNC(I69*D69,1) -> 0 | K69: =TRUNC(E69+G69+I69,1) -> 900 | L69: =TRUNC(F69+H69+J69,1) -> 34.7 | M69: 금액제외 | O69: 5EC495E30C73AF1CF2B280CFE6FD674CBEA2FF | P69: F | Q69: F | R69: T | X69: 3 | AW69: 59E6B575AA75A061E282D05F9EE7415EC495E30C73AF1CF2B280CFE6FD674CBEA2FF | AY69: -
A70: 철물(앵커)손료 | B70: 주재료비의 100% | C70: 식 | D70: 1 | E70: =TRUNC(SUMIF(X59:X71, RIGHTB(O70, 1), F59:F71)*U70, 2) -> 34.7 | F70: =TRUNC(E70*D70,1) -> 34.7 | G70: 0 | H70: =TRUNC(G70*D70,1) -> 0 | I70: 0 | J70: =TRUNC(I70*D70,1) -> 0 | K70: =TRUNC(E70+G70+I70,1) -> 34.7 | L70: =TRUNC(F70+H70+J70,1) -> 34.7 | N70: 59E6B575AA75A061E282D05F9EE741 | O70: 58FF55611C7CAD9C12A21082AE2E003 | P70: F | Q70: F | R70: F | S70: 0 | T70: 0 | U70: 1 | AW70: 59E6B575AA75A061E282D05F9EE74158FF55611C7CAD9C12A21082AE2E003
A71: 시스템비계 설치 및 해체(인력) | B71: 10m 초과~20m 이하, 설치 130m2, 해체 130m2 | C71: M2 | D71: 1 | E71: =일위대가목록!E62 -> 0 | F71: =TRUNC(E71*D71,1) -> 0 | G71: =일위대가목록!F62 -> 17130 | H71: =TRUNC(G71*D71,1) -> 17130 | I71: =일위대가목록!G62 -> 342 | J71: =TRUNC(I71*D71,1) -> 342 | K71: =TRUNC(E71+G71+I71,1) -> 17472 | L71: =TRUNC(F71+H71+J71,1) -> 17472 | M71: 호표 59 | N71: 59E6B575AA75A061E282D05F9EE741 | O71: 59E6B575AA75A061E2F2E0782139A4 | P71: T | Q71: F | R71: F | AW71: 59E6B575AA75A061E282D05F9EE74159E6B575AA75A061E2F2E0782139A4
A72: [ 합 계 ] | F72: =TRUNC(SUMIF(N59:N71, N58, F59:F71),0) -> 2849 | H72: =TRUNC(SUMIF(N59:N71, N58, H59:H71),0) -> 17130 | J72: =TRUNC(SUMIF(N59:N71, N58, J59:J71),0) -> 342 | L72: =F72+H72+J72 -> 20321 | N72: TOTAL | O72: TOTAL
A74: 콘테이너형 가설사무소 설치 및 해체 3.0*6.0m, 3개월 개소 ( 호표 6 ) | N74: 59E6B576B2755F852242D0B04A5563
A75: 컨테이너하우스 | B75: 컨테이너하우스, 사무실용, 3.0*6.0*2.6m | C75: 개 | D75: 0.18 | E75: =단가대비표!O64 -> 3204160 | F75: =TRUNC(E75*D75,1) -> 576748.8 | G75: =단가대비표!P64 -> 0 | H75: =TRUNC(G75*D75,1) -> 0 | I75: =단가대비표!V64 -> 0 | J75: =TRUNC(I75*D75,1) -> 0 | K75: =TRUNC(E75+G75+I75,1) -> 3204160 | L75: =TRUNC(F75+H75+J75,1) -> 576748.8 | M75: 금액제외 | O75: 5EC495E0B27524EF8212F079EBE7660EC58805 | P75: F | Q75: F | R75: T | V75: 1 | AW75: 59E6B576B2755F852242D0B04A55635EC495E0B27524EF8212F079EBE7660EC58805 | AY75: -
A76: 콘테이너형 가설건축물 설치 및 해체 | B76: 3.0*6.0m | C76: 개소 | D76: 1 | E76: =일위대가목록!E63 -> 0 | F76: =TRUNC(E76*D76,1) -> 0 | G76: =일위대가목록!F63 -> 0 | H76: =TRUNC(G76*D76,1) -> 0 | I76: =일위대가목록!G63 -> 441222 | J76: =TRUNC(I76*D76,1) -> 441222 | K76: =TRUNC(E76+G76+I76,1) -> 441222 | L76: =TRUNC(F76+H76+J76,1) -> 441222 | M76: 금액제외 | O76: 59E6B576B2755F85A2823072F0C7F8 | P76: T | Q76: F | R76: F | V76: 1 | AW76: 59E6B576B2755F852242D0B04A556359E6B576B2755F85A2823072F0C7F8 | AY76: -
A77: 경비로 적용 | B77: 합계의 100% | C77: 식 | D77: 1 | E77: 0 | F77: =TRUNC(E77*D77,1) -> 0 | G77: 0 | H77: =TRUNC(G77*D77,1) -> 0 | I77: =TRUNC(SUMIF(V75:V77, RIGHTB(O77, 1), L75:L77)*U77, 2) -> 1017970.8 | J77: =TRUNC(I77*D77,1) -> 1017970.8 | K77: =TRUNC(E77+G77+I77,1) -> 1017970.8 | L77: =TRUNC(F77+H77+J77,1) -> 1017970.8 | N77: 59E6B576B2755F852242D0B04A5563 | O77: 58FF55611C7CAD9C12A21082AE2C001 | P77: F | Q77: F | R77: F | S77: 3 | T77: 2 | U77: 1 | AW77: 59E6B576B2755F852242D0B04A556358FF55611C7CAD9C12A21082AE2C001
A78: [ 합 계 ] | F78: =TRUNC(SUMIF(N75:N77, N74, F75:F77),0) -> 0 | H78: =TRUNC(SUMIF(N75:N77, N74, H75:H77),0) -> 0 | J78: =TRUNC(SUMIF(N75:N77, N74, J75:J77),0) -> 1017970 | L78: =F78+H78+J78 -> 1017970 | N78: TOTAL | O78: TOTAL
A80: 집기이전 일반교실,재설치포함 실 ( 호표 7 ) | N80: 59E7B5E12B777C66F21210E77E9631
A81: 보통인부 | B81: 일반공사 직종 | C81: 인 | D81: 6 | E81: =단가대비표!O86 -> 0 | F81: =TRUNC(E81*D81,1) -> 0 | G81: =단가대비표!P86 -> 172698 | H81: =TRUNC(G81*D81,1) -> 1036188 | I81: =단가대비표!V86 -> 0 | J81: =TRUNC(I81*D81,1) -> 0 | K81: =TRUNC(E81+G81+I81,1) -> 172698 | L81: =TRUNC(F81+H81+J81,1) -> 1036188 | N81: 59E7B5E12B777C66F21210E77E9631 | O81: 5937056A7C70860E52F2505E405792D35DADBD | P81: F | Q81: F | R81: T | AW81: 59E7B5E12B777C66F21210E77E96315937056A7C70860E52F2505E405792D35DADBD
A82: [ 합 계 ] | F82: =TRUNC(SUMIF(N81:N81, N80, F81:F81),0) -> 0 | H82: =TRUNC(SUMIF(N81:N81, N80, H81:H81),0) -> 1036188 | J82: =TRUNC(SUMIF(N81:N81, N80, J81:J81),0) -> 0 | L82: =F82+H82+J82 -> 1036188 | N82: TOTAL | O82: TOTAL
A84: 준공청소 M2 ( 호표 8 ) | N84: 59E6B570237C1565D2F250408F8D36
A85: 보통인부 | B85: 일반공사 직종 | C85: 인 | D85: 0.02 | E85: =단가대비표!O86 -> 0 | F85: =TRUNC(E85*D85,1) -> 0 | G85: =단가대비표!P86 -> 172698 | H85: =TRUNC(G85*D85,1) -> 3453.9 | I85: =단가대비표!V86 -> 0 | J85: =TRUNC(I85*D85,1) -> 0 | K85: =TRUNC(E85+G85+I85,1) -> 172698 | L85: =TRUNC(F85+H85+J85,1) -> 3453.9 | N85: 59E6B570237C1565D2F250408F8D36 | O85: 5937056A7C70860E52F2505E405792D35DADBD | P85: F | Q85: F | R85: T | AW85: 59E6B570237C1565D2F250408F8D365937056A7C70860E52F2505E405792D35DADBD
A86: [ 합 계 ] | F86: =TRUNC(SUMIF(N85:N85, N84, F85:F85),0) -> 0 | H86: =TRUNC(SUMIF(N85:N85, N84, H85:H85),0) -> 3453 | J86: =TRUNC(SUMIF(N85:N85, N84, J85:J85),0) -> 0 | L86: =F86+H86+J86 -> 3453 | N86: TOTAL | O86: TOTAL
A88: 건축물 현장정리 개보수, 단순공정 M2 ( 호표 9 ) | N88: 59E6B5702679260FC202706D45A3CB
A89: 보통인부 | B89: 일반공사 직종 | C89: 인 | D89: 0.025 | E89: =단가대비표!O86 -> 0 | F89: =TRUNC(E89*D89,1) -> 0 | G89: =단가대비표!P86 -> 172698 | H89: =TRUNC(G89*D89,1) -> 4317.4 | I89: =단가대비표!V86 -> 0 | J89: =TRUNC(I89*D89,1) -> 0 | K89: =TRUNC(E89+G89+I89,1) -> 172698 | L89: =TRUNC(F89+H89+J89,1) -> 4317.4 | N89: 59E6B5702679260FC202706D45A3CB | O89: 5937056A7C70860E52F2505E405792D35DADBD | P89: F | Q89: F | R89: T | AW89: 59E6B5702679260FC202706D45A3CB5937056A7C70860E52F2505E405792D35DADBD
A90: [ 합 계 ] | F90: =TRUNC(SUMIF(N89:N89, N88, F89:F89),0) -> 0 | H90: =TRUNC(SUMIF(N89:N89, N88, H89:H89),0) -> 4317 | J90: =TRUNC(SUMIF(N89:N89, N88, J89:J89),0) -> 0 | L90: =F90+H90+J90 -> 4317 | N90: TOTAL | O90: TOTAL
A92: 화강석 두겁돌(습식, 잔다듬) 포천석 450*60mm, 모르타르 30mm M ( 호표 10 ) | N92: 59E675DB487B44EF6222B0741C1D68
A93: 자연석판석 | B93: 자연석판석, 물갈기, 30mm, 포천석판재 | C93: M2 | D93: 0.561 | E93: =단가대비표!O27 -> 58500 | F93: =TRUNC(E93*D93,1) -> 32818.5 | G93: =단가대비표!P27 -> 0 | H93: =TRUNC(G93*D93,1) -> 0 | I93: =단가대비표!V27 -> 0 | J93: =TRUNC(I93*D93,1) -> 0 | K93: =TRUNC(E93+G93+I93,1) -> 58500 | L93: =TRUNC(F93+H93+J93,1) -> 32818.5 | N93: 59E675DB487B44EF6222B0741C1D68 | O93: 5EC495E3067935A59272D0E88140F7B89D220E | P93: F | Q93: F | R93: T | AW93: 59E675DB487B44EF6222B0741C1D685EC495E3067935A59272D0E88140F7B89D220E
A94: 화강석(원석) | B94: 포천석 30㎜ (물갈기마감:연마) | C94: M3 | D94: 0.0528 | E94: =단가대비표!O28 -> 360000 | F94: =TRUNC(E94*D94,1) -> 19008 | G94: =단가대비표!P28 -> 0 | H94: =TRUNC(G94*D94,1) -> 0 | I94: =단가대비표!V28 -> 0 | J94: =TRUNC(I94*D94,1) -> 0 | K94: =TRUNC(E94+G94+I94,1) -> 360000 | L94: =TRUNC(F94+H94+J94,1) -> 19008 | N94: 59E675DB487B44EF6222B0741C1D68 | O94: 5EC495E3067935A59272D0E88140F7B89D2D12 | P94: F | Q94: F | R94: T | AW94: 59E675DB487B44EF6222B0741C1D685EC495E3067935A59272D0E88140F7B89D2D12
A95: 모르타르비빔 - 돌붙임(바닥) | B95: 배합용적비 1:3, 시멘트, 모래 별도 | C95: M3 | D95: 0.045 | E95: =일위대가목록!E64 -> 0 | F95: =TRUNC(E95*D95,1) -> 0 | G95: =일위대가목록!F64 -> 113980 | H95: =TRUNC(G95*D95,1) -> 5129.1 | I95: =일위대가목록!G64 -> 0 | J95: =TRUNC(I95*D95,1) -> 0 | K95: =TRUNC(E95+G95+I95,1) -> 113980 | L95: =TRUNC(F95+H95+J95,1) -> 5129.1 | M95: 호표 61 | N95: 59E675DB487B44EF6222B0741C1D68 | O95: 59E675DB4F7E422832023004A927F9 | P95: T | Q95: F | R95: F | AW95: 59E675DB487B44EF6222B0741C1D6859E675DB4F7E422832023004A927F9
A96: 석재판 붙임 - 습식공법(화강석) | B96: 바닥부, 시공량 12m2/일당 | C96: M2 | D96: 0.45 | E96: =일위대가목록!E65 -> 0 | F96: =TRUNC(E96*D96,1) -> 0 | G96: =일위대가목록!F65 -> 114142 | H96: =TRUNC(G96*D96,1) -> 51363.9 | I96: =일위대가목록!G65 -> 2282 | J96: =TRUNC(I96*D96,1) -> 1026.9 | K96: =TRUNC(E96+G96+I96,1) -> 116424 | L96: =TRUNC(F96+H96+J96,1) -> 52390.8 | M96: 호표 62 | N96: 59E675DB487B44EF6222B0741C1D68 | O96: 59E675DB4C712B2D42E220D2A9C8A4 | P96: T | Q96: F | R96: F | AW96: 59E675DB487B44EF6222B0741C1D6859E675DB4C712B2D42E220D2A9C8A4
A97: [ 합 계 ] | F97: =TRUNC(SUMIF(N93:N96, N92, F93:F96),0) -> 51826 | H97: =TRUNC(SUMIF(N93:N96, N92, H93:H96),0) -> 56493 | J97: =TRUNC(SUMIF(N93:N96, N92, J93:J96),0) -> 1026 | L97: =F97+H97+J97 -> 109345 | N97: TOTAL | O97: TOTAL
A99: 선홈통(금속) 설치 스테인리스, Ø100×1.5㎜ M ( 호표 11 ) | N99: 59E61573067DB16B3262309D305F29
A100: 기계구조용스테인리스강관 | B100: 기계구조용스테인리스강관, ∮101.6*1.5mm | C100: M | D100: 1.05 | E100: =단가대비표!O75 -> 22370 | F100: =TRUNC(E100*D100,1) -> 23488.5 | G100: =단가대비표!P75 -> 0 | H100: =TRUNC(G100*D100,1) -> 0 | I100: =단가대비표!V75 -> 0 | J100: =TRUNC(I100*D100,1) -> 0 | K100: =TRUNC(E100+G100+I100,1) -> 22370 | L100: =TRUNC(F100+H100+J100,1) -> 23488.5 | N100: 59E61573067DB16B3262309D305F29 | O100: 5EBA257971772E570222E0C893E74E6BEDFC53 | P100: F | Q100: F | R100: T | AW100: 59E61573067DB16B3262309D305F295EBA257971772E570222E0C893E74E6BEDFC53
A101: 일반철물 | B101: 일반철물, 선홈통지지철물, STS | C101: 개 | D101: 0.65 | E101: =단가대비표!O65 -> 3300 | F101: =TRUNC(E101*D101,1) -> 2145 | G101: =단가대비표!P65 -> 0 | H101: =TRUNC(G101*D101,1) -> 0 | I101: =단가대비표!V65 -> 0 | J101: =TRUNC(I101*D101,1) -> 0 | K101: =TRUNC(E101+G101+I101,1) -> 3300 | L101: =TRUNC(F101+H101+J101,1) -> 2145 | N101: 59E61573067DB16B3262309D305F29 | O101: 5EC485DA607D558492F27037EE2D4C149377D6 | P101: F | Q101: F | R101: T | AW101: 59E61573067DB16B3262309D305F295EC485DA607D558492F27037EE2D4C149377D6
A102: 금속 선홈통 설치 | B102: 지름 150mm, 두께 2mm 이하 기준 | C102: M | D102: 1 | E102: =일위대가목록!E67 -> 0 | F102: =TRUNC(E102*D102,1) -> 0 | G102: =일위대가목록!F67 -> 25870 | H102: =TRUNC(G102*D102,1) -> 25870 | I102: =일위대가목록!G67 -> 517 | J102: =TRUNC(I102*D102,1) -> 517 | K102: =TRUNC(E102+G102+I102,1) -> 26387 | L102: =TRUNC(F102+H102+J102,1) -> 26387 | M102: 호표 64 | N102: 59E61573067DB16B3262309D305F29 | O102: 59E6157303705CCDA2825095B767C8 | P102: T | Q102: F | R102: F | AW102: 59E61573067DB16B3262309D305F2959E6157303705CCDA2825095B767C8
A103: [ 합 계 ] | F103: =TRUNC(SUMIF(N100:N102, N99, F100:F102),0) -> 25633 | H103: =TRUNC(SUMIF(N100:N102, N99, H100:H102),0) -> 25870 | J103: =TRUNC(SUMIF(N100:N102, N99, J100:J102),0) -> 517 | L103: =F103+H103+J103 -> 52020 | N103: TOTAL | O103: TOTAL
A105: 금속 선홈통 설치 동판, 150*75*1.5T M ( 호표 12 ) | N105: 59E6157303705CCDA282408C98BD35
A106: 동판 | B106: 동판, 1.5t | C106: M2 | D106: 0.4725 | E106: =단가대비표!O24 -> 47611 | F106: =TRUNC(E106*D106,1) -> 22496.1 | G106: =단가대비표!P24 -> 0 | H106: =TRUNC(G106*D106,1) -> 0 | I106: =단가대비표!V24 -> 0 | J106: =TRUNC(I106*D106,1) -> 0 | K106: =TRUNC(E106+G106+I106,1) -> 47611 | L106: =TRUNC(F106+H106+J106,1) -> 22496.1 | N106: 59E6157303705CCDA282408C98BD35 | O106: 5EC495E30578E1BFF202E0142A9A65E1CA0DB7 | P106: F | Q106: F | R106: T | AW106: 59E6157303705CCDA282408C98BD355EC495E30578E1BFF202E0142A9A65E1CA0DB7
A107: 일반철물 | B107: 일반철물, 선홈통지지철물, 동 | C107: 개 | D107: 1.1 | E107: =단가대비표!O66 -> 0 | F107: =TRUNC(E107*D107,1) -> 0 | G107: =단가대비표!P66 -> 0 | H107: =TRUNC(G107*D107,1) -> 0 | I107: =단가대비표!V66 -> 0 | J107: =TRUNC(I107*D107,1) -> 0 | K107: =TRUNC(E107+G107+I107,1) -> 0 | L107: =TRUNC(F107+H107+J107,1) -> 0 | N107: 59E6157303705CCDA282408C98BD35 | O107: 5EC485DA607D558492F27037EE2D4C149377D1 | P107: F | Q107: F | R107: T | AW107: 59E6157303705CCDA282408C98BD355EC485DA607D558492F27037EE2D4C149377D1
A108: 금속 선홈통 설치 | B108: 지름 150mm, 두께 2mm 이하 기준 | C108: M | D108: 1 | E108: =일위대가목록!E67 -> 0 | F108: =TRUNC(E108*D108,1) -> 0 | G108: =일위대가목록!F67 -> 25870 | H108: =TRUNC(G108*D108,1) -> 25870 | I108: =일위대가목록!G67 -> 517 | J108: =TRUNC(I108*D108,1) -> 517 | K108: =TRUNC(E108+G108+I108,1) -> 26387 | L108: =TRUNC(F108+H108+J108,1) -> 26387 | M108: 호표 64 | N108: 59E6157303705CCDA282408C98BD35 | O108: 59E6157303705CCDA2825095B767C8 | P108: T | Q108: F | R108: F | AW108: 59E6157303705CCDA282408C98BD3559E6157303705CCDA2825095B767C8
A109: [ 합 계 ] | F109: =TRUNC(SUMIF(N106:N108, N105, F106:F108),0) -> 22496 | H109: =TRUNC(SUMIF(N106:N108, N105, H106:H108),0) -> 25870 | J109: =TRUNC(SUMIF(N106:N108, N105, J106:J108),0) -> 517 | L109: =F109+H109+J109 -> 48883 | N109: TOTAL | O109: TOTAL
A111: 스텐판 처마홈통 설치 150*1.5t(반원) M ( 호표 13 ) | N111: 59E61573067DB175B2A220ADA9ECAE
A112: 스테인리스강판 | B112: 스테인리스강판, STS304, 1.5mm | C112: kg | D112: 3.081 | E112: =단가대비표!O23 -> 3600 | F112: =TRUNC(E112*D112,1) -> 11091.6 | G112: =단가대비표!P23 -> 0 | H112: =TRUNC(G112*D112,1) -> 0 | I112: =단가대비표!V23 -> 0 | J112: =TRUNC(I112*D112,1) -> 0 | K112: =TRUNC(E112+G112+I112,1) -> 3600 | L112: =TRUNC(F112+H112+J112,1) -> 11091.6 | N112: 59E61573067DB175B2A220ADA9ECAE | O112: 5EC495E30578E1BFF2022067FCFF2F91CC8C92 | P112: F | Q112: F | R112: T | AW112: 59E61573067DB175B2A220ADA9ECAE5EC495E30578E1BFF2022067FCFF2F91CC8C92
...

Sheet 단가산출목록
B1: 단 가 산 출 목 록
B2: [ 이동초등학교 교사동(봉사관 환경개선공사) ]
A3: 코 드 | B3: 품 명 | C3: 규 격 | D3: 단위 | E3: 재 료 비 | F3: 노 무 비 | G3: 경 비 | H3: 합 계 | I3: 번 호 | J3: 비 고 | K3: START | L3: 품셈개요
A4: 59C115D8597A8A8EF2D240A9E40E11 | B4: 점토블록 포장 | C4: 60t | D4: M2 | E4: =단가산출서!B9 -> 45600 | F4: =단가산출서!C9 -> 16079 | G4: =단가산출서!D9 -> 0 | H4: =단가산출서!E9 -> 61679 | I4: 산근 1 | K4: 59C115D8597A8A8EF2D240A9E40E11
A5: 59C115D8597A8A8EF2D240A9E40E10 | B5: 화강석 클리링 | C5: 벽, 버너구이 | D5: M | E5: =단가산출서!B14 -> 316600 | F5: =단가산출서!C14 -> 0 | G5: =단가산출서!D14 -> 0 | H5: =단가산출서!E14 -> 316600 | I5: 산근 2 | K5: 59C115D8597A8A8EF2D240A9E40E10
A6: 59C115D7BD7CB2AF5202A025E09A81 | B6: 보도용 블록 재설치(소형) / B-TYPE | C6: 블록 정밀절단 / 0 .1㎡이하, 두께 8cm | D6: M2 | E6: =단가산출서!B58 -> 840 | F6: =단가산출서!C58 -> 13027 | G6: =단가산출서!D58 -> 1261 | H6: =단가산출서!E58 -> 15128 | I6: 산근 3 | K6: 59C115D7BD7CB2AF5202A025E09A81 | L6: 유지관리 토목 2-1-26

Sheet 단가산출서
A1: 단 가 산 출 서
A2: [ 이동초등학교 교사동(봉사관 환경개선공사) ]
A3: 산 출 내 역 | B3: 재 료 비 | C3: 노 무 비 | D3: 경 비 | E3: 합 계 | F3: 비 고 | G3: START | H3: 코드 | I3: 품명 | J3: 규격 | K3: 단위 | L3: 수량 | M3: 변수 | N3: 값 | O3: 소계 | P3: 소계 | Q3: 소계 | R3: 소계 | S3: 소계 | T3: 총계
A4: 점토블록 포장 60t M2 ( 산근 1 ) | G4: 59C115D8597A8A8EF2D240A9E40E11 | I4: 점토블록 포장 | J4: 60t | K4: M2
A5: '점토블록 60T EA | E5: 1200 | G5: 59C115D8597A8A8EF2D240A9E40E11 | H5: ZA00000000010048 | I5: 점토블록 | J5: 60T | K5: EA | L5: 38
A6: '보통인부 일반공사 직종 인 | E6: 172698 | G6: 59C115D8597A8A8EF2D240A9E40E11 | H6: L001010101000002 | I6: 보통인부 | J6: 일반공사 직종 | K6: 인 | L6: 0.015
A7: '타일공 일반공사 직종 인 | E7: 294379 | G7: 59C115D8597A8A8EF2D240A9E40E11 | H7: L001010101000028 | I7: 타일공 | J7: 일반공사 직종 | K7: 인 | L7: 0.035
A8: '줄눈공 일반공사 직종 인 | E8: 212390 | G8: 59C115D8597A8A8EF2D240A9E40E11 | H8: L001010101000034 | I8: 줄눈공 | J8: 일반공사 직종 | K8: 인 | L8: 0.015
A9: 총 계 | B9: 45600 | C9: 16079 | D9: 0 | E9: 61679
A11: 화강석 클리링 벽, 버너구이 M ( 산근 2 ) | G11: 59C115D8597A8A8EF2D240A9E40E10 | I11: 화강석 클리링 | J11: 벽, 버너구이 | K11: M
A12: '석재클리닝 M | E12: 200000 | G12: 59C115D8597A8A8EF2D240A9E40E10 | H12: ZA00000000000342 | I12: 석재클리닝 | K12: M | L12: 1
A13: '인건비 인 | E13: 200000 | G13: 59C115D8597A8A8EF2D240A9E40E10 | H13: ZA00000000000343 | I13: 인건비 | K13: 인 | L13: 0.583
A14: 총 계 | B14: 316600 | C14: 0 | D14: 0 | E14: 316600
A16: 보도용 블록 재설치(소형) / B-TYPE 블록 정밀절단 / 0 .1㎡이하, 두께 8cm M2 ( 산근 3 ) | G16: 59C115D7BD7CB2AF5202A025E09A81 | I16: 보도용 블록 재설치(소형) / B-TYPE | J16: 블록 정밀절단 / 0 .1㎡이하, 두께 8cm | K16: M2
G17: 59C115D7BD7CB2AF5202A025E09A81 | H17: C | L17: 1
A18: B-TYPE: 차도인접, 주택가 보도 / 블록 정밀절단 | B18: 0 | C18: 0 | D18: 0 | E18: 0 | G18: 59C115D7BD7CB2AF5202A025E09A81 | H18: C! | I18: 'B-TYPE: 차도인접, 주택가 보도 / 블록 정밀절단'
B19: 0 | C19: 0 | D19: 0 | E19: 0 | G19: 59C115D7BD7CB2AF5202A025E09A81 | H19: C!
A20: Q1 1일시공량(M2/일) =180 | B20: 0 | C20: 0 | D20: 0 | E20: 0 | G20: 59C115D7BD7CB2AF5202A025E09A81 | H20: C! | I20: q1'1일시공량(M2/일)' =180
A21: Q 시간당 작업량(M2/HR) =Q1/8= 22.5 | B21: 0 | C21: 0 | D21: 0 | E21: 0 | G21: 59C115D7BD7CB2AF5202A025E09A81 | H21: C! | I21: Q '시간당 작업량(M2/HR)' =q1/8=?
B22: 0 | C22: 0 | D22: 0 | E22: 0 | G22: 59C115D7BD7CB2AF5202A025E09A81 | H22: C!
A23: ◈배치인원 | B23: 0 | C23: 0 | D23: 0 | E23: 0 | G23: 59C115D7BD7CB2AF5202A025E09A81 | H23: C! | I23: '◈배치인원'
B24: 0 | C24: 0 | D24: 0 | E24: 0 | G24: 59C115D7BD7CB2AF5202A025E09A81 | H24: C!
A25: 1.인원 | B25: 0 | C25: 0 | D25: 0 | E25: 0 | G25: 59C115D7BD7CB2AF5202A025E09A81 | H25: C! | I25: '1.인원 '
A26: [1]=0, [2]=0, [3]=0 | B26: 0 | C26: 0 | D26: 0 | E26: 0 | G26: 59C115D7BD7CB2AF5202A025E09A81 | H26: C! | I26: [1]=0, [2]=0, [3]=0
A27: 포 장 공 2인/8HR*작업시간 | B27: 0 | C27: 0 | D27: 0 | E27: 0 | G27: 59C115D7BD7CB2AF5202A025E09A81 | H27: C! | I27: '포 장 공 2인/8HR*작업시간'
A28: 노무비: 274873*2/8/22.5 = 3054.1 | B28: 0 | C28: 3054.1 | D28: 0 | E28: 3054.1 | G28: 59C115D7BD7CB2AF5202A025E09A81 | H28: C! | I28: '노무비:' ~L001010101000019.L~*2/8/{Q} =?LA+:LA1
A29: 특별인부 2인/8HR*작업시간 | B29: 0 | C29: 0 | D29: 0 | E29: 0 | G29: 59C115D7BD7CB2AF5202A025E09A81 | H29: C! | I29: '특별인부 2인/8HR*작업시간'
A30: 노무비: 228717*2/8/22.5 = 2541.3 | B30: 0 | C30: 2541.3 | D30: 0 | E30: 2541.3 | G30: 59C115D7BD7CB2AF5202A025E09A81 | H30: C! | I30: '노무비:' ~L001010101000003.L~*2/8/{Q} =?LA+:LA2
A31: 보통인부 1인/8HR*작업시간 | B31: 0 | C31: 0 | D31: 0 | E31: 0 | G31: 59C115D7BD7CB2AF5202A025E09A81 | H31: C! | I31: '보통인부 1인/8HR*작업시간'
A32: 노무비: 172698*1/8/22.5 = 959.4 | B32: 0 | C32: 959.4 | D32: 0 | E32: 959.4 | G32: 59C115D7BD7CB2AF5202A025E09A81 | H32: C! | I32: '노무비:' ~L001010101000002.L~*1/8/{Q} =?LA+:LA3
A33: 소 계 | B33: 0 | C33: 6554.8 | D33: 0 | E33: 6554.8 | G33: 59C115D7BD7CB2AF5202A025E09A81 | H33: C! | I33: >'소 계'
B34: 0 | C34: 0 | D34: 0 | E34: 0 | G34: 59C115D7BD7CB2AF5202A025E09A81 | H34: C!
A35: ◈사용기계 | B35: 0 | C35: 0 | D35: 0 | E35: 0 | G35: 59C115D7BD7CB2AF5202A025E09A81 | H35: C! | I35: '◈사용기계 '
B36: 0 | C36: 0 | D36: 0 | E36: 0 | G36: 59C115D7BD7CB2AF5202A025E09A81 | H36: C!
A37: 2.굴삭기(무한궤도) 0.2㎥ | B37: 0 | C37: 0 | D37: 0 | E37: 0 | G37: 59C115D7BD7CB2AF5202A025E09A81 | H37: C! | I37: '2.굴삭기(무한궤도) 0.2㎥'
A38: 재료비: 10164 / 22.5 = 451.7 | B38: 451.7 | C38: 0 | D38: 0 | E38: 451.7 | G38: 59C115D7BD7CB2AF5202A025E09A81 | H38: C! | I38: '재료비:' ~00000201002000000.M~ / {Q} =?MA+
A39: 노무비: 59025 / 22.5 = 2623.3 | B39: 0 | C39: 2623.3 | D39: 0 | E39: 2623.3 | G39: 59C115D7BD7CB2AF5202A025E09A81 | H39: C! | I39: '노무비:' ~00000201002000000.L~ / {Q} =?LA+
A40: 경 비: 13873 / 22.5 = 616.5 | B40: 0 | C40: 0 | D40: 616.5 | E40: 616.5 | G40: 59C115D7BD7CB2AF5202A025E09A81 | H40: C! | I40: '경 비:' ~00000201002000000.E~ / {Q} =?EQ+
A41: 소 계 | B41: 451.7 | C41: 2623.3 | D41: 616.5 | E41: 3691.5 | G41: 59C115D7BD7CB2AF5202A025E09A81 | H41: C! | I41: >'소 계'
B42: 0 | C42: 0 | D42: 0 | E42: 0 | G42: 59C115D7BD7CB2AF5202A025E09A81 | H42: C!
A43: 3.플레이트콤팩타(1.5톤) | B43: 0 | C43: 0 | D43: 0 | E43: 0 | G43: 59C115D7BD7CB2AF5202A025E09A81 | H43: C! | I43: '3.플레이트콤팩타(1.5톤)'
A44: 재료비: 2034 / 22.5 = 90.4 | B44: 90.4 | C44: 0 | D44: 0 | E44: 90.4 | G44: 59C115D7BD7CB2AF5202A025E09A81 | H44: C! | I44: '재료비:' ~00001730001500000.M~ / {Q} =?MA+
A45: 노무비: 36604 / 22.5 = 1626.8 | B45: 0 | C45: 1626.8 | D45: 0 | E45: 1626.8 | G45: 59C115D7BD7CB2AF5202A025E09A81 | H45: C! | I45: '노무비:' ~00001730001500000.L~ / {Q} =?LA+
A46: 경 비: 620 / 22.5 = 27.5 | B46: 0 | C46: 0 | D46: 27.5 | E46: 27.5 | G46: 59C115D7BD7CB2AF5202A025E09A81 | H46: C! | I46: '경 비:' ~00001730001500000.E~ / {Q} =?EQ+
A47: 소 계 | B47: 90.4 | C47: 1626.8 | D47: 27.5 | E47: 1744.7 | G47: 59C115D7BD7CB2AF5202A025E09A81 | H47: C! | I47: >'소 계'
B48: 0 | C48: 0 | D48: 0 | E48: 0 | G48: 59C115D7BD7CB2AF5202A025E09A81 | H48: C!
A49: 4.덤프트럭(2.5TON/HR) | B49: 0 | C49: 0 | D49: 0 | E49: 0 | G49: 59C115D7BD7CB2AF5202A025E09A81 | H49: C! | I49: '4.덤프트럭(2.5ton/HR)'
A50: 재료비: 6723 / 22.5 = 298.8 | B50: 298.8 | C50: 0 | D50: 0 | E50: 298.8 | G50: 59C115D7BD7CB2AF5202A025E09A81 | H50: C! | I50: '재료비:' ~00000602002500000.M~ / {Q} =?MA
A51: 노무비: 50008 / 22.5 = 2222.5 | B51: 0 | C51: 2222.5 | D51: 0 | E51: 2222.5 | G51: 59C115D7BD7CB2AF5202A025E09A81 | H51: C! | I51: '노무비:' ~00000602002500000.L~ / {Q} =?LA
A52: 경 비: 6522 / 22.5 = 289.8 | B52: 0 | C52: 0 | D52: 289.8 | E52: 289.8 | G52: 59C115D7BD7CB2AF5202A025E09A81 | H52: C! | I52: '경 비:' ~00000602002500000.E~ / {Q} =?EQ
A53: 소 계 | B53: 298.8 | C53: 2222.5 | D53: 289.8 | E53: 2811.1 | G53: 59C115D7BD7CB2AF5202A025E09A81 | H53: C! | I53: >'소 계'
B54: 0 | C54: 0 | D54: 0 | E54: 0 | G54: 59C115D7BD7CB2AF5202A025E09A81 | H54: C!
A55: 5.공구손료 및 경장비의 기계경비(인력품의 5%): (3054.1+2541.3+959.4)*0.05= 327.7 | B55: 0 | C55: 0 | D55: 327.7 | E55: 327.7 | G55: 59C115D7BD7CB2AF5202A025E09A81 | H55: C! | I55: '5.공구손료 및 경장비의 기계경비(인력품의 5%):'({LA1}+{LA2}+{LA3})*0.05=?EQ+
A56: 소 계 | B56: 0 | C56: 0 | D56: 327.7 | E56: 327.7 | G56: 59C115D7BD7CB2AF5202A025E09A81 | H56: C! | I56: >'소 계'
B57: 0 | C57: 0 | D57: 0 | E57: 0 | G57: 59C115D7BD7CB2AF5202A025E09A81 | H57: C!
A58: 총 계 | B58: 840 | C58: 13027 | D58: 1261 | E58: 15128

Sheet 단가대비표
A1: 단 가 대 비 표
A2: [ 이동초등학교 교사동(봉사관 환경개선공사) ]
A3: 코 드 | B3: 품 명 | C3: 규격 | D3: 단위 | E3: 재 료 비 | P3: 노 무 비 | Q3: 경 비 | W3: 번 호 | X3: 비 고 | Y3: 품목구분 | Z3: 노임구분 | AA3: 소수점처리 | AB3: 자재구분
E4: 조달청가격 | F4: PAGE | G4: 거래가격 | H4: PAGE | I4: 유통물가 | J4: PAGE | K4: 물가자료 | L4: PAGE | M4: 물정/조사 | N4: PAGE | O4: 적용단가 | Q4: 조달청가격 | R4: 거래가격 | S4: 유통물가 | T4: 물가자료 | U4: 물정/조사 | V4: 적용단가
A5: 5EF1D541FF7A166AE202C02F882F62AB002C99 | B5: 굴착기(무한궤도) | C5: 0.2㎥ | D5: 대 | E5: 0 | G5: 0 | I5: 0 | K5: 0 | M5: 0 | O5: 0 | P5: 0 | Q5: 0 | R5: 0 | S5: 0 | T5: 0 | U5: 66538 | V5: =SMALL(Q5:U5,COUNTIF(Q5:U5,0)+1) -> 66538 | W5: 자재 1 | X5: 천원
A6: 5EF1D541FF7A1623326270901CF9506E9DB2E6 | B6: 덤프트럭 | C6: 2.5ton | D6: 대 | E6: 0 | G6: 0 | I6: 0 | K6: 0 | M6: 0 | O6: 0 | P6: 0 | Q6: 0 | R6: 0 | S6: 0 | T6: 0 | U6: 21982 | V6: =SMALL(Q6:U6,COUNTIF(Q6:U6,0)+1) -> 21982 | W6: 자재 2 | X6: 천원
A7: 5EF1D541FF7A05A39292508F7870F5CB9AF66C | B7: 플레이트 콤팩터 | C7: 1.5ton | D7: 대 | E7: 0 | G7: 0 | I7: 0 | K7: 0 | M7: 0 | O7: 0 | P7: 0 | Q7: 0 | R7: 0 | S7: 0 | T7: 0 | U7: 1673 | V7: =SMALL(Q7:U7,COUNTIF(Q7:U7,0)+1) -> 1673 | W7: 자재 3 | X7: 천원
A8: 5EF1D541FF7A313632A280DA36EC9FACB83446 | B8: 크레인(타이어) | C8: 10ton | D8: 대 | E8: 0 | G8: 0 | I8: 0 | K8: 0 | M8: 0 | O8: 0 | P8: 0 | Q8: 0 | R8: 0 | S8: 0 | T8: 0 | U8: 136400 | V8: =SMALL(Q8:U8,COUNTIF(Q8:U8,0)+1) -> 136400 | W8: 자재 4 | X8: 천원
A9: 5EF1D541FF7A313632A290E0019B7337E5BEF7 | B9: 트럭탑재형 크레인 | C9: 5ton | D9: 대 | E9: 0 | G9: 0 | I9: 0 | K9: 0 | M9: 0 | O9: 0 | P9: 0 | Q9: 0 | R9: 0 | S9: 0 | T9: 0 | U9: 42791 | V9: =SMALL(Q9:U9,COUNTIF(Q9:U9,0)+1) -> 42791 | W9: 자재 5 | X9: 천원
A10: 5EF1D541FF7A43A0E292408857CDF5E06D6AAF | B10: 소형브레이커(전기식) | C10: 1.5kw | D10: 대 | E10: 0 | G10: 0 | I10: 0 | K10: 0 | M10: 0 | O10: 0 | P10: 0 | Q10: 0 | R10: 0 | S10: 0 | T10: 0 | U10: 1375 | V10: =SMALL(Q10:U10,COUNTIF(Q10:U10,0)+1) -> 1375 | W10: 자재 6 | X10: 천원
A11: 5EE775FC8872A15452B2D087906F9CD4DF8C76 | B11: 모래 | C11: (별도) | D11: M3 | E11: 0 | G11: 0 | I11: 0 | K11: 0 | M11: 0 | O11: 0 | P11: 0 | Q11: 0 | R11: 0 | S11: 0 | T11: 0 | U11: 0 | V11: 0 | W11: 자재 7 | X11: 별도
A12: 5EE775FC8872A15452B2D087906F9CD4DF8B69 | B12: 모래 | D12: M3 | E12: 0 | G12: 0 | I12: 0 | K12: 47000 | L12: 62 | M12: 0 | O12: =SMALL(E12:M12,COUNTIF(E12:M12,0)+1) -> 47000 | P12: 0 | Q12: 0 | R12: 0 | S12: 0 | T12: 0 | U12: 0 | V12: 0 | W12: 자재 8
A13: 5EE775FC807D47F3823250F4A293FB1C878BEF | B13: 철강설 | C13: 철강설, 고철, 작업설부산물 | D13: kg | E13: 251 | G13: 410 | H13: 1472 | I13: 448 | J13: 1198 | K13: 0 | M13: 0 | O13: =SMALL(E13:M13,COUNTIF(E13:M13,0)+1) -> 251 | P13: 0 | Q13: 0 | R13: 0 | S13: 0 | T13: 0 | U13: 0 | V13: 0 | W13: 자재 9 | X13: 수집상차도
A14: 5EE775FC807D47F3823250F4A293FB1C878AC6 | B14: 철강설 | C14: 철강설, 스텐레스, 철거부산물 | D14: kg | E14: 1425 | G14: 2000 | H14: 1472 | I14: 2000 | J14: 1198 | K14: 0 | M14: 0 | O14: =SMALL(E14:M14,COUNTIF(E14:M14,0)+1) -> 1425 | P14: 0 | Q14: 0 | R14: 0 | S14: 0 | T14: 0 | U14: 0 | V14: 0 | W14: 자재 10 | X14: 수집상차도
A15: 5EE775FC807D47F3823250F4A293FB1C878921 | B15: 철강설 | C15: 철강설, 동판, 철거부산물 | D15: kg | E15: 10450 | G15: 16950 | H15: 1472 | I15: 19550 | J15: 1198 | K15: 0 | M15: 0 | O15: =SMALL(E15:M15,COUNTIF(E15:M15,0)+1) -> 10450 | P15: 0 | Q15: 0 | R15: 0 | S15: 0 | T15: 0 | U15: 0 | V15: 0 | W15: 자재 11 | X15: 수집상차도
A16: 5EE775FC807D47F3823250F4A3BF1832A652B4 | B16: 철강설 | C16: 철강설, 알루미늄, 철거부산물 | D16: kg | E16: 1852.5 | G16: 2450 | H16: 1472 | I16: 4050 | J16: 1198 | K16: 0 | M16: 0 | O16: =SMALL(E16:M16,COUNTIF(E16:M16,0)+1) -> 1852.5 | P16: 0 | Q16: 0 | R16: 0 | S16: 0 | T16: 0 | U16: 0 | V16: 0 | W16: 자재 12 | X16: 수집상차도
A17: 5EE73503707083E3A232A0647E44AF62E4596F | B17: 경유 | C17: 경유, 저유황 | D17: L | E17: 0 | G17: 1708.18 | H17: 1451 | I17: 1680 | J17: 1189 | K17: 0 | M17: 0 | O17: =SMALL(E17:M17,COUNTIF(E17:M17,0)+1) -> 1680 | P17: 0 | Q17: 0 | R17: 0 | S17: 0 | T17: 0 | U17: 0 | V17: 0 | W17: 자재 13
A18: 5EE73503707083E3A232905D0C6D33BBA5B8CB | B18: 공업용휘발유 | C18: 공업용휘발유, 무연 | D18: L | E18: 0 | G18: 1711.81 | H18: 1451 | I18: 1695.45 | J18: 1189 | K18: 0 | M18: 0 | O18: =SMALL(E18:M18,COUNTIF(E18:M18,0)+1) -> 1695.45 | P18: 0 | Q18: 0 | R18: 0 | S18: 0 | T18: 0 | U18: 0 | V18: 0 | W18: 자재 14
A19: 5ED6B50B6C7FA0FB5242108C925FDC072CAF61 | B19: 안전발판 | C19: 400×1829(1817) | D19: 매 | E19: 0 | G19: 26200 | H19: 167 | I19: 0 | K19: 24500 | L19: 108 | M19: 0 | O19: =SMALL(E19:M19,COUNTIF(E19:M19,0)+1) -> 24500 | P19: 0 | Q19: 0 | R19: 0 | S19: 0 | T19: 0 | U19: 0 | V19: 0 | W19: 자재 15
A20: 5EC495E30578D77CA26200BE9C0D7DC26D4FE7 | B20: ㄱ형강 | C20: ㄱ형강, 등변, 25*25*3mm | D20: kg | E20: 1010 | G20: 1370 | H20: 55 | I20: 1150 | J20: 21 | K20: 0 | M20: 0 | O20: =SMALL(E20:M20,COUNTIF(E20:M20,0)+1) -> 1010 | P20: 0 | Q20: 0 | R20: 0 | S20: 0 | T20: 0 | U20: 0 | V20: 0 | W20: 자재 16
A21: 5EC495E30578D77CA26200BE9C0D7DC26CBE2F | B21: ㄱ형강 | C21: ㄱ형강, 등변, 100*100*7mm | D21: kg | E21: 940 | G21: 1150 | H21: 55 | I21: 1150 | J21: 21 | K21: 0 | M21: 0 | O21: =SMALL(E21:M21,COUNTIF(E21:M21,0)+1) -> 940 | P21: 0 | Q21: 0 | R21: 0 | S21: 0 | T21: 0 | U21: 0 | V21: 0 | W21: 자재 17
A22: 5EC495E30578E1BFF202300E66CD62BEBE77D0 | B22: 일반구조용압연강판 | C22: 일반구조용압연강판, 1.2mm | D22: kg | E22: 0 | G22: 1055.6 | H22: 62 | I22: 0 | K22: 0 | M22: 0 | O22: =SMALL(E22:M22,COUNTIF(E22:M22,0)+1) -> 1055.6 | P22: 0 | Q22: 0 | R22: 0 | S22: 0 | T22: 0 | U22: 0 | V22: 0 | W22: 자재 18
A23: 5EC495E30578E1BFF2022067FCFF2F91CC8C92 | B23: 스테인리스강판 | C23: 스테인리스강판, STS304, 1.5mm | D23: kg | E23: 3600 | G23: 4200 | H23: 73 | I23: 4595 | J23: 36 | K23: 0 | M23: 0 | O23: =SMALL(E23:M23,COUNTIF(E23:M23,0)+1) -> 3600 | P23: 0 | Q23: 0 | R23: 0 | S23: 0 | T23: 0 | U23: 0 | V23: 0 | W23: 자재 19
A24: 5EC495E30578E1BFF202E0142A9A65E1CA0DB7 | B24: 동판 | C24: 동판, 1.5t | D24: M2 | E24: 0 | G24: 0 | I24: 0 | K24: 47611 | L24: 41 | M24: 0 | O24: =SMALL(E24:M24,COUNTIF(E24:M24,0)+1) -> 47611 | P24: 0 | Q24: 0 | R24: 0 | S24: 0 | T24: 0 | U24: 0 | V24: 0 | W24: 자재 20
A25: 5EC495E3047E4DC292A2E074CACE9F53DF4CC7 | B25: 시멘트 | C25: 시멘트(별도) | D25: kg | E25: 0 | G25: 0 | I25: 0 | K25: 0 | M25: 0 | O25: 0 | P25: 0 | Q25: 0 | R25: 0 | S25: 0 | T25: 0 | U25: 0 | V25: 0 | W25: 자재 21 | X25: 별도
A26: 5EC495E3047E4DC292A2E074CACE9F53DF4CC2 | B26: 시멘트 | C26: 대리점 | D26: 포 | E26: 0 | G26: 6727.27 | H26: 102 | I26: 7454.54 | J26: 62 | K26: 0 | M26: 0 | O26: =SMALL(E26:M26,COUNTIF(E26:M26,0)+1) -> 6727.27 | P26: 0 | Q26: 0 | R26: 0 | S26: 0 | T26: 0 | U26: 0 | V26: 0 | W26: 자재 22
A27: 5EC495E3067935A59272D0E88140F7B89D220E | B27: 자연석판석 | C27: 자연석판석, 물갈기, 30mm, 포천석판재 | D27: M2 | E27: 0 | G27: 58500 | H27: 561 | I27: 0 | K27: 0 | M27: 0 | O27: =SMALL(E27:M27,COUNTIF(E27:M27,0)+1) -> 58500 | P27: 0 | Q27: 0 | R27: 0 | S27: 0 | T27: 0 | U27: 0 | V27: 0 | W27: 자재 23
A28: 5EC495E3067935A59272D0E88140F7B89D2D12 | B28: 화강석(원석) | C28: 포천석 30㎜ (물갈기마감:연마) | D28: M3 | E28: 0 | G28: 0 | I28: 0 | K28: 360000 | L28: 457 | M28: 0 | O28: =SMALL(E28:M28,COUNTIF(E28:M28,0)+1) -> 360000 | P28: 0 | Q28: 0 | R28: 0 | S28: 0 | T28: 0 | U28: 0 | V28: 0 | W28: 자재 24
A29: 5EC495E301710B8B62B2A0E76BC7AB8F944CBC | B29: 우레탄폼 | C29: 주입용 | D29: M3 | E29: 0 | G29: 0 | I29: 0 | K29: 330000 | L29: 652 | M29: 0 | O29: =SMALL(E29:M29,COUNTIF(E29:M29,0)+1) -> 330000 | P29: 0 | Q29: 0 | R29: 0 | S29: 0 | T29: 0 | U29: 0 | V29: 0 | W29: 자재 25
A30: 5EC495E301710B8B724210B56E4B3B45C008FA | B30: 보안방범필름 | C30: SH7CLARL, 7mil. 투명 비산방지 안전필름 | D30: M2 | E30: 0 | G30: 0 | I30: 0 | K30: 0 | M30: 7217 | N30: 데코리코 | O30: =SMALL(E30:M30,COUNTIF(E30:M30,0)+1) -> 7217 | P30: 0 | Q30: 0 | R30: 0 | S30: 0 | T30: 0 | U30: 0 | V30: 0 | W30: 자재 26
A31: 5EC495E30070B7186242B05A3C41D9CFB9FBA7 | B31: 알루미늄 복합패널 시공비 | D31: M2 | E31: 0 | G31: 0 | I31: 0 | K31: 0 | M31: 95570 | N31: 대진산업건설 | O31: =SMALL(E31:M31,COUNTIF(E31:M31,0)+1) -> 95570 | P31: 0 | Q31: 0 | R31: 0 | S31: 0 | T31: 0 | U31: 0 | V31: 0 | W31: 자재 27
A32: 5EC495E30070B7186242B05A3C41D9CFB9FBA4 | B32: 알루미늄 복합패널[관급] | C32: 평판 T=4 불소수지(불연) | D32: M2 | E32: 0 | G32: 0 | I32: 0 | K32: 0 | M32: 0 | O32: 0 | P32: 0 | Q32: 0 | R32: 0 | S32: 0 | T32: 0 | U32: 0 | V32: 0 | W32: 자재 28
A33: 5EC495E30070B7186242B05A3C41D9CFB9FBA5 | B33: 알루미늄 복합패널[관급] | C33: 평판 T=4 불소수지(불연) | D33: M2 | E33: 80100 | G33: 0 | I33: 0 | K33: 0 | M33: 0 | O33: =SMALL(E33:M33,COUNTIF(E33:M33,0)+1) -> 80100 | P33: 0 | Q33: 0 | R33: 0 | S33: 0 | T33: 0 | U33: 0 | V33: 0 | W33: 자재 29 | X33: [25184452]
A34: 5EC495E30070B718F2A2F053EF24A404F90D50 | B34: 합성고분자방수시트 | C34: 합성고분자방수시트, 몰터플러스, 자착, 3.0mm | D34: M2 | E34: 0 | G34: 17500 | H34: 585 | I34: 0 | K34: 0 | M34: 0 | O34: =SMALL(E34:M34,COUNTIF(E34:M34,0)+1) -> 17500 | P34: 0 | Q34: 0 | R34: 0 | S34: 0 | T34: 0 | U34: 0 | V34: 0 | W34: 자재 30
A35: 5EC495E3037DF934B2C2A055728B7C434F9F47 | B35: 석고보드 | C35: 석고보드, 평보드, 방화, 12.5*900*1800mm(㎡) | D35: M2 | E35: 5246 | G35: 5246.91 | H35: 671 | I35: 5925.92 | J35: 408 | K35: 0 | M35: 0 | O35: =SMALL(E35:M35,COUNTIF(E35:M35,0)+1) -> 5246 | P35: 0 | Q35: 0 | R35: 0 | S35: 0 | T35: 0 | U35: 0 | V35: 0 | W35: 자재 31
A36: 5EC495E3037DF934B2C2A055728B7C434F9ACF | B36: 석고보드 | C36: 석고보드, 평보드, 방수, 12.5*900*1800mm(㎡) | D36: M2 | E36: 6851 | G36: 6851.85 | H36: 671 | I36: 7839.5 | J36: 408 | K36: 0 | M36: 0 | O36: =SMALL(E36:M36,COUNTIF(E36:M36,0)+1) -> 6851 | P36: 0 | Q36: 0 | R36: 0 | S36: 0 | T36: 0 | U36: 0 | V36: 0 | W36: 자재 32
A37: 5EC495E3037DF90F7282006429E22A73961831 | B37: 소방관진입창 스티커 | C37: 빛반사 양면 | D37: 개 | E37: 0 | G37: 0 | I37: 0 | K37: 0 | M37: 5300 | N37: 한국안전기업 | O37: =SMALL(E37:M37,COUNTIF(E37:M37,0)+1) -> 5300 | P37: 0 | Q37: 0 | R37: 0 | S37: 0 | T37: 0 | U37: 0 | V37: 0 | W37: 자재 33
A38: 5EC495E302736A72E25280313C831D8F520903 | B38: 로이삼중유리 43mm(5LE,SKN154+14AR+5+14AR+5LE,SKN154) | C38: 더블로이(반강화)+아르곤가스+투명 | D38: M2 | E38: 0 | G38: 0 | I38: 0 | K38: 187900 | L38: 585 | M38: 0 | O38: =SMALL(E38:M38,COUNTIF(E38:M38,0)+1) -> 187900 | P38: 0 | Q38: 0 | R38: 0 | S38: 0 | T38: 0 | U38: 0 | V38: 0 | W38: 자재 34
A39: 5EC495E302736A72E25280313C831D8F520901 | B39: 로이삼중유리 39mm(5LE,MZT152+12AR+5+12AR+5LE,MZT152),SWS | C39: 더블로이(반강화)+아르곤가스+투명 | D39: M2 | E39: 0 | G39: 0 | I39: 0 | K39: 171800 | L39: 584 | M39: 0 | O39: =SMALL(E39:M39,COUNTIF(E39:M39,0)+1) -> 171800 | P39: 0 | Q39: 0 | R39: 0 | S39: 0 | T39: 0 | U39: 0 | V39: 0 | W39: 자재 35
A40: 5EC495E302736A72E25280313C831D8F520900 | B40: 로이삼중유리 43mm(5LE,MZT152+14AR+5+14AR+5LE,MZT152),SWS | C40: 더블로이(반강화)+아르곤가스+투명 | D40: M2 | E40: 0 | G40: 0 | I40: 0 | K40: 187900 | L40: 584 | M40: 0 | O40: =SMALL(E40:M40,COUNTIF(E40:M40,0)+1) -> 187900 | P40: 0 | Q40: 0 | R40: 0 | S40: 0 | T40: 0 | U40: 0 | V40: 0 | W40: 자재 36
A41: 5EC495E302736A72E25280313C831D8F520905 | B41: 로이복층유리 24mm(5LE,MZT152+14AR+5) | C41: 더불로이+아르곤(SWS-단열간봉)+투명 | D41: M2 | E41: 0 | G41: 0 | I41: 0 | K41: 88800 | L41: 584 | M41: 0 | O41: =SMALL(E41:M41,COUNTIF(E41:M41,0)+1) -> 88800 | P41: 0 | Q41: 0 | R41: 0 | S41: 0 | T41: 0 | U41: 0 | V41: 0 | W41: 자재 37
A42: 5EC495E30C73AF1CF2B280CFE6FD674CBF4EE4 | B42: 강관비계 | C42: 강관비계, 비계파이프, 48.6*2.3mm | D42: M | E42: 3929 | G42: 3950 | H42: 167 | I42: 0 | K42: 0 | M42: 0 | O42: =SMALL(E42:M42,COUNTIF(E42:M42,0)+1) -> 3929 | P42: 0 | Q42: 0 | R42: 0 | S42: 0 | T42: 0 | U42: 0 | V42: 0 | W42: 자재 38
A43: 5EC495E30C73AF1CF2B280CFE6FD674CBEA2FB | B43: 강관비계 부속철물 | C43: 이음철물, 연결핀 | D43: 개 | E43: 0 | G43: 1400 | H43: 167 | I43: 2000 | J43: 82 | K43: 0 | M43: 0 | O43: =SMALL(E43:M43,COUNTIF(E43:M43,0)+1) -> 1400 | P43: 0 | Q43: 0 | R43: 0 | S43: 0 | T43: 0 | U43: 0 | V43: 0 | W43: 자재 39
A44: 5EC495E30C73AF1CF2B280CFE6FD674CBEA2FF | B44: 강관비계 부속철물 | C44: 앙카용철물 | D44: 개 | E44: 0 | G44: 0 | I44: 0 | K44: 0 | M44: 900 | O44: =SMALL(E44:M44,COUNTIF(E44:M44,0)+1) -> 900 | P44: 0 | Q44: 0 | R44: 0 | S44: 0 | T44: 0 | U44: 0 | V44: 0 | W44: 자재 40
A45: 5EC495E30C73AF1CF2B280CFE6FD674CBEA2FC | B45: 강관비계 부속철물 | C45: 클램프 고정, 자동 | D45: 개 | E45: 0 | G45: 1590 | H45: 167 | I45: 2300 | J45: 82 | K45: 0 | M45: 0 | O45: =SMALL(E45:M45,COUNTIF(E45:M45,0)+1) -> 1590 | P45: 0 | Q45: 0 | R45: 0 | S45: 0 | T45: 0 | U45: 0 | V45: 0 | W45: 자재 41
A46: 5EC495E30C73AF2D52827054ACF137C316B313 | B46: 비계안정장치 | C46: 비계안정장치, 비계기본틀, 기둥, 1.2*1.7m | D46: 개 | E46: 27739 | G46: 0 | I46: 0 | K46: 0 | M46: 0 | O46: =SMALL(E46:M46,COUNTIF(E46:M46,0)+1) -> 27739 | P46: 0 | Q46: 0 | R46: 0 | S46: 0 | T46: 0 | U46: 0 | V46: 0 | W46: 자재 42
A47: 5EC495E30C73AF2D52827054ACF137C316B31D | B47: 비계안정장치 | C47: 비계안정장치, 가새, 1.2*1.9m | D47: 개 | E47: 9246 | G47: 10000 | H47: 167 | I47: 0 | K47: 0 | M47: 0 | O47: =SMALL(E47:M47,COUNTIF(E47:M47,0)+1) -> 9246 | P47: 0 | Q47: 0 | R47: 0 | S47: 0 | T47: 0 | U47: 0 | V47: 0 | W47: 자재 43
A48: 5EC495E30C73AF2D52827054ACF137C316BC73 | B48: 비계안정장치 | C48: 비계안정장치, 수평띠장, 1829mm | D48: 개 | E48: 0 | G48: 25000 | H48: 167 | I48: 0 | K48: 0 | M48: 0 | O48: =SMALL(E48:M48,COUNTIF(E48:M48,0)+1) -> 25000 | P48: 0 | Q48: 0 | R48: 0 | S48: 0 | T48: 0 | U48: 0 | V48: 0 | W48: 자재 44
A49: 5EC495E30C73AF2D52827054ACF137C316BC72 | B49: 비계안정장치 | C49: 비계안정장치, 손잡이, 1229mm | D49: 개 | E49: 0 | G49: 6000 | H49: 166 | I49: 0 | K49: 0 | M49: 0 | O49: =SMALL(E49:M49,COUNTIF(E49:M49,0)+1) -> 6000 | P49: 0 | Q49: 0 | R49: 0 | S49: 0 | T49: 0 | U49: 0 | V49: 0 | W49: 자재 45
A50: 5EC495E30C73AF2D52827054ACF137C316BC75 | B50: 비계안정장치 | C50: 비계안정장치, 손잡이, 1829mm | D50: 개 | E50: 0 | G50: 8000 | H50: 166 | I50: 0 | K50: 0 | M50: 0 | O50: =SMALL(E50:M50,COUNTIF(E50:M50,0)+1) -> 8000 | P50: 0 | Q50: 0 | R50: 0 | S50: 0 | T50: 0 | U50: 0 | V50: 0 | W50: 자재 46
A51: 5EC495E30C73AF2D52827054ACF137C316BC74 | B51: 비계안정장치 | C51: 비계안정장치, 손잡이기둥 | D51: 개 | E51: 0 | G51: 25000 | H51: 166 | I51: 0 | K51: 0 | M51: 0 | O51: =SMALL(E51:M51,COUNTIF(E51:M51,0)+1) -> 25000 | P51: 0 | Q51: 0 | R51: 0 | S51: 0 | T51: 0 | U51: 0 | V51: 0 | W51: 자재 47
A52: 5EC495E30C73AF2D52827054ACF137C316BC77 | B52: 비계안정장치 | C52: 비계안정장치, 바퀴 | D52: 개 | E52: 0 | G52: 9500 | H52: 167 | I52: 0 | K52: 0 | M52: 0 | O52: =SMALL(E52:M52,COUNTIF(E52:M52,0)+1) -> 9500 | P52: 0 | Q52: 0 | R52: 0 | S52: 0 | T52: 0 | U52: 0 | V52: 0 | W52: 자재 48
A53: 5EC495E30C73AF2D52827054ACF137C316BC76 | B53: 비계안정장치 | C53: 비계안정장치, 쟈키 | D53: 개 | E53: 0 | G53: 11000 | H53: 167 | I53: 0 | K53: 0 | M53: 0 | O53: =SMALL(E53:M53,COUNTIF(E53:M53,0)+1) -> 11000 | P53: 0 | Q53: 0 | R53: 0 | S53: 0 | T53: 0 | U53: 0 | V53: 0 | W53: 자재 49
A54: 5EC495E30C73AF2D52827054AEBD9A85132D46 | B54: 비계안정장치 | C54: 비계안정장치, 발판, 500*1829mm | D54: 개 | E54: 0 | G54: 25000 | H54: 172 | I54: 0 | K54: 0 | M54: 0 | O54: =SMALL(E54:M54,COUNTIF(E54:M54,0)+1) -> 25000 | P54: 0 | Q54: 0 | R54: 0 | S54: 0 | T54: 0 | U54: 0 | V54: 0 | W54: 자재 50
A55: 5EC495E30C73AF2D528230F97BD352104D26AC | B55: 조립식 가설울타리 부재 | C55: EGI철판, 530*2400 | D55: 매 | E55: 16583 | G55: 16700 | H55: 166 | I55: 0 | K55: 0 | M55: 0 | O55: =SMALL(E55:M55,COUNTIF(E55:M55,0)+1) -> 16583 | P55: 0 | Q55: 0 | R55: 0 | S55: 0 | T55: 0 | U55: 0 | V55: 0 | W55: 자재 51
A56: 5EC495E30C73AF2D528230F97BD352104D2233 | B56: 조립식 가설울타리 부재 | C56: 볼트/넛트 | D56: 개 | E56: 0 | G56: 350 | H56: 167 | I56: 0 | K56: 0 | M56: 508 | O56: =SMALL(E56:M56,COUNTIF(E56:M56,0)+1) -> 350 | P56: 0 | Q56: 0 | R56: 0 | S56: 0 | T56: 0 | U56: 0 | V56: 0 | W56: 자재 52
A57: 5EC495E30C732B79A2A240A1AC2AB6EDD7C5B8 | B57: 시스템비계-수직재 | C57: S-38(3800mm) | D57: 개 | E57: 0 | G57: 0 | I57: 0 | K57: 39000 | L57: 108 | M57: 0 | O57: =SMALL(E57:M57,COUNTIF(E57:M57,0)+1) -> 39000 | P57: 0 | Q57: 0 | R57: 0 | S57: 0 | T57: 0 | U57: 0 | V57: 0 | W57: 자재 53
A58: 5EC495E30C732B79A2A240A1AC2AB6EDD7C65C | B58: 시스템비계-수평재 | C58: L-06(610mm) | D58: 개 | E58: 0 | G58: 0 | I58: 0 | K58: 8300 | L58: 108 | M58: 0 | O58: =SMALL(E58:M58,COUNTIF(E58:M58,0)+1) -> 8300 | P58: 0 | Q58: 0 | R58: 0 | S58: 0 | T58: 0 | U58: 0 | V58: 0 | W58: 자재 54
A59: 5EC495E30C732B79A2A240A1AC2AB6EDD7C658 | B59: 시스템비계-수평재 | C59: L-18(1829MM) | D59: 개 | E59: 0 | G59: 0 | I59: 0 | K59: 13500 | L59: 108 | M59: 0 | O59: =SMALL(E59:M59,COUNTIF(E59:M59,0)+1) -> 13500 | P59: 0 | Q59: 0 | R59: 0 | S59: 0 | T59: 0 | U59: 0 | V59: 0 | W59: 자재 55
A60: 5EC495E30C732B79A2A240A1AC2AB6EDD7C764 | B60: 시스템비계-대각재 | C60: B-1918(2484mm) | D60: 개 | E60: 0 | G60: 0 | I60: 0 | K60: 19600 | L60: 108 | M60: 0 | O60: =SMALL(E60:M60,COUNTIF(E60:M60,0)+1) -> 19600 | P60: 0 | Q60: 0 | R60: 0 | S60: 0 | T60: 0 | U60: 0 | V60: 0 | W60: 자재 56
A61: 5EC495E30C732B79A2A240A1AC2AB6EDD7C034 | B61: 시스템비계-난간대 | C61: HL-06(610mm) | D61: 개 | E61: 0 | G61: 5500 | H61: 167 | I61: 0 | K61: 0 | M61: 0 | O61: =SMALL(E61:M61,COUNTIF(E61:M61,0)+1) -> 5500 | P61: 0 | Q61: 0 | R61: 0 | S61: 0 | T61: 0 | U61: 0 | V61: 0 | W61: 자재 57
A62: 5EC495E30C732B79A2A240A1AC2AB6EDD7C033 | B62: 시스템비계-난간대 | C62: HL-18(1829mm) | D62: 개 | E62: 0 | G62: 10000 | H62: 167 | I62: 0 | K62: 0 | M62: 0 | O62: =SMALL(E62:M62,COUNTIF(E62:M62,0)+1) -> 10000 | P62: 0 | Q62: 0 | R62: 0 | S62: 0 | T62: 0 | U62: 0 | V62: 0 | W62: 자재 58
A63: 5EC495E30C732B79A2A240A1AC2AB6EDD7C1DC | B63: 시스템비계-받침철물(쟈키베이스) | C63: ￠34*600mm | D63: 개 | E63: 0 | G63: 0 | I63: 0 | K63: 8700 | L63: 108 | M63: 0 | O63: =SMALL(E63:M63,COUNTIF(E63:M63,0)+1) -> 8700 | P63: 0 | Q63: 0 | R63: 0 | S63: 0 | T63: 0 | U63: 0 | V63: 0 | W63: 자재 59
A64: 5EC495E0B27524EF8212F079EBE7660EC58805 | B64: 컨테이너하우스 | C64: 컨테이너하우스, 사무실용, 3.0*6.0*2.6m | D64: 개 | E64: 3204160 | G64: 3400000 | H64: 749 | I64: 0 | K64: 0 | M64: 0 | O64: =SMALL(E64:M64,COUNTIF(E64:M64,0)+1) -> 3204160 | P64: 0 | Q64: 0 | R64: 0 | S64: 0 | T64: 0 | U64: 0 | V64: 0 | W64: 자재 60
A65: 5EC485DA607D558492F27037EE2D4C149377D6 | B65: 일반철물 | C65: 일반철물, 선홈통지지철물, STS | D65: 개 | E65: 0 | G65: 0 | I65: 0 | K65: 0 | M65: 3300 | O65: =SMALL(E65:M65,COUNTIF(E65:M65,0)+1) -> 3300 | P65: 0 | Q65: 0 | R65: 0 | S65: 0 | T65: 0 | U65: 0 | V65: 0 | W65: 자재 61
A66: 5EC485DA607D558492F27037EE2D4C149377D1 | B66: 일반철물 | C66: 일반철물, 선홈통지지철물, 동 | D66: 개 | E66: 0 | G66: 0 | I66: 0 | K66: 0 | M66: 0 | O66: 0 | P66: 0 | Q66: 0 | R66: 0 | S66: 0 | T66: 0 | U66: 0 | V66: 0 | W66: 자재 62
A67: 5EC485D95F70C58C023290A4C54A82B5E63FE2 | B67: 초산비닐계접착제 | C67: 초산비닐계접착제, 스치로폴, 암면 | D67: kg | E67: 2540 | G67: 2800 | H67: 146 | I67: 0 | K67: 0 | M67: 0 | O67: =SMALL(E67:M67,COUNTIF(E67:M67,0)+1) -> 2540 | P67: 0 | Q67: 0 | R67: 0 | S67: 0 | T67: 0 | U67: 0 | V67: 0 | W67: 자재 63
A68: 5EC485D95E766FFED20200BE9C6B93C0AC7241 | B68: 방청페인트 | C68: 방청페인트, KSM6030-1종1류, 광명단페인트 | D68: L | E68: 11211 | G68: 10000 | H68: 614 | I68: 0 | K68: 0 | M68: 0 | O68: =SMALL(E68:M68,COUNTIF(E68:M68,0)+1) -> 10000 | P68: 0 | Q68: 0 | R68: 0 | S68: 0 | T68: 0 | U68: 0 | V68: 0 | W68: 자재 64
A69: 5EC485D95E766FFED20200BE9C6B93C0AC7240 | B69: 방청페인트 | C69: 방청페인트, KSM6030-1종2류, 광명단페인트 | D69: L | E69: 8400 | G69: 0 | I69: 0 | K69: 0 | M69: 0 | O69: =SMALL(E69:M69,COUNTIF(E69:M69,0)+1) -> 8400 | P69: 0 | Q69: 0 | R69: 0 | S69: 0 | T69: 0 | U69: 0 | V69: 0 | W69: 자재 65
A70: 5EC485D95E766FFED202401556DD4BC80A1FD0 | B70: 조합페인트 | C70: 조합페인트, KSM6020-1종1급, 백색 | D70: L | E70: 6066 | G70: 12666.66 | H70: 615 | I70: 0 | K70: 0 | M70: 0 | O70: =SMALL(E70:M70,COUNTIF(E70:M70,0)+1) -> 6066 | P70: 0 | Q70: 0 | R70: 0 | S70: 0 | T70: 0 | U70: 0 | V70: 0 | W70: 자재 66
A71: 5EC485D95E766FD36282803C725427CEF75737 | B71: 실링재 | C71: 실링재, 실리콘, 비초산, 유리용, 창호주위 | D71: L | E71: 10371 | G71: 18518.51 | H71: 607 | I71: 0 | K71: 0 | M71: 0 | O71: =SMALL(E71:M71,COUNTIF(E71:M71,0)+1) -> 10371 | P71: 0 | Q71: 0 | R71: 0 | S71: 0 | T71: 0 | U71: 0 | V71: 0 | W71: 자재 67
A72: 5EC485D95E766F22C262E0E505814FF3F99BFF | B72: 시너 | C72: 시너, KSM6060, 1종 | D72: L | E72: 0 | G72: 3494.44 | H72: 614 | I72: 4466.66 | J72: 466 | K72: 0 | M72: 0 | O72: =SMALL(E72:M72,COUNTIF(E72:M72,0)+1) -> 3494.44 | P72: 0 | Q72: 0 | R72: 0 | S72: 0 | T72: 0 | U72: 0 | V72: 0 | W72: 자재 68
A73: 5EC485D95E766F22C262E0E505814FF3F99BFE | B73: 시너 | C73: 시너, KSM6060, 2종 | D73: L | E73: 0 | G73: 3583.33 | H73: 614 | I73: 4666.66 | J73: 466 | K73: 0 | M73: 0 | O73: =SMALL(E73:M73,COUNTIF(E73:M73,0)+1) -> 3583.33 | P73: 0 | Q73: 0 | R73: 0 | S73: 0 | T73: 0 | U73: 0 | V73: 0 | W73: 자재 69
A74: 5EBA257971772E57022200696C75F25CE7E3E0 | B74: 아연도각관 | C74: 100*100*t3.2mm, 9.520kg/m | D74: M | E74: 0 | G74: 15160 | H74: 70 | I74: 0 | K74: 0 | M74: 0 | O74: =SMALL(E74:M74,COUNTIF(E74:M74,0)+1) -> 15160 | P74: 0 | Q74: 0 | R74: 0 | S74: 0 | T74: 0 | U74: 0 | V74: 0 | W74: 자재 70
A75: 5EBA257971772E570222E0C893E74E6BEDFC53 | B75: 기계구조용스테인리스강관 | C75: 기계구조용스테인리스강관, ∮101.6*1.5mm | D75: M | E75: 22370 | G75: 23260 | H75: 78 | I75: 33300 | J75: 38 | K75: 0 | M75: 0 | O75: =SMALL(E75:M75,COUNTIF(E75:M75,0)+1) -> 22370 | P75: 0 | Q75: 0 | R75: 0 | S75: 0 | T75: 0 | U75: 0 | V75: 0 | W75: 자재 71
A76: 5EBA257971772E570222E0C892D77833048BF2 | B76: 기계구조용스테인리스강관 | C76: 기계구조용스테인리스강관, ∮38.1*2.0mm | D76: M | E76: 0 | G76: 9220 | H76: 77 | I76: 15720 | J76: 38 | K76: 0 | M76: 0 | O76: =SMALL(E76:M76,COUNTIF(E76:M76,0)+1) -> 9220 | P76: 0 | Q76: 0 | R76: 0 | S76: 0 | T76: 0 | U76: 0 | V76: 0 | W76: 자재 72
A77: 59E6B570267915989202A0FA94714F | B77: 폐판넬(스치로폼) | C77: 견적 | D77: M3 | E77: 0 | G77: 0 | I77: 0 | K77: 0 | M77: 0 | N77: 창진씨엔알 | O77: 0 | P77: 0 | Q77: 100000 | R77: 0 | S77: 0 | T77: 0 | U77: 0 | V77: =SMALL(Q77:U77,COUNTIF(Q77:U77,0)+1) -> 100000 | W77: 자재 73 | Y77: C
A78: 59E6B570267915989202A0FA94714E | B78: 폐합성수지 | C78: 가연성 | D78: TON | E78: 0 | G78: 0 | I78: 0 | K78: 0 | M78: 0 | O78: 0 | P78: 0 | Q78: 0 | R78: 0 | S78: 0 | T78: 0 | U78: 269000 | V78: =SMALL(Q78:U78,COUNTIF(Q78:U78,0)+1) -> 269000 | W78: 자재 74 | Y78: C
A79: 59E6B5702679158E02D2201A559E3C | B79: 폐판넬(스치로폼) | C79: 매립지 반입대상, 24ton 암롤트럭 | D79: M3 | E79: 0 | G79: 0 | I79: 0 | K79: 0 | M79: 0 | O79: 0 | P79: 0 | Q79: 0 | R79: 0 | S79: 0 | T79: 0 | U79: 2098 | V79: =SMALL(Q79:U79,COUNTIF(Q79:U79,0)+1) -> 2098 | W79: 자재 75 | Y79: C
A80: 59E665FE7876DF62B262F060524C2E | B80: 창호유리설치/3중유리 | C80: 유리두께 40mm초과 44mm이하 | D80: ㎡ | E80: 0 | G80: 0 | I80: 0 | K80: 0 | M80: 0 | O80: 0 | P80: 41177 | Q80: 0 | R80: 0 | S80: 0 | T80: 0 | U80: 0 | V80: 0 | W80: 자재 76 | Y80: 2
A81: 59ABF5D1767F3718D272502600C66F010EDB8B | B81: 폐콘크리트 | C81: 이물질이 없는 순수한 폐콘크리트 | D81: TON | E81: 0 | G81: 0 | I81: 0 | K81: 0 | M81: 0 | O81: 0 | P81: 0 | Q81: 0 | R81: 0 | S81: 0 | T81: 0 | U81: 31142 | V81: =SMALL(Q81:U81,COUNTIF(Q81:U81,0)+1) -> 31142 | W81: 자재 77 | Y81: C
A82: 59ABF5D1767F3718D272502600C66F010EDB89 | B82: 건설폐재류 | C82: 가연성이 제거된 재활용이 가능한 혼합물 | D82: TON | E82: 0 | G82: 0 | I82: 0 | K82: 0 | M82: 0 | O82: 0 | P82: 0 | Q82: 0 | R82: 0 | S82: 0 | T82: 0 | U82: 49571 | V82: =SMALL(Q82:U82,COUNTIF(Q82:U82,0)+1) -> 49571 | W82: 자재 78 | Y82: C
A83: 59ABF5D1767F3718D272502600C66F010958EA | B83: 혼합건설폐기물 | C83: 불연성 건설폐기물에 가연성 5% 이하 혼합 | D83: TON | E83: 0 | G83: 0 | I83: 0 | K83: 0 | M83: 0 | O83: 0 | P83: 0 | Q83: 0 | R83: 0 | S83: 0 | T83: 0 | U83: 188715 | V83: =SMALL(Q83:U83,COUNTIF(Q83:U83,0)+1) -> 188715 | W83: 자재 79 | Y83: C
A84: 59ABF5D1767F3718D272502600C7744608F81E | B84: 건설폐재류 상차비 및 운반비 | C84: 24톤 덤프트럭, 30km | D84: TON | E84: 0 | G84: 0 | I84: 0 | K84: 0 | M84: 0 | N84: 1586 | O84: 0 | P84: 0 | Q84: 0 | R84: 0 | S84: 0 | T84: 0 | U84: 20340 | V84: =SMALL(Q84:U84,COUNTIF(Q84:U84,0)+1) -> 20340 | W84: 자재 80 | Y84: C
A85: 59ABF5D1767F3718D272502600C7744608FD80 | B85: 혼합건설폐기물 상차비 및 운반비 | C85: 24톤 암롤트럭, 30km | D85: TON | E85: 0 | G85: 0 | I85: 0 | K85: 0 | M85: 0 | N85: 1586 | O85: 0 | P85: 0 | Q85: 0 | R85: 0 | S85: 0 | T85: 0 | U85: 68300 | V85: =SMALL(Q85:U85,COUNTIF(Q85:U85,0)+1) -> 68300 | W85: 자재 81 | Y85: C
A86: 5937056A7C70860E52F2505E405792D35DADBD | B86: 보통인부 | C86: 일반공사 직종 | D86: 인 | E86: 0 | G86: 0 | I86: 0 | K86: 0 | M86: 0 | O86: 0 | P86: 172698 | Q86: 0 | R86: 0 | S86: 0 | T86: 0 | U86: 0 | V86: 0 | W86: 노임 1 | Y86: B
A87: 5937056A7C70860E52F2505E405792D35DADBC | B87: 특별인부 | C87: 일반공사 직종 | D87: 인 | E87: 0 | G87: 0 | I87: 0 | K87: 0 | M87: 0 | O87: 0 | P87: 228717 | Q87: 0 | R87: 0 | S87: 0 | T87: 0 | U87: 0 | V87: 0 | W87: 노임 2 | Y87: B
A88: 5937056A7C70860E52F2505E405792D35DADB9 | B88: 비계공 | C88: 일반공사 직종 | D88: 인 | E88: 0 | G88: 0 | I88: 0 | K88: 0 | M88: 0 | O88: 0 | P88: 284440 | Q88: 0 | R88: 0 | S88: 0 | T88: 0 | U88: 0 | V88: 0 | W88: 노임 3 | Y88: B
A89: 5937056A7C70860E52F2505E405792D35DADB6 | B89: 철공 | C89: 일반공사 직종 | D89: 인 | E89: 0 | G89: 0 | I89: 0 | K89: 0 | M89: 0 | O89: 0 | P89: 243870 | Q89: 0 | R89: 0 | S89: 0 | T89: 0 | U89: 0 | V89: 0 | W89: 노임 4 | Y89: B
A90: 5937056A7C70860E52F2505E405792D35DAC9B | B90: 용접공 | C90: 일반공사 직종 | D90: 인 | E90: 0 | G90: 0 | I90: 0 | K90: 0 | M90: 0 | O90: 0 | P90: 286330 | Q90: 0 | R90: 0 | S90: 0 | T90: 0 | U90: 0 | V90: 0 | W90: 노임 5 | Y90: B
A91: 5937056A7C70860E52F2505E405792D35DAC9C | B91: 착암공 | C91: 일반공사 직종 | D91: 인 | E91: 0 | G91: 0 | I91: 0 | K91: 0 | M91: 0 | O91: 0 | P91: 223246 | Q91: 0 | R91: 0 | S91: 0 | T91: 0 | U91: 0 | V91: 0 | W91: 노임 6 | Y91: B
A92: 5937056A7C70860E52F2505E405792D35DAC90 | B92: 포장공 | C92: 일반공사 직종 | D92: 인 | E92: 0 | G92: 0 | I92: 0 | K92: 0 | M92: 0 | O92: 0 | P92: 274873 | Q92: 0 | R92: 0 | S92: 0 | T92: 0 | U92: 0 | V92: 0 | W92: 노임 7 | Y92: B
A93: 5937056A7C70860E52F2505E405792D35DAF6E | B93: 건축목공 | C93: 일반공사 직종 | D93: 인 | E93: 0 | G93: 0 | I93: 0 | K93: 0 | M93: 0 | O93: 0 | P93: 282990 | Q93: 0 | R93: 0 | S93: 0 | T93: 0 | U93: 0 | V93: 0 | W93: 노임 8 | Y93: B
A94: 5937056A7C70860E52F2505E405792D35DAF68 | B94: 유리공 | C94: 일반공사 직종 | D94: 인 | E94: 0 | G94: 0 | I94: 0 | K94: 0 | M94: 0 | O94: 0 | P94: 258602 | Q94: 0 | R94: 0 | S94: 0 | T94: 0 | U94: 0 | V94: 0 | W94: 노임 9 | Y94: B
A95: 5937056A7C70860E52F2505E405792D35DAF6B | B95: 방수공 | C95: 일반공사 직종 | D95: 인 | E95: 0 | G95: 0 | I95: 0 | K95: 0 | M95: 0 | O95: 0 | P95: 233163 | Q95: 0 | R95: 0 | S95: 0 | T95: 0 | U95: 0 | V95: 0 | W95: 노임 10 | Y95: B
A96: 5937056A7C70860E52F2505E405792D35DAF6A | B96: 미장공 | C96: 일반공사 직종 | D96: 인 | E96: 0 | G96: 0 | I96: 0 | K96: 0 | M96: 0 | O96: 0 | P96: 279102 | Q96: 0 | R96: 0 | S96: 0 | T96: 0 | U96: 0 | V96: 0 | W96: 노임 11 | Y96: B
A97: 5937056A7C70860E52F2505E405792D35DAF65 | B97: 타일공 | C97: 일반공사 직종 | D97: 인 | E97: 0 | G97: 0 | I97: 0 | K97: 0 | M97: 0 | O97: 0 | P97: 294379 | Q97: 0 | R97: 0 | S97: 0 | T97: 0 | U97: 0 | V97: 0 | W97: 노임 12 | Y97: B
... A109: 5937056A7C70860E52F210E379F4A5213F95E8 | B109: 코킹공 | C109: 기타 직종 | D109: 인 | E109: 0 | G109: 0 | I109: 0 | K109: 0 | M109: 0 | O109: 0 | P109: 212439 | Q109: 0 | R109: 0 | S109: 0 | T109: 0 | U109: 0 | V109: 0 | W109: 노임 24 | Y109: B
A110: 585E356FC371506AD2A25098835C1747D354E3 | B110: 고 정 앙 카 | C110: "(DS-001), 힌지형,평면형,결합형 | D110: EA | E110: 0 | G110: 0 | I110: 0 | K110: 0 | M110: 4500 | N110: DIPS R&D | O110: =SMALL(E110:M110,COUNTIF(E110:M110,0)+1) -> 4500 | P110: 0 | Q110: 0 | R110: 0 | S110: 0 | T110: 0 | U110: 0 | V110: 0 | W110: 자재 82
A111: 585E356FC371506AD2A25098835C1747D354E0 | B111: 단 열 보 드 | C111: 준불연 100T , 은성 필보드 EPS, 가등급 | D111: M2 | E111: 0 | G111: 0 | I111: 0 | K111: 0 | M111: 20000 | N111: DIPS R&D | O111: =SMALL(E111:M111,COUNTIF(E111:M111,0)+1) -> 20000 | P111: 0 | Q111: 0 | R111: 0 | S111: 0 | T111: 0 | U111: 0 | V111: 0 | W111: 자재 83
...

Sheet  공사설정 
A1: 이 Sheet는 수정하지 마십시요
A2: 공사구분 | B2: A | C2: 타이틀 | D2: T
A3: 확정내역 | B3: 원내역
A4: 자재단가적용 | B4: 5
A5: 경비단가적용 | B5: 5
A6: 품목코드형식 | B6: XXXX-XXXX-XXXXXXXXX
A7: 내역금액소수점처리 | B7: C | C7: T
A8: 일위대가내역소수점처리 | B8: C | C8: 2
A9: 단가명 | B9: 조달청가격 | C9: 거래가격 | D9: 유통물가 | E9: 물가자료 | F9: 물정/조사 | G9: TTTTT
A10: 환율 | B10: 1472 | C10: 0 | D10: 0
A11: 시간당작업량 | B11: R | C11: 4
A12: 1회 사이클시간 | B12: R | C12: 4
A13: 시간당 작업사이클 | B13: R | C13: 3
A14: 일반변수 | B14: R | C14: 5
A15: 시간당 노임산출 계수 | B15: A | C15: 1/8*16/12*25/20 | D15: 1/8*16/12*25/20 | E15: 1/8*16/12*25/20 | F15: 1
A16: 재료비 할증 계수 | B16: 1.11 | C16: 1.12
A17: 노무비 할증 계수 | B17: 1 | C17: 1.5 | D17: 1.16 | E17: 1.6 | F17: 1.6 | G17: 1.6 | H17: 1.94 | I17: 1.94 | J17: 1.94 | K17: 1 | L17: 1 | M17: 1
A18: 경비 할증 계수 | B18: 1.25 | C18: 1.071
A19: 내역,일위대가 품명,규격,단위 따로적용
A20: 내역단가 소수점처리 | B20: C | C20: 1
A21: 코드 | B21: 공종구분명 | C21: 원가비목코드
A22: 1 | B22: 작 업 부 산 물 | C22: A3
A23: 2 | B23: 운 반 비 | C23: C1
A24: 3 | B24: 관 급 자 재 비 | C24: DJ
A25: 4 | B25: 사 급 자 재 비 | C25: D3
A26: 5 | B26: 외 자 재
A27: 6 | B27: 폐기물처리비
A28: 7 | B28: 건설폐기물처리비 | C28: CE
A29: 8 | B29: 품 질 관 리 비[건축] | C29: CD
A30: 9 | B30: 도급자설치관급자재비[건축] | C30: DK
A31: A | B31: 관급자설치관급자재비[건축] | C31: DL
A32: B | B32: 작 업 부 산 물 | C32: D6
A33: C | B33: 안전관리비 | C33: D7
A34: D | B34: 안 전 관 리 비[건축] | C34: CC
A35: E | B35: ....
A36: F | B36: ....
A37: G | B37: ....
A38: H | B38: ....
A39: I | B39: ....
A40: J | B40: ....
A43: 단가 순서 | B43: 1234

Sheet Sheet1
